{"text_format":"1","workbook":"xlsx","n_sheets":7,"sheets":["使い方","入力シート","記入済リスト","記入表 (pivot用)","月別集計","項目リスト","作業用シート"],"not_rendered":{"charts":0,"images":10,"macros":1,"external_links":0,"defined_names":0,"comments":0,"pivot_tables":1},"unopened":[],"bounds":{"document_bytes":16777216,"sheet_cells":100000,"rows_first":2000,"rows_last":500,"rows_between":2000,"halvings":0,"cell_chars":16384,"cell_head_chars":4096},"cells_cut":0,"cells_raw":0,"read":"whole","date_system":"1900"}

{"sheet":"使い方","index":0,"n_rows":0,"n_cols":0,"rows_kept":0,"cut":false,"hidden":false,"merged":[]}

{"sheet":"入力シート","index":1,"n_rows":34,"n_cols":2,"rows_kept":34,"cut":false,"hidden":false,"merged":[[33,1,33,8],[24,1,25,8],[34,1,38,8],[16,1,17,3],[20,1,21,3],[28,1,31,8],[15,1,15,3],[19,1,19,3],[23,1,23,8],[27,1,27,8],[5,1,5,8],[6,1,13,8]]}
[]
[]
[]
[]
[]
[null,"■数値入力用キーパッド"]
[]
[]
[]
[]
[]
[]
[]
[]
[]
[null,"■日付"]
[null,"2014-04-14"]
[]
[]
[null,"■時刻"]
[null,"09:22:01"]
[]
[]
[null,"■項目"]
[]
[]
[]
[null,"■金額"]
[null,2400]
[]
[]
[]
[]
[null,"■情報の入力"]

{"sheet":"記入済リスト","index":2,"n_rows":27,"n_cols":5,"rows_kept":27,"cut":false,"hidden":false,"merged":[]}
[]
[]
[]
[]
[]
[null,"日付","時刻","項目","金額"]
[null,"2014-03-07","03:40:21","趣味・娯楽",1200]
[null,"2014-03-05","03:37:21","被服・理美容",880]
[null,"2014-03-12","14:27:09","交通費",1200]
[null,"2014-03-12","14:27:09","被服・理美容",1200]
[null,"2014-03-12","14:27:09","交通費",1200]
[null,"2014-03-03","15:30:00","交通費",1200]
[null,"2014-03-12","14:49:09","交通費",1200]
[null,"2014-03-12","14:49:09","交通費",1200]
[null,"2014-03-12","14:49:09","水道光熱費",1200]
[null,"2014-03-12","21:48:56","水道光熱費",80]
[null,"2014-03-12","21:48:56","水道光熱費",1200]
[null,"2014-03-14","22:00:05","水道光熱費",1200]
[null,"2014-03-16","22:00:05","水道光熱費",1200]
[null,"2014-03-18","22:00:05","水道光熱費",1200]
[null,"2014-03-20","22:00:05","水道光熱費",1200]
[null,"2014-03-22","22:00:05","水道光熱費",1200]
[null,"2014-03-23","23:03:43","水道光熱費",1200]
[null,"2014-03-26","23:25:32","水道光熱費",1200]
[null,"2014-04-01","10:19:39","水道光熱費",1200]
[null,"2014-04-11","12:13:25","水道光熱費",2400]
[null,"2014-04-11","12:13:25","水道光熱費",2400]

{"sheet":"記入表 (pivot用)","index":3,"n_rows":371,"n_cols":7,"rows_kept":371,"cut":false,"hidden":true,"merged":[]}
[]
[]
[]
[]
[]
[null,"年","月","日","時刻","項目","金額"]
[null,{"$f":"IF(記入済リスト!$B7=\"\",\"\",YEAR(記入済リスト!$B7))","v":2014},{"$f":"IF(記入済リスト!$B7=\"\",\"\",MONTH(記入済リスト!$B7))","v":3},{"$f":"IF(記入済リスト!$B7=\"\",\"\",DAY(記入済リスト!$B7))","v":7},{"$f":"IF(記入済リスト!$C7=\"\",\"\",記入済リスト!$C7)","v":"03:40:21"},{"$f":"IF(記入済リスト!$D7=\"\",\"\",記入済リスト!$D7)","v":"趣味・娯楽"},{"$f":"IF(記入済リスト!$E7=\"\",\"\",記入済リスト!$E7)","v":1200}]
[null,{"$f":"IF(記入済リスト!$B8=\"\",\"\",YEAR(記入済リスト!$B8))","v":2014},{"$f":"IF(記入済リスト!$B8=\"\",\"\",MONTH(記入済リスト!$B8))","v":3},{"$f":"IF(記入済リスト!$B8=\"\",\"\",DAY(記入済リスト!$B8))","v":5},{"$f":"IF(記入済リスト!$C8=\"\",\"\",記入済リスト!$C8)","v":"03:37:21"},{"$f":"IF(記入済リスト!$D8=\"\",\"\",記入済リスト!$D8)","v":"被服・理美容"},{"$f":"IF(記入済リスト!$E8=\"\",\"\",記入済リスト!$E8)","v":880}]
[null,{"$f":"IF(記入済リスト!$B9=\"\",\"\",YEAR(記入済リスト!$B9))","v":2014},{"$f":"IF(記入済リスト!$B9=\"\",\"\",MONTH(記入済リスト!$B9))","v":3},{"$f":"IF(記入済リスト!$B9=\"\",\"\",DAY(記入済リスト!$B9))","v":12},{"$f":"IF(記入済リスト!$C9=\"\",\"\",記入済リスト!$C9)","v":"14:27:09"},{"$f":"IF(記入済リスト!$D9=\"\",\"\",記入済リスト!$D9)","v":"交通費"},{"$f":"IF(記入済リスト!$E9=\"\",\"\",記入済リスト!$E9)","v":1200}]
[null,{"$f":"IF(記入済リスト!$B10=\"\",\"\",YEAR(記入済リスト!$B10))","v":2014},{"$f":"IF(記入済リスト!$B10=\"\",\"\",MONTH(記入済リスト!$B10))","v":3},{"$f":"IF(記入済リスト!$B10=\"\",\"\",DAY(記入済リスト!$B10))","v":12},{"$f":"IF(記入済リスト!$C10=\"\",\"\",記入済リスト!$C10)","v":"14:27:09"},{"$f":"IF(記入済リスト!$D10=\"\",\"\",記入済リスト!$D10)","v":"被服・理美容"},{"$f":"IF(記入済リスト!$E10=\"\",\"\",記入済リスト!$E10)","v":1200}]
[null,{"$f":"IF(記入済リスト!$B11=\"\",\"\",YEAR(記入済リスト!$B11))","v":2014},{"$f":"IF(記入済リスト!$B11=\"\",\"\",MONTH(記入済リスト!$B11))","v":3},{"$f":"IF(記入済リスト!$B11=\"\",\"\",DAY(記入済リスト!$B11))","v":12},{"$f":"IF(記入済リスト!$C11=\"\",\"\",記入済リスト!$C11)","v":"14:27:09"},{"$f":"IF(記入済リスト!$D11=\"\",\"\",記入済リスト!$D11)","v":"交通費"},{"$f":"IF(記入済リスト!$E11=\"\",\"\",記入済リスト!$E11)","v":1200}]
[null,{"$f":"IF(記入済リスト!$B12=\"\",\"\",YEAR(記入済リスト!$B12))","v":2014},{"$f":"IF(記入済リスト!$B12=\"\",\"\",MONTH(記入済リスト!$B12))","v":3},{"$f":"IF(記入済リスト!$B12=\"\",\"\",DAY(記入済リスト!$B12))","v":3},{"$f":"IF(記入済リスト!$C12=\"\",\"\",記入済リスト!$C12)","v":"15:30:00"},{"$f":"IF(記入済リスト!$D12=\"\",\"\",記入済リスト!$D12)","v":"交通費"},{"$f":"IF(記入済リスト!$E12=\"\",\"\",記入済リスト!$E12)","v":1200}]
[null,{"$f":"IF(記入済リスト!$B13=\"\",\"\",YEAR(記入済リスト!$B13))","v":2014},{"$f":"IF(記入済リスト!$B13=\"\",\"\",MONTH(記入済リスト!$B13))","v":3},{"$f":"IF(記入済リスト!$B13=\"\",\"\",DAY(記入済リスト!$B13))","v":12},{"$f":"IF(記入済リスト!$C13=\"\",\"\",記入済リスト!$C13)","v":"14:49:09"},{"$f":"IF(記入済リスト!$D13=\"\",\"\",記入済リスト!$D13)","v":"交通費"},{"$f":"IF(記入済リスト!$E13=\"\",\"\",記入済リスト!$E13)","v":1200}]
[null,{"$f":"IF(記入済リスト!$B14=\"\",\"\",YEAR(記入済リスト!$B14))","v":2014},{"$f":"IF(記入済リスト!$B14=\"\",\"\",MONTH(記入済リスト!$B14))","v":3},{"$f":"IF(記入済リスト!$B14=\"\",\"\",DAY(記入済リスト!$B14))","v":12},{"$f":"IF(記入済リスト!$C14=\"\",\"\",記入済リスト!$C14)","v":"14:49:09"},{"$f":"IF(記入済リスト!$D14=\"\",\"\",記入済リスト!$D14)","v":"交通費"},{"$f":"IF(記入済リスト!$E14=\"\",\"\",記入済リスト!$E14)","v":1200}]
[null,{"$f":"IF(記入済リスト!$B15=\"\",\"\",YEAR(記入済リスト!$B15))","v":2014},{"$f":"IF(記入済リスト!$B15=\"\",\"\",MONTH(記入済リスト!$B15))","v":3},{"$f":"IF(記入済リスト!$B15=\"\",\"\",DAY(記入済リスト!$B15))","v":12},{"$f":"IF(記入済リスト!$C15=\"\",\"\",記入済リスト!$C15)","v":"14:49:09"},{"$f":"IF(記入済リスト!$D15=\"\",\"\",記入済リスト!$D15)","v":"水道光熱費"},{"$f":"IF(記入済リスト!$E15=\"\",\"\",記入済リスト!$E15)","v":1200}]
[null,{"$f":"IF(記入済リスト!$B16=\"\",\"\",YEAR(記入済リスト!$B16))","v":2014},{"$f":"IF(記入済リスト!$B16=\"\",\"\",MONTH(記入済リスト!$B16))","v":3},{"$f":"IF(記入済リスト!$B16=\"\",\"\",DAY(記入済リスト!$B16))","v":12},{"$f":"IF(記入済リスト!$C16=\"\",\"\",記入済リスト!$C16)","v":"21:48:56"},{"$f":"IF(記入済リスト!$D16=\"\",\"\",記入済リスト!$D16)","v":"水道光熱費"},{"$f":"IF(記入済リスト!$E16=\"\",\"\",記入済リスト!$E16)","v":80}]
[null,{"$f":"IF(記入済リスト!$B17=\"\",\"\",YEAR(記入済リスト!$B17))","v":2014},{"$f":"IF(記入済リスト!$B17=\"\",\"\",MONTH(記入済リスト!$B17))","v":3},{"$f":"IF(記入済リスト!$B17=\"\",\"\",DAY(記入済リスト!$B17))","v":12},{"$f":"IF(記入済リスト!$C17=\"\",\"\",記入済リスト!$C17)","v":"21:48:56"},{"$f":"IF(記入済リスト!$D17=\"\",\"\",記入済リスト!$D17)","v":"水道光熱費"},{"$f":"IF(記入済リスト!$E17=\"\",\"\",記入済リスト!$E17)","v":1200}]
[null,{"$f":"IF(記入済リスト!$B18=\"\",\"\",YEAR(記入済リスト!$B18))","v":2014},{"$f":"IF(記入済リスト!$B18=\"\",\"\",MONTH(記入済リスト!$B18))","v":3},{"$f":"IF(記入済リスト!$B18=\"\",\"\",DAY(記入済リスト!$B18))","v":14},{"$f":"IF(記入済リスト!$C18=\"\",\"\",記入済リスト!$C18)","v":"22:00:05"},{"$f":"IF(記入済リスト!$D18=\"\",\"\",記入済リスト!$D18)","v":"水道光熱費"},{"$f":"IF(記入済リスト!$E18=\"\",\"\",記入済リスト!$E18)","v":1200}]
[null,{"$f":"IF(記入済リスト!$B19=\"\",\"\",YEAR(記入済リスト!$B19))","v":2014},{"$f":"IF(記入済リスト!$B19=\"\",\"\",MONTH(記入済リスト!$B19))","v":3},{"$f":"IF(記入済リスト!$B19=\"\",\"\",DAY(記入済リスト!$B19))","v":16},{"$f":"IF(記入済リスト!$C19=\"\",\"\",記入済リスト!$C19)","v":"22:00:05"},{"$f":"IF(記入済リスト!$D19=\"\",\"\",記入済リスト!$D19)","v":"水道光熱費"},{"$f":"IF(記入済リスト!$E19=\"\",\"\",記入済リスト!$E19)","v":1200}]
[null,{"$f":"IF(記入済リスト!$B20=\"\",\"\",YEAR(記入済リスト!$B20))","v":2014},{"$f":"IF(記入済リスト!$B20=\"\",\"\",MONTH(記入済リスト!$B20))","v":3},{"$f":"IF(記入済リスト!$B20=\"\",\"\",DAY(記入済リスト!$B20))","v":18},{"$f":"IF(記入済リスト!$C20=\"\",\"\",記入済リスト!$C20)","v":"22:00:05"},{"$f":"IF(記入済リスト!$D20=\"\",\"\",記入済リスト!$D20)","v":"水道光熱費"},{"$f":"IF(記入済リスト!$E20=\"\",\"\",記入済リスト!$E20)","v":1200}]
[null,{"$f":"IF(記入済リスト!$B21=\"\",\"\",YEAR(記入済リスト!$B21))","v":2014},{"$f":"IF(記入済リスト!$B21=\"\",\"\",MONTH(記入済リスト!$B21))","v":3},{"$f":"IF(記入済リスト!$B21=\"\",\"\",DAY(記入済リスト!$B21))","v":20},{"$f":"IF(記入済リスト!$C21=\"\",\"\",記入済リスト!$C21)","v":"22:00:05"},{"$f":"IF(記入済リスト!$D21=\"\",\"\",記入済リスト!$D21)","v":"水道光熱費"},{"$f":"IF(記入済リスト!$E21=\"\",\"\",記入済リスト!$E21)","v":1200}]
[null,{"$f":"IF(記入済リスト!$B22=\"\",\"\",YEAR(記入済リスト!$B22))","v":2014},{"$f":"IF(記入済リスト!$B22=\"\",\"\",MONTH(記入済リスト!$B22))","v":3},{"$f":"IF(記入済リスト!$B22=\"\",\"\",DAY(記入済リスト!$B22))","v":22},{"$f":"IF(記入済リスト!$C22=\"\",\"\",記入済リスト!$C22)","v":"22:00:05"},{"$f":"IF(記入済リスト!$D22=\"\",\"\",記入済リスト!$D22)","v":"水道光熱費"},{"$f":"IF(記入済リスト!$E22=\"\",\"\",記入済リスト!$E22)","v":1200}]
[null,{"$f":"IF(記入済リスト!$B23=\"\",\"\",YEAR(記入済リスト!$B23))","v":2014},{"$f":"IF(記入済リスト!$B23=\"\",\"\",MONTH(記入済リスト!$B23))","v":3},{"$f":"IF(記入済リスト!$B23=\"\",\"\",DAY(記入済リスト!$B23))","v":23},{"$f":"IF(記入済リスト!$C23=\"\",\"\",記入済リスト!$C23)","v":"23:03:43"},{"$f":"IF(記入済リスト!$D23=\"\",\"\",記入済リスト!$D23)","v":"水道光熱費"},{"$f":"IF(記入済リスト!$E23=\"\",\"\",記入済リスト!$E23)","v":1200}]
[null,{"$f":"IF(記入済リスト!$B24=\"\",\"\",YEAR(記入済リスト!$B24))","v":2014},{"$f":"IF(記入済リスト!$B24=\"\",\"\",MONTH(記入済リスト!$B24))","v":3},{"$f":"IF(記入済リスト!$B24=\"\",\"\",DAY(記入済リスト!$B24))","v":26},{"$f":"IF(記入済リスト!$C24=\"\",\"\",記入済リスト!$C24)","v":"23:25:32"},{"$f":"IF(記入済リスト!$D24=\"\",\"\",記入済リスト!$D24)","v":"水道光熱費"},{"$f":"IF(記入済リスト!$E24=\"\",\"\",記入済リスト!$E24)","v":1200}]
[null,{"$f":"IF(記入済リスト!$B25=\"\",\"\",YEAR(記入済リスト!$B25))","v":2014},{"$f":"IF(記入済リスト!$B25=\"\",\"\",MONTH(記入済リスト!$B25))","v":4},{"$f":"IF(記入済リスト!$B25=\"\",\"\",DAY(記入済リスト!$B25))","v":1},{"$f":"IF(記入済リスト!$C25=\"\",\"\",記入済リスト!$C25)","v":"10:19:39"},{"$f":"IF(記入済リスト!$D25=\"\",\"\",記入済リスト!$D25)","v":"水道光熱費"},{"$f":"IF(記入済リスト!$E25=\"\",\"\",記入済リスト!$E25)","v":1200}]
[null,{"$f":"IF(記入済リスト!$B26=\"\",\"\",YEAR(記入済リスト!$B26))","v":2014},{"$f":"IF(記入済リスト!$B26=\"\",\"\",MONTH(記入済リスト!$B26))","v":4},{"$f":"IF(記入済リスト!$B26=\"\",\"\",DAY(記入済リスト!$B26))","v":11},{"$f":"IF(記入済リスト!$C26=\"\",\"\",記入済リスト!$C26)","v":"12:13:25"},{"$f":"IF(記入済リスト!$D26=\"\",\"\",記入済リスト!$D26)","v":"水道光熱費"},{"$f":"IF(記入済リスト!$E26=\"\",\"\",記入済リスト!$E26)","v":2400}]
[null,{"$f":"IF(記入済リスト!$B27=\"\",\"\",YEAR(記入済リスト!$B27))","v":2014},{"$f":"IF(記入済リスト!$B27=\"\",\"\",MONTH(記入済リスト!$B27))","v":4},{"$f":"IF(記入済リスト!$B27=\"\",\"\",DAY(記入済リスト!$B27))","v":11},{"$f":"IF(記入済リスト!$C27=\"\",\"\",記入済リスト!$C27)","v":"12:13:25"},{"$f":"IF(記入済リスト!$D27=\"\",\"\",記入済リスト!$D27)","v":"水道光熱費"},{"$f":"IF(記入済リスト!$E27=\"\",\"\",記入済リスト!$E27)","v":2400}]
[null,{"$f":"IF(記入済リスト!$B28=\"\",\"\",YEAR(記入済リスト!$B28))","v":""},{"$f":"IF(記入済リスト!$B28=\"\",\"\",MONTH(記入済リスト!$B28))","v":""},{"$f":"IF(記入済リスト!$B28=\"\",\"\",DAY(記入済リスト!$B28))","v":""},{"$f":"IF(記入済リスト!$C28=\"\",\"\",記入済リスト!$C28)","v":""},{"$f":"IF(記入済リスト!$D28=\"\",\"\",記入済リスト!$D28)","v":""},{"$f":"IF(記入済リスト!$E28=\"\",\"\",記入済リスト!$E28)","v":""}]
[null,{"$f":"IF(記入済リスト!$B29=\"\",\"\",YEAR(記入済リスト!$B29))","v":""},{"$f":"IF(記入済リスト!$B29=\"\",\"\",MONTH(記入済リスト!$B29))","v":""},{"$f":"IF(記入済リスト!$B29=\"\",\"\",DAY(記入済リスト!$B29))","v":""},{"$f":"IF(記入済リスト!$C29=\"\",\"\",記入済リスト!$C29)","v":""},{"$f":"IF(記入済リスト!$D29=\"\",\"\",記入済リスト!$D29)","v":""},{"$f":"IF(記入済リスト!$E29=\"\",\"\",記入済リスト!$E29)","v":""}]
[null,{"$f":"IF(記入済リスト!$B30=\"\",\"\",YEAR(記入済リスト!$B30))","v":""},{"$f":"IF(記入済リスト!$B30=\"\",\"\",MONTH(記入済リスト!$B30))","v":""},{"$f":"IF(記入済リスト!$B30=\"\",\"\",DAY(記入済リスト!$B30))","v":""},{"$f":"IF(記入済リスト!$C30=\"\",\"\",記入済リスト!$C30)","v":""},{"$f":"IF(記入済リスト!$D30=\"\",\"\",記入済リスト!$D30)","v":""},{"$f":"IF(記入済リスト!$E30=\"\",\"\",記入済リスト!$E30)","v":""}]
[null,{"$f":"IF(記入済リスト!$B31=\"\",\"\",YEAR(記入済リスト!$B31))","v":""},{"$f":"IF(記入済リスト!$B31=\"\",\"\",MONTH(記入済リスト!$B31))","v":""},{"$f":"IF(記入済リスト!$B31=\"\",\"\",DAY(記入済リスト!$B31))","v":""},{"$f":"IF(記入済リスト!$C31=\"\",\"\",記入済リスト!$C31)","v":""},{"$f":"IF(記入済リスト!$D31=\"\",\"\",記入済リスト!$D31)","v":""},{"$f":"IF(記入済リスト!$E31=\"\",\"\",記入済リスト!$E31)","v":""}]
[null,{"$f":"IF(記入済リスト!$B32=\"\",\"\",YEAR(記入済リスト!$B32))","v":""},{"$f":"IF(記入済リスト!$B32=\"\",\"\",MONTH(記入済リスト!$B32))","v":""},{"$f":"IF(記入済リスト!$B32=\"\",\"\",DAY(記入済リスト!$B32))","v":""},{"$f":"IF(記入済リスト!$C32=\"\",\"\",記入済リスト!$C32)","v":""},{"$f":"IF(記入済リスト!$D32=\"\",\"\",記入済リスト!$D32)","v":""},{"$f":"IF(記入済リスト!$E32=\"\",\"\",記入済リスト!$E32)","v":""}]
[null,{"$f":"IF(記入済リスト!$B33=\"\",\"\",YEAR(記入済リスト!$B33))","v":""},{"$f":"IF(記入済リスト!$B33=\"\",\"\",MONTH(記入済リスト!$B33))","v":""},{"$f":"IF(記入済リスト!$B33=\"\",\"\",DAY(記入済リスト!$B33))","v":""},{"$f":"IF(記入済リスト!$C33=\"\",\"\",記入済リスト!$C33)","v":""},{"$f":"IF(記入済リスト!$D33=\"\",\"\",記入済リスト!$D33)","v":""},{"$f":"IF(記入済リスト!$E33=\"\",\"\",記入済リスト!$E33)","v":""}]
[null,{"$f":"IF(記入済リスト!$B34=\"\",\"\",YEAR(記入済リスト!$B34))","v":""},{"$f":"IF(記入済リスト!$B34=\"\",\"\",MONTH(記入済リスト!$B34))","v":""},{"$f":"IF(記入済リスト!$B34=\"\",\"\",DAY(記入済リスト!$B34))","v":""},{"$f":"IF(記入済リスト!$C34=\"\",\"\",記入済リスト!$C34)","v":""},{"$f":"IF(記入済リスト!$D34=\"\",\"\",記入済リスト!$D34)","v":""},{"$f":"IF(記入済リスト!$E34=\"\",\"\",記入済リスト!$E34)","v":""}]
[null,{"$f":"IF(記入済リスト!$B35=\"\",\"\",YEAR(記入済リスト!$B35))","v":""},{"$f":"IF(記入済リスト!$B35=\"\",\"\",MONTH(記入済リスト!$B35))","v":""},{"$f":"IF(記入済リスト!$B35=\"\",\"\",DAY(記入済リスト!$B35))","v":""},{"$f":"IF(記入済リスト!$C35=\"\",\"\",記入済リスト!$C35)","v":""},{"$f":"IF(記入済リスト!$D35=\"\",\"\",記入済リスト!$D35)","v":""},{"$f":"IF(記入済リスト!$E35=\"\",\"\",記入済リスト!$E35)","v":""}]
[null,{"$f":"IF(記入済リスト!$B36=\"\",\"\",YEAR(記入済リスト!$B36))","v":""},{"$f":"IF(記入済リスト!$B36=\"\",\"\",MONTH(記入済リスト!$B36))","v":""},{"$f":"IF(記入済リスト!$B36=\"\",\"\",DAY(記入済リスト!$B36))","v":""},{"$f":"IF(記入済リスト!$C36=\"\",\"\",記入済リスト!$C36)","v":""},{"$f":"IF(記入済リスト!$D36=\"\",\"\",記入済リスト!$D36)","v":""},{"$f":"IF(記入済リスト!$E36=\"\",\"\",記入済リスト!$E36)","v":""}]
[null,{"$f":"IF(記入済リスト!$B37=\"\",\"\",YEAR(記入済リスト!$B37))","v":""},{"$f":"IF(記入済リスト!$B37=\"\",\"\",MONTH(記入済リスト!$B37))","v":""},{"$f":"IF(記入済リスト!$B37=\"\",\"\",DAY(記入済リスト!$B37))","v":""},{"$f":"IF(記入済リスト!$C37=\"\",\"\",記入済リスト!$C37)","v":""},{"$f":"IF(記入済リスト!$D37=\"\",\"\",記入済リスト!$D37)","v":""},{"$f":"IF(記入済リスト!$E37=\"\",\"\",記入済リスト!$E37)","v":""}]
[null,{"$f":"IF(記入済リスト!$B38=\"\",\"\",YEAR(記入済リスト!$B38))","v":""},{"$f":"IF(記入済リスト!$B38=\"\",\"\",MONTH(記入済リスト!$B38))","v":""},{"$f":"IF(記入済リスト!$B38=\"\",\"\",DAY(記入済リスト!$B38))","v":""},{"$f":"IF(記入済リスト!$C38=\"\",\"\",記入済リスト!$C38)","v":""},{"$f":"IF(記入済リスト!$D38=\"\",\"\",記入済リスト!$D38)","v":""},{"$f":"IF(記入済リスト!$E38=\"\",\"\",記入済リスト!$E38)","v":""}]
[null,{"$f":"IF(記入済リスト!$B39=\"\",\"\",YEAR(記入済リスト!$B39))","v":""},{"$f":"IF(記入済リスト!$B39=\"\",\"\",MONTH(記入済リスト!$B39))","v":""},{"$f":"IF(記入済リスト!$B39=\"\",\"\",DAY(記入済リスト!$B39))","v":""},{"$f":"IF(記入済リスト!$C39=\"\",\"\",記入済リスト!$C39)","v":""},{"$f":"IF(記入済リスト!$D39=\"\",\"\",記入済リスト!$D39)","v":""},{"$f":"IF(記入済リスト!$E39=\"\",\"\",記入済リスト!$E39)","v":""}]
[null,{"$f":"IF(記入済リスト!$B40=\"\",\"\",YEAR(記入済リスト!$B40))","v":""},{"$f":"IF(記入済リスト!$B40=\"\",\"\",MONTH(記入済リスト!$B40))","v":""},{"$f":"IF(記入済リスト!$B40=\"\",\"\",DAY(記入済リスト!$B40))","v":""},{"$f":"IF(記入済リスト!$C40=\"\",\"\",記入済リスト!$C40)","v":""},{"$f":"IF(記入済リスト!$D40=\"\",\"\",記入済リスト!$D40)","v":""},{"$f":"IF(記入済リスト!$E40=\"\",\"\",記入済リスト!$E40)","v":""}]
[null,{"$f":"IF(記入済リスト!$B41=\"\",\"\",YEAR(記入済リスト!$B41))","v":""},{"$f":"IF(記入済リスト!$B41=\"\",\"\",MONTH(記入済リスト!$B41))","v":""},{"$f":"IF(記入済リスト!$B41=\"\",\"\",DAY(記入済リスト!$B41))","v":""},{"$f":"IF(記入済リスト!$C41=\"\",\"\",記入済リスト!$C41)","v":""},{"$f":"IF(記入済リスト!$D41=\"\",\"\",記入済リスト!$D41)","v":""},{"$f":"IF(記入済リスト!$E41=\"\",\"\",記入済リスト!$E41)","v":""}]
[null,{"$f":"IF(記入済リスト!$B42=\"\",\"\",YEAR(記入済リスト!$B42))","v":""},{"$f":"IF(記入済リスト!$B42=\"\",\"\",MONTH(記入済リスト!$B42))","v":""},{"$f":"IF(記入済リスト!$B42=\"\",\"\",DAY(記入済リスト!$B42))","v":""},{"$f":"IF(記入済リスト!$C42=\"\",\"\",記入済リスト!$C42)","v":""},{"$f":"IF(記入済リスト!$D42=\"\",\"\",記入済リスト!$D42)","v":""},{"$f":"IF(記入済リスト!$E42=\"\",\"\",記入済リスト!$E42)","v":""}]
[null,{"$f":"IF(記入済リスト!$B43=\"\",\"\",YEAR(記入済リスト!$B43))","v":""},{"$f":"IF(記入済リスト!$B43=\"\",\"\",MONTH(記入済リスト!$B43))","v":""},{"$f":"IF(記入済リスト!$B43=\"\",\"\",DAY(記入済リスト!$B43))","v":""},{"$f":"IF(記入済リスト!$C43=\"\",\"\",記入済リスト!$C43)","v":""},{"$f":"IF(記入済リスト!$D43=\"\",\"\",記入済リスト!$D43)","v":""},{"$f":"IF(記入済リスト!$E43=\"\",\"\",記入済リスト!$E43)","v":""}]
[null,{"$f":"IF(記入済リスト!$B44=\"\",\"\",YEAR(記入済リスト!$B44))","v":""},{"$f":"IF(記入済リスト!$B44=\"\",\"\",MONTH(記入済リスト!$B44))","v":""},{"$f":"IF(記入済リスト!$B44=\"\",\"\",DAY(記入済リスト!$B44))","v":""},{"$f":"IF(記入済リスト!$C44=\"\",\"\",記入済リスト!$C44)","v":""},{"$f":"IF(記入済リスト!$D44=\"\",\"\",記入済リスト!$D44)","v":""},{"$f":"IF(記入済リスト!$E44=\"\",\"\",記入済リスト!$E44)","v":""}]
[null,{"$f":"IF(記入済リスト!$B45=\"\",\"\",YEAR(記入済リスト!$B45))","v":""},{"$f":"IF(記入済リスト!$B45=\"\",\"\",MONTH(記入済リスト!$B45))","v":""},{"$f":"IF(記入済リスト!$B45=\"\",\"\",DAY(記入済リスト!$B45))","v":""},{"$f":"IF(記入済リスト!$C45=\"\",\"\",記入済リスト!$C45)","v":""},{"$f":"IF(記入済リスト!$D45=\"\",\"\",記入済リスト!$D45)","v":""},{"$f":"IF(記入済リスト!$E45=\"\",\"\",記入済リスト!$E45)","v":""}]
[null,{"$f":"IF(記入済リスト!$B46=\"\",\"\",YEAR(記入済リスト!$B46))","v":""},{"$f":"IF(記入済リスト!$B46=\"\",\"\",MONTH(記入済リスト!$B46))","v":""},{"$f":"IF(記入済リスト!$B46=\"\",\"\",DAY(記入済リスト!$B46))","v":""},{"$f":"IF(記入済リスト!$C46=\"\",\"\",記入済リスト!$C46)","v":""},{"$f":"IF(記入済リスト!$D46=\"\",\"\",記入済リスト!$D46)","v":""},{"$f":"IF(記入済リスト!$E46=\"\",\"\",記入済リスト!$E46)","v":""}]
[null,{"$f":"IF(記入済リスト!$B47=\"\",\"\",YEAR(記入済リスト!$B47))","v":""},{"$f":"IF(記入済リスト!$B47=\"\",\"\",MONTH(記入済リスト!$B47))","v":""},{"$f":"IF(記入済リスト!$B47=\"\",\"\",DAY(記入済リスト!$B47))","v":""},{"$f":"IF(記入済リスト!$C47=\"\",\"\",記入済リスト!$C47)","v":""},{"$f":"IF(記入済リスト!$D47=\"\",\"\",記入済リスト!$D47)","v":""},{"$f":"IF(記入済リスト!$E47=\"\",\"\",記入済リスト!$E47)","v":""}]
[null,{"$f":"IF(記入済リスト!$B48=\"\",\"\",YEAR(記入済リスト!$B48))","v":""},{"$f":"IF(記入済リスト!$B48=\"\",\"\",MONTH(記入済リスト!$B48))","v":""},{"$f":"IF(記入済リスト!$B48=\"\",\"\",DAY(記入済リスト!$B48))","v":""},{"$f":"IF(記入済リスト!$C48=\"\",\"\",記入済リスト!$C48)","v":""},{"$f":"IF(記入済リスト!$D48=\"\",\"\",記入済リスト!$D48)","v":""},{"$f":"IF(記入済リスト!$E48=\"\",\"\",記入済リスト!$E48)","v":""}]
[null,{"$f":"IF(記入済リスト!$B49=\"\",\"\",YEAR(記入済リスト!$B49))","v":""},{"$f":"IF(記入済リスト!$B49=\"\",\"\",MONTH(記入済リスト!$B49))","v":""},{"$f":"IF(記入済リスト!$B49=\"\",\"\",DAY(記入済リスト!$B49))","v":""},{"$f":"IF(記入済リスト!$C49=\"\",\"\",記入済リスト!$C49)","v":""},{"$f":"IF(記入済リスト!$D49=\"\",\"\",記入済リスト!$D49)","v":""},{"$f":"IF(記入済リスト!$E49=\"\",\"\",記入済リスト!$E49)","v":""}]
[null,{"$f":"IF(記入済リスト!$B50=\"\",\"\",YEAR(記入済リスト!$B50))","v":""},{"$f":"IF(記入済リスト!$B50=\"\",\"\",MONTH(記入済リスト!$B50))","v":""},{"$f":"IF(記入済リスト!$B50=\"\",\"\",DAY(記入済リスト!$B50))","v":""},{"$f":"IF(記入済リスト!$C50=\"\",\"\",記入済リスト!$C50)","v":""},{"$f":"IF(記入済リスト!$D50=\"\",\"\",記入済リスト!$D50)","v":""},{"$f":"IF(記入済リスト!$E50=\"\",\"\",記入済リスト!$E50)","v":""}]
[null,{"$f":"IF(記入済リスト!$B51=\"\",\"\",YEAR(記入済リスト!$B51))","v":""},{"$f":"IF(記入済リスト!$B51=\"\",\"\",MONTH(記入済リスト!$B51))","v":""},{"$f":"IF(記入済リスト!$B51=\"\",\"\",DAY(記入済リスト!$B51))","v":""},{"$f":"IF(記入済リスト!$C51=\"\",\"\",記入済リスト!$C51)","v":""},{"$f":"IF(記入済リスト!$D51=\"\",\"\",記入済リスト!$D51)","v":""},{"$f":"IF(記入済リスト!$E51=\"\",\"\",記入済リスト!$E51)","v":""}]
[null,{"$f":"IF(記入済リスト!$B52=\"\",\"\",YEAR(記入済リスト!$B52))","v":""},{"$f":"IF(記入済リスト!$B52=\"\",\"\",MONTH(記入済リスト!$B52))","v":""},{"$f":"IF(記入済リスト!$B52=\"\",\"\",DAY(記入済リスト!$B52))","v":""},{"$f":"IF(記入済リスト!$C52=\"\",\"\",記入済リスト!$C52)","v":""},{"$f":"IF(記入済リスト!$D52=\"\",\"\",記入済リスト!$D52)","v":""},{"$f":"IF(記入済リスト!$E52=\"\",\"\",記入済リスト!$E52)","v":""}]
[null,{"$f":"IF(記入済リスト!$B53=\"\",\"\",YEAR(記入済リスト!$B53))","v":""},{"$f":"IF(記入済リスト!$B53=\"\",\"\",MONTH(記入済リスト!$B53))","v":""},{"$f":"IF(記入済リスト!$B53=\"\",\"\",DAY(記入済リスト!$B53))","v":""},{"$f":"IF(記入済リスト!$C53=\"\",\"\",記入済リスト!$C53)","v":""},{"$f":"IF(記入済リスト!$D53=\"\",\"\",記入済リスト!$D53)","v":""},{"$f":"IF(記入済リスト!$E53=\"\",\"\",記入済リスト!$E53)","v":""}]
[null,{"$f":"IF(記入済リスト!$B54=\"\",\"\",YEAR(記入済リスト!$B54))","v":""},{"$f":"IF(記入済リスト!$B54=\"\",\"\",MONTH(記入済リスト!$B54))","v":""},{"$f":"IF(記入済リスト!$B54=\"\",\"\",DAY(記入済リスト!$B54))","v":""},{"$f":"IF(記入済リスト!$C54=\"\",\"\",記入済リスト!$C54)","v":""},{"$f":"IF(記入済リスト!$D54=\"\",\"\",記入済リスト!$D54)","v":""},{"$f":"IF(記入済リスト!$E54=\"\",\"\",記入済リスト!$E54)","v":""}]
[null,{"$f":"IF(記入済リスト!$B55=\"\",\"\",YEAR(記入済リスト!$B55))","v":""},{"$f":"IF(記入済リスト!$B55=\"\",\"\",MONTH(記入済リスト!$B55))","v":""},{"$f":"IF(記入済リスト!$B55=\"\",\"\",DAY(記入済リスト!$B55))","v":""},{"$f":"IF(記入済リスト!$C55=\"\",\"\",記入済リスト!$C55)","v":""},{"$f":"IF(記入済リスト!$D55=\"\",\"\",記入済リスト!$D55)","v":""},{"$f":"IF(記入済リスト!$E55=\"\",\"\",記入済リスト!$E55)","v":""}]
[null,{"$f":"IF(記入済リスト!$B56=\"\",\"\",YEAR(記入済リスト!$B56))","v":""},{"$f":"IF(記入済リスト!$B56=\"\",\"\",MONTH(記入済リスト!$B56))","v":""},{"$f":"IF(記入済リスト!$B56=\"\",\"\",DAY(記入済リスト!$B56))","v":""},{"$f":"IF(記入済リスト!$C56=\"\",\"\",記入済リスト!$C56)","v":""},{"$f":"IF(記入済リスト!$D56=\"\",\"\",記入済リスト!$D56)","v":""},{"$f":"IF(記入済リスト!$E56=\"\",\"\",記入済リスト!$E56)","v":""}]
[null,{"$f":"IF(記入済リスト!$B57=\"\",\"\",YEAR(記入済リスト!$B57))","v":""},{"$f":"IF(記入済リスト!$B57=\"\",\"\",MONTH(記入済リスト!$B57))","v":""},{"$f":"IF(記入済リスト!$B57=\"\",\"\",DAY(記入済リスト!$B57))","v":""},{"$f":"IF(記入済リスト!$C57=\"\",\"\",記入済リスト!$C57)","v":""},{"$f":"IF(記入済リスト!$D57=\"\",\"\",記入済リスト!$D57)","v":""},{"$f":"IF(記入済リスト!$E57=\"\",\"\",記入済リスト!$E57)","v":""}]
[null,{"$f":"IF(記入済リスト!$B58=\"\",\"\",YEAR(記入済リスト!$B58))","v":""},{"$f":"IF(記入済リスト!$B58=\"\",\"\",MONTH(記入済リスト!$B58))","v":""},{"$f":"IF(記入済リスト!$B58=\"\",\"\",DAY(記入済リスト!$B58))","v":""},{"$f":"IF(記入済リスト!$C58=\"\",\"\",記入済リスト!$C58)","v":""},{"$f":"IF(記入済リスト!$D58=\"\",\"\",記入済リスト!$D58)","v":""},{"$f":"IF(記入済リスト!$E58=\"\",\"\",記入済リスト!$E58)","v":""}]
[null,{"$f":"IF(記入済リスト!$B59=\"\",\"\",YEAR(記入済リスト!$B59))","v":""},{"$f":"IF(記入済リスト!$B59=\"\",\"\",MONTH(記入済リスト!$B59))","v":""},{"$f":"IF(記入済リスト!$B59=\"\",\"\",DAY(記入済リスト!$B59))","v":""},{"$f":"IF(記入済リスト!$C59=\"\",\"\",記入済リスト!$C59)","v":""},{"$f":"IF(記入済リスト!$D59=\"\",\"\",記入済リスト!$D59)","v":""},{"$f":"IF(記入済リスト!$E59=\"\",\"\",記入済リスト!$E59)","v":""}]
[null,{"$f":"IF(記入済リスト!$B60=\"\",\"\",YEAR(記入済リスト!$B60))","v":""},{"$f":"IF(記入済リスト!$B60=\"\",\"\",MONTH(記入済リスト!$B60))","v":""},{"$f":"IF(記入済リスト!$B60=\"\",\"\",DAY(記入済リスト!$B60))","v":""},{"$f":"IF(記入済リスト!$C60=\"\",\"\",記入済リスト!$C60)","v":""},{"$f":"IF(記入済リスト!$D60=\"\",\"\",記入済リスト!$D60)","v":""},{"$f":"IF(記入済リスト!$E60=\"\",\"\",記入済リスト!$E60)","v":""}]
[null,{"$f":"IF(記入済リスト!$B61=\"\",\"\",YEAR(記入済リスト!$B61))","v":""},{"$f":"IF(記入済リスト!$B61=\"\",\"\",MONTH(記入済リスト!$B61))","v":""},{"$f":"IF(記入済リスト!$B61=\"\",\"\",DAY(記入済リスト!$B61))","v":""},{"$f":"IF(記入済リスト!$C61=\"\",\"\",記入済リスト!$C61)","v":""},{"$f":"IF(記入済リスト!$D61=\"\",\"\",記入済リスト!$D61)","v":""},{"$f":"IF(記入済リスト!$E61=\"\",\"\",記入済リスト!$E61)","v":""}]
[null,{"$f":"IF(記入済リスト!$B62=\"\",\"\",YEAR(記入済リスト!$B62))","v":""},{"$f":"IF(記入済リスト!$B62=\"\",\"\",MONTH(記入済リスト!$B62))","v":""},{"$f":"IF(記入済リスト!$B62=\"\",\"\",DAY(記入済リスト!$B62))","v":""},{"$f":"IF(記入済リスト!$C62=\"\",\"\",記入済リスト!$C62)","v":""},{"$f":"IF(記入済リスト!$D62=\"\",\"\",記入済リスト!$D62)","v":""},{"$f":"IF(記入済リスト!$E62=\"\",\"\",記入済リスト!$E62)","v":""}]
[null,{"$f":"IF(記入済リスト!$B63=\"\",\"\",YEAR(記入済リスト!$B63))","v":""},{"$f":"IF(記入済リスト!$B63=\"\",\"\",MONTH(記入済リスト!$B63))","v":""},{"$f":"IF(記入済リスト!$B63=\"\",\"\",DAY(記入済リスト!$B63))","v":""},{"$f":"IF(記入済リスト!$C63=\"\",\"\",記入済リスト!$C63)","v":""},{"$f":"IF(記入済リスト!$D63=\"\",\"\",記入済リスト!$D63)","v":""},{"$f":"IF(記入済リスト!$E63=\"\",\"\",記入済リスト!$E63)","v":""}]
[null,{"$f":"IF(記入済リスト!$B64=\"\",\"\",YEAR(記入済リスト!$B64))","v":""},{"$f":"IF(記入済リスト!$B64=\"\",\"\",MONTH(記入済リスト!$B64))","v":""},{"$f":"IF(記入済リスト!$B64=\"\",\"\",DAY(記入済リスト!$B64))","v":""},{"$f":"IF(記入済リスト!$C64=\"\",\"\",記入済リスト!$C64)","v":""},{"$f":"IF(記入済リスト!$D64=\"\",\"\",記入済リスト!$D64)","v":""},{"$f":"IF(記入済リスト!$E64=\"\",\"\",記入済リスト!$E64)","v":""}]
[null,{"$f":"IF(記入済リスト!$B65=\"\",\"\",YEAR(記入済リスト!$B65))","v":""},{"$f":"IF(記入済リスト!$B65=\"\",\"\",MONTH(記入済リスト!$B65))","v":""},{"$f":"IF(記入済リスト!$B65=\"\",\"\",DAY(記入済リスト!$B65))","v":""},{"$f":"IF(記入済リスト!$C65=\"\",\"\",記入済リスト!$C65)","v":""},{"$f":"IF(記入済リスト!$D65=\"\",\"\",記入済リスト!$D65)","v":""},{"$f":"IF(記入済リスト!$E65=\"\",\"\",記入済リスト!$E65)","v":""}]
[null,{"$f":"IF(記入済リスト!$B66=\"\",\"\",YEAR(記入済リスト!$B66))","v":""},{"$f":"IF(記入済リスト!$B66=\"\",\"\",MONTH(記入済リスト!$B66))","v":""},{"$f":"IF(記入済リスト!$B66=\"\",\"\",DAY(記入済リスト!$B66))","v":""},{"$f":"IF(記入済リスト!$C66=\"\",\"\",記入済リスト!$C66)","v":""},{"$f":"IF(記入済リスト!$D66=\"\",\"\",記入済リスト!$D66)","v":""},{"$f":"IF(記入済リスト!$E66=\"\",\"\",記入済リスト!$E66)","v":""}]
[null,{"$f":"IF(記入済リスト!$B67=\"\",\"\",YEAR(記入済リスト!$B67))","v":""},{"$f":"IF(記入済リスト!$B67=\"\",\"\",MONTH(記入済リスト!$B67))","v":""},{"$f":"IF(記入済リスト!$B67=\"\",\"\",DAY(記入済リスト!$B67))","v":""},{"$f":"IF(記入済リスト!$C67=\"\",\"\",記入済リスト!$C67)","v":""},{"$f":"IF(記入済リスト!$D67=\"\",\"\",記入済リスト!$D67)","v":""},{"$f":"IF(記入済リスト!$E67=\"\",\"\",記入済リスト!$E67)","v":""}]
[null,{"$f":"IF(記入済リスト!$B68=\"\",\"\",YEAR(記入済リスト!$B68))","v":""},{"$f":"IF(記入済リスト!$B68=\"\",\"\",MONTH(記入済リスト!$B68))","v":""},{"$f":"IF(記入済リスト!$B68=\"\",\"\",DAY(記入済リスト!$B68))","v":""},{"$f":"IF(記入済リスト!$C68=\"\",\"\",記入済リスト!$C68)","v":""},{"$f":"IF(記入済リスト!$D68=\"\",\"\",記入済リスト!$D68)","v":""},{"$f":"IF(記入済リスト!$E68=\"\",\"\",記入済リスト!$E68)","v":""}]
[null,{"$f":"IF(記入済リスト!$B69=\"\",\"\",YEAR(記入済リスト!$B69))","v":""},{"$f":"IF(記入済リスト!$B69=\"\",\"\",MONTH(記入済リスト!$B69))","v":""},{"$f":"IF(記入済リスト!$B69=\"\",\"\",DAY(記入済リスト!$B69))","v":""},{"$f":"IF(記入済リスト!$C69=\"\",\"\",記入済リスト!$C69)","v":""},{"$f":"IF(記入済リスト!$D69=\"\",\"\",記入済リスト!$D69)","v":""},{"$f":"IF(記入済リスト!$E69=\"\",\"\",記入済リスト!$E69)","v":""}]
[null,{"$f":"IF(記入済リスト!$B70=\"\",\"\",YEAR(記入済リスト!$B70))","v":""},{"$f":"IF(記入済リスト!$B70=\"\",\"\",MONTH(記入済リスト!$B70))","v":""},{"$f":"IF(記入済リスト!$B70=\"\",\"\",DAY(記入済リスト!$B70))","v":""},{"$f":"IF(記入済リスト!$C70=\"\",\"\",記入済リスト!$C70)","v":""},{"$f":"IF(記入済リスト!$D70=\"\",\"\",記入済リスト!$D70)","v":""},{"$f":"IF(記入済リスト!$E70=\"\",\"\",記入済リスト!$E70)","v":""}]
[null,{"$f":"IF(記入済リスト!$B71=\"\",\"\",YEAR(記入済リスト!$B71))","v":""},{"$f":"IF(記入済リスト!$B71=\"\",\"\",MONTH(記入済リスト!$B71))","v":""},{"$f":"IF(記入済リスト!$B71=\"\",\"\",DAY(記入済リスト!$B71))","v":""},{"$f":"IF(記入済リスト!$C71=\"\",\"\",記入済リスト!$C71)","v":""},{"$f":"IF(記入済リスト!$D71=\"\",\"\",記入済リスト!$D71)","v":""},{"$f":"IF(記入済リスト!$E71=\"\",\"\",記入済リスト!$E71)","v":""}]
[null,{"$f":"IF(記入済リスト!$B72=\"\",\"\",YEAR(記入済リスト!$B72))","v":""},{"$f":"IF(記入済リスト!$B72=\"\",\"\",MONTH(記入済リスト!$B72))","v":""},{"$f":"IF(記入済リスト!$B72=\"\",\"\",DAY(記入済リスト!$B72))","v":""},{"$f":"IF(記入済リスト!$C72=\"\",\"\",記入済リスト!$C72)","v":""},{"$f":"IF(記入済リスト!$D72=\"\",\"\",記入済リスト!$D72)","v":""},{"$f":"IF(記入済リスト!$E72=\"\",\"\",記入済リスト!$E72)","v":""}]
[null,{"$f":"IF(記入済リスト!$B73=\"\",\"\",YEAR(記入済リスト!$B73))","v":""},{"$f":"IF(記入済リスト!$B73=\"\",\"\",MONTH(記入済リスト!$B73))","v":""},{"$f":"IF(記入済リスト!$B73=\"\",\"\",DAY(記入済リスト!$B73))","v":""},{"$f":"IF(記入済リスト!$C73=\"\",\"\",記入済リスト!$C73)","v":""},{"$f":"IF(記入済リスト!$D73=\"\",\"\",記入済リスト!$D73)","v":""},{"$f":"IF(記入済リスト!$E73=\"\",\"\",記入済リスト!$E73)","v":""}]
[null,{"$f":"IF(記入済リスト!$B74=\"\",\"\",YEAR(記入済リスト!$B74))","v":""},{"$f":"IF(記入済リスト!$B74=\"\",\"\",MONTH(記入済リスト!$B74))","v":""},{"$f":"IF(記入済リスト!$B74=\"\",\"\",DAY(記入済リスト!$B74))","v":""},{"$f":"IF(記入済リスト!$C74=\"\",\"\",記入済リスト!$C74)","v":""},{"$f":"IF(記入済リスト!$D74=\"\",\"\",記入済リスト!$D74)","v":""},{"$f":"IF(記入済リスト!$E74=\"\",\"\",記入済リスト!$E74)","v":""}]
[null,{"$f":"IF(記入済リスト!$B75=\"\",\"\",YEAR(記入済リスト!$B75))","v":""},{"$f":"IF(記入済リスト!$B75=\"\",\"\",MONTH(記入済リスト!$B75))","v":""},{"$f":"IF(記入済リスト!$B75=\"\",\"\",DAY(記入済リスト!$B75))","v":""},{"$f":"IF(記入済リスト!$C75=\"\",\"\",記入済リスト!$C75)","v":""},{"$f":"IF(記入済リスト!$D75=\"\",\"\",記入済リスト!$D75)","v":""},{"$f":"IF(記入済リスト!$E75=\"\",\"\",記入済リスト!$E75)","v":""}]
[null,{"$f":"IF(記入済リスト!$B76=\"\",\"\",YEAR(記入済リスト!$B76))","v":""},{"$f":"IF(記入済リスト!$B76=\"\",\"\",MONTH(記入済リスト!$B76))","v":""},{"$f":"IF(記入済リスト!$B76=\"\",\"\",DAY(記入済リスト!$B76))","v":""},{"$f":"IF(記入済リスト!$C76=\"\",\"\",記入済リスト!$C76)","v":""},{"$f":"IF(記入済リスト!$D76=\"\",\"\",記入済リスト!$D76)","v":""},{"$f":"IF(記入済リスト!$E76=\"\",\"\",記入済リスト!$E76)","v":""}]
[null,{"$f":"IF(記入済リスト!$B77=\"\",\"\",YEAR(記入済リスト!$B77))","v":""},{"$f":"IF(記入済リスト!$B77=\"\",\"\",MONTH(記入済リスト!$B77))","v":""},{"$f":"IF(記入済リスト!$B77=\"\",\"\",DAY(記入済リスト!$B77))","v":""},{"$f":"IF(記入済リスト!$C77=\"\",\"\",記入済リスト!$C77)","v":""},{"$f":"IF(記入済リスト!$D77=\"\",\"\",記入済リスト!$D77)","v":""},{"$f":"IF(記入済リスト!$E77=\"\",\"\",記入済リスト!$E77)","v":""}]
[null,{"$f":"IF(記入済リスト!$B78=\"\",\"\",YEAR(記入済リスト!$B78))","v":""},{"$f":"IF(記入済リスト!$B78=\"\",\"\",MONTH(記入済リスト!$B78))","v":""},{"$f":"IF(記入済リスト!$B78=\"\",\"\",DAY(記入済リスト!$B78))","v":""},{"$f":"IF(記入済リスト!$C78=\"\",\"\",記入済リスト!$C78)","v":""},{"$f":"IF(記入済リスト!$D78=\"\",\"\",記入済リスト!$D78)","v":""},{"$f":"IF(記入済リスト!$E78=\"\",\"\",記入済リスト!$E78)","v":""}]
[null,{"$f":"IF(記入済リスト!$B79=\"\",\"\",YEAR(記入済リスト!$B79))","v":""},{"$f":"IF(記入済リスト!$B79=\"\",\"\",MONTH(記入済リスト!$B79))","v":""},{"$f":"IF(記入済リスト!$B79=\"\",\"\",DAY(記入済リスト!$B79))","v":""},{"$f":"IF(記入済リスト!$C79=\"\",\"\",記入済リスト!$C79)","v":""},{"$f":"IF(記入済リスト!$D79=\"\",\"\",記入済リスト!$D79)","v":""},{"$f":"IF(記入済リスト!$E79=\"\",\"\",記入済リスト!$E79)","v":""}]
[null,{"$f":"IF(記入済リスト!$B80=\"\",\"\",YEAR(記入済リスト!$B80))","v":""},{"$f":"IF(記入済リスト!$B80=\"\",\"\",MONTH(記入済リスト!$B80))","v":""},{"$f":"IF(記入済リスト!$B80=\"\",\"\",DAY(記入済リスト!$B80))","v":""},{"$f":"IF(記入済リスト!$C80=\"\",\"\",記入済リスト!$C80)","v":""},{"$f":"IF(記入済リスト!$D80=\"\",\"\",記入済リスト!$D80)","v":""},{"$f":"IF(記入済リスト!$E80=\"\",\"\",記入済リスト!$E80)","v":""}]
[null,{"$f":"IF(記入済リスト!$B81=\"\",\"\",YEAR(記入済リスト!$B81))","v":""},{"$f":"IF(記入済リスト!$B81=\"\",\"\",MONTH(記入済リスト!$B81))","v":""},{"$f":"IF(記入済リスト!$B81=\"\",\"\",DAY(記入済リスト!$B81))","v":""},{"$f":"IF(記入済リスト!$C81=\"\",\"\",記入済リスト!$C81)","v":""},{"$f":"IF(記入済リスト!$D81=\"\",\"\",記入済リスト!$D81)","v":""},{"$f":"IF(記入済リスト!$E81=\"\",\"\",記入済リスト!$E81)","v":""}]
[null,{"$f":"IF(記入済リスト!$B82=\"\",\"\",YEAR(記入済リスト!$B82))","v":""},{"$f":"IF(記入済リスト!$B82=\"\",\"\",MONTH(記入済リスト!$B82))","v":""},{"$f":"IF(記入済リスト!$B82=\"\",\"\",DAY(記入済リスト!$B82))","v":""},{"$f":"IF(記入済リスト!$C82=\"\",\"\",記入済リスト!$C82)","v":""},{"$f":"IF(記入済リスト!$D82=\"\",\"\",記入済リスト!$D82)","v":""},{"$f":"IF(記入済リスト!$E82=\"\",\"\",記入済リスト!$E82)","v":""}]
[null,{"$f":"IF(記入済リスト!$B83=\"\",\"\",YEAR(記入済リスト!$B83))","v":""},{"$f":"IF(記入済リスト!$B83=\"\",\"\",MONTH(記入済リスト!$B83))","v":""},{"$f":"IF(記入済リスト!$B83=\"\",\"\",DAY(記入済リスト!$B83))","v":""},{"$f":"IF(記入済リスト!$C83=\"\",\"\",記入済リスト!$C83)","v":""},{"$f":"IF(記入済リスト!$D83=\"\",\"\",記入済リスト!$D83)","v":""},{"$f":"IF(記入済リスト!$E83=\"\",\"\",記入済リスト!$E83)","v":""}]
[null,{"$f":"IF(記入済リスト!$B84=\"\",\"\",YEAR(記入済リスト!$B84))","v":""},{"$f":"IF(記入済リスト!$B84=\"\",\"\",MONTH(記入済リスト!$B84))","v":""},{"$f":"IF(記入済リスト!$B84=\"\",\"\",DAY(記入済リスト!$B84))","v":""},{"$f":"IF(記入済リスト!$C84=\"\",\"\",記入済リスト!$C84)","v":""},{"$f":"IF(記入済リスト!$D84=\"\",\"\",記入済リスト!$D84)","v":""},{"$f":"IF(記入済リスト!$E84=\"\",\"\",記入済リスト!$E84)","v":""}]
[null,{"$f":"IF(記入済リスト!$B85=\"\",\"\",YEAR(記入済リスト!$B85))","v":""},{"$f":"IF(記入済リスト!$B85=\"\",\"\",MONTH(記入済リスト!$B85))","v":""},{"$f":"IF(記入済リスト!$B85=\"\",\"\",DAY(記入済リスト!$B85))","v":""},{"$f":"IF(記入済リスト!$C85=\"\",\"\",記入済リスト!$C85)","v":""},{"$f":"IF(記入済リスト!$D85=\"\",\"\",記入済リスト!$D85)","v":""},{"$f":"IF(記入済リスト!$E85=\"\",\"\",記入済リスト!$E85)","v":""}]
[null,{"$f":"IF(記入済リスト!$B86=\"\",\"\",YEAR(記入済リスト!$B86))","v":""},{"$f":"IF(記入済リスト!$B86=\"\",\"\",MONTH(記入済リスト!$B86))","v":""},{"$f":"IF(記入済リスト!$B86=\"\",\"\",DAY(記入済リスト!$B86))","v":""},{"$f":"IF(記入済リスト!$C86=\"\",\"\",記入済リスト!$C86)","v":""},{"$f":"IF(記入済リスト!$D86=\"\",\"\",記入済リスト!$D86)","v":""},{"$f":"IF(記入済リスト!$E86=\"\",\"\",記入済リスト!$E86)","v":""}]
[null,{"$f":"IF(記入済リスト!$B87=\"\",\"\",YEAR(記入済リスト!$B87))","v":""},{"$f":"IF(記入済リスト!$B87=\"\",\"\",MONTH(記入済リスト!$B87))","v":""},{"$f":"IF(記入済リスト!$B87=\"\",\"\",DAY(記入済リスト!$B87))","v":""},{"$f":"IF(記入済リスト!$C87=\"\",\"\",記入済リスト!$C87)","v":""},{"$f":"IF(記入済リスト!$D87=\"\",\"\",記入済リスト!$D87)","v":""},{"$f":"IF(記入済リスト!$E87=\"\",\"\",記入済リスト!$E87)","v":""}]
[null,{"$f":"IF(記入済リスト!$B88=\"\",\"\",YEAR(記入済リスト!$B88))","v":""},{"$f":"IF(記入済リスト!$B88=\"\",\"\",MONTH(記入済リスト!$B88))","v":""},{"$f":"IF(記入済リスト!$B88=\"\",\"\",DAY(記入済リスト!$B88))","v":""},{"$f":"IF(記入済リスト!$C88=\"\",\"\",記入済リスト!$C88)","v":""},{"$f":"IF(記入済リスト!$D88=\"\",\"\",記入済リスト!$D88)","v":""},{"$f":"IF(記入済リスト!$E88=\"\",\"\",記入済リスト!$E88)","v":""}]
[null,{"$f":"IF(記入済リスト!$B89=\"\",\"\",YEAR(記入済リスト!$B89))","v":""},{"$f":"IF(記入済リスト!$B89=\"\",\"\",MONTH(記入済リスト!$B89))","v":""},{"$f":"IF(記入済リスト!$B89=\"\",\"\",DAY(記入済リスト!$B89))","v":""},{"$f":"IF(記入済リスト!$C89=\"\",\"\",記入済リスト!$C89)","v":""},{"$f":"IF(記入済リスト!$D89=\"\",\"\",記入済リスト!$D89)","v":""},{"$f":"IF(記入済リスト!$E89=\"\",\"\",記入済リスト!$E89)","v":""}]
[null,{"$f":"IF(記入済リスト!$B90=\"\",\"\",YEAR(記入済リスト!$B90))","v":""},{"$f":"IF(記入済リスト!$B90=\"\",\"\",MONTH(記入済リスト!$B90))","v":""},{"$f":"IF(記入済リスト!$B90=\"\",\"\",DAY(記入済リスト!$B90))","v":""},{"$f":"IF(記入済リスト!$C90=\"\",\"\",記入済リスト!$C90)","v":""},{"$f":"IF(記入済リスト!$D90=\"\",\"\",記入済リスト!$D90)","v":""},{"$f":"IF(記入済リスト!$E90=\"\",\"\",記入済リスト!$E90)","v":""}]
[null,{"$f":"IF(記入済リスト!$B91=\"\",\"\",YEAR(記入済リスト!$B91))","v":""},{"$f":"IF(記入済リスト!$B91=\"\",\"\",MONTH(記入済リスト!$B91))","v":""},{"$f":"IF(記入済リスト!$B91=\"\",\"\",DAY(記入済リスト!$B91))","v":""},{"$f":"IF(記入済リスト!$C91=\"\",\"\",記入済リスト!$C91)","v":""},{"$f":"IF(記入済リスト!$D91=\"\",\"\",記入済リスト!$D91)","v":""},{"$f":"IF(記入済リスト!$E91=\"\",\"\",記入済リスト!$E91)","v":""}]
[null,{"$f":"IF(記入済リスト!$B92=\"\",\"\",YEAR(記入済リスト!$B92))","v":""},{"$f":"IF(記入済リスト!$B92=\"\",\"\",MONTH(記入済リスト!$B92))","v":""},{"$f":"IF(記入済リスト!$B92=\"\",\"\",DAY(記入済リスト!$B92))","v":""},{"$f":"IF(記入済リスト!$C92=\"\",\"\",記入済リスト!$C92)","v":""},{"$f":"IF(記入済リスト!$D92=\"\",\"\",記入済リスト!$D92)","v":""},{"$f":"IF(記入済リスト!$E92=\"\",\"\",記入済リスト!$E92)","v":""}]
[null,{"$f":"IF(記入済リスト!$B93=\"\",\"\",YEAR(記入済リスト!$B93))","v":""},{"$f":"IF(記入済リスト!$B93=\"\",\"\",MONTH(記入済リスト!$B93))","v":""},{"$f":"IF(記入済リスト!$B93=\"\",\"\",DAY(記入済リスト!$B93))","v":""},{"$f":"IF(記入済リスト!$C93=\"\",\"\",記入済リスト!$C93)","v":""},{"$f":"IF(記入済リスト!$D93=\"\",\"\",記入済リスト!$D93)","v":""},{"$f":"IF(記入済リスト!$E93=\"\",\"\",記入済リスト!$E93)","v":""}]
[null,{"$f":"IF(記入済リスト!$B94=\"\",\"\",YEAR(記入済リスト!$B94))","v":""},{"$f":"IF(記入済リスト!$B94=\"\",\"\",MONTH(記入済リスト!$B94))","v":""},{"$f":"IF(記入済リスト!$B94=\"\",\"\",DAY(記入済リスト!$B94))","v":""},{"$f":"IF(記入済リスト!$C94=\"\",\"\",記入済リスト!$C94)","v":""},{"$f":"IF(記入済リスト!$D94=\"\",\"\",記入済リスト!$D94)","v":""},{"$f":"IF(記入済リスト!$E94=\"\",\"\",記入済リスト!$E94)","v":""}]
[null,{"$f":"IF(記入済リスト!$B95=\"\",\"\",YEAR(記入済リスト!$B95))","v":""},{"$f":"IF(記入済リスト!$B95=\"\",\"\",MONTH(記入済リスト!$B95))","v":""},{"$f":"IF(記入済リスト!$B95=\"\",\"\",DAY(記入済リスト!$B95))","v":""},{"$f":"IF(記入済リスト!$C95=\"\",\"\",記入済リスト!$C95)","v":""},{"$f":"IF(記入済リスト!$D95=\"\",\"\",記入済リスト!$D95)","v":""},{"$f":"IF(記入済リスト!$E95=\"\",\"\",記入済リスト!$E95)","v":""}]
[null,{"$f":"IF(記入済リスト!$B96=\"\",\"\",YEAR(記入済リスト!$B96))","v":""},{"$f":"IF(記入済リスト!$B96=\"\",\"\",MONTH(記入済リスト!$B96))","v":""},{"$f":"IF(記入済リスト!$B96=\"\",\"\",DAY(記入済リスト!$B96))","v":""},{"$f":"IF(記入済リスト!$C96=\"\",\"\",記入済リスト!$C96)","v":""},{"$f":"IF(記入済リスト!$D96=\"\",\"\",記入済リスト!$D96)","v":""},{"$f":"IF(記入済リスト!$E96=\"\",\"\",記入済リスト!$E96)","v":""}]
[null,{"$f":"IF(記入済リスト!$B97=\"\",\"\",YEAR(記入済リスト!$B97))","v":""},{"$f":"IF(記入済リスト!$B97=\"\",\"\",MONTH(記入済リスト!$B97))","v":""},{"$f":"IF(記入済リスト!$B97=\"\",\"\",DAY(記入済リスト!$B97))","v":""},{"$f":"IF(記入済リスト!$C97=\"\",\"\",記入済リスト!$C97)","v":""},{"$f":"IF(記入済リスト!$D97=\"\",\"\",記入済リスト!$D97)","v":""},{"$f":"IF(記入済リスト!$E97=\"\",\"\",記入済リスト!$E97)","v":""}]
[null,{"$f":"IF(記入済リスト!$B98=\"\",\"\",YEAR(記入済リスト!$B98))","v":""},{"$f":"IF(記入済リスト!$B98=\"\",\"\",MONTH(記入済リスト!$B98))","v":""},{"$f":"IF(記入済リスト!$B98=\"\",\"\",DAY(記入済リスト!$B98))","v":""},{"$f":"IF(記入済リスト!$C98=\"\",\"\",記入済リスト!$C98)","v":""},{"$f":"IF(記入済リスト!$D98=\"\",\"\",記入済リスト!$D98)","v":""},{"$f":"IF(記入済リスト!$E98=\"\",\"\",記入済リスト!$E98)","v":""}]
[null,{"$f":"IF(記入済リスト!$B99=\"\",\"\",YEAR(記入済リスト!$B99))","v":""},{"$f":"IF(記入済リスト!$B99=\"\",\"\",MONTH(記入済リスト!$B99))","v":""},{"$f":"IF(記入済リスト!$B99=\"\",\"\",DAY(記入済リスト!$B99))","v":""},{"$f":"IF(記入済リスト!$C99=\"\",\"\",記入済リスト!$C99)","v":""},{"$f":"IF(記入済リスト!$D99=\"\",\"\",記入済リスト!$D99)","v":""},{"$f":"IF(記入済リスト!$E99=\"\",\"\",記入済リスト!$E99)","v":""}]
[null,{"$f":"IF(記入済リスト!$B100=\"\",\"\",YEAR(記入済リスト!$B100))","v":""},{"$f":"IF(記入済リスト!$B100=\"\",\"\",MONTH(記入済リスト!$B100))","v":""},{"$f":"IF(記入済リスト!$B100=\"\",\"\",DAY(記入済リスト!$B100))","v":""},{"$f":"IF(記入済リスト!$C100=\"\",\"\",記入済リスト!$C100)","v":""},{"$f":"IF(記入済リスト!$D100=\"\",\"\",記入済リスト!$D100)","v":""},{"$f":"IF(記入済リスト!$E100=\"\",\"\",記入済リスト!$E100)","v":""}]
[null,{"$f":"IF(記入済リスト!$B101=\"\",\"\",YEAR(記入済リスト!$B101))","v":""},{"$f":"IF(記入済リスト!$B101=\"\",\"\",MONTH(記入済リスト!$B101))","v":""},{"$f":"IF(記入済リスト!$B101=\"\",\"\",DAY(記入済リスト!$B101))","v":""},{"$f":"IF(記入済リスト!$C101=\"\",\"\",記入済リスト!$C101)","v":""},{"$f":"IF(記入済リスト!$D101=\"\",\"\",記入済リスト!$D101)","v":""},{"$f":"IF(記入済リスト!$E101=\"\",\"\",記入済リスト!$E101)","v":""}]
[null,{"$f":"IF(記入済リスト!$B102=\"\",\"\",YEAR(記入済リスト!$B102))","v":""},{"$f":"IF(記入済リスト!$B102=\"\",\"\",MONTH(記入済リスト!$B102))","v":""},{"$f":"IF(記入済リスト!$B102=\"\",\"\",DAY(記入済リスト!$B102))","v":""},{"$f":"IF(記入済リスト!$C102=\"\",\"\",記入済リスト!$C102)","v":""},{"$f":"IF(記入済リスト!$D102=\"\",\"\",記入済リスト!$D102)","v":""},{"$f":"IF(記入済リスト!$E102=\"\",\"\",記入済リスト!$E102)","v":""}]
[null,{"$f":"IF(記入済リスト!$B103=\"\",\"\",YEAR(記入済リスト!$B103))","v":""},{"$f":"IF(記入済リスト!$B103=\"\",\"\",MONTH(記入済リスト!$B103))","v":""},{"$f":"IF(記入済リスト!$B103=\"\",\"\",DAY(記入済リスト!$B103))","v":""},{"$f":"IF(記入済リスト!$C103=\"\",\"\",記入済リスト!$C103)","v":""},{"$f":"IF(記入済リスト!$D103=\"\",\"\",記入済リスト!$D103)","v":""},{"$f":"IF(記入済リスト!$E103=\"\",\"\",記入済リスト!$E103)","v":""}]
[null,{"$f":"IF(記入済リスト!$B104=\"\",\"\",YEAR(記入済リスト!$B104))","v":""},{"$f":"IF(記入済リスト!$B104=\"\",\"\",MONTH(記入済リスト!$B104))","v":""},{"$f":"IF(記入済リスト!$B104=\"\",\"\",DAY(記入済リスト!$B104))","v":""},{"$f":"IF(記入済リスト!$C104=\"\",\"\",記入済リスト!$C104)","v":""},{"$f":"IF(記入済リスト!$D104=\"\",\"\",記入済リスト!$D104)","v":""},{"$f":"IF(記入済リスト!$E104=\"\",\"\",記入済リスト!$E104)","v":""}]
[null,{"$f":"IF(記入済リスト!$B105=\"\",\"\",YEAR(記入済リスト!$B105))","v":""},{"$f":"IF(記入済リスト!$B105=\"\",\"\",MONTH(記入済リスト!$B105))","v":""},{"$f":"IF(記入済リスト!$B105=\"\",\"\",DAY(記入済リスト!$B105))","v":""},{"$f":"IF(記入済リスト!$C105=\"\",\"\",記入済リスト!$C105)","v":""},{"$f":"IF(記入済リスト!$D105=\"\",\"\",記入済リスト!$D105)","v":""},{"$f":"IF(記入済リスト!$E105=\"\",\"\",記入済リスト!$E105)","v":""}]
[null,{"$f":"IF(記入済リスト!$B106=\"\",\"\",YEAR(記入済リスト!$B106))","v":""},{"$f":"IF(記入済リスト!$B106=\"\",\"\",MONTH(記入済リスト!$B106))","v":""},{"$f":"IF(記入済リスト!$B106=\"\",\"\",DAY(記入済リスト!$B106))","v":""},{"$f":"IF(記入済リスト!$C106=\"\",\"\",記入済リスト!$C106)","v":""},{"$f":"IF(記入済リスト!$D106=\"\",\"\",記入済リスト!$D106)","v":""},{"$f":"IF(記入済リスト!$E106=\"\",\"\",記入済リスト!$E106)","v":""}]
[null,{"$f":"IF(記入済リスト!$B107=\"\",\"\",YEAR(記入済リスト!$B107))","v":""},{"$f":"IF(記入済リスト!$B107=\"\",\"\",MONTH(記入済リスト!$B107))","v":""},{"$f":"IF(記入済リスト!$B107=\"\",\"\",DAY(記入済リスト!$B107))","v":""},{"$f":"IF(記入済リスト!$C107=\"\",\"\",記入済リスト!$C107)","v":""},{"$f":"IF(記入済リスト!$D107=\"\",\"\",記入済リスト!$D107)","v":""},{"$f":"IF(記入済リスト!$E107=\"\",\"\",記入済リスト!$E107)","v":""}]
[null,{"$f":"IF(記入済リスト!$B108=\"\",\"\",YEAR(記入済リスト!$B108))","v":""},{"$f":"IF(記入済リスト!$B108=\"\",\"\",MONTH(記入済リスト!$B108))","v":""},{"$f":"IF(記入済リスト!$B108=\"\",\"\",DAY(記入済リスト!$B108))","v":""},{"$f":"IF(記入済リスト!$C108=\"\",\"\",記入済リスト!$C108)","v":""},{"$f":"IF(記入済リスト!$D108=\"\",\"\",記入済リスト!$D108)","v":""},{"$f":"IF(記入済リスト!$E108=\"\",\"\",記入済リスト!$E108)","v":""}]
[null,{"$f":"IF(記入済リスト!$B109=\"\",\"\",YEAR(記入済リスト!$B109))","v":""},{"$f":"IF(記入済リスト!$B109=\"\",\"\",MONTH(記入済リスト!$B109))","v":""},{"$f":"IF(記入済リスト!$B109=\"\",\"\",DAY(記入済リスト!$B109))","v":""},{"$f":"IF(記入済リスト!$C109=\"\",\"\",記入済リスト!$C109)","v":""},{"$f":"IF(記入済リスト!$D109=\"\",\"\",記入済リスト!$D109)","v":""},{"$f":"IF(記入済リスト!$E109=\"\",\"\",記入済リスト!$E109)","v":""}]
[null,{"$f":"IF(記入済リスト!$B110=\"\",\"\",YEAR(記入済リスト!$B110))","v":""},{"$f":"IF(記入済リスト!$B110=\"\",\"\",MONTH(記入済リスト!$B110))","v":""},{"$f":"IF(記入済リスト!$B110=\"\",\"\",DAY(記入済リスト!$B110))","v":""},{"$f":"IF(記入済リスト!$C110=\"\",\"\",記入済リスト!$C110)","v":""},{"$f":"IF(記入済リスト!$D110=\"\",\"\",記入済リスト!$D110)","v":""},{"$f":"IF(記入済リスト!$E110=\"\",\"\",記入済リスト!$E110)","v":""}]
[null,{"$f":"IF(記入済リスト!$B111=\"\",\"\",YEAR(記入済リスト!$B111))","v":""},{"$f":"IF(記入済リスト!$B111=\"\",\"\",MONTH(記入済リスト!$B111))","v":""},{"$f":"IF(記入済リスト!$B111=\"\",\"\",DAY(記入済リスト!$B111))","v":""},{"$f":"IF(記入済リスト!$C111=\"\",\"\",記入済リスト!$C111)","v":""},{"$f":"IF(記入済リスト!$D111=\"\",\"\",記入済リスト!$D111)","v":""},{"$f":"IF(記入済リスト!$E111=\"\",\"\",記入済リスト!$E111)","v":""}]
[null,{"$f":"IF(記入済リスト!$B112=\"\",\"\",YEAR(記入済リスト!$B112))","v":""},{"$f":"IF(記入済リスト!$B112=\"\",\"\",MONTH(記入済リスト!$B112))","v":""},{"$f":"IF(記入済リスト!$B112=\"\",\"\",DAY(記入済リスト!$B112))","v":""},{"$f":"IF(記入済リスト!$C112=\"\",\"\",記入済リスト!$C112)","v":""},{"$f":"IF(記入済リスト!$D112=\"\",\"\",記入済リスト!$D112)","v":""},{"$f":"IF(記入済リスト!$E112=\"\",\"\",記入済リスト!$E112)","v":""}]
[null,{"$f":"IF(記入済リスト!$B113=\"\",\"\",YEAR(記入済リスト!$B113))","v":""},{"$f":"IF(記入済リスト!$B113=\"\",\"\",MONTH(記入済リスト!$B113))","v":""},{"$f":"IF(記入済リスト!$B113=\"\",\"\",DAY(記入済リスト!$B113))","v":""},{"$f":"IF(記入済リスト!$C113=\"\",\"\",記入済リスト!$C113)","v":""},{"$f":"IF(記入済リスト!$D113=\"\",\"\",記入済リスト!$D113)","v":""},{"$f":"IF(記入済リスト!$E113=\"\",\"\",記入済リスト!$E113)","v":""}]
[null,{"$f":"IF(記入済リスト!$B114=\"\",\"\",YEAR(記入済リスト!$B114))","v":""},{"$f":"IF(記入済リスト!$B114=\"\",\"\",MONTH(記入済リスト!$B114))","v":""},{"$f":"IF(記入済リスト!$B114=\"\",\"\",DAY(記入済リスト!$B114))","v":""},{"$f":"IF(記入済リスト!$C114=\"\",\"\",記入済リスト!$C114)","v":""},{"$f":"IF(記入済リスト!$D114=\"\",\"\",記入済リスト!$D114)","v":""},{"$f":"IF(記入済リスト!$E114=\"\",\"\",記入済リスト!$E114)","v":""}]
[null,{"$f":"IF(記入済リスト!$B115=\"\",\"\",YEAR(記入済リスト!$B115))","v":""},{"$f":"IF(記入済リスト!$B115=\"\",\"\",MONTH(記入済リスト!$B115))","v":""},{"$f":"IF(記入済リスト!$B115=\"\",\"\",DAY(記入済リスト!$B115))","v":""},{"$f":"IF(記入済リスト!$C115=\"\",\"\",記入済リスト!$C115)","v":""},{"$f":"IF(記入済リスト!$D115=\"\",\"\",記入済リスト!$D115)","v":""},{"$f":"IF(記入済リスト!$E115=\"\",\"\",記入済リスト!$E115)","v":""}]
[null,{"$f":"IF(記入済リスト!$B116=\"\",\"\",YEAR(記入済リスト!$B116))","v":""},{"$f":"IF(記入済リスト!$B116=\"\",\"\",MONTH(記入済リスト!$B116))","v":""},{"$f":"IF(記入済リスト!$B116=\"\",\"\",DAY(記入済リスト!$B116))","v":""},{"$f":"IF(記入済リスト!$C116=\"\",\"\",記入済リスト!$C116)","v":""},{"$f":"IF(記入済リスト!$D116=\"\",\"\",記入済リスト!$D116)","v":""},{"$f":"IF(記入済リスト!$E116=\"\",\"\",記入済リスト!$E116)","v":""}]
[null,{"$f":"IF(記入済リスト!$B117=\"\",\"\",YEAR(記入済リスト!$B117))","v":""},{"$f":"IF(記入済リスト!$B117=\"\",\"\",MONTH(記入済リスト!$B117))","v":""},{"$f":"IF(記入済リスト!$B117=\"\",\"\",DAY(記入済リスト!$B117))","v":""},{"$f":"IF(記入済リスト!$C117=\"\",\"\",記入済リスト!$C117)","v":""},{"$f":"IF(記入済リスト!$D117=\"\",\"\",記入済リスト!$D117)","v":""},{"$f":"IF(記入済リスト!$E117=\"\",\"\",記入済リスト!$E117)","v":""}]
[null,{"$f":"IF(記入済リスト!$B118=\"\",\"\",YEAR(記入済リスト!$B118))","v":""},{"$f":"IF(記入済リスト!$B118=\"\",\"\",MONTH(記入済リスト!$B118))","v":""},{"$f":"IF(記入済リスト!$B118=\"\",\"\",DAY(記入済リスト!$B118))","v":""},{"$f":"IF(記入済リスト!$C118=\"\",\"\",記入済リスト!$C118)","v":""},{"$f":"IF(記入済リスト!$D118=\"\",\"\",記入済リスト!$D118)","v":""},{"$f":"IF(記入済リスト!$E118=\"\",\"\",記入済リスト!$E118)","v":""}]
[null,{"$f":"IF(記入済リスト!$B119=\"\",\"\",YEAR(記入済リスト!$B119))","v":""},{"$f":"IF(記入済リスト!$B119=\"\",\"\",MONTH(記入済リスト!$B119))","v":""},{"$f":"IF(記入済リスト!$B119=\"\",\"\",DAY(記入済リスト!$B119))","v":""},{"$f":"IF(記入済リスト!$C119=\"\",\"\",記入済リスト!$C119)","v":""},{"$f":"IF(記入済リスト!$D119=\"\",\"\",記入済リスト!$D119)","v":""},{"$f":"IF(記入済リスト!$E119=\"\",\"\",記入済リスト!$E119)","v":""}]
[null,{"$f":"IF(記入済リスト!$B120=\"\",\"\",YEAR(記入済リスト!$B120))","v":""},{"$f":"IF(記入済リスト!$B120=\"\",\"\",MONTH(記入済リスト!$B120))","v":""},{"$f":"IF(記入済リスト!$B120=\"\",\"\",DAY(記入済リスト!$B120))","v":""},{"$f":"IF(記入済リスト!$C120=\"\",\"\",記入済リスト!$C120)","v":""},{"$f":"IF(記入済リスト!$D120=\"\",\"\",記入済リスト!$D120)","v":""},{"$f":"IF(記入済リスト!$E120=\"\",\"\",記入済リスト!$E120)","v":""}]
[null,{"$f":"IF(記入済リスト!$B121=\"\",\"\",YEAR(記入済リスト!$B121))","v":""},{"$f":"IF(記入済リスト!$B121=\"\",\"\",MONTH(記入済リスト!$B121))","v":""},{"$f":"IF(記入済リスト!$B121=\"\",\"\",DAY(記入済リスト!$B121))","v":""},{"$f":"IF(記入済リスト!$C121=\"\",\"\",記入済リスト!$C121)","v":""},{"$f":"IF(記入済リスト!$D121=\"\",\"\",記入済リスト!$D121)","v":""},{"$f":"IF(記入済リスト!$E121=\"\",\"\",記入済リスト!$E121)","v":""}]
[null,{"$f":"IF(記入済リスト!$B122=\"\",\"\",YEAR(記入済リスト!$B122))","v":""},{"$f":"IF(記入済リスト!$B122=\"\",\"\",MONTH(記入済リスト!$B122))","v":""},{"$f":"IF(記入済リスト!$B122=\"\",\"\",DAY(記入済リスト!$B122))","v":""},{"$f":"IF(記入済リスト!$C122=\"\",\"\",記入済リスト!$C122)","v":""},{"$f":"IF(記入済リスト!$D122=\"\",\"\",記入済リスト!$D122)","v":""},{"$f":"IF(記入済リスト!$E122=\"\",\"\",記入済リスト!$E122)","v":""}]
[null,{"$f":"IF(記入済リスト!$B123=\"\",\"\",YEAR(記入済リスト!$B123))","v":""},{"$f":"IF(記入済リスト!$B123=\"\",\"\",MONTH(記入済リスト!$B123))","v":""},{"$f":"IF(記入済リスト!$B123=\"\",\"\",DAY(記入済リスト!$B123))","v":""},{"$f":"IF(記入済リスト!$C123=\"\",\"\",記入済リスト!$C123)","v":""},{"$f":"IF(記入済リスト!$D123=\"\",\"\",記入済リスト!$D123)","v":""},{"$f":"IF(記入済リスト!$E123=\"\",\"\",記入済リスト!$E123)","v":""}]
[null,{"$f":"IF(記入済リスト!$B124=\"\",\"\",YEAR(記入済リスト!$B124))","v":""},{"$f":"IF(記入済リスト!$B124=\"\",\"\",MONTH(記入済リスト!$B124))","v":""},{"$f":"IF(記入済リスト!$B124=\"\",\"\",DAY(記入済リスト!$B124))","v":""},{"$f":"IF(記入済リスト!$C124=\"\",\"\",記入済リスト!$C124)","v":""},{"$f":"IF(記入済リスト!$D124=\"\",\"\",記入済リスト!$D124)","v":""},{"$f":"IF(記入済リスト!$E124=\"\",\"\",記入済リスト!$E124)","v":""}]
[null,{"$f":"IF(記入済リスト!$B125=\"\",\"\",YEAR(記入済リスト!$B125))","v":""},{"$f":"IF(記入済リスト!$B125=\"\",\"\",MONTH(記入済リスト!$B125))","v":""},{"$f":"IF(記入済リスト!$B125=\"\",\"\",DAY(記入済リスト!$B125))","v":""},{"$f":"IF(記入済リスト!$C125=\"\",\"\",記入済リスト!$C125)","v":""},{"$f":"IF(記入済リスト!$D125=\"\",\"\",記入済リスト!$D125)","v":""},{"$f":"IF(記入済リスト!$E125=\"\",\"\",記入済リスト!$E125)","v":""}]
[null,{"$f":"IF(記入済リスト!$B126=\"\",\"\",YEAR(記入済リスト!$B126))","v":""},{"$f":"IF(記入済リスト!$B126=\"\",\"\",MONTH(記入済リスト!$B126))","v":""},{"$f":"IF(記入済リスト!$B126=\"\",\"\",DAY(記入済リスト!$B126))","v":""},{"$f":"IF(記入済リスト!$C126=\"\",\"\",記入済リスト!$C126)","v":""},{"$f":"IF(記入済リスト!$D126=\"\",\"\",記入済リスト!$D126)","v":""},{"$f":"IF(記入済リスト!$E126=\"\",\"\",記入済リスト!$E126)","v":""}]
[null,{"$f":"IF(記入済リスト!$B127=\"\",\"\",YEAR(記入済リスト!$B127))","v":""},{"$f":"IF(記入済リスト!$B127=\"\",\"\",MONTH(記入済リスト!$B127))","v":""},{"$f":"IF(記入済リスト!$B127=\"\",\"\",DAY(記入済リスト!$B127))","v":""},{"$f":"IF(記入済リスト!$C127=\"\",\"\",記入済リスト!$C127)","v":""},{"$f":"IF(記入済リスト!$D127=\"\",\"\",記入済リスト!$D127)","v":""},{"$f":"IF(記入済リスト!$E127=\"\",\"\",記入済リスト!$E127)","v":""}]
[null,{"$f":"IF(記入済リスト!$B128=\"\",\"\",YEAR(記入済リスト!$B128))","v":""},{"$f":"IF(記入済リスト!$B128=\"\",\"\",MONTH(記入済リスト!$B128))","v":""},{"$f":"IF(記入済リスト!$B128=\"\",\"\",DAY(記入済リスト!$B128))","v":""},{"$f":"IF(記入済リスト!$C128=\"\",\"\",記入済リスト!$C128)","v":""},{"$f":"IF(記入済リスト!$D128=\"\",\"\",記入済リスト!$D128)","v":""},{"$f":"IF(記入済リスト!$E128=\"\",\"\",記入済リスト!$E128)","v":""}]
[null,{"$f":"IF(記入済リスト!$B129=\"\",\"\",YEAR(記入済リスト!$B129))","v":""},{"$f":"IF(記入済リスト!$B129=\"\",\"\",MONTH(記入済リスト!$B129))","v":""},{"$f":"IF(記入済リスト!$B129=\"\",\"\",DAY(記入済リスト!$B129))","v":""},{"$f":"IF(記入済リスト!$C129=\"\",\"\",記入済リスト!$C129)","v":""},{"$f":"IF(記入済リスト!$D129=\"\",\"\",記入済リスト!$D129)","v":""},{"$f":"IF(記入済リスト!$E129=\"\",\"\",記入済リスト!$E129)","v":""}]
[null,{"$f":"IF(記入済リスト!$B130=\"\",\"\",YEAR(記入済リスト!$B130))","v":""},{"$f":"IF(記入済リスト!$B130=\"\",\"\",MONTH(記入済リスト!$B130))","v":""},{"$f":"IF(記入済リスト!$B130=\"\",\"\",DAY(記入済リスト!$B130))","v":""},{"$f":"IF(記入済リスト!$C130=\"\",\"\",記入済リスト!$C130)","v":""},{"$f":"IF(記入済リスト!$D130=\"\",\"\",記入済リスト!$D130)","v":""},{"$f":"IF(記入済リスト!$E130=\"\",\"\",記入済リスト!$E130)","v":""}]
[null,{"$f":"IF(記入済リスト!$B131=\"\",\"\",YEAR(記入済リスト!$B131))","v":""},{"$f":"IF(記入済リスト!$B131=\"\",\"\",MONTH(記入済リスト!$B131))","v":""},{"$f":"IF(記入済リスト!$B131=\"\",\"\",DAY(記入済リスト!$B131))","v":""},{"$f":"IF(記入済リスト!$C131=\"\",\"\",記入済リスト!$C131)","v":""},{"$f":"IF(記入済リスト!$D131=\"\",\"\",記入済リスト!$D131)","v":""},{"$f":"IF(記入済リスト!$E131=\"\",\"\",記入済リスト!$E131)","v":""}]
[null,{"$f":"IF(記入済リスト!$B132=\"\",\"\",YEAR(記入済リスト!$B132))","v":""},{"$f":"IF(記入済リスト!$B132=\"\",\"\",MONTH(記入済リスト!$B132))","v":""},{"$f":"IF(記入済リスト!$B132=\"\",\"\",DAY(記入済リスト!$B132))","v":""},{"$f":"IF(記入済リスト!$C132=\"\",\"\",記入済リスト!$C132)","v":""},{"$f":"IF(記入済リスト!$D132=\"\",\"\",記入済リスト!$D132)","v":""},{"$f":"IF(記入済リスト!$E132=\"\",\"\",記入済リスト!$E132)","v":""}]
[null,{"$f":"IF(記入済リスト!$B133=\"\",\"\",YEAR(記入済リスト!$B133))","v":""},{"$f":"IF(記入済リスト!$B133=\"\",\"\",MONTH(記入済リスト!$B133))","v":""},{"$f":"IF(記入済リスト!$B133=\"\",\"\",DAY(記入済リスト!$B133))","v":""},{"$f":"IF(記入済リスト!$C133=\"\",\"\",記入済リスト!$C133)","v":""},{"$f":"IF(記入済リスト!$D133=\"\",\"\",記入済リスト!$D133)","v":""},{"$f":"IF(記入済リスト!$E133=\"\",\"\",記入済リスト!$E133)","v":""}]
[null,{"$f":"IF(記入済リスト!$B134=\"\",\"\",YEAR(記入済リスト!$B134))","v":""},{"$f":"IF(記入済リスト!$B134=\"\",\"\",MONTH(記入済リスト!$B134))","v":""},{"$f":"IF(記入済リスト!$B134=\"\",\"\",DAY(記入済リスト!$B134))","v":""},{"$f":"IF(記入済リスト!$C134=\"\",\"\",記入済リスト!$C134)","v":""},{"$f":"IF(記入済リスト!$D134=\"\",\"\",記入済リスト!$D134)","v":""},{"$f":"IF(記入済リスト!$E134=\"\",\"\",記入済リスト!$E134)","v":""}]
[null,{"$f":"IF(記入済リスト!$B135=\"\",\"\",YEAR(記入済リスト!$B135))","v":""},{"$f":"IF(記入済リスト!$B135=\"\",\"\",MONTH(記入済リスト!$B135))","v":""},{"$f":"IF(記入済リスト!$B135=\"\",\"\",DAY(記入済リスト!$B135))","v":""},{"$f":"IF(記入済リスト!$C135=\"\",\"\",記入済リスト!$C135)","v":""},{"$f":"IF(記入済リスト!$D135=\"\",\"\",記入済リスト!$D135)","v":""},{"$f":"IF(記入済リスト!$E135=\"\",\"\",記入済リスト!$E135)","v":""}]
[null,{"$f":"IF(記入済リスト!$B136=\"\",\"\",YEAR(記入済リスト!$B136))","v":""},{"$f":"IF(記入済リスト!$B136=\"\",\"\",MONTH(記入済リスト!$B136))","v":""},{"$f":"IF(記入済リスト!$B136=\"\",\"\",DAY(記入済リスト!$B136))","v":""},{"$f":"IF(記入済リスト!$C136=\"\",\"\",記入済リスト!$C136)","v":""},{"$f":"IF(記入済リスト!$D136=\"\",\"\",記入済リスト!$D136)","v":""},{"$f":"IF(記入済リスト!$E136=\"\",\"\",記入済リスト!$E136)","v":""}]
[null,{"$f":"IF(記入済リスト!$B137=\"\",\"\",YEAR(記入済リスト!$B137))","v":""},{"$f":"IF(記入済リスト!$B137=\"\",\"\",MONTH(記入済リスト!$B137))","v":""},{"$f":"IF(記入済リスト!$B137=\"\",\"\",DAY(記入済リスト!$B137))","v":""},{"$f":"IF(記入済リスト!$C137=\"\",\"\",記入済リスト!$C137)","v":""},{"$f":"IF(記入済リスト!$D137=\"\",\"\",記入済リスト!$D137)","v":""},{"$f":"IF(記入済リスト!$E137=\"\",\"\",記入済リスト!$E137)","v":""}]
[null,{"$f":"IF(記入済リスト!$B138=\"\",\"\",YEAR(記入済リスト!$B138))","v":""},{"$f":"IF(記入済リスト!$B138=\"\",\"\",MONTH(記入済リスト!$B138))","v":""},{"$f":"IF(記入済リスト!$B138=\"\",\"\",DAY(記入済リスト!$B138))","v":""},{"$f":"IF(記入済リスト!$C138=\"\",\"\",記入済リスト!$C138)","v":""},{"$f":"IF(記入済リスト!$D138=\"\",\"\",記入済リスト!$D138)","v":""},{"$f":"IF(記入済リスト!$E138=\"\",\"\",記入済リスト!$E138)","v":""}]
[null,{"$f":"IF(記入済リスト!$B139=\"\",\"\",YEAR(記入済リスト!$B139))","v":""},{"$f":"IF(記入済リスト!$B139=\"\",\"\",MONTH(記入済リスト!$B139))","v":""},{"$f":"IF(記入済リスト!$B139=\"\",\"\",DAY(記入済リスト!$B139))","v":""},{"$f":"IF(記入済リスト!$C139=\"\",\"\",記入済リスト!$C139)","v":""},{"$f":"IF(記入済リスト!$D139=\"\",\"\",記入済リスト!$D139)","v":""},{"$f":"IF(記入済リスト!$E139=\"\",\"\",記入済リスト!$E139)","v":""}]
[null,{"$f":"IF(記入済リスト!$B140=\"\",\"\",YEAR(記入済リスト!$B140))","v":""},{"$f":"IF(記入済リスト!$B140=\"\",\"\",MONTH(記入済リスト!$B140))","v":""},{"$f":"IF(記入済リスト!$B140=\"\",\"\",DAY(記入済リスト!$B140))","v":""},{"$f":"IF(記入済リスト!$C140=\"\",\"\",記入済リスト!$C140)","v":""},{"$f":"IF(記入済リスト!$D140=\"\",\"\",記入済リスト!$D140)","v":""},{"$f":"IF(記入済リスト!$E140=\"\",\"\",記入済リスト!$E140)","v":""}]
[null,{"$f":"IF(記入済リスト!$B141=\"\",\"\",YEAR(記入済リスト!$B141))","v":""},{"$f":"IF(記入済リスト!$B141=\"\",\"\",MONTH(記入済リスト!$B141))","v":""},{"$f":"IF(記入済リスト!$B141=\"\",\"\",DAY(記入済リスト!$B141))","v":""},{"$f":"IF(記入済リスト!$C141=\"\",\"\",記入済リスト!$C141)","v":""},{"$f":"IF(記入済リスト!$D141=\"\",\"\",記入済リスト!$D141)","v":""},{"$f":"IF(記入済リスト!$E141=\"\",\"\",記入済リスト!$E141)","v":""}]
[null,{"$f":"IF(記入済リスト!$B142=\"\",\"\",YEAR(記入済リスト!$B142))","v":""},{"$f":"IF(記入済リスト!$B142=\"\",\"\",MONTH(記入済リスト!$B142))","v":""},{"$f":"IF(記入済リスト!$B142=\"\",\"\",DAY(記入済リスト!$B142))","v":""},{"$f":"IF(記入済リスト!$C142=\"\",\"\",記入済リスト!$C142)","v":""},{"$f":"IF(記入済リスト!$D142=\"\",\"\",記入済リスト!$D142)","v":""},{"$f":"IF(記入済リスト!$E142=\"\",\"\",記入済リスト!$E142)","v":""}]
[null,{"$f":"IF(記入済リスト!$B143=\"\",\"\",YEAR(記入済リスト!$B143))","v":""},{"$f":"IF(記入済リスト!$B143=\"\",\"\",MONTH(記入済リスト!$B143))","v":""},{"$f":"IF(記入済リスト!$B143=\"\",\"\",DAY(記入済リスト!$B143))","v":""},{"$f":"IF(記入済リスト!$C143=\"\",\"\",記入済リスト!$C143)","v":""},{"$f":"IF(記入済リスト!$D143=\"\",\"\",記入済リスト!$D143)","v":""},{"$f":"IF(記入済リスト!$E143=\"\",\"\",記入済リスト!$E143)","v":""}]
[null,{"$f":"IF(記入済リスト!$B144=\"\",\"\",YEAR(記入済リスト!$B144))","v":""},{"$f":"IF(記入済リスト!$B144=\"\",\"\",MONTH(記入済リスト!$B144))","v":""},{"$f":"IF(記入済リスト!$B144=\"\",\"\",DAY(記入済リスト!$B144))","v":""},{"$f":"IF(記入済リスト!$C144=\"\",\"\",記入済リスト!$C144)","v":""},{"$f":"IF(記入済リスト!$D144=\"\",\"\",記入済リスト!$D144)","v":""},{"$f":"IF(記入済リスト!$E144=\"\",\"\",記入済リスト!$E144)","v":""}]
[null,{"$f":"IF(記入済リスト!$B145=\"\",\"\",YEAR(記入済リスト!$B145))","v":""},{"$f":"IF(記入済リスト!$B145=\"\",\"\",MONTH(記入済リスト!$B145))","v":""},{"$f":"IF(記入済リスト!$B145=\"\",\"\",DAY(記入済リスト!$B145))","v":""},{"$f":"IF(記入済リスト!$C145=\"\",\"\",記入済リスト!$C145)","v":""},{"$f":"IF(記入済リスト!$D145=\"\",\"\",記入済リスト!$D145)","v":""},{"$f":"IF(記入済リスト!$E145=\"\",\"\",記入済リスト!$E145)","v":""}]
[null,{"$f":"IF(記入済リスト!$B146=\"\",\"\",YEAR(記入済リスト!$B146))","v":""},{"$f":"IF(記入済リスト!$B146=\"\",\"\",MONTH(記入済リスト!$B146))","v":""},{"$f":"IF(記入済リスト!$B146=\"\",\"\",DAY(記入済リスト!$B146))","v":""},{"$f":"IF(記入済リスト!$C146=\"\",\"\",記入済リスト!$C146)","v":""},{"$f":"IF(記入済リスト!$D146=\"\",\"\",記入済リスト!$D146)","v":""},{"$f":"IF(記入済リスト!$E146=\"\",\"\",記入済リスト!$E146)","v":""}]
[null,{"$f":"IF(記入済リスト!$B147=\"\",\"\",YEAR(記入済リスト!$B147))","v":""},{"$f":"IF(記入済リスト!$B147=\"\",\"\",MONTH(記入済リスト!$B147))","v":""},{"$f":"IF(記入済リスト!$B147=\"\",\"\",DAY(記入済リスト!$B147))","v":""},{"$f":"IF(記入済リスト!$C147=\"\",\"\",記入済リスト!$C147)","v":""},{"$f":"IF(記入済リスト!$D147=\"\",\"\",記入済リスト!$D147)","v":""},{"$f":"IF(記入済リスト!$E147=\"\",\"\",記入済リスト!$E147)","v":""}]
[null,{"$f":"IF(記入済リスト!$B148=\"\",\"\",YEAR(記入済リスト!$B148))","v":""},{"$f":"IF(記入済リスト!$B148=\"\",\"\",MONTH(記入済リスト!$B148))","v":""},{"$f":"IF(記入済リスト!$B148=\"\",\"\",DAY(記入済リスト!$B148))","v":""},{"$f":"IF(記入済リスト!$C148=\"\",\"\",記入済リスト!$C148)","v":""},{"$f":"IF(記入済リスト!$D148=\"\",\"\",記入済リスト!$D148)","v":""},{"$f":"IF(記入済リスト!$E148=\"\",\"\",記入済リスト!$E148)","v":""}]
[null,{"$f":"IF(記入済リスト!$B149=\"\",\"\",YEAR(記入済リスト!$B149))","v":""},{"$f":"IF(記入済リスト!$B149=\"\",\"\",MONTH(記入済リスト!$B149))","v":""},{"$f":"IF(記入済リスト!$B149=\"\",\"\",DAY(記入済リスト!$B149))","v":""},{"$f":"IF(記入済リスト!$C149=\"\",\"\",記入済リスト!$C149)","v":""},{"$f":"IF(記入済リスト!$D149=\"\",\"\",記入済リスト!$D149)","v":""},{"$f":"IF(記入済リスト!$E149=\"\",\"\",記入済リスト!$E149)","v":""}]
[null,{"$f":"IF(記入済リスト!$B150=\"\",\"\",YEAR(記入済リスト!$B150))","v":""},{"$f":"IF(記入済リスト!$B150=\"\",\"\",MONTH(記入済リスト!$B150))","v":""},{"$f":"IF(記入済リスト!$B150=\"\",\"\",DAY(記入済リスト!$B150))","v":""},{"$f":"IF(記入済リスト!$C150=\"\",\"\",記入済リスト!$C150)","v":""},{"$f":"IF(記入済リスト!$D150=\"\",\"\",記入済リスト!$D150)","v":""},{"$f":"IF(記入済リスト!$E150=\"\",\"\",記入済リスト!$E150)","v":""}]
[null,{"$f":"IF(記入済リスト!$B151=\"\",\"\",YEAR(記入済リスト!$B151))","v":""},{"$f":"IF(記入済リスト!$B151=\"\",\"\",MONTH(記入済リスト!$B151))","v":""},{"$f":"IF(記入済リスト!$B151=\"\",\"\",DAY(記入済リスト!$B151))","v":""},{"$f":"IF(記入済リスト!$C151=\"\",\"\",記入済リスト!$C151)","v":""},{"$f":"IF(記入済リスト!$D151=\"\",\"\",記入済リスト!$D151)","v":""},{"$f":"IF(記入済リスト!$E151=\"\",\"\",記入済リスト!$E151)","v":""}]
[null,{"$f":"IF(記入済リスト!$B152=\"\",\"\",YEAR(記入済リスト!$B152))","v":""},{"$f":"IF(記入済リスト!$B152=\"\",\"\",MONTH(記入済リスト!$B152))","v":""},{"$f":"IF(記入済リスト!$B152=\"\",\"\",DAY(記入済リスト!$B152))","v":""},{"$f":"IF(記入済リスト!$C152=\"\",\"\",記入済リスト!$C152)","v":""},{"$f":"IF(記入済リスト!$D152=\"\",\"\",記入済リスト!$D152)","v":""},{"$f":"IF(記入済リスト!$E152=\"\",\"\",記入済リスト!$E152)","v":""}]
[null,{"$f":"IF(記入済リスト!$B153=\"\",\"\",YEAR(記入済リスト!$B153))","v":""},{"$f":"IF(記入済リスト!$B153=\"\",\"\",MONTH(記入済リスト!$B153))","v":""},{"$f":"IF(記入済リスト!$B153=\"\",\"\",DAY(記入済リスト!$B153))","v":""},{"$f":"IF(記入済リスト!$C153=\"\",\"\",記入済リスト!$C153)","v":""},{"$f":"IF(記入済リスト!$D153=\"\",\"\",記入済リスト!$D153)","v":""},{"$f":"IF(記入済リスト!$E153=\"\",\"\",記入済リスト!$E153)","v":""}]
[null,{"$f":"IF(記入済リスト!$B154=\"\",\"\",YEAR(記入済リスト!$B154))","v":""},{"$f":"IF(記入済リスト!$B154=\"\",\"\",MONTH(記入済リスト!$B154))","v":""},{"$f":"IF(記入済リスト!$B154=\"\",\"\",DAY(記入済リスト!$B154))","v":""},{"$f":"IF(記入済リスト!$C154=\"\",\"\",記入済リスト!$C154)","v":""},{"$f":"IF(記入済リスト!$D154=\"\",\"\",記入済リスト!$D154)","v":""},{"$f":"IF(記入済リスト!$E154=\"\",\"\",記入済リスト!$E154)","v":""}]
[null,{"$f":"IF(記入済リスト!$B155=\"\",\"\",YEAR(記入済リスト!$B155))","v":""},{"$f":"IF(記入済リスト!$B155=\"\",\"\",MONTH(記入済リスト!$B155))","v":""},{"$f":"IF(記入済リスト!$B155=\"\",\"\",DAY(記入済リスト!$B155))","v":""},{"$f":"IF(記入済リスト!$C155=\"\",\"\",記入済リスト!$C155)","v":""},{"$f":"IF(記入済リスト!$D155=\"\",\"\",記入済リスト!$D155)","v":""},{"$f":"IF(記入済リスト!$E155=\"\",\"\",記入済リスト!$E155)","v":""}]
[null,{"$f":"IF(記入済リスト!$B156=\"\",\"\",YEAR(記入済リスト!$B156))","v":""},{"$f":"IF(記入済リスト!$B156=\"\",\"\",MONTH(記入済リスト!$B156))","v":""},{"$f":"IF(記入済リスト!$B156=\"\",\"\",DAY(記入済リスト!$B156))","v":""},{"$f":"IF(記入済リスト!$C156=\"\",\"\",記入済リスト!$C156)","v":""},{"$f":"IF(記入済リスト!$D156=\"\",\"\",記入済リスト!$D156)","v":""},{"$f":"IF(記入済リスト!$E156=\"\",\"\",記入済リスト!$E156)","v":""}]
[null,{"$f":"IF(記入済リスト!$B157=\"\",\"\",YEAR(記入済リスト!$B157))","v":""},{"$f":"IF(記入済リスト!$B157=\"\",\"\",MONTH(記入済リスト!$B157))","v":""},{"$f":"IF(記入済リスト!$B157=\"\",\"\",DAY(記入済リスト!$B157))","v":""},{"$f":"IF(記入済リスト!$C157=\"\",\"\",記入済リスト!$C157)","v":""},{"$f":"IF(記入済リスト!$D157=\"\",\"\",記入済リスト!$D157)","v":""},{"$f":"IF(記入済リスト!$E157=\"\",\"\",記入済リスト!$E157)","v":""}]
[null,{"$f":"IF(記入済リスト!$B158=\"\",\"\",YEAR(記入済リスト!$B158))","v":""},{"$f":"IF(記入済リスト!$B158=\"\",\"\",MONTH(記入済リスト!$B158))","v":""},{"$f":"IF(記入済リスト!$B158=\"\",\"\",DAY(記入済リスト!$B158))","v":""},{"$f":"IF(記入済リスト!$C158=\"\",\"\",記入済リスト!$C158)","v":""},{"$f":"IF(記入済リスト!$D158=\"\",\"\",記入済リスト!$D158)","v":""},{"$f":"IF(記入済リスト!$E158=\"\",\"\",記入済リスト!$E158)","v":""}]
[null,{"$f":"IF(記入済リスト!$B159=\"\",\"\",YEAR(記入済リスト!$B159))","v":""},{"$f":"IF(記入済リスト!$B159=\"\",\"\",MONTH(記入済リスト!$B159))","v":""},{"$f":"IF(記入済リスト!$B159=\"\",\"\",DAY(記入済リスト!$B159))","v":""},{"$f":"IF(記入済リスト!$C159=\"\",\"\",記入済リスト!$C159)","v":""},{"$f":"IF(記入済リスト!$D159=\"\",\"\",記入済リスト!$D159)","v":""},{"$f":"IF(記入済リスト!$E159=\"\",\"\",記入済リスト!$E159)","v":""}]
[null,{"$f":"IF(記入済リスト!$B160=\"\",\"\",YEAR(記入済リスト!$B160))","v":""},{"$f":"IF(記入済リスト!$B160=\"\",\"\",MONTH(記入済リスト!$B160))","v":""},{"$f":"IF(記入済リスト!$B160=\"\",\"\",DAY(記入済リスト!$B160))","v":""},{"$f":"IF(記入済リスト!$C160=\"\",\"\",記入済リスト!$C160)","v":""},{"$f":"IF(記入済リスト!$D160=\"\",\"\",記入済リスト!$D160)","v":""},{"$f":"IF(記入済リスト!$E160=\"\",\"\",記入済リスト!$E160)","v":""}]
[null,{"$f":"IF(記入済リスト!$B161=\"\",\"\",YEAR(記入済リスト!$B161))","v":""},{"$f":"IF(記入済リスト!$B161=\"\",\"\",MONTH(記入済リスト!$B161))","v":""},{"$f":"IF(記入済リスト!$B161=\"\",\"\",DAY(記入済リスト!$B161))","v":""},{"$f":"IF(記入済リスト!$C161=\"\",\"\",記入済リスト!$C161)","v":""},{"$f":"IF(記入済リスト!$D161=\"\",\"\",記入済リスト!$D161)","v":""},{"$f":"IF(記入済リスト!$E161=\"\",\"\",記入済リスト!$E161)","v":""}]
[null,{"$f":"IF(記入済リスト!$B162=\"\",\"\",YEAR(記入済リスト!$B162))","v":""},{"$f":"IF(記入済リスト!$B162=\"\",\"\",MONTH(記入済リスト!$B162))","v":""},{"$f":"IF(記入済リスト!$B162=\"\",\"\",DAY(記入済リスト!$B162))","v":""},{"$f":"IF(記入済リスト!$C162=\"\",\"\",記入済リスト!$C162)","v":""},{"$f":"IF(記入済リスト!$D162=\"\",\"\",記入済リスト!$D162)","v":""},{"$f":"IF(記入済リスト!$E162=\"\",\"\",記入済リスト!$E162)","v":""}]
[null,{"$f":"IF(記入済リスト!$B163=\"\",\"\",YEAR(記入済リスト!$B163))","v":""},{"$f":"IF(記入済リスト!$B163=\"\",\"\",MONTH(記入済リスト!$B163))","v":""},{"$f":"IF(記入済リスト!$B163=\"\",\"\",DAY(記入済リスト!$B163))","v":""},{"$f":"IF(記入済リスト!$C163=\"\",\"\",記入済リスト!$C163)","v":""},{"$f":"IF(記入済リスト!$D163=\"\",\"\",記入済リスト!$D163)","v":""},{"$f":"IF(記入済リスト!$E163=\"\",\"\",記入済リスト!$E163)","v":""}]
[null,{"$f":"IF(記入済リスト!$B164=\"\",\"\",YEAR(記入済リスト!$B164))","v":""},{"$f":"IF(記入済リスト!$B164=\"\",\"\",MONTH(記入済リスト!$B164))","v":""},{"$f":"IF(記入済リスト!$B164=\"\",\"\",DAY(記入済リスト!$B164))","v":""},{"$f":"IF(記入済リスト!$C164=\"\",\"\",記入済リスト!$C164)","v":""},{"$f":"IF(記入済リスト!$D164=\"\",\"\",記入済リスト!$D164)","v":""},{"$f":"IF(記入済リスト!$E164=\"\",\"\",記入済リスト!$E164)","v":""}]
[null,{"$f":"IF(記入済リスト!$B165=\"\",\"\",YEAR(記入済リスト!$B165))","v":""},{"$f":"IF(記入済リスト!$B165=\"\",\"\",MONTH(記入済リスト!$B165))","v":""},{"$f":"IF(記入済リスト!$B165=\"\",\"\",DAY(記入済リスト!$B165))","v":""},{"$f":"IF(記入済リスト!$C165=\"\",\"\",記入済リスト!$C165)","v":""},{"$f":"IF(記入済リスト!$D165=\"\",\"\",記入済リスト!$D165)","v":""},{"$f":"IF(記入済リスト!$E165=\"\",\"\",記入済リスト!$E165)","v":""}]
[null,{"$f":"IF(記入済リスト!$B166=\"\",\"\",YEAR(記入済リスト!$B166))","v":""},{"$f":"IF(記入済リスト!$B166=\"\",\"\",MONTH(記入済リスト!$B166))","v":""},{"$f":"IF(記入済リスト!$B166=\"\",\"\",DAY(記入済リスト!$B166))","v":""},{"$f":"IF(記入済リスト!$C166=\"\",\"\",記入済リスト!$C166)","v":""},{"$f":"IF(記入済リスト!$D166=\"\",\"\",記入済リスト!$D166)","v":""},{"$f":"IF(記入済リスト!$E166=\"\",\"\",記入済リスト!$E166)","v":""}]
[null,{"$f":"IF(記入済リスト!$B167=\"\",\"\",YEAR(記入済リスト!$B167))","v":""},{"$f":"IF(記入済リスト!$B167=\"\",\"\",MONTH(記入済リスト!$B167))","v":""},{"$f":"IF(記入済リスト!$B167=\"\",\"\",DAY(記入済リスト!$B167))","v":""},{"$f":"IF(記入済リスト!$C167=\"\",\"\",記入済リスト!$C167)","v":""},{"$f":"IF(記入済リスト!$D167=\"\",\"\",記入済リスト!$D167)","v":""},{"$f":"IF(記入済リスト!$E167=\"\",\"\",記入済リスト!$E167)","v":""}]
[null,{"$f":"IF(記入済リスト!$B168=\"\",\"\",YEAR(記入済リスト!$B168))","v":""},{"$f":"IF(記入済リスト!$B168=\"\",\"\",MONTH(記入済リスト!$B168))","v":""},{"$f":"IF(記入済リスト!$B168=\"\",\"\",DAY(記入済リスト!$B168))","v":""},{"$f":"IF(記入済リスト!$C168=\"\",\"\",記入済リスト!$C168)","v":""},{"$f":"IF(記入済リスト!$D168=\"\",\"\",記入済リスト!$D168)","v":""},{"$f":"IF(記入済リスト!$E168=\"\",\"\",記入済リスト!$E168)","v":""}]
[null,{"$f":"IF(記入済リスト!$B169=\"\",\"\",YEAR(記入済リスト!$B169))","v":""},{"$f":"IF(記入済リスト!$B169=\"\",\"\",MONTH(記入済リスト!$B169))","v":""},{"$f":"IF(記入済リスト!$B169=\"\",\"\",DAY(記入済リスト!$B169))","v":""},{"$f":"IF(記入済リスト!$C169=\"\",\"\",記入済リスト!$C169)","v":""},{"$f":"IF(記入済リスト!$D169=\"\",\"\",記入済リスト!$D169)","v":""},{"$f":"IF(記入済リスト!$E169=\"\",\"\",記入済リスト!$E169)","v":""}]
[null,{"$f":"IF(記入済リスト!$B170=\"\",\"\",YEAR(記入済リスト!$B170))","v":""},{"$f":"IF(記入済リスト!$B170=\"\",\"\",MONTH(記入済リスト!$B170))","v":""},{"$f":"IF(記入済リスト!$B170=\"\",\"\",DAY(記入済リスト!$B170))","v":""},{"$f":"IF(記入済リスト!$C170=\"\",\"\",記入済リスト!$C170)","v":""},{"$f":"IF(記入済リスト!$D170=\"\",\"\",記入済リスト!$D170)","v":""},{"$f":"IF(記入済リスト!$E170=\"\",\"\",記入済リスト!$E170)","v":""}]
[null,{"$f":"IF(記入済リスト!$B171=\"\",\"\",YEAR(記入済リスト!$B171))","v":""},{"$f":"IF(記入済リスト!$B171=\"\",\"\",MONTH(記入済リスト!$B171))","v":""},{"$f":"IF(記入済リスト!$B171=\"\",\"\",DAY(記入済リスト!$B171))","v":""},{"$f":"IF(記入済リスト!$C171=\"\",\"\",記入済リスト!$C171)","v":""},{"$f":"IF(記入済リスト!$D171=\"\",\"\",記入済リスト!$D171)","v":""},{"$f":"IF(記入済リスト!$E171=\"\",\"\",記入済リスト!$E171)","v":""}]
[null,{"$f":"IF(記入済リスト!$B172=\"\",\"\",YEAR(記入済リスト!$B172))","v":""},{"$f":"IF(記入済リスト!$B172=\"\",\"\",MONTH(記入済リスト!$B172))","v":""},{"$f":"IF(記入済リスト!$B172=\"\",\"\",DAY(記入済リスト!$B172))","v":""},{"$f":"IF(記入済リスト!$C172=\"\",\"\",記入済リスト!$C172)","v":""},{"$f":"IF(記入済リスト!$D172=\"\",\"\",記入済リスト!$D172)","v":""},{"$f":"IF(記入済リスト!$E172=\"\",\"\",記入済リスト!$E172)","v":""}]
[null,{"$f":"IF(記入済リスト!$B173=\"\",\"\",YEAR(記入済リスト!$B173))","v":""},{"$f":"IF(記入済リスト!$B173=\"\",\"\",MONTH(記入済リスト!$B173))","v":""},{"$f":"IF(記入済リスト!$B173=\"\",\"\",DAY(記入済リスト!$B173))","v":""},{"$f":"IF(記入済リスト!$C173=\"\",\"\",記入済リスト!$C173)","v":""},{"$f":"IF(記入済リスト!$D173=\"\",\"\",記入済リスト!$D173)","v":""},{"$f":"IF(記入済リスト!$E173=\"\",\"\",記入済リスト!$E173)","v":""}]
[null,{"$f":"IF(記入済リスト!$B174=\"\",\"\",YEAR(記入済リスト!$B174))","v":""},{"$f":"IF(記入済リスト!$B174=\"\",\"\",MONTH(記入済リスト!$B174))","v":""},{"$f":"IF(記入済リスト!$B174=\"\",\"\",DAY(記入済リスト!$B174))","v":""},{"$f":"IF(記入済リスト!$C174=\"\",\"\",記入済リスト!$C174)","v":""},{"$f":"IF(記入済リスト!$D174=\"\",\"\",記入済リスト!$D174)","v":""},{"$f":"IF(記入済リスト!$E174=\"\",\"\",記入済リスト!$E174)","v":""}]
[null,{"$f":"IF(記入済リスト!$B175=\"\",\"\",YEAR(記入済リスト!$B175))","v":""},{"$f":"IF(記入済リスト!$B175=\"\",\"\",MONTH(記入済リスト!$B175))","v":""},{"$f":"IF(記入済リスト!$B175=\"\",\"\",DAY(記入済リスト!$B175))","v":""},{"$f":"IF(記入済リスト!$C175=\"\",\"\",記入済リスト!$C175)","v":""},{"$f":"IF(記入済リスト!$D175=\"\",\"\",記入済リスト!$D175)","v":""},{"$f":"IF(記入済リスト!$E175=\"\",\"\",記入済リスト!$E175)","v":""}]
[null,{"$f":"IF(記入済リスト!$B176=\"\",\"\",YEAR(記入済リスト!$B176))","v":""},{"$f":"IF(記入済リスト!$B176=\"\",\"\",MONTH(記入済リスト!$B176))","v":""},{"$f":"IF(記入済リスト!$B176=\"\",\"\",DAY(記入済リスト!$B176))","v":""},{"$f":"IF(記入済リスト!$C176=\"\",\"\",記入済リスト!$C176)","v":""},{"$f":"IF(記入済リスト!$D176=\"\",\"\",記入済リスト!$D176)","v":""},{"$f":"IF(記入済リスト!$E176=\"\",\"\",記入済リスト!$E176)","v":""}]
[null,{"$f":"IF(記入済リスト!$B177=\"\",\"\",YEAR(記入済リスト!$B177))","v":""},{"$f":"IF(記入済リスト!$B177=\"\",\"\",MONTH(記入済リスト!$B177))","v":""},{"$f":"IF(記入済リスト!$B177=\"\",\"\",DAY(記入済リスト!$B177))","v":""},{"$f":"IF(記入済リスト!$C177=\"\",\"\",記入済リスト!$C177)","v":""},{"$f":"IF(記入済リスト!$D177=\"\",\"\",記入済リスト!$D177)","v":""},{"$f":"IF(記入済リスト!$E177=\"\",\"\",記入済リスト!$E177)","v":""}]
[null,{"$f":"IF(記入済リスト!$B178=\"\",\"\",YEAR(記入済リスト!$B178))","v":""},{"$f":"IF(記入済リスト!$B178=\"\",\"\",MONTH(記入済リスト!$B178))","v":""},{"$f":"IF(記入済リスト!$B178=\"\",\"\",DAY(記入済リスト!$B178))","v":""},{"$f":"IF(記入済リスト!$C178=\"\",\"\",記入済リスト!$C178)","v":""},{"$f":"IF(記入済リスト!$D178=\"\",\"\",記入済リスト!$D178)","v":""},{"$f":"IF(記入済リスト!$E178=\"\",\"\",記入済リスト!$E178)","v":""}]
[null,{"$f":"IF(記入済リスト!$B179=\"\",\"\",YEAR(記入済リスト!$B179))","v":""},{"$f":"IF(記入済リスト!$B179=\"\",\"\",MONTH(記入済リスト!$B179))","v":""},{"$f":"IF(記入済リスト!$B179=\"\",\"\",DAY(記入済リスト!$B179))","v":""},{"$f":"IF(記入済リスト!$C179=\"\",\"\",記入済リスト!$C179)","v":""},{"$f":"IF(記入済リスト!$D179=\"\",\"\",記入済リスト!$D179)","v":""},{"$f":"IF(記入済リスト!$E179=\"\",\"\",記入済リスト!$E179)","v":""}]
[null,{"$f":"IF(記入済リスト!$B180=\"\",\"\",YEAR(記入済リスト!$B180))","v":""},{"$f":"IF(記入済リスト!$B180=\"\",\"\",MONTH(記入済リスト!$B180))","v":""},{"$f":"IF(記入済リスト!$B180=\"\",\"\",DAY(記入済リスト!$B180))","v":""},{"$f":"IF(記入済リスト!$C180=\"\",\"\",記入済リスト!$C180)","v":""},{"$f":"IF(記入済リスト!$D180=\"\",\"\",記入済リスト!$D180)","v":""},{"$f":"IF(記入済リスト!$E180=\"\",\"\",記入済リスト!$E180)","v":""}]
[null,{"$f":"IF(記入済リスト!$B181=\"\",\"\",YEAR(記入済リスト!$B181))","v":""},{"$f":"IF(記入済リスト!$B181=\"\",\"\",MONTH(記入済リスト!$B181))","v":""},{"$f":"IF(記入済リスト!$B181=\"\",\"\",DAY(記入済リスト!$B181))","v":""},{"$f":"IF(記入済リスト!$C181=\"\",\"\",記入済リスト!$C181)","v":""},{"$f":"IF(記入済リスト!$D181=\"\",\"\",記入済リスト!$D181)","v":""},{"$f":"IF(記入済リスト!$E181=\"\",\"\",記入済リスト!$E181)","v":""}]
[null,{"$f":"IF(記入済リスト!$B182=\"\",\"\",YEAR(記入済リスト!$B182))","v":""},{"$f":"IF(記入済リスト!$B182=\"\",\"\",MONTH(記入済リスト!$B182))","v":""},{"$f":"IF(記入済リスト!$B182=\"\",\"\",DAY(記入済リスト!$B182))","v":""},{"$f":"IF(記入済リスト!$C182=\"\",\"\",記入済リスト!$C182)","v":""},{"$f":"IF(記入済リスト!$D182=\"\",\"\",記入済リスト!$D182)","v":""},{"$f":"IF(記入済リスト!$E182=\"\",\"\",記入済リスト!$E182)","v":""}]
[null,{"$f":"IF(記入済リスト!$B183=\"\",\"\",YEAR(記入済リスト!$B183))","v":""},{"$f":"IF(記入済リスト!$B183=\"\",\"\",MONTH(記入済リスト!$B183))","v":""},{"$f":"IF(記入済リスト!$B183=\"\",\"\",DAY(記入済リスト!$B183))","v":""},{"$f":"IF(記入済リスト!$C183=\"\",\"\",記入済リスト!$C183)","v":""},{"$f":"IF(記入済リスト!$D183=\"\",\"\",記入済リスト!$D183)","v":""},{"$f":"IF(記入済リスト!$E183=\"\",\"\",記入済リスト!$E183)","v":""}]
[null,{"$f":"IF(記入済リスト!$B184=\"\",\"\",YEAR(記入済リスト!$B184))","v":""},{"$f":"IF(記入済リスト!$B184=\"\",\"\",MONTH(記入済リスト!$B184))","v":""},{"$f":"IF(記入済リスト!$B184=\"\",\"\",DAY(記入済リスト!$B184))","v":""},{"$f":"IF(記入済リスト!$C184=\"\",\"\",記入済リスト!$C184)","v":""},{"$f":"IF(記入済リスト!$D184=\"\",\"\",記入済リスト!$D184)","v":""},{"$f":"IF(記入済リスト!$E184=\"\",\"\",記入済リスト!$E184)","v":""}]
[null,{"$f":"IF(記入済リスト!$B185=\"\",\"\",YEAR(記入済リスト!$B185))","v":""},{"$f":"IF(記入済リスト!$B185=\"\",\"\",MONTH(記入済リスト!$B185))","v":""},{"$f":"IF(記入済リスト!$B185=\"\",\"\",DAY(記入済リスト!$B185))","v":""},{"$f":"IF(記入済リスト!$C185=\"\",\"\",記入済リスト!$C185)","v":""},{"$f":"IF(記入済リスト!$D185=\"\",\"\",記入済リスト!$D185)","v":""},{"$f":"IF(記入済リスト!$E185=\"\",\"\",記入済リスト!$E185)","v":""}]
[null,{"$f":"IF(記入済リスト!$B186=\"\",\"\",YEAR(記入済リスト!$B186))","v":""},{"$f":"IF(記入済リスト!$B186=\"\",\"\",MONTH(記入済リスト!$B186))","v":""},{"$f":"IF(記入済リスト!$B186=\"\",\"\",DAY(記入済リスト!$B186))","v":""},{"$f":"IF(記入済リスト!$C186=\"\",\"\",記入済リスト!$C186)","v":""},{"$f":"IF(記入済リスト!$D186=\"\",\"\",記入済リスト!$D186)","v":""},{"$f":"IF(記入済リスト!$E186=\"\",\"\",記入済リスト!$E186)","v":""}]
[null,{"$f":"IF(記入済リスト!$B187=\"\",\"\",YEAR(記入済リスト!$B187))","v":""},{"$f":"IF(記入済リスト!$B187=\"\",\"\",MONTH(記入済リスト!$B187))","v":""},{"$f":"IF(記入済リスト!$B187=\"\",\"\",DAY(記入済リスト!$B187))","v":""},{"$f":"IF(記入済リスト!$C187=\"\",\"\",記入済リスト!$C187)","v":""},{"$f":"IF(記入済リスト!$D187=\"\",\"\",記入済リスト!$D187)","v":""},{"$f":"IF(記入済リスト!$E187=\"\",\"\",記入済リスト!$E187)","v":""}]
[null,{"$f":"IF(記入済リスト!$B188=\"\",\"\",YEAR(記入済リスト!$B188))","v":""},{"$f":"IF(記入済リスト!$B188=\"\",\"\",MONTH(記入済リスト!$B188))","v":""},{"$f":"IF(記入済リスト!$B188=\"\",\"\",DAY(記入済リスト!$B188))","v":""},{"$f":"IF(記入済リスト!$C188=\"\",\"\",記入済リスト!$C188)","v":""},{"$f":"IF(記入済リスト!$D188=\"\",\"\",記入済リスト!$D188)","v":""},{"$f":"IF(記入済リスト!$E188=\"\",\"\",記入済リスト!$E188)","v":""}]
[null,{"$f":"IF(記入済リスト!$B189=\"\",\"\",YEAR(記入済リスト!$B189))","v":""},{"$f":"IF(記入済リスト!$B189=\"\",\"\",MONTH(記入済リスト!$B189))","v":""},{"$f":"IF(記入済リスト!$B189=\"\",\"\",DAY(記入済リスト!$B189))","v":""},{"$f":"IF(記入済リスト!$C189=\"\",\"\",記入済リスト!$C189)","v":""},{"$f":"IF(記入済リスト!$D189=\"\",\"\",記入済リスト!$D189)","v":""},{"$f":"IF(記入済リスト!$E189=\"\",\"\",記入済リスト!$E189)","v":""}]
[null,{"$f":"IF(記入済リスト!$B190=\"\",\"\",YEAR(記入済リスト!$B190))","v":""},{"$f":"IF(記入済リスト!$B190=\"\",\"\",MONTH(記入済リスト!$B190))","v":""},{"$f":"IF(記入済リスト!$B190=\"\",\"\",DAY(記入済リスト!$B190))","v":""},{"$f":"IF(記入済リスト!$C190=\"\",\"\",記入済リスト!$C190)","v":""},{"$f":"IF(記入済リスト!$D190=\"\",\"\",記入済リスト!$D190)","v":""},{"$f":"IF(記入済リスト!$E190=\"\",\"\",記入済リスト!$E190)","v":""}]
[null,{"$f":"IF(記入済リスト!$B191=\"\",\"\",YEAR(記入済リスト!$B191))","v":""},{"$f":"IF(記入済リスト!$B191=\"\",\"\",MONTH(記入済リスト!$B191))","v":""},{"$f":"IF(記入済リスト!$B191=\"\",\"\",DAY(記入済リスト!$B191))","v":""},{"$f":"IF(記入済リスト!$C191=\"\",\"\",記入済リスト!$C191)","v":""},{"$f":"IF(記入済リスト!$D191=\"\",\"\",記入済リスト!$D191)","v":""},{"$f":"IF(記入済リスト!$E191=\"\",\"\",記入済リスト!$E191)","v":""}]
[null,{"$f":"IF(記入済リスト!$B192=\"\",\"\",YEAR(記入済リスト!$B192))","v":""},{"$f":"IF(記入済リスト!$B192=\"\",\"\",MONTH(記入済リスト!$B192))","v":""},{"$f":"IF(記入済リスト!$B192=\"\",\"\",DAY(記入済リスト!$B192))","v":""},{"$f":"IF(記入済リスト!$C192=\"\",\"\",記入済リスト!$C192)","v":""},{"$f":"IF(記入済リスト!$D192=\"\",\"\",記入済リスト!$D192)","v":""},{"$f":"IF(記入済リスト!$E192=\"\",\"\",記入済リスト!$E192)","v":""}]
[null,{"$f":"IF(記入済リスト!$B193=\"\",\"\",YEAR(記入済リスト!$B193))","v":""},{"$f":"IF(記入済リスト!$B193=\"\",\"\",MONTH(記入済リスト!$B193))","v":""},{"$f":"IF(記入済リスト!$B193=\"\",\"\",DAY(記入済リスト!$B193))","v":""},{"$f":"IF(記入済リスト!$C193=\"\",\"\",記入済リスト!$C193)","v":""},{"$f":"IF(記入済リスト!$D193=\"\",\"\",記入済リスト!$D193)","v":""},{"$f":"IF(記入済リスト!$E193=\"\",\"\",記入済リスト!$E193)","v":""}]
[null,{"$f":"IF(記入済リスト!$B194=\"\",\"\",YEAR(記入済リスト!$B194))","v":""},{"$f":"IF(記入済リスト!$B194=\"\",\"\",MONTH(記入済リスト!$B194))","v":""},{"$f":"IF(記入済リスト!$B194=\"\",\"\",DAY(記入済リスト!$B194))","v":""},{"$f":"IF(記入済リスト!$C194=\"\",\"\",記入済リスト!$C194)","v":""},{"$f":"IF(記入済リスト!$D194=\"\",\"\",記入済リスト!$D194)","v":""},{"$f":"IF(記入済リスト!$E194=\"\",\"\",記入済リスト!$E194)","v":""}]
[null,{"$f":"IF(記入済リスト!$B195=\"\",\"\",YEAR(記入済リスト!$B195))","v":""},{"$f":"IF(記入済リスト!$B195=\"\",\"\",MONTH(記入済リスト!$B195))","v":""},{"$f":"IF(記入済リスト!$B195=\"\",\"\",DAY(記入済リスト!$B195))","v":""},{"$f":"IF(記入済リスト!$C195=\"\",\"\",記入済リスト!$C195)","v":""},{"$f":"IF(記入済リスト!$D195=\"\",\"\",記入済リスト!$D195)","v":""},{"$f":"IF(記入済リスト!$E195=\"\",\"\",記入済リスト!$E195)","v":""}]
[null,{"$f":"IF(記入済リスト!$B196=\"\",\"\",YEAR(記入済リスト!$B196))","v":""},{"$f":"IF(記入済リスト!$B196=\"\",\"\",MONTH(記入済リスト!$B196))","v":""},{"$f":"IF(記入済リスト!$B196=\"\",\"\",DAY(記入済リスト!$B196))","v":""},{"$f":"IF(記入済リスト!$C196=\"\",\"\",記入済リスト!$C196)","v":""},{"$f":"IF(記入済リスト!$D196=\"\",\"\",記入済リスト!$D196)","v":""},{"$f":"IF(記入済リスト!$E196=\"\",\"\",記入済リスト!$E196)","v":""}]
[null,{"$f":"IF(記入済リスト!$B197=\"\",\"\",YEAR(記入済リスト!$B197))","v":""},{"$f":"IF(記入済リスト!$B197=\"\",\"\",MONTH(記入済リスト!$B197))","v":""},{"$f":"IF(記入済リスト!$B197=\"\",\"\",DAY(記入済リスト!$B197))","v":""},{"$f":"IF(記入済リスト!$C197=\"\",\"\",記入済リスト!$C197)","v":""},{"$f":"IF(記入済リスト!$D197=\"\",\"\",記入済リスト!$D197)","v":""},{"$f":"IF(記入済リスト!$E197=\"\",\"\",記入済リスト!$E197)","v":""}]
[null,{"$f":"IF(記入済リスト!$B198=\"\",\"\",YEAR(記入済リスト!$B198))","v":""},{"$f":"IF(記入済リスト!$B198=\"\",\"\",MONTH(記入済リスト!$B198))","v":""},{"$f":"IF(記入済リスト!$B198=\"\",\"\",DAY(記入済リスト!$B198))","v":""},{"$f":"IF(記入済リスト!$C198=\"\",\"\",記入済リスト!$C198)","v":""},{"$f":"IF(記入済リスト!$D198=\"\",\"\",記入済リスト!$D198)","v":""},{"$f":"IF(記入済リスト!$E198=\"\",\"\",記入済リスト!$E198)","v":""}]
[null,{"$f":"IF(記入済リスト!$B199=\"\",\"\",YEAR(記入済リスト!$B199))","v":""},{"$f":"IF(記入済リスト!$B199=\"\",\"\",MONTH(記入済リスト!$B199))","v":""},{"$f":"IF(記入済リスト!$B199=\"\",\"\",DAY(記入済リスト!$B199))","v":""},{"$f":"IF(記入済リスト!$C199=\"\",\"\",記入済リスト!$C199)","v":""},{"$f":"IF(記入済リスト!$D199=\"\",\"\",記入済リスト!$D199)","v":""},{"$f":"IF(記入済リスト!$E199=\"\",\"\",記入済リスト!$E199)","v":""}]
[null,{"$f":"IF(記入済リスト!$B200=\"\",\"\",YEAR(記入済リスト!$B200))","v":""},{"$f":"IF(記入済リスト!$B200=\"\",\"\",MONTH(記入済リスト!$B200))","v":""},{"$f":"IF(記入済リスト!$B200=\"\",\"\",DAY(記入済リスト!$B200))","v":""},{"$f":"IF(記入済リスト!$C200=\"\",\"\",記入済リスト!$C200)","v":""},{"$f":"IF(記入済リスト!$D200=\"\",\"\",記入済リスト!$D200)","v":""},{"$f":"IF(記入済リスト!$E200=\"\",\"\",記入済リスト!$E200)","v":""}]
[null,{"$f":"IF(記入済リスト!$B201=\"\",\"\",YEAR(記入済リスト!$B201))","v":""},{"$f":"IF(記入済リスト!$B201=\"\",\"\",MONTH(記入済リスト!$B201))","v":""},{"$f":"IF(記入済リスト!$B201=\"\",\"\",DAY(記入済リスト!$B201))","v":""},{"$f":"IF(記入済リスト!$C201=\"\",\"\",記入済リスト!$C201)","v":""},{"$f":"IF(記入済リスト!$D201=\"\",\"\",記入済リスト!$D201)","v":""},{"$f":"IF(記入済リスト!$E201=\"\",\"\",記入済リスト!$E201)","v":""}]
[null,{"$f":"IF(記入済リスト!$B202=\"\",\"\",YEAR(記入済リスト!$B202))","v":""},{"$f":"IF(記入済リスト!$B202=\"\",\"\",MONTH(記入済リスト!$B202))","v":""},{"$f":"IF(記入済リスト!$B202=\"\",\"\",DAY(記入済リスト!$B202))","v":""},{"$f":"IF(記入済リスト!$C202=\"\",\"\",記入済リスト!$C202)","v":""},{"$f":"IF(記入済リスト!$D202=\"\",\"\",記入済リスト!$D202)","v":""},{"$f":"IF(記入済リスト!$E202=\"\",\"\",記入済リスト!$E202)","v":""}]
[null,{"$f":"IF(記入済リスト!$B203=\"\",\"\",YEAR(記入済リスト!$B203))","v":""},{"$f":"IF(記入済リスト!$B203=\"\",\"\",MONTH(記入済リスト!$B203))","v":""},{"$f":"IF(記入済リスト!$B203=\"\",\"\",DAY(記入済リスト!$B203))","v":""},{"$f":"IF(記入済リスト!$C203=\"\",\"\",記入済リスト!$C203)","v":""},{"$f":"IF(記入済リスト!$D203=\"\",\"\",記入済リスト!$D203)","v":""},{"$f":"IF(記入済リスト!$E203=\"\",\"\",記入済リスト!$E203)","v":""}]
[null,{"$f":"IF(記入済リスト!$B204=\"\",\"\",YEAR(記入済リスト!$B204))","v":""},{"$f":"IF(記入済リスト!$B204=\"\",\"\",MONTH(記入済リスト!$B204))","v":""},{"$f":"IF(記入済リスト!$B204=\"\",\"\",DAY(記入済リスト!$B204))","v":""},{"$f":"IF(記入済リスト!$C204=\"\",\"\",記入済リスト!$C204)","v":""},{"$f":"IF(記入済リスト!$D204=\"\",\"\",記入済リスト!$D204)","v":""},{"$f":"IF(記入済リスト!$E204=\"\",\"\",記入済リスト!$E204)","v":""}]
[null,{"$f":"IF(記入済リスト!$B205=\"\",\"\",YEAR(記入済リスト!$B205))","v":""},{"$f":"IF(記入済リスト!$B205=\"\",\"\",MONTH(記入済リスト!$B205))","v":""},{"$f":"IF(記入済リスト!$B205=\"\",\"\",DAY(記入済リスト!$B205))","v":""},{"$f":"IF(記入済リスト!$C205=\"\",\"\",記入済リスト!$C205)","v":""},{"$f":"IF(記入済リスト!$D205=\"\",\"\",記入済リスト!$D205)","v":""},{"$f":"IF(記入済リスト!$E205=\"\",\"\",記入済リスト!$E205)","v":""}]
[null,{"$f":"IF(記入済リスト!$B206=\"\",\"\",YEAR(記入済リスト!$B206))","v":""},{"$f":"IF(記入済リスト!$B206=\"\",\"\",MONTH(記入済リスト!$B206))","v":""},{"$f":"IF(記入済リスト!$B206=\"\",\"\",DAY(記入済リスト!$B206))","v":""},{"$f":"IF(記入済リスト!$C206=\"\",\"\",記入済リスト!$C206)","v":""},{"$f":"IF(記入済リスト!$D206=\"\",\"\",記入済リスト!$D206)","v":""},{"$f":"IF(記入済リスト!$E206=\"\",\"\",記入済リスト!$E206)","v":""}]
[null,{"$f":"IF(記入済リスト!$B207=\"\",\"\",YEAR(記入済リスト!$B207))","v":""},{"$f":"IF(記入済リスト!$B207=\"\",\"\",MONTH(記入済リスト!$B207))","v":""},{"$f":"IF(記入済リスト!$B207=\"\",\"\",DAY(記入済リスト!$B207))","v":""},{"$f":"IF(記入済リスト!$C207=\"\",\"\",記入済リスト!$C207)","v":""},{"$f":"IF(記入済リスト!$D207=\"\",\"\",記入済リスト!$D207)","v":""},{"$f":"IF(記入済リスト!$E207=\"\",\"\",記入済リスト!$E207)","v":""}]
[null,{"$f":"IF(記入済リスト!$B208=\"\",\"\",YEAR(記入済リスト!$B208))","v":""},{"$f":"IF(記入済リスト!$B208=\"\",\"\",MONTH(記入済リスト!$B208))","v":""},{"$f":"IF(記入済リスト!$B208=\"\",\"\",DAY(記入済リスト!$B208))","v":""},{"$f":"IF(記入済リスト!$C208=\"\",\"\",記入済リスト!$C208)","v":""},{"$f":"IF(記入済リスト!$D208=\"\",\"\",記入済リスト!$D208)","v":""},{"$f":"IF(記入済リスト!$E208=\"\",\"\",記入済リスト!$E208)","v":""}]
[null,{"$f":"IF(記入済リスト!$B209=\"\",\"\",YEAR(記入済リスト!$B209))","v":""},{"$f":"IF(記入済リスト!$B209=\"\",\"\",MONTH(記入済リスト!$B209))","v":""},{"$f":"IF(記入済リスト!$B209=\"\",\"\",DAY(記入済リスト!$B209))","v":""},{"$f":"IF(記入済リスト!$C209=\"\",\"\",記入済リスト!$C209)","v":""},{"$f":"IF(記入済リスト!$D209=\"\",\"\",記入済リスト!$D209)","v":""},{"$f":"IF(記入済リスト!$E209=\"\",\"\",記入済リスト!$E209)","v":""}]
[null,{"$f":"IF(記入済リスト!$B210=\"\",\"\",YEAR(記入済リスト!$B210))","v":""},{"$f":"IF(記入済リスト!$B210=\"\",\"\",MONTH(記入済リスト!$B210))","v":""},{"$f":"IF(記入済リスト!$B210=\"\",\"\",DAY(記入済リスト!$B210))","v":""},{"$f":"IF(記入済リスト!$C210=\"\",\"\",記入済リスト!$C210)","v":""},{"$f":"IF(記入済リスト!$D210=\"\",\"\",記入済リスト!$D210)","v":""},{"$f":"IF(記入済リスト!$E210=\"\",\"\",記入済リスト!$E210)","v":""}]
[null,{"$f":"IF(記入済リスト!$B211=\"\",\"\",YEAR(記入済リスト!$B211))","v":""},{"$f":"IF(記入済リスト!$B211=\"\",\"\",MONTH(記入済リスト!$B211))","v":""},{"$f":"IF(記入済リスト!$B211=\"\",\"\",DAY(記入済リスト!$B211))","v":""},{"$f":"IF(記入済リスト!$C211=\"\",\"\",記入済リスト!$C211)","v":""},{"$f":"IF(記入済リスト!$D211=\"\",\"\",記入済リスト!$D211)","v":""},{"$f":"IF(記入済リスト!$E211=\"\",\"\",記入済リスト!$E211)","v":""}]
[null,{"$f":"IF(記入済リスト!$B212=\"\",\"\",YEAR(記入済リスト!$B212))","v":""},{"$f":"IF(記入済リスト!$B212=\"\",\"\",MONTH(記入済リスト!$B212))","v":""},{"$f":"IF(記入済リスト!$B212=\"\",\"\",DAY(記入済リスト!$B212))","v":""},{"$f":"IF(記入済リスト!$C212=\"\",\"\",記入済リスト!$C212)","v":""},{"$f":"IF(記入済リスト!$D212=\"\",\"\",記入済リスト!$D212)","v":""},{"$f":"IF(記入済リスト!$E212=\"\",\"\",記入済リスト!$E212)","v":""}]
[null,{"$f":"IF(記入済リスト!$B213=\"\",\"\",YEAR(記入済リスト!$B213))","v":""},{"$f":"IF(記入済リスト!$B213=\"\",\"\",MONTH(記入済リスト!$B213))","v":""},{"$f":"IF(記入済リスト!$B213=\"\",\"\",DAY(記入済リスト!$B213))","v":""},{"$f":"IF(記入済リスト!$C213=\"\",\"\",記入済リスト!$C213)","v":""},{"$f":"IF(記入済リスト!$D213=\"\",\"\",記入済リスト!$D213)","v":""},{"$f":"IF(記入済リスト!$E213=\"\",\"\",記入済リスト!$E213)","v":""}]
[null,{"$f":"IF(記入済リスト!$B214=\"\",\"\",YEAR(記入済リスト!$B214))","v":""},{"$f":"IF(記入済リスト!$B214=\"\",\"\",MONTH(記入済リスト!$B214))","v":""},{"$f":"IF(記入済リスト!$B214=\"\",\"\",DAY(記入済リスト!$B214))","v":""},{"$f":"IF(記入済リスト!$C214=\"\",\"\",記入済リスト!$C214)","v":""},{"$f":"IF(記入済リスト!$D214=\"\",\"\",記入済リスト!$D214)","v":""},{"$f":"IF(記入済リスト!$E214=\"\",\"\",記入済リスト!$E214)","v":""}]
[null,{"$f":"IF(記入済リスト!$B215=\"\",\"\",YEAR(記入済リスト!$B215))","v":""},{"$f":"IF(記入済リスト!$B215=\"\",\"\",MONTH(記入済リスト!$B215))","v":""},{"$f":"IF(記入済リスト!$B215=\"\",\"\",DAY(記入済リスト!$B215))","v":""},{"$f":"IF(記入済リスト!$C215=\"\",\"\",記入済リスト!$C215)","v":""},{"$f":"IF(記入済リスト!$D215=\"\",\"\",記入済リスト!$D215)","v":""},{"$f":"IF(記入済リスト!$E215=\"\",\"\",記入済リスト!$E215)","v":""}]
[null,{"$f":"IF(記入済リスト!$B216=\"\",\"\",YEAR(記入済リスト!$B216))","v":""},{"$f":"IF(記入済リスト!$B216=\"\",\"\",MONTH(記入済リスト!$B216))","v":""},{"$f":"IF(記入済リスト!$B216=\"\",\"\",DAY(記入済リスト!$B216))","v":""},{"$f":"IF(記入済リスト!$C216=\"\",\"\",記入済リスト!$C216)","v":""},{"$f":"IF(記入済リスト!$D216=\"\",\"\",記入済リスト!$D216)","v":""},{"$f":"IF(記入済リスト!$E216=\"\",\"\",記入済リスト!$E216)","v":""}]
[null,{"$f":"IF(記入済リスト!$B217=\"\",\"\",YEAR(記入済リスト!$B217))","v":""},{"$f":"IF(記入済リスト!$B217=\"\",\"\",MONTH(記入済リスト!$B217))","v":""},{"$f":"IF(記入済リスト!$B217=\"\",\"\",DAY(記入済リスト!$B217))","v":""},{"$f":"IF(記入済リスト!$C217=\"\",\"\",記入済リスト!$C217)","v":""},{"$f":"IF(記入済リスト!$D217=\"\",\"\",記入済リスト!$D217)","v":""},{"$f":"IF(記入済リスト!$E217=\"\",\"\",記入済リスト!$E217)","v":""}]
[null,{"$f":"IF(記入済リスト!$B218=\"\",\"\",YEAR(記入済リスト!$B218))","v":""},{"$f":"IF(記入済リスト!$B218=\"\",\"\",MONTH(記入済リスト!$B218))","v":""},{"$f":"IF(記入済リスト!$B218=\"\",\"\",DAY(記入済リスト!$B218))","v":""},{"$f":"IF(記入済リスト!$C218=\"\",\"\",記入済リスト!$C218)","v":""},{"$f":"IF(記入済リスト!$D218=\"\",\"\",記入済リスト!$D218)","v":""},{"$f":"IF(記入済リスト!$E218=\"\",\"\",記入済リスト!$E218)","v":""}]
[null,{"$f":"IF(記入済リスト!$B219=\"\",\"\",YEAR(記入済リスト!$B219))","v":""},{"$f":"IF(記入済リスト!$B219=\"\",\"\",MONTH(記入済リスト!$B219))","v":""},{"$f":"IF(記入済リスト!$B219=\"\",\"\",DAY(記入済リスト!$B219))","v":""},{"$f":"IF(記入済リスト!$C219=\"\",\"\",記入済リスト!$C219)","v":""},{"$f":"IF(記入済リスト!$D219=\"\",\"\",記入済リスト!$D219)","v":""},{"$f":"IF(記入済リスト!$E219=\"\",\"\",記入済リスト!$E219)","v":""}]
[null,{"$f":"IF(記入済リスト!$B220=\"\",\"\",YEAR(記入済リスト!$B220))","v":""},{"$f":"IF(記入済リスト!$B220=\"\",\"\",MONTH(記入済リスト!$B220))","v":""},{"$f":"IF(記入済リスト!$B220=\"\",\"\",DAY(記入済リスト!$B220))","v":""},{"$f":"IF(記入済リスト!$C220=\"\",\"\",記入済リスト!$C220)","v":""},{"$f":"IF(記入済リスト!$D220=\"\",\"\",記入済リスト!$D220)","v":""},{"$f":"IF(記入済リスト!$E220=\"\",\"\",記入済リスト!$E220)","v":""}]
[null,{"$f":"IF(記入済リスト!$B221=\"\",\"\",YEAR(記入済リスト!$B221))","v":""},{"$f":"IF(記入済リスト!$B221=\"\",\"\",MONTH(記入済リスト!$B221))","v":""},{"$f":"IF(記入済リスト!$B221=\"\",\"\",DAY(記入済リスト!$B221))","v":""},{"$f":"IF(記入済リスト!$C221=\"\",\"\",記入済リスト!$C221)","v":""},{"$f":"IF(記入済リスト!$D221=\"\",\"\",記入済リスト!$D221)","v":""},{"$f":"IF(記入済リスト!$E221=\"\",\"\",記入済リスト!$E221)","v":""}]
[null,{"$f":"IF(記入済リスト!$B222=\"\",\"\",YEAR(記入済リスト!$B222))","v":""},{"$f":"IF(記入済リスト!$B222=\"\",\"\",MONTH(記入済リスト!$B222))","v":""},{"$f":"IF(記入済リスト!$B222=\"\",\"\",DAY(記入済リスト!$B222))","v":""},{"$f":"IF(記入済リスト!$C222=\"\",\"\",記入済リスト!$C222)","v":""},{"$f":"IF(記入済リスト!$D222=\"\",\"\",記入済リスト!$D222)","v":""},{"$f":"IF(記入済リスト!$E222=\"\",\"\",記入済リスト!$E222)","v":""}]
[null,{"$f":"IF(記入済リスト!$B223=\"\",\"\",YEAR(記入済リスト!$B223))","v":""},{"$f":"IF(記入済リスト!$B223=\"\",\"\",MONTH(記入済リスト!$B223))","v":""},{"$f":"IF(記入済リスト!$B223=\"\",\"\",DAY(記入済リスト!$B223))","v":""},{"$f":"IF(記入済リスト!$C223=\"\",\"\",記入済リスト!$C223)","v":""},{"$f":"IF(記入済リスト!$D223=\"\",\"\",記入済リスト!$D223)","v":""},{"$f":"IF(記入済リスト!$E223=\"\",\"\",記入済リスト!$E223)","v":""}]
[null,{"$f":"IF(記入済リスト!$B224=\"\",\"\",YEAR(記入済リスト!$B224))","v":""},{"$f":"IF(記入済リスト!$B224=\"\",\"\",MONTH(記入済リスト!$B224))","v":""},{"$f":"IF(記入済リスト!$B224=\"\",\"\",DAY(記入済リスト!$B224))","v":""},{"$f":"IF(記入済リスト!$C224=\"\",\"\",記入済リスト!$C224)","v":""},{"$f":"IF(記入済リスト!$D224=\"\",\"\",記入済リスト!$D224)","v":""},{"$f":"IF(記入済リスト!$E224=\"\",\"\",記入済リスト!$E224)","v":""}]
[null,{"$f":"IF(記入済リスト!$B225=\"\",\"\",YEAR(記入済リスト!$B225))","v":""},{"$f":"IF(記入済リスト!$B225=\"\",\"\",MONTH(記入済リスト!$B225))","v":""},{"$f":"IF(記入済リスト!$B225=\"\",\"\",DAY(記入済リスト!$B225))","v":""},{"$f":"IF(記入済リスト!$C225=\"\",\"\",記入済リスト!$C225)","v":""},{"$f":"IF(記入済リスト!$D225=\"\",\"\",記入済リスト!$D225)","v":""},{"$f":"IF(記入済リスト!$E225=\"\",\"\",記入済リスト!$E225)","v":""}]
[null,{"$f":"IF(記入済リスト!$B226=\"\",\"\",YEAR(記入済リスト!$B226))","v":""},{"$f":"IF(記入済リスト!$B226=\"\",\"\",MONTH(記入済リスト!$B226))","v":""},{"$f":"IF(記入済リスト!$B226=\"\",\"\",DAY(記入済リスト!$B226))","v":""},{"$f":"IF(記入済リスト!$C226=\"\",\"\",記入済リスト!$C226)","v":""},{"$f":"IF(記入済リスト!$D226=\"\",\"\",記入済リスト!$D226)","v":""},{"$f":"IF(記入済リスト!$E226=\"\",\"\",記入済リスト!$E226)","v":""}]
[null,{"$f":"IF(記入済リスト!$B227=\"\",\"\",YEAR(記入済リスト!$B227))","v":""},{"$f":"IF(記入済リスト!$B227=\"\",\"\",MONTH(記入済リスト!$B227))","v":""},{"$f":"IF(記入済リスト!$B227=\"\",\"\",DAY(記入済リスト!$B227))","v":""},{"$f":"IF(記入済リスト!$C227=\"\",\"\",記入済リスト!$C227)","v":""},{"$f":"IF(記入済リスト!$D227=\"\",\"\",記入済リスト!$D227)","v":""},{"$f":"IF(記入済リスト!$E227=\"\",\"\",記入済リスト!$E227)","v":""}]
[null,{"$f":"IF(記入済リスト!$B228=\"\",\"\",YEAR(記入済リスト!$B228))","v":""},{"$f":"IF(記入済リスト!$B228=\"\",\"\",MONTH(記入済リスト!$B228))","v":""},{"$f":"IF(記入済リスト!$B228=\"\",\"\",DAY(記入済リスト!$B228))","v":""},{"$f":"IF(記入済リスト!$C228=\"\",\"\",記入済リスト!$C228)","v":""},{"$f":"IF(記入済リスト!$D228=\"\",\"\",記入済リスト!$D228)","v":""},{"$f":"IF(記入済リスト!$E228=\"\",\"\",記入済リスト!$E228)","v":""}]
[null,{"$f":"IF(記入済リスト!$B229=\"\",\"\",YEAR(記入済リスト!$B229))","v":""},{"$f":"IF(記入済リスト!$B229=\"\",\"\",MONTH(記入済リスト!$B229))","v":""},{"$f":"IF(記入済リスト!$B229=\"\",\"\",DAY(記入済リスト!$B229))","v":""},{"$f":"IF(記入済リスト!$C229=\"\",\"\",記入済リスト!$C229)","v":""},{"$f":"IF(記入済リスト!$D229=\"\",\"\",記入済リスト!$D229)","v":""},{"$f":"IF(記入済リスト!$E229=\"\",\"\",記入済リスト!$E229)","v":""}]
[null,{"$f":"IF(記入済リスト!$B230=\"\",\"\",YEAR(記入済リスト!$B230))","v":""},{"$f":"IF(記入済リスト!$B230=\"\",\"\",MONTH(記入済リスト!$B230))","v":""},{"$f":"IF(記入済リスト!$B230=\"\",\"\",DAY(記入済リスト!$B230))","v":""},{"$f":"IF(記入済リスト!$C230=\"\",\"\",記入済リスト!$C230)","v":""},{"$f":"IF(記入済リスト!$D230=\"\",\"\",記入済リスト!$D230)","v":""},{"$f":"IF(記入済リスト!$E230=\"\",\"\",記入済リスト!$E230)","v":""}]
[null,{"$f":"IF(記入済リスト!$B231=\"\",\"\",YEAR(記入済リスト!$B231))","v":""},{"$f":"IF(記入済リスト!$B231=\"\",\"\",MONTH(記入済リスト!$B231))","v":""},{"$f":"IF(記入済リスト!$B231=\"\",\"\",DAY(記入済リスト!$B231))","v":""},{"$f":"IF(記入済リスト!$C231=\"\",\"\",記入済リスト!$C231)","v":""},{"$f":"IF(記入済リスト!$D231=\"\",\"\",記入済リスト!$D231)","v":""},{"$f":"IF(記入済リスト!$E231=\"\",\"\",記入済リスト!$E231)","v":""}]
[null,{"$f":"IF(記入済リスト!$B232=\"\",\"\",YEAR(記入済リスト!$B232))","v":""},{"$f":"IF(記入済リスト!$B232=\"\",\"\",MONTH(記入済リスト!$B232))","v":""},{"$f":"IF(記入済リスト!$B232=\"\",\"\",DAY(記入済リスト!$B232))","v":""},{"$f":"IF(記入済リスト!$C232=\"\",\"\",記入済リスト!$C232)","v":""},{"$f":"IF(記入済リスト!$D232=\"\",\"\",記入済リスト!$D232)","v":""},{"$f":"IF(記入済リスト!$E232=\"\",\"\",記入済リスト!$E232)","v":""}]
[null,{"$f":"IF(記入済リスト!$B233=\"\",\"\",YEAR(記入済リスト!$B233))","v":""},{"$f":"IF(記入済リスト!$B233=\"\",\"\",MONTH(記入済リスト!$B233))","v":""},{"$f":"IF(記入済リスト!$B233=\"\",\"\",DAY(記入済リスト!$B233))","v":""},{"$f":"IF(記入済リスト!$C233=\"\",\"\",記入済リスト!$C233)","v":""},{"$f":"IF(記入済リスト!$D233=\"\",\"\",記入済リスト!$D233)","v":""},{"$f":"IF(記入済リスト!$E233=\"\",\"\",記入済リスト!$E233)","v":""}]
[null,{"$f":"IF(記入済リスト!$B234=\"\",\"\",YEAR(記入済リスト!$B234))","v":""},{"$f":"IF(記入済リスト!$B234=\"\",\"\",MONTH(記入済リスト!$B234))","v":""},{"$f":"IF(記入済リスト!$B234=\"\",\"\",DAY(記入済リスト!$B234))","v":""},{"$f":"IF(記入済リスト!$C234=\"\",\"\",記入済リスト!$C234)","v":""},{"$f":"IF(記入済リスト!$D234=\"\",\"\",記入済リスト!$D234)","v":""},{"$f":"IF(記入済リスト!$E234=\"\",\"\",記入済リスト!$E234)","v":""}]
[null,{"$f":"IF(記入済リスト!$B235=\"\",\"\",YEAR(記入済リスト!$B235))","v":""},{"$f":"IF(記入済リスト!$B235=\"\",\"\",MONTH(記入済リスト!$B235))","v":""},{"$f":"IF(記入済リスト!$B235=\"\",\"\",DAY(記入済リスト!$B235))","v":""},{"$f":"IF(記入済リスト!$C235=\"\",\"\",記入済リスト!$C235)","v":""},{"$f":"IF(記入済リスト!$D235=\"\",\"\",記入済リスト!$D235)","v":""},{"$f":"IF(記入済リスト!$E235=\"\",\"\",記入済リスト!$E235)","v":""}]
[null,{"$f":"IF(記入済リスト!$B236=\"\",\"\",YEAR(記入済リスト!$B236))","v":""},{"$f":"IF(記入済リスト!$B236=\"\",\"\",MONTH(記入済リスト!$B236))","v":""},{"$f":"IF(記入済リスト!$B236=\"\",\"\",DAY(記入済リスト!$B236))","v":""},{"$f":"IF(記入済リスト!$C236=\"\",\"\",記入済リスト!$C236)","v":""},{"$f":"IF(記入済リスト!$D236=\"\",\"\",記入済リスト!$D236)","v":""},{"$f":"IF(記入済リスト!$E236=\"\",\"\",記入済リスト!$E236)","v":""}]
[null,{"$f":"IF(記入済リスト!$B237=\"\",\"\",YEAR(記入済リスト!$B237))","v":""},{"$f":"IF(記入済リスト!$B237=\"\",\"\",MONTH(記入済リスト!$B237))","v":""},{"$f":"IF(記入済リスト!$B237=\"\",\"\",DAY(記入済リスト!$B237))","v":""},{"$f":"IF(記入済リスト!$C237=\"\",\"\",記入済リスト!$C237)","v":""},{"$f":"IF(記入済リスト!$D237=\"\",\"\",記入済リスト!$D237)","v":""},{"$f":"IF(記入済リスト!$E237=\"\",\"\",記入済リスト!$E237)","v":""}]
[null,{"$f":"IF(記入済リスト!$B238=\"\",\"\",YEAR(記入済リスト!$B238))","v":""},{"$f":"IF(記入済リスト!$B238=\"\",\"\",MONTH(記入済リスト!$B238))","v":""},{"$f":"IF(記入済リスト!$B238=\"\",\"\",DAY(記入済リスト!$B238))","v":""},{"$f":"IF(記入済リスト!$C238=\"\",\"\",記入済リスト!$C238)","v":""},{"$f":"IF(記入済リスト!$D238=\"\",\"\",記入済リスト!$D238)","v":""},{"$f":"IF(記入済リスト!$E238=\"\",\"\",記入済リスト!$E238)","v":""}]
[null,{"$f":"IF(記入済リスト!$B239=\"\",\"\",YEAR(記入済リスト!$B239))","v":""},{"$f":"IF(記入済リスト!$B239=\"\",\"\",MONTH(記入済リスト!$B239))","v":""},{"$f":"IF(記入済リスト!$B239=\"\",\"\",DAY(記入済リスト!$B239))","v":""},{"$f":"IF(記入済リスト!$C239=\"\",\"\",記入済リスト!$C239)","v":""},{"$f":"IF(記入済リスト!$D239=\"\",\"\",記入済リスト!$D239)","v":""},{"$f":"IF(記入済リスト!$E239=\"\",\"\",記入済リスト!$E239)","v":""}]
[null,{"$f":"IF(記入済リスト!$B240=\"\",\"\",YEAR(記入済リスト!$B240))","v":""},{"$f":"IF(記入済リスト!$B240=\"\",\"\",MONTH(記入済リスト!$B240))","v":""},{"$f":"IF(記入済リスト!$B240=\"\",\"\",DAY(記入済リスト!$B240))","v":""},{"$f":"IF(記入済リスト!$C240=\"\",\"\",記入済リスト!$C240)","v":""},{"$f":"IF(記入済リスト!$D240=\"\",\"\",記入済リスト!$D240)","v":""},{"$f":"IF(記入済リスト!$E240=\"\",\"\",記入済リスト!$E240)","v":""}]
[null,{"$f":"IF(記入済リスト!$B241=\"\",\"\",YEAR(記入済リスト!$B241))","v":""},{"$f":"IF(記入済リスト!$B241=\"\",\"\",MONTH(記入済リスト!$B241))","v":""},{"$f":"IF(記入済リスト!$B241=\"\",\"\",DAY(記入済リスト!$B241))","v":""},{"$f":"IF(記入済リスト!$C241=\"\",\"\",記入済リスト!$C241)","v":""},{"$f":"IF(記入済リスト!$D241=\"\",\"\",記入済リスト!$D241)","v":""},{"$f":"IF(記入済リスト!$E241=\"\",\"\",記入済リスト!$E241)","v":""}]
[null,{"$f":"IF(記入済リスト!$B242=\"\",\"\",YEAR(記入済リスト!$B242))","v":""},{"$f":"IF(記入済リスト!$B242=\"\",\"\",MONTH(記入済リスト!$B242))","v":""},{"$f":"IF(記入済リスト!$B242=\"\",\"\",DAY(記入済リスト!$B242))","v":""},{"$f":"IF(記入済リスト!$C242=\"\",\"\",記入済リスト!$C242)","v":""},{"$f":"IF(記入済リスト!$D242=\"\",\"\",記入済リスト!$D242)","v":""},{"$f":"IF(記入済リスト!$E242=\"\",\"\",記入済リスト!$E242)","v":""}]
[null,{"$f":"IF(記入済リスト!$B243=\"\",\"\",YEAR(記入済リスト!$B243))","v":""},{"$f":"IF(記入済リスト!$B243=\"\",\"\",MONTH(記入済リスト!$B243))","v":""},{"$f":"IF(記入済リスト!$B243=\"\",\"\",DAY(記入済リスト!$B243))","v":""},{"$f":"IF(記入済リスト!$C243=\"\",\"\",記入済リスト!$C243)","v":""},{"$f":"IF(記入済リスト!$D243=\"\",\"\",記入済リスト!$D243)","v":""},{"$f":"IF(記入済リスト!$E243=\"\",\"\",記入済リスト!$E243)","v":""}]
[null,{"$f":"IF(記入済リスト!$B244=\"\",\"\",YEAR(記入済リスト!$B244))","v":""},{"$f":"IF(記入済リスト!$B244=\"\",\"\",MONTH(記入済リスト!$B244))","v":""},{"$f":"IF(記入済リスト!$B244=\"\",\"\",DAY(記入済リスト!$B244))","v":""},{"$f":"IF(記入済リスト!$C244=\"\",\"\",記入済リスト!$C244)","v":""},{"$f":"IF(記入済リスト!$D244=\"\",\"\",記入済リスト!$D244)","v":""},{"$f":"IF(記入済リスト!$E244=\"\",\"\",記入済リスト!$E244)","v":""}]
[null,{"$f":"IF(記入済リスト!$B245=\"\",\"\",YEAR(記入済リスト!$B245))","v":""},{"$f":"IF(記入済リスト!$B245=\"\",\"\",MONTH(記入済リスト!$B245))","v":""},{"$f":"IF(記入済リスト!$B245=\"\",\"\",DAY(記入済リスト!$B245))","v":""},{"$f":"IF(記入済リスト!$C245=\"\",\"\",記入済リスト!$C245)","v":""},{"$f":"IF(記入済リスト!$D245=\"\",\"\",記入済リスト!$D245)","v":""},{"$f":"IF(記入済リスト!$E245=\"\",\"\",記入済リスト!$E245)","v":""}]
[null,{"$f":"IF(記入済リスト!$B246=\"\",\"\",YEAR(記入済リスト!$B246))","v":""},{"$f":"IF(記入済リスト!$B246=\"\",\"\",MONTH(記入済リスト!$B246))","v":""},{"$f":"IF(記入済リスト!$B246=\"\",\"\",DAY(記入済リスト!$B246))","v":""},{"$f":"IF(記入済リスト!$C246=\"\",\"\",記入済リスト!$C246)","v":""},{"$f":"IF(記入済リスト!$D246=\"\",\"\",記入済リスト!$D246)","v":""},{"$f":"IF(記入済リスト!$E246=\"\",\"\",記入済リスト!$E246)","v":""}]
[null,{"$f":"IF(記入済リスト!$B247=\"\",\"\",YEAR(記入済リスト!$B247))","v":""},{"$f":"IF(記入済リスト!$B247=\"\",\"\",MONTH(記入済リスト!$B247))","v":""},{"$f":"IF(記入済リスト!$B247=\"\",\"\",DAY(記入済リスト!$B247))","v":""},{"$f":"IF(記入済リスト!$C247=\"\",\"\",記入済リスト!$C247)","v":""},{"$f":"IF(記入済リスト!$D247=\"\",\"\",記入済リスト!$D247)","v":""},{"$f":"IF(記入済リスト!$E247=\"\",\"\",記入済リスト!$E247)","v":""}]
[null,{"$f":"IF(記入済リスト!$B248=\"\",\"\",YEAR(記入済リスト!$B248))","v":""},{"$f":"IF(記入済リスト!$B248=\"\",\"\",MONTH(記入済リスト!$B248))","v":""},{"$f":"IF(記入済リスト!$B248=\"\",\"\",DAY(記入済リスト!$B248))","v":""},{"$f":"IF(記入済リスト!$C248=\"\",\"\",記入済リスト!$C248)","v":""},{"$f":"IF(記入済リスト!$D248=\"\",\"\",記入済リスト!$D248)","v":""},{"$f":"IF(記入済リスト!$E248=\"\",\"\",記入済リスト!$E248)","v":""}]
[null,{"$f":"IF(記入済リスト!$B249=\"\",\"\",YEAR(記入済リスト!$B249))","v":""},{"$f":"IF(記入済リスト!$B249=\"\",\"\",MONTH(記入済リスト!$B249))","v":""},{"$f":"IF(記入済リスト!$B249=\"\",\"\",DAY(記入済リスト!$B249))","v":""},{"$f":"IF(記入済リスト!$C249=\"\",\"\",記入済リスト!$C249)","v":""},{"$f":"IF(記入済リスト!$D249=\"\",\"\",記入済リスト!$D249)","v":""},{"$f":"IF(記入済リスト!$E249=\"\",\"\",記入済リスト!$E249)","v":""}]
[null,{"$f":"IF(記入済リスト!$B250=\"\",\"\",YEAR(記入済リスト!$B250))","v":""},{"$f":"IF(記入済リスト!$B250=\"\",\"\",MONTH(記入済リスト!$B250))","v":""},{"$f":"IF(記入済リスト!$B250=\"\",\"\",DAY(記入済リスト!$B250))","v":""},{"$f":"IF(記入済リスト!$C250=\"\",\"\",記入済リスト!$C250)","v":""},{"$f":"IF(記入済リスト!$D250=\"\",\"\",記入済リスト!$D250)","v":""},{"$f":"IF(記入済リスト!$E250=\"\",\"\",記入済リスト!$E250)","v":""}]
[null,{"$f":"IF(記入済リスト!$B251=\"\",\"\",YEAR(記入済リスト!$B251))","v":""},{"$f":"IF(記入済リスト!$B251=\"\",\"\",MONTH(記入済リスト!$B251))","v":""},{"$f":"IF(記入済リスト!$B251=\"\",\"\",DAY(記入済リスト!$B251))","v":""},{"$f":"IF(記入済リスト!$C251=\"\",\"\",記入済リスト!$C251)","v":""},{"$f":"IF(記入済リスト!$D251=\"\",\"\",記入済リスト!$D251)","v":""},{"$f":"IF(記入済リスト!$E251=\"\",\"\",記入済リスト!$E251)","v":""}]
[null,{"$f":"IF(記入済リスト!$B252=\"\",\"\",YEAR(記入済リスト!$B252))","v":""},{"$f":"IF(記入済リスト!$B252=\"\",\"\",MONTH(記入済リスト!$B252))","v":""},{"$f":"IF(記入済リスト!$B252=\"\",\"\",DAY(記入済リスト!$B252))","v":""},{"$f":"IF(記入済リスト!$C252=\"\",\"\",記入済リスト!$C252)","v":""},{"$f":"IF(記入済リスト!$D252=\"\",\"\",記入済リスト!$D252)","v":""},{"$f":"IF(記入済リスト!$E252=\"\",\"\",記入済リスト!$E252)","v":""}]
[null,{"$f":"IF(記入済リスト!$B253=\"\",\"\",YEAR(記入済リスト!$B253))","v":""},{"$f":"IF(記入済リスト!$B253=\"\",\"\",MONTH(記入済リスト!$B253))","v":""},{"$f":"IF(記入済リスト!$B253=\"\",\"\",DAY(記入済リスト!$B253))","v":""},{"$f":"IF(記入済リスト!$C253=\"\",\"\",記入済リスト!$C253)","v":""},{"$f":"IF(記入済リスト!$D253=\"\",\"\",記入済リスト!$D253)","v":""},{"$f":"IF(記入済リスト!$E253=\"\",\"\",記入済リスト!$E253)","v":""}]
[null,{"$f":"IF(記入済リスト!$B254=\"\",\"\",YEAR(記入済リスト!$B254))","v":""},{"$f":"IF(記入済リスト!$B254=\"\",\"\",MONTH(記入済リスト!$B254))","v":""},{"$f":"IF(記入済リスト!$B254=\"\",\"\",DAY(記入済リスト!$B254))","v":""},{"$f":"IF(記入済リスト!$C254=\"\",\"\",記入済リスト!$C254)","v":""},{"$f":"IF(記入済リスト!$D254=\"\",\"\",記入済リスト!$D254)","v":""},{"$f":"IF(記入済リスト!$E254=\"\",\"\",記入済リスト!$E254)","v":""}]
[null,{"$f":"IF(記入済リスト!$B255=\"\",\"\",YEAR(記入済リスト!$B255))","v":""},{"$f":"IF(記入済リスト!$B255=\"\",\"\",MONTH(記入済リスト!$B255))","v":""},{"$f":"IF(記入済リスト!$B255=\"\",\"\",DAY(記入済リスト!$B255))","v":""},{"$f":"IF(記入済リスト!$C255=\"\",\"\",記入済リスト!$C255)","v":""},{"$f":"IF(記入済リスト!$D255=\"\",\"\",記入済リスト!$D255)","v":""},{"$f":"IF(記入済リスト!$E255=\"\",\"\",記入済リスト!$E255)","v":""}]
[null,{"$f":"IF(記入済リスト!$B256=\"\",\"\",YEAR(記入済リスト!$B256))","v":""},{"$f":"IF(記入済リスト!$B256=\"\",\"\",MONTH(記入済リスト!$B256))","v":""},{"$f":"IF(記入済リスト!$B256=\"\",\"\",DAY(記入済リスト!$B256))","v":""},{"$f":"IF(記入済リスト!$C256=\"\",\"\",記入済リスト!$C256)","v":""},{"$f":"IF(記入済リスト!$D256=\"\",\"\",記入済リスト!$D256)","v":""},{"$f":"IF(記入済リスト!$E256=\"\",\"\",記入済リスト!$E256)","v":""}]
[null,{"$f":"IF(記入済リスト!$B257=\"\",\"\",YEAR(記入済リスト!$B257))","v":""},{"$f":"IF(記入済リスト!$B257=\"\",\"\",MONTH(記入済リスト!$B257))","v":""},{"$f":"IF(記入済リスト!$B257=\"\",\"\",DAY(記入済リスト!$B257))","v":""},{"$f":"IF(記入済リスト!$C257=\"\",\"\",記入済リスト!$C257)","v":""},{"$f":"IF(記入済リスト!$D257=\"\",\"\",記入済リスト!$D257)","v":""},{"$f":"IF(記入済リスト!$E257=\"\",\"\",記入済リスト!$E257)","v":""}]
[null,{"$f":"IF(記入済リスト!$B258=\"\",\"\",YEAR(記入済リスト!$B258))","v":""},{"$f":"IF(記入済リスト!$B258=\"\",\"\",MONTH(記入済リスト!$B258))","v":""},{"$f":"IF(記入済リスト!$B258=\"\",\"\",DAY(記入済リスト!$B258))","v":""},{"$f":"IF(記入済リスト!$C258=\"\",\"\",記入済リスト!$C258)","v":""},{"$f":"IF(記入済リスト!$D258=\"\",\"\",記入済リスト!$D258)","v":""},{"$f":"IF(記入済リスト!$E258=\"\",\"\",記入済リスト!$E258)","v":""}]
[null,{"$f":"IF(記入済リスト!$B259=\"\",\"\",YEAR(記入済リスト!$B259))","v":""},{"$f":"IF(記入済リスト!$B259=\"\",\"\",MONTH(記入済リスト!$B259))","v":""},{"$f":"IF(記入済リスト!$B259=\"\",\"\",DAY(記入済リスト!$B259))","v":""},{"$f":"IF(記入済リスト!$C259=\"\",\"\",記入済リスト!$C259)","v":""},{"$f":"IF(記入済リスト!$D259=\"\",\"\",記入済リスト!$D259)","v":""},{"$f":"IF(記入済リスト!$E259=\"\",\"\",記入済リスト!$E259)","v":""}]
[null,{"$f":"IF(記入済リスト!$B260=\"\",\"\",YEAR(記入済リスト!$B260))","v":""},{"$f":"IF(記入済リスト!$B260=\"\",\"\",MONTH(記入済リスト!$B260))","v":""},{"$f":"IF(記入済リスト!$B260=\"\",\"\",DAY(記入済リスト!$B260))","v":""},{"$f":"IF(記入済リスト!$C260=\"\",\"\",記入済リスト!$C260)","v":""},{"$f":"IF(記入済リスト!$D260=\"\",\"\",記入済リスト!$D260)","v":""},{"$f":"IF(記入済リスト!$E260=\"\",\"\",記入済リスト!$E260)","v":""}]
[null,{"$f":"IF(記入済リスト!$B261=\"\",\"\",YEAR(記入済リスト!$B261))","v":""},{"$f":"IF(記入済リスト!$B261=\"\",\"\",MONTH(記入済リスト!$B261))","v":""},{"$f":"IF(記入済リスト!$B261=\"\",\"\",DAY(記入済リスト!$B261))","v":""},{"$f":"IF(記入済リスト!$C261=\"\",\"\",記入済リスト!$C261)","v":""},{"$f":"IF(記入済リスト!$D261=\"\",\"\",記入済リスト!$D261)","v":""},{"$f":"IF(記入済リスト!$E261=\"\",\"\",記入済リスト!$E261)","v":""}]
[null,{"$f":"IF(記入済リスト!$B262=\"\",\"\",YEAR(記入済リスト!$B262))","v":""},{"$f":"IF(記入済リスト!$B262=\"\",\"\",MONTH(記入済リスト!$B262))","v":""},{"$f":"IF(記入済リスト!$B262=\"\",\"\",DAY(記入済リスト!$B262))","v":""},{"$f":"IF(記入済リスト!$C262=\"\",\"\",記入済リスト!$C262)","v":""},{"$f":"IF(記入済リスト!$D262=\"\",\"\",記入済リスト!$D262)","v":""},{"$f":"IF(記入済リスト!$E262=\"\",\"\",記入済リスト!$E262)","v":""}]
[null,{"$f":"IF(記入済リスト!$B263=\"\",\"\",YEAR(記入済リスト!$B263))","v":""},{"$f":"IF(記入済リスト!$B263=\"\",\"\",MONTH(記入済リスト!$B263))","v":""},{"$f":"IF(記入済リスト!$B263=\"\",\"\",DAY(記入済リスト!$B263))","v":""},{"$f":"IF(記入済リスト!$C263=\"\",\"\",記入済リスト!$C263)","v":""},{"$f":"IF(記入済リスト!$D263=\"\",\"\",記入済リスト!$D263)","v":""},{"$f":"IF(記入済リスト!$E263=\"\",\"\",記入済リスト!$E263)","v":""}]
[null,{"$f":"IF(記入済リスト!$B264=\"\",\"\",YEAR(記入済リスト!$B264))","v":""},{"$f":"IF(記入済リスト!$B264=\"\",\"\",MONTH(記入済リスト!$B264))","v":""},{"$f":"IF(記入済リスト!$B264=\"\",\"\",DAY(記入済リスト!$B264))","v":""},{"$f":"IF(記入済リスト!$C264=\"\",\"\",記入済リスト!$C264)","v":""},{"$f":"IF(記入済リスト!$D264=\"\",\"\",記入済リスト!$D264)","v":""},{"$f":"IF(記入済リスト!$E264=\"\",\"\",記入済リスト!$E264)","v":""}]
[null,{"$f":"IF(記入済リスト!$B265=\"\",\"\",YEAR(記入済リスト!$B265))","v":""},{"$f":"IF(記入済リスト!$B265=\"\",\"\",MONTH(記入済リスト!$B265))","v":""},{"$f":"IF(記入済リスト!$B265=\"\",\"\",DAY(記入済リスト!$B265))","v":""},{"$f":"IF(記入済リスト!$C265=\"\",\"\",記入済リスト!$C265)","v":""},{"$f":"IF(記入済リスト!$D265=\"\",\"\",記入済リスト!$D265)","v":""},{"$f":"IF(記入済リスト!$E265=\"\",\"\",記入済リスト!$E265)","v":""}]
[null,{"$f":"IF(記入済リスト!$B266=\"\",\"\",YEAR(記入済リスト!$B266))","v":""},{"$f":"IF(記入済リスト!$B266=\"\",\"\",MONTH(記入済リスト!$B266))","v":""},{"$f":"IF(記入済リスト!$B266=\"\",\"\",DAY(記入済リスト!$B266))","v":""},{"$f":"IF(記入済リスト!$C266=\"\",\"\",記入済リスト!$C266)","v":""},{"$f":"IF(記入済リスト!$D266=\"\",\"\",記入済リスト!$D266)","v":""},{"$f":"IF(記入済リスト!$E266=\"\",\"\",記入済リスト!$E266)","v":""}]
[null,{"$f":"IF(記入済リスト!$B267=\"\",\"\",YEAR(記入済リスト!$B267))","v":""},{"$f":"IF(記入済リスト!$B267=\"\",\"\",MONTH(記入済リスト!$B267))","v":""},{"$f":"IF(記入済リスト!$B267=\"\",\"\",DAY(記入済リスト!$B267))","v":""},{"$f":"IF(記入済リスト!$C267=\"\",\"\",記入済リスト!$C267)","v":""},{"$f":"IF(記入済リスト!$D267=\"\",\"\",記入済リスト!$D267)","v":""},{"$f":"IF(記入済リスト!$E267=\"\",\"\",記入済リスト!$E267)","v":""}]
[null,{"$f":"IF(記入済リスト!$B268=\"\",\"\",YEAR(記入済リスト!$B268))","v":""},{"$f":"IF(記入済リスト!$B268=\"\",\"\",MONTH(記入済リスト!$B268))","v":""},{"$f":"IF(記入済リスト!$B268=\"\",\"\",DAY(記入済リスト!$B268))","v":""},{"$f":"IF(記入済リスト!$C268=\"\",\"\",記入済リスト!$C268)","v":""},{"$f":"IF(記入済リスト!$D268=\"\",\"\",記入済リスト!$D268)","v":""},{"$f":"IF(記入済リスト!$E268=\"\",\"\",記入済リスト!$E268)","v":""}]
[null,{"$f":"IF(記入済リスト!$B269=\"\",\"\",YEAR(記入済リスト!$B269))","v":""},{"$f":"IF(記入済リスト!$B269=\"\",\"\",MONTH(記入済リスト!$B269))","v":""},{"$f":"IF(記入済リスト!$B269=\"\",\"\",DAY(記入済リスト!$B269))","v":""},{"$f":"IF(記入済リスト!$C269=\"\",\"\",記入済リスト!$C269)","v":""},{"$f":"IF(記入済リスト!$D269=\"\",\"\",記入済リスト!$D269)","v":""},{"$f":"IF(記入済リスト!$E269=\"\",\"\",記入済リスト!$E269)","v":""}]
[null,{"$f":"IF(記入済リスト!$B270=\"\",\"\",YEAR(記入済リスト!$B270))","v":""},{"$f":"IF(記入済リスト!$B270=\"\",\"\",MONTH(記入済リスト!$B270))","v":""},{"$f":"IF(記入済リスト!$B270=\"\",\"\",DAY(記入済リスト!$B270))","v":""},{"$f":"IF(記入済リスト!$C270=\"\",\"\",記入済リスト!$C270)","v":""},{"$f":"IF(記入済リスト!$D270=\"\",\"\",記入済リスト!$D270)","v":""},{"$f":"IF(記入済リスト!$E270=\"\",\"\",記入済リスト!$E270)","v":""}]
[null,{"$f":"IF(記入済リスト!$B271=\"\",\"\",YEAR(記入済リスト!$B271))","v":""},{"$f":"IF(記入済リスト!$B271=\"\",\"\",MONTH(記入済リスト!$B271))","v":""},{"$f":"IF(記入済リスト!$B271=\"\",\"\",DAY(記入済リスト!$B271))","v":""},{"$f":"IF(記入済リスト!$C271=\"\",\"\",記入済リスト!$C271)","v":""},{"$f":"IF(記入済リスト!$D271=\"\",\"\",記入済リスト!$D271)","v":""},{"$f":"IF(記入済リスト!$E271=\"\",\"\",記入済リスト!$E271)","v":""}]
[null,{"$f":"IF(記入済リスト!$B272=\"\",\"\",YEAR(記入済リスト!$B272))","v":""},{"$f":"IF(記入済リスト!$B272=\"\",\"\",MONTH(記入済リスト!$B272))","v":""},{"$f":"IF(記入済リスト!$B272=\"\",\"\",DAY(記入済リスト!$B272))","v":""},{"$f":"IF(記入済リスト!$C272=\"\",\"\",記入済リスト!$C272)","v":""},{"$f":"IF(記入済リスト!$D272=\"\",\"\",記入済リスト!$D272)","v":""},{"$f":"IF(記入済リスト!$E272=\"\",\"\",記入済リスト!$E272)","v":""}]
[null,{"$f":"IF(記入済リスト!$B273=\"\",\"\",YEAR(記入済リスト!$B273))","v":""},{"$f":"IF(記入済リスト!$B273=\"\",\"\",MONTH(記入済リスト!$B273))","v":""},{"$f":"IF(記入済リスト!$B273=\"\",\"\",DAY(記入済リスト!$B273))","v":""},{"$f":"IF(記入済リスト!$C273=\"\",\"\",記入済リスト!$C273)","v":""},{"$f":"IF(記入済リスト!$D273=\"\",\"\",記入済リスト!$D273)","v":""},{"$f":"IF(記入済リスト!$E273=\"\",\"\",記入済リスト!$E273)","v":""}]
[null,{"$f":"IF(記入済リスト!$B274=\"\",\"\",YEAR(記入済リスト!$B274))","v":""},{"$f":"IF(記入済リスト!$B274=\"\",\"\",MONTH(記入済リスト!$B274))","v":""},{"$f":"IF(記入済リスト!$B274=\"\",\"\",DAY(記入済リスト!$B274))","v":""},{"$f":"IF(記入済リスト!$C274=\"\",\"\",記入済リスト!$C274)","v":""},{"$f":"IF(記入済リスト!$D274=\"\",\"\",記入済リスト!$D274)","v":""},{"$f":"IF(記入済リスト!$E274=\"\",\"\",記入済リスト!$E274)","v":""}]
[null,{"$f":"IF(記入済リスト!$B275=\"\",\"\",YEAR(記入済リスト!$B275))","v":""},{"$f":"IF(記入済リスト!$B275=\"\",\"\",MONTH(記入済リスト!$B275))","v":""},{"$f":"IF(記入済リスト!$B275=\"\",\"\",DAY(記入済リスト!$B275))","v":""},{"$f":"IF(記入済リスト!$C275=\"\",\"\",記入済リスト!$C275)","v":""},{"$f":"IF(記入済リスト!$D275=\"\",\"\",記入済リスト!$D275)","v":""},{"$f":"IF(記入済リスト!$E275=\"\",\"\",記入済リスト!$E275)","v":""}]
[null,{"$f":"IF(記入済リスト!$B276=\"\",\"\",YEAR(記入済リスト!$B276))","v":""},{"$f":"IF(記入済リスト!$B276=\"\",\"\",MONTH(記入済リスト!$B276))","v":""},{"$f":"IF(記入済リスト!$B276=\"\",\"\",DAY(記入済リスト!$B276))","v":""},{"$f":"IF(記入済リスト!$C276=\"\",\"\",記入済リスト!$C276)","v":""},{"$f":"IF(記入済リスト!$D276=\"\",\"\",記入済リスト!$D276)","v":""},{"$f":"IF(記入済リスト!$E276=\"\",\"\",記入済リスト!$E276)","v":""}]
[null,{"$f":"IF(記入済リスト!$B277=\"\",\"\",YEAR(記入済リスト!$B277))","v":""},{"$f":"IF(記入済リスト!$B277=\"\",\"\",MONTH(記入済リスト!$B277))","v":""},{"$f":"IF(記入済リスト!$B277=\"\",\"\",DAY(記入済リスト!$B277))","v":""},{"$f":"IF(記入済リスト!$C277=\"\",\"\",記入済リスト!$C277)","v":""},{"$f":"IF(記入済リスト!$D277=\"\",\"\",記入済リスト!$D277)","v":""},{"$f":"IF(記入済リスト!$E277=\"\",\"\",記入済リスト!$E277)","v":""}]
[null,{"$f":"IF(記入済リスト!$B278=\"\",\"\",YEAR(記入済リスト!$B278))","v":""},{"$f":"IF(記入済リスト!$B278=\"\",\"\",MONTH(記入済リスト!$B278))","v":""},{"$f":"IF(記入済リスト!$B278=\"\",\"\",DAY(記入済リスト!$B278))","v":""},{"$f":"IF(記入済リスト!$C278=\"\",\"\",記入済リスト!$C278)","v":""},{"$f":"IF(記入済リスト!$D278=\"\",\"\",記入済リスト!$D278)","v":""},{"$f":"IF(記入済リスト!$E278=\"\",\"\",記入済リスト!$E278)","v":""}]
[null,{"$f":"IF(記入済リスト!$B279=\"\",\"\",YEAR(記入済リスト!$B279))","v":""},{"$f":"IF(記入済リスト!$B279=\"\",\"\",MONTH(記入済リスト!$B279))","v":""},{"$f":"IF(記入済リスト!$B279=\"\",\"\",DAY(記入済リスト!$B279))","v":""},{"$f":"IF(記入済リスト!$C279=\"\",\"\",記入済リスト!$C279)","v":""},{"$f":"IF(記入済リスト!$D279=\"\",\"\",記入済リスト!$D279)","v":""},{"$f":"IF(記入済リスト!$E279=\"\",\"\",記入済リスト!$E279)","v":""}]
[null,{"$f":"IF(記入済リスト!$B280=\"\",\"\",YEAR(記入済リスト!$B280))","v":""},{"$f":"IF(記入済リスト!$B280=\"\",\"\",MONTH(記入済リスト!$B280))","v":""},{"$f":"IF(記入済リスト!$B280=\"\",\"\",DAY(記入済リスト!$B280))","v":""},{"$f":"IF(記入済リスト!$C280=\"\",\"\",記入済リスト!$C280)","v":""},{"$f":"IF(記入済リスト!$D280=\"\",\"\",記入済リスト!$D280)","v":""},{"$f":"IF(記入済リスト!$E280=\"\",\"\",記入済リスト!$E280)","v":""}]
[null,{"$f":"IF(記入済リスト!$B281=\"\",\"\",YEAR(記入済リスト!$B281))","v":""},{"$f":"IF(記入済リスト!$B281=\"\",\"\",MONTH(記入済リスト!$B281))","v":""},{"$f":"IF(記入済リスト!$B281=\"\",\"\",DAY(記入済リスト!$B281))","v":""},{"$f":"IF(記入済リスト!$C281=\"\",\"\",記入済リスト!$C281)","v":""},{"$f":"IF(記入済リスト!$D281=\"\",\"\",記入済リスト!$D281)","v":""},{"$f":"IF(記入済リスト!$E281=\"\",\"\",記入済リスト!$E281)","v":""}]
[null,{"$f":"IF(記入済リスト!$B282=\"\",\"\",YEAR(記入済リスト!$B282))","v":""},{"$f":"IF(記入済リスト!$B282=\"\",\"\",MONTH(記入済リスト!$B282))","v":""},{"$f":"IF(記入済リスト!$B282=\"\",\"\",DAY(記入済リスト!$B282))","v":""},{"$f":"IF(記入済リスト!$C282=\"\",\"\",記入済リスト!$C282)","v":""},{"$f":"IF(記入済リスト!$D282=\"\",\"\",記入済リスト!$D282)","v":""},{"$f":"IF(記入済リスト!$E282=\"\",\"\",記入済リスト!$E282)","v":""}]
[null,{"$f":"IF(記入済リスト!$B283=\"\",\"\",YEAR(記入済リスト!$B283))","v":""},{"$f":"IF(記入済リスト!$B283=\"\",\"\",MONTH(記入済リスト!$B283))","v":""},{"$f":"IF(記入済リスト!$B283=\"\",\"\",DAY(記入済リスト!$B283))","v":""},{"$f":"IF(記入済リスト!$C283=\"\",\"\",記入済リスト!$C283)","v":""},{"$f":"IF(記入済リスト!$D283=\"\",\"\",記入済リスト!$D283)","v":""},{"$f":"IF(記入済リスト!$E283=\"\",\"\",記入済リスト!$E283)","v":""}]
[null,{"$f":"IF(記入済リスト!$B284=\"\",\"\",YEAR(記入済リスト!$B284))","v":""},{"$f":"IF(記入済リスト!$B284=\"\",\"\",MONTH(記入済リスト!$B284))","v":""},{"$f":"IF(記入済リスト!$B284=\"\",\"\",DAY(記入済リスト!$B284))","v":""},{"$f":"IF(記入済リスト!$C284=\"\",\"\",記入済リスト!$C284)","v":""},{"$f":"IF(記入済リスト!$D284=\"\",\"\",記入済リスト!$D284)","v":""},{"$f":"IF(記入済リスト!$E284=\"\",\"\",記入済リスト!$E284)","v":""}]
[null,{"$f":"IF(記入済リスト!$B285=\"\",\"\",YEAR(記入済リスト!$B285))","v":""},{"$f":"IF(記入済リスト!$B285=\"\",\"\",MONTH(記入済リスト!$B285))","v":""},{"$f":"IF(記入済リスト!$B285=\"\",\"\",DAY(記入済リスト!$B285))","v":""},{"$f":"IF(記入済リスト!$C285=\"\",\"\",記入済リスト!$C285)","v":""},{"$f":"IF(記入済リスト!$D285=\"\",\"\",記入済リスト!$D285)","v":""},{"$f":"IF(記入済リスト!$E285=\"\",\"\",記入済リスト!$E285)","v":""}]
[null,{"$f":"IF(記入済リスト!$B286=\"\",\"\",YEAR(記入済リスト!$B286))","v":""},{"$f":"IF(記入済リスト!$B286=\"\",\"\",MONTH(記入済リスト!$B286))","v":""},{"$f":"IF(記入済リスト!$B286=\"\",\"\",DAY(記入済リスト!$B286))","v":""},{"$f":"IF(記入済リスト!$C286=\"\",\"\",記入済リスト!$C286)","v":""},{"$f":"IF(記入済リスト!$D286=\"\",\"\",記入済リスト!$D286)","v":""},{"$f":"IF(記入済リスト!$E286=\"\",\"\",記入済リスト!$E286)","v":""}]
[null,{"$f":"IF(記入済リスト!$B287=\"\",\"\",YEAR(記入済リスト!$B287))","v":""},{"$f":"IF(記入済リスト!$B287=\"\",\"\",MONTH(記入済リスト!$B287))","v":""},{"$f":"IF(記入済リスト!$B287=\"\",\"\",DAY(記入済リスト!$B287))","v":""},{"$f":"IF(記入済リスト!$C287=\"\",\"\",記入済リスト!$C287)","v":""},{"$f":"IF(記入済リスト!$D287=\"\",\"\",記入済リスト!$D287)","v":""},{"$f":"IF(記入済リスト!$E287=\"\",\"\",記入済リスト!$E287)","v":""}]
[null,{"$f":"IF(記入済リスト!$B288=\"\",\"\",YEAR(記入済リスト!$B288))","v":""},{"$f":"IF(記入済リスト!$B288=\"\",\"\",MONTH(記入済リスト!$B288))","v":""},{"$f":"IF(記入済リスト!$B288=\"\",\"\",DAY(記入済リスト!$B288))","v":""},{"$f":"IF(記入済リスト!$C288=\"\",\"\",記入済リスト!$C288)","v":""},{"$f":"IF(記入済リスト!$D288=\"\",\"\",記入済リスト!$D288)","v":""},{"$f":"IF(記入済リスト!$E288=\"\",\"\",記入済リスト!$E288)","v":""}]
[null,{"$f":"IF(記入済リスト!$B289=\"\",\"\",YEAR(記入済リスト!$B289))","v":""},{"$f":"IF(記入済リスト!$B289=\"\",\"\",MONTH(記入済リスト!$B289))","v":""},{"$f":"IF(記入済リスト!$B289=\"\",\"\",DAY(記入済リスト!$B289))","v":""},{"$f":"IF(記入済リスト!$C289=\"\",\"\",記入済リスト!$C289)","v":""},{"$f":"IF(記入済リスト!$D289=\"\",\"\",記入済リスト!$D289)","v":""},{"$f":"IF(記入済リスト!$E289=\"\",\"\",記入済リスト!$E289)","v":""}]
[null,{"$f":"IF(記入済リスト!$B290=\"\",\"\",YEAR(記入済リスト!$B290))","v":""},{"$f":"IF(記入済リスト!$B290=\"\",\"\",MONTH(記入済リスト!$B290))","v":""},{"$f":"IF(記入済リスト!$B290=\"\",\"\",DAY(記入済リスト!$B290))","v":""},{"$f":"IF(記入済リスト!$C290=\"\",\"\",記入済リスト!$C290)","v":""},{"$f":"IF(記入済リスト!$D290=\"\",\"\",記入済リスト!$D290)","v":""},{"$f":"IF(記入済リスト!$E290=\"\",\"\",記入済リスト!$E290)","v":""}]
[null,{"$f":"IF(記入済リスト!$B291=\"\",\"\",YEAR(記入済リスト!$B291))","v":""},{"$f":"IF(記入済リスト!$B291=\"\",\"\",MONTH(記入済リスト!$B291))","v":""},{"$f":"IF(記入済リスト!$B291=\"\",\"\",DAY(記入済リスト!$B291))","v":""},{"$f":"IF(記入済リスト!$C291=\"\",\"\",記入済リスト!$C291)","v":""},{"$f":"IF(記入済リスト!$D291=\"\",\"\",記入済リスト!$D291)","v":""},{"$f":"IF(記入済リスト!$E291=\"\",\"\",記入済リスト!$E291)","v":""}]
[null,{"$f":"IF(記入済リスト!$B292=\"\",\"\",YEAR(記入済リスト!$B292))","v":""},{"$f":"IF(記入済リスト!$B292=\"\",\"\",MONTH(記入済リスト!$B292))","v":""},{"$f":"IF(記入済リスト!$B292=\"\",\"\",DAY(記入済リスト!$B292))","v":""},{"$f":"IF(記入済リスト!$C292=\"\",\"\",記入済リスト!$C292)","v":""},{"$f":"IF(記入済リスト!$D292=\"\",\"\",記入済リスト!$D292)","v":""},{"$f":"IF(記入済リスト!$E292=\"\",\"\",記入済リスト!$E292)","v":""}]
[null,{"$f":"IF(記入済リスト!$B293=\"\",\"\",YEAR(記入済リスト!$B293))","v":""},{"$f":"IF(記入済リスト!$B293=\"\",\"\",MONTH(記入済リスト!$B293))","v":""},{"$f":"IF(記入済リスト!$B293=\"\",\"\",DAY(記入済リスト!$B293))","v":""},{"$f":"IF(記入済リスト!$C293=\"\",\"\",記入済リスト!$C293)","v":""},{"$f":"IF(記入済リスト!$D293=\"\",\"\",記入済リスト!$D293)","v":""},{"$f":"IF(記入済リスト!$E293=\"\",\"\",記入済リスト!$E293)","v":""}]
[null,{"$f":"IF(記入済リスト!$B294=\"\",\"\",YEAR(記入済リスト!$B294))","v":""},{"$f":"IF(記入済リスト!$B294=\"\",\"\",MONTH(記入済リスト!$B294))","v":""},{"$f":"IF(記入済リスト!$B294=\"\",\"\",DAY(記入済リスト!$B294))","v":""},{"$f":"IF(記入済リスト!$C294=\"\",\"\",記入済リスト!$C294)","v":""},{"$f":"IF(記入済リスト!$D294=\"\",\"\",記入済リスト!$D294)","v":""},{"$f":"IF(記入済リスト!$E294=\"\",\"\",記入済リスト!$E294)","v":""}]
[null,{"$f":"IF(記入済リスト!$B295=\"\",\"\",YEAR(記入済リスト!$B295))","v":""},{"$f":"IF(記入済リスト!$B295=\"\",\"\",MONTH(記入済リスト!$B295))","v":""},{"$f":"IF(記入済リスト!$B295=\"\",\"\",DAY(記入済リスト!$B295))","v":""},{"$f":"IF(記入済リスト!$C295=\"\",\"\",記入済リスト!$C295)","v":""},{"$f":"IF(記入済リスト!$D295=\"\",\"\",記入済リスト!$D295)","v":""},{"$f":"IF(記入済リスト!$E295=\"\",\"\",記入済リスト!$E295)","v":""}]
[null,{"$f":"IF(記入済リスト!$B296=\"\",\"\",YEAR(記入済リスト!$B296))","v":""},{"$f":"IF(記入済リスト!$B296=\"\",\"\",MONTH(記入済リスト!$B296))","v":""},{"$f":"IF(記入済リスト!$B296=\"\",\"\",DAY(記入済リスト!$B296))","v":""},{"$f":"IF(記入済リスト!$C296=\"\",\"\",記入済リスト!$C296)","v":""},{"$f":"IF(記入済リスト!$D296=\"\",\"\",記入済リスト!$D296)","v":""},{"$f":"IF(記入済リスト!$E296=\"\",\"\",記入済リスト!$E296)","v":""}]
[null,{"$f":"IF(記入済リスト!$B297=\"\",\"\",YEAR(記入済リスト!$B297))","v":""},{"$f":"IF(記入済リスト!$B297=\"\",\"\",MONTH(記入済リスト!$B297))","v":""},{"$f":"IF(記入済リスト!$B297=\"\",\"\",DAY(記入済リスト!$B297))","v":""},{"$f":"IF(記入済リスト!$C297=\"\",\"\",記入済リスト!$C297)","v":""},{"$f":"IF(記入済リスト!$D297=\"\",\"\",記入済リスト!$D297)","v":""},{"$f":"IF(記入済リスト!$E297=\"\",\"\",記入済リスト!$E297)","v":""}]
[null,{"$f":"IF(記入済リスト!$B298=\"\",\"\",YEAR(記入済リスト!$B298))","v":""},{"$f":"IF(記入済リスト!$B298=\"\",\"\",MONTH(記入済リスト!$B298))","v":""},{"$f":"IF(記入済リスト!$B298=\"\",\"\",DAY(記入済リスト!$B298))","v":""},{"$f":"IF(記入済リスト!$C298=\"\",\"\",記入済リスト!$C298)","v":""},{"$f":"IF(記入済リスト!$D298=\"\",\"\",記入済リスト!$D298)","v":""},{"$f":"IF(記入済リスト!$E298=\"\",\"\",記入済リスト!$E298)","v":""}]
[null,{"$f":"IF(記入済リスト!$B299=\"\",\"\",YEAR(記入済リスト!$B299))","v":""},{"$f":"IF(記入済リスト!$B299=\"\",\"\",MONTH(記入済リスト!$B299))","v":""},{"$f":"IF(記入済リスト!$B299=\"\",\"\",DAY(記入済リスト!$B299))","v":""},{"$f":"IF(記入済リスト!$C299=\"\",\"\",記入済リスト!$C299)","v":""},{"$f":"IF(記入済リスト!$D299=\"\",\"\",記入済リスト!$D299)","v":""},{"$f":"IF(記入済リスト!$E299=\"\",\"\",記入済リスト!$E299)","v":""}]
[null,{"$f":"IF(記入済リスト!$B300=\"\",\"\",YEAR(記入済リスト!$B300))","v":""},{"$f":"IF(記入済リスト!$B300=\"\",\"\",MONTH(記入済リスト!$B300))","v":""},{"$f":"IF(記入済リスト!$B300=\"\",\"\",DAY(記入済リスト!$B300))","v":""},{"$f":"IF(記入済リスト!$C300=\"\",\"\",記入済リスト!$C300)","v":""},{"$f":"IF(記入済リスト!$D300=\"\",\"\",記入済リスト!$D300)","v":""},{"$f":"IF(記入済リスト!$E300=\"\",\"\",記入済リスト!$E300)","v":""}]
[null,{"$f":"IF(記入済リスト!$B301=\"\",\"\",YEAR(記入済リスト!$B301))","v":""},{"$f":"IF(記入済リスト!$B301=\"\",\"\",MONTH(記入済リスト!$B301))","v":""},{"$f":"IF(記入済リスト!$B301=\"\",\"\",DAY(記入済リスト!$B301))","v":""},{"$f":"IF(記入済リスト!$C301=\"\",\"\",記入済リスト!$C301)","v":""},{"$f":"IF(記入済リスト!$D301=\"\",\"\",記入済リスト!$D301)","v":""},{"$f":"IF(記入済リスト!$E301=\"\",\"\",記入済リスト!$E301)","v":""}]
[null,{"$f":"IF(記入済リスト!$B302=\"\",\"\",YEAR(記入済リスト!$B302))","v":""},{"$f":"IF(記入済リスト!$B302=\"\",\"\",MONTH(記入済リスト!$B302))","v":""},{"$f":"IF(記入済リスト!$B302=\"\",\"\",DAY(記入済リスト!$B302))","v":""},{"$f":"IF(記入済リスト!$C302=\"\",\"\",記入済リスト!$C302)","v":""},{"$f":"IF(記入済リスト!$D302=\"\",\"\",記入済リスト!$D302)","v":""},{"$f":"IF(記入済リスト!$E302=\"\",\"\",記入済リスト!$E302)","v":""}]
[null,{"$f":"IF(記入済リスト!$B303=\"\",\"\",YEAR(記入済リスト!$B303))","v":""},{"$f":"IF(記入済リスト!$B303=\"\",\"\",MONTH(記入済リスト!$B303))","v":""},{"$f":"IF(記入済リスト!$B303=\"\",\"\",DAY(記入済リスト!$B303))","v":""},{"$f":"IF(記入済リスト!$C303=\"\",\"\",記入済リスト!$C303)","v":""},{"$f":"IF(記入済リスト!$D303=\"\",\"\",記入済リスト!$D303)","v":""},{"$f":"IF(記入済リスト!$E303=\"\",\"\",記入済リスト!$E303)","v":""}]
[null,{"$f":"IF(記入済リスト!$B304=\"\",\"\",YEAR(記入済リスト!$B304))","v":""},{"$f":"IF(記入済リスト!$B304=\"\",\"\",MONTH(記入済リスト!$B304))","v":""},{"$f":"IF(記入済リスト!$B304=\"\",\"\",DAY(記入済リスト!$B304))","v":""},{"$f":"IF(記入済リスト!$C304=\"\",\"\",記入済リスト!$C304)","v":""},{"$f":"IF(記入済リスト!$D304=\"\",\"\",記入済リスト!$D304)","v":""},{"$f":"IF(記入済リスト!$E304=\"\",\"\",記入済リスト!$E304)","v":""}]
[null,{"$f":"IF(記入済リスト!$B305=\"\",\"\",YEAR(記入済リスト!$B305))","v":""},{"$f":"IF(記入済リスト!$B305=\"\",\"\",MONTH(記入済リスト!$B305))","v":""},{"$f":"IF(記入済リスト!$B305=\"\",\"\",DAY(記入済リスト!$B305))","v":""},{"$f":"IF(記入済リスト!$C305=\"\",\"\",記入済リスト!$C305)","v":""},{"$f":"IF(記入済リスト!$D305=\"\",\"\",記入済リスト!$D305)","v":""},{"$f":"IF(記入済リスト!$E305=\"\",\"\",記入済リスト!$E305)","v":""}]
[null,{"$f":"IF(記入済リスト!$B306=\"\",\"\",YEAR(記入済リスト!$B306))","v":""},{"$f":"IF(記入済リスト!$B306=\"\",\"\",MONTH(記入済リスト!$B306))","v":""},{"$f":"IF(記入済リスト!$B306=\"\",\"\",DAY(記入済リスト!$B306))","v":""},{"$f":"IF(記入済リスト!$C306=\"\",\"\",記入済リスト!$C306)","v":""},{"$f":"IF(記入済リスト!$D306=\"\",\"\",記入済リスト!$D306)","v":""},{"$f":"IF(記入済リスト!$E306=\"\",\"\",記入済リスト!$E306)","v":""}]
[null,{"$f":"IF(記入済リスト!$B307=\"\",\"\",YEAR(記入済リスト!$B307))","v":""},{"$f":"IF(記入済リスト!$B307=\"\",\"\",MONTH(記入済リスト!$B307))","v":""},{"$f":"IF(記入済リスト!$B307=\"\",\"\",DAY(記入済リスト!$B307))","v":""},{"$f":"IF(記入済リスト!$C307=\"\",\"\",記入済リスト!$C307)","v":""},{"$f":"IF(記入済リスト!$D307=\"\",\"\",記入済リスト!$D307)","v":""},{"$f":"IF(記入済リスト!$E307=\"\",\"\",記入済リスト!$E307)","v":""}]
[null,{"$f":"IF(記入済リスト!$B308=\"\",\"\",YEAR(記入済リスト!$B308))","v":""},{"$f":"IF(記入済リスト!$B308=\"\",\"\",MONTH(記入済リスト!$B308))","v":""},{"$f":"IF(記入済リスト!$B308=\"\",\"\",DAY(記入済リスト!$B308))","v":""},{"$f":"IF(記入済リスト!$C308=\"\",\"\",記入済リスト!$C308)","v":""},{"$f":"IF(記入済リスト!$D308=\"\",\"\",記入済リスト!$D308)","v":""},{"$f":"IF(記入済リスト!$E308=\"\",\"\",記入済リスト!$E308)","v":""}]
[null,{"$f":"IF(記入済リスト!$B309=\"\",\"\",YEAR(記入済リスト!$B309))","v":""},{"$f":"IF(記入済リスト!$B309=\"\",\"\",MONTH(記入済リスト!$B309))","v":""},{"$f":"IF(記入済リスト!$B309=\"\",\"\",DAY(記入済リスト!$B309))","v":""},{"$f":"IF(記入済リスト!$C309=\"\",\"\",記入済リスト!$C309)","v":""},{"$f":"IF(記入済リスト!$D309=\"\",\"\",記入済リスト!$D309)","v":""},{"$f":"IF(記入済リスト!$E309=\"\",\"\",記入済リスト!$E309)","v":""}]
[null,{"$f":"IF(記入済リスト!$B310=\"\",\"\",YEAR(記入済リスト!$B310))","v":""},{"$f":"IF(記入済リスト!$B310=\"\",\"\",MONTH(記入済リスト!$B310))","v":""},{"$f":"IF(記入済リスト!$B310=\"\",\"\",DAY(記入済リスト!$B310))","v":""},{"$f":"IF(記入済リスト!$C310=\"\",\"\",記入済リスト!$C310)","v":""},{"$f":"IF(記入済リスト!$D310=\"\",\"\",記入済リスト!$D310)","v":""},{"$f":"IF(記入済リスト!$E310=\"\",\"\",記入済リスト!$E310)","v":""}]
[null,{"$f":"IF(記入済リスト!$B311=\"\",\"\",YEAR(記入済リスト!$B311))","v":""},{"$f":"IF(記入済リスト!$B311=\"\",\"\",MONTH(記入済リスト!$B311))","v":""},{"$f":"IF(記入済リスト!$B311=\"\",\"\",DAY(記入済リスト!$B311))","v":""},{"$f":"IF(記入済リスト!$C311=\"\",\"\",記入済リスト!$C311)","v":""},{"$f":"IF(記入済リスト!$D311=\"\",\"\",記入済リスト!$D311)","v":""},{"$f":"IF(記入済リスト!$E311=\"\",\"\",記入済リスト!$E311)","v":""}]
[null,{"$f":"IF(記入済リスト!$B312=\"\",\"\",YEAR(記入済リスト!$B312))","v":""},{"$f":"IF(記入済リスト!$B312=\"\",\"\",MONTH(記入済リスト!$B312))","v":""},{"$f":"IF(記入済リスト!$B312=\"\",\"\",DAY(記入済リスト!$B312))","v":""},{"$f":"IF(記入済リスト!$C312=\"\",\"\",記入済リスト!$C312)","v":""},{"$f":"IF(記入済リスト!$D312=\"\",\"\",記入済リスト!$D312)","v":""},{"$f":"IF(記入済リスト!$E312=\"\",\"\",記入済リスト!$E312)","v":""}]
[null,{"$f":"IF(記入済リスト!$B313=\"\",\"\",YEAR(記入済リスト!$B313))","v":""},{"$f":"IF(記入済リスト!$B313=\"\",\"\",MONTH(記入済リスト!$B313))","v":""},{"$f":"IF(記入済リスト!$B313=\"\",\"\",DAY(記入済リスト!$B313))","v":""},{"$f":"IF(記入済リスト!$C313=\"\",\"\",記入済リスト!$C313)","v":""},{"$f":"IF(記入済リスト!$D313=\"\",\"\",記入済リスト!$D313)","v":""},{"$f":"IF(記入済リスト!$E313=\"\",\"\",記入済リスト!$E313)","v":""}]
[null,{"$f":"IF(記入済リスト!$B314=\"\",\"\",YEAR(記入済リスト!$B314))","v":""},{"$f":"IF(記入済リスト!$B314=\"\",\"\",MONTH(記入済リスト!$B314))","v":""},{"$f":"IF(記入済リスト!$B314=\"\",\"\",DAY(記入済リスト!$B314))","v":""},{"$f":"IF(記入済リスト!$C314=\"\",\"\",記入済リスト!$C314)","v":""},{"$f":"IF(記入済リスト!$D314=\"\",\"\",記入済リスト!$D314)","v":""},{"$f":"IF(記入済リスト!$E314=\"\",\"\",記入済リスト!$E314)","v":""}]
[null,{"$f":"IF(記入済リスト!$B315=\"\",\"\",YEAR(記入済リスト!$B315))","v":""},{"$f":"IF(記入済リスト!$B315=\"\",\"\",MONTH(記入済リスト!$B315))","v":""},{"$f":"IF(記入済リスト!$B315=\"\",\"\",DAY(記入済リスト!$B315))","v":""},{"$f":"IF(記入済リスト!$C315=\"\",\"\",記入済リスト!$C315)","v":""},{"$f":"IF(記入済リスト!$D315=\"\",\"\",記入済リスト!$D315)","v":""},{"$f":"IF(記入済リスト!$E315=\"\",\"\",記入済リスト!$E315)","v":""}]
[null,{"$f":"IF(記入済リスト!$B316=\"\",\"\",YEAR(記入済リスト!$B316))","v":""},{"$f":"IF(記入済リスト!$B316=\"\",\"\",MONTH(記入済リスト!$B316))","v":""},{"$f":"IF(記入済リスト!$B316=\"\",\"\",DAY(記入済リスト!$B316))","v":""},{"$f":"IF(記入済リスト!$C316=\"\",\"\",記入済リスト!$C316)","v":""},{"$f":"IF(記入済リスト!$D316=\"\",\"\",記入済リスト!$D316)","v":""},{"$f":"IF(記入済リスト!$E316=\"\",\"\",記入済リスト!$E316)","v":""}]
[null,{"$f":"IF(記入済リスト!$B317=\"\",\"\",YEAR(記入済リスト!$B317))","v":""},{"$f":"IF(記入済リスト!$B317=\"\",\"\",MONTH(記入済リスト!$B317))","v":""},{"$f":"IF(記入済リスト!$B317=\"\",\"\",DAY(記入済リスト!$B317))","v":""},{"$f":"IF(記入済リスト!$C317=\"\",\"\",記入済リスト!$C317)","v":""},{"$f":"IF(記入済リスト!$D317=\"\",\"\",記入済リスト!$D317)","v":""},{"$f":"IF(記入済リスト!$E317=\"\",\"\",記入済リスト!$E317)","v":""}]
[null,{"$f":"IF(記入済リスト!$B318=\"\",\"\",YEAR(記入済リスト!$B318))","v":""},{"$f":"IF(記入済リスト!$B318=\"\",\"\",MONTH(記入済リスト!$B318))","v":""},{"$f":"IF(記入済リスト!$B318=\"\",\"\",DAY(記入済リスト!$B318))","v":""},{"$f":"IF(記入済リスト!$C318=\"\",\"\",記入済リスト!$C318)","v":""},{"$f":"IF(記入済リスト!$D318=\"\",\"\",記入済リスト!$D318)","v":""},{"$f":"IF(記入済リスト!$E318=\"\",\"\",記入済リスト!$E318)","v":""}]
[null,{"$f":"IF(記入済リスト!$B319=\"\",\"\",YEAR(記入済リスト!$B319))","v":""},{"$f":"IF(記入済リスト!$B319=\"\",\"\",MONTH(記入済リスト!$B319))","v":""},{"$f":"IF(記入済リスト!$B319=\"\",\"\",DAY(記入済リスト!$B319))","v":""},{"$f":"IF(記入済リスト!$C319=\"\",\"\",記入済リスト!$C319)","v":""},{"$f":"IF(記入済リスト!$D319=\"\",\"\",記入済リスト!$D319)","v":""},{"$f":"IF(記入済リスト!$E319=\"\",\"\",記入済リスト!$E319)","v":""}]
[null,{"$f":"IF(記入済リスト!$B320=\"\",\"\",YEAR(記入済リスト!$B320))","v":""},{"$f":"IF(記入済リスト!$B320=\"\",\"\",MONTH(記入済リスト!$B320))","v":""},{"$f":"IF(記入済リスト!$B320=\"\",\"\",DAY(記入済リスト!$B320))","v":""},{"$f":"IF(記入済リスト!$C320=\"\",\"\",記入済リスト!$C320)","v":""},{"$f":"IF(記入済リスト!$D320=\"\",\"\",記入済リスト!$D320)","v":""},{"$f":"IF(記入済リスト!$E320=\"\",\"\",記入済リスト!$E320)","v":""}]
[null,{"$f":"IF(記入済リスト!$B321=\"\",\"\",YEAR(記入済リスト!$B321))","v":""},{"$f":"IF(記入済リスト!$B321=\"\",\"\",MONTH(記入済リスト!$B321))","v":""},{"$f":"IF(記入済リスト!$B321=\"\",\"\",DAY(記入済リスト!$B321))","v":""},{"$f":"IF(記入済リスト!$C321=\"\",\"\",記入済リスト!$C321)","v":""},{"$f":"IF(記入済リスト!$D321=\"\",\"\",記入済リスト!$D321)","v":""},{"$f":"IF(記入済リスト!$E321=\"\",\"\",記入済リスト!$E321)","v":""}]
[null,{"$f":"IF(記入済リスト!$B322=\"\",\"\",YEAR(記入済リスト!$B322))","v":""},{"$f":"IF(記入済リスト!$B322=\"\",\"\",MONTH(記入済リスト!$B322))","v":""},{"$f":"IF(記入済リスト!$B322=\"\",\"\",DAY(記入済リスト!$B322))","v":""},{"$f":"IF(記入済リスト!$C322=\"\",\"\",記入済リスト!$C322)","v":""},{"$f":"IF(記入済リスト!$D322=\"\",\"\",記入済リスト!$D322)","v":""},{"$f":"IF(記入済リスト!$E322=\"\",\"\",記入済リスト!$E322)","v":""}]
[null,{"$f":"IF(記入済リスト!$B323=\"\",\"\",YEAR(記入済リスト!$B323))","v":""},{"$f":"IF(記入済リスト!$B323=\"\",\"\",MONTH(記入済リスト!$B323))","v":""},{"$f":"IF(記入済リスト!$B323=\"\",\"\",DAY(記入済リスト!$B323))","v":""},{"$f":"IF(記入済リスト!$C323=\"\",\"\",記入済リスト!$C323)","v":""},{"$f":"IF(記入済リスト!$D323=\"\",\"\",記入済リスト!$D323)","v":""},{"$f":"IF(記入済リスト!$E323=\"\",\"\",記入済リスト!$E323)","v":""}]
[null,{"$f":"IF(記入済リスト!$B324=\"\",\"\",YEAR(記入済リスト!$B324))","v":""},{"$f":"IF(記入済リスト!$B324=\"\",\"\",MONTH(記入済リスト!$B324))","v":""},{"$f":"IF(記入済リスト!$B324=\"\",\"\",DAY(記入済リスト!$B324))","v":""},{"$f":"IF(記入済リスト!$C324=\"\",\"\",記入済リスト!$C324)","v":""},{"$f":"IF(記入済リスト!$D324=\"\",\"\",記入済リスト!$D324)","v":""},{"$f":"IF(記入済リスト!$E324=\"\",\"\",記入済リスト!$E324)","v":""}]
[null,{"$f":"IF(記入済リスト!$B325=\"\",\"\",YEAR(記入済リスト!$B325))","v":""},{"$f":"IF(記入済リスト!$B325=\"\",\"\",MONTH(記入済リスト!$B325))","v":""},{"$f":"IF(記入済リスト!$B325=\"\",\"\",DAY(記入済リスト!$B325))","v":""},{"$f":"IF(記入済リスト!$C325=\"\",\"\",記入済リスト!$C325)","v":""},{"$f":"IF(記入済リスト!$D325=\"\",\"\",記入済リスト!$D325)","v":""},{"$f":"IF(記入済リスト!$E325=\"\",\"\",記入済リスト!$E325)","v":""}]
[null,{"$f":"IF(記入済リスト!$B326=\"\",\"\",YEAR(記入済リスト!$B326))","v":""},{"$f":"IF(記入済リスト!$B326=\"\",\"\",MONTH(記入済リスト!$B326))","v":""},{"$f":"IF(記入済リスト!$B326=\"\",\"\",DAY(記入済リスト!$B326))","v":""},{"$f":"IF(記入済リスト!$C326=\"\",\"\",記入済リスト!$C326)","v":""},{"$f":"IF(記入済リスト!$D326=\"\",\"\",記入済リスト!$D326)","v":""},{"$f":"IF(記入済リスト!$E326=\"\",\"\",記入済リスト!$E326)","v":""}]
[null,{"$f":"IF(記入済リスト!$B327=\"\",\"\",YEAR(記入済リスト!$B327))","v":""},{"$f":"IF(記入済リスト!$B327=\"\",\"\",MONTH(記入済リスト!$B327))","v":""},{"$f":"IF(記入済リスト!$B327=\"\",\"\",DAY(記入済リスト!$B327))","v":""},{"$f":"IF(記入済リスト!$C327=\"\",\"\",記入済リスト!$C327)","v":""},{"$f":"IF(記入済リスト!$D327=\"\",\"\",記入済リスト!$D327)","v":""},{"$f":"IF(記入済リスト!$E327=\"\",\"\",記入済リスト!$E327)","v":""}]
[null,{"$f":"IF(記入済リスト!$B328=\"\",\"\",YEAR(記入済リスト!$B328))","v":""},{"$f":"IF(記入済リスト!$B328=\"\",\"\",MONTH(記入済リスト!$B328))","v":""},{"$f":"IF(記入済リスト!$B328=\"\",\"\",DAY(記入済リスト!$B328))","v":""},{"$f":"IF(記入済リスト!$C328=\"\",\"\",記入済リスト!$C328)","v":""},{"$f":"IF(記入済リスト!$D328=\"\",\"\",記入済リスト!$D328)","v":""},{"$f":"IF(記入済リスト!$E328=\"\",\"\",記入済リスト!$E328)","v":""}]
[null,{"$f":"IF(記入済リスト!$B329=\"\",\"\",YEAR(記入済リスト!$B329))","v":""},{"$f":"IF(記入済リスト!$B329=\"\",\"\",MONTH(記入済リスト!$B329))","v":""},{"$f":"IF(記入済リスト!$B329=\"\",\"\",DAY(記入済リスト!$B329))","v":""},{"$f":"IF(記入済リスト!$C329=\"\",\"\",記入済リスト!$C329)","v":""},{"$f":"IF(記入済リスト!$D329=\"\",\"\",記入済リスト!$D329)","v":""},{"$f":"IF(記入済リスト!$E329=\"\",\"\",記入済リスト!$E329)","v":""}]
[null,{"$f":"IF(記入済リスト!$B330=\"\",\"\",YEAR(記入済リスト!$B330))","v":""},{"$f":"IF(記入済リスト!$B330=\"\",\"\",MONTH(記入済リスト!$B330))","v":""},{"$f":"IF(記入済リスト!$B330=\"\",\"\",DAY(記入済リスト!$B330))","v":""},{"$f":"IF(記入済リスト!$C330=\"\",\"\",記入済リスト!$C330)","v":""},{"$f":"IF(記入済リスト!$D330=\"\",\"\",記入済リスト!$D330)","v":""},{"$f":"IF(記入済リスト!$E330=\"\",\"\",記入済リスト!$E330)","v":""}]
[null,{"$f":"IF(記入済リスト!$B331=\"\",\"\",YEAR(記入済リスト!$B331))","v":""},{"$f":"IF(記入済リスト!$B331=\"\",\"\",MONTH(記入済リスト!$B331))","v":""},{"$f":"IF(記入済リスト!$B331=\"\",\"\",DAY(記入済リスト!$B331))","v":""},{"$f":"IF(記入済リスト!$C331=\"\",\"\",記入済リスト!$C331)","v":""},{"$f":"IF(記入済リスト!$D331=\"\",\"\",記入済リスト!$D331)","v":""},{"$f":"IF(記入済リスト!$E331=\"\",\"\",記入済リスト!$E331)","v":""}]
[null,{"$f":"IF(記入済リスト!$B332=\"\",\"\",YEAR(記入済リスト!$B332))","v":""},{"$f":"IF(記入済リスト!$B332=\"\",\"\",MONTH(記入済リスト!$B332))","v":""},{"$f":"IF(記入済リスト!$B332=\"\",\"\",DAY(記入済リスト!$B332))","v":""},{"$f":"IF(記入済リスト!$C332=\"\",\"\",記入済リスト!$C332)","v":""},{"$f":"IF(記入済リスト!$D332=\"\",\"\",記入済リスト!$D332)","v":""},{"$f":"IF(記入済リスト!$E332=\"\",\"\",記入済リスト!$E332)","v":""}]
[null,{"$f":"IF(記入済リスト!$B333=\"\",\"\",YEAR(記入済リスト!$B333))","v":""},{"$f":"IF(記入済リスト!$B333=\"\",\"\",MONTH(記入済リスト!$B333))","v":""},{"$f":"IF(記入済リスト!$B333=\"\",\"\",DAY(記入済リスト!$B333))","v":""},{"$f":"IF(記入済リスト!$C333=\"\",\"\",記入済リスト!$C333)","v":""},{"$f":"IF(記入済リスト!$D333=\"\",\"\",記入済リスト!$D333)","v":""},{"$f":"IF(記入済リスト!$E333=\"\",\"\",記入済リスト!$E333)","v":""}]
[null,{"$f":"IF(記入済リスト!$B334=\"\",\"\",YEAR(記入済リスト!$B334))","v":""},{"$f":"IF(記入済リスト!$B334=\"\",\"\",MONTH(記入済リスト!$B334))","v":""},{"$f":"IF(記入済リスト!$B334=\"\",\"\",DAY(記入済リスト!$B334))","v":""},{"$f":"IF(記入済リスト!$C334=\"\",\"\",記入済リスト!$C334)","v":""},{"$f":"IF(記入済リスト!$D334=\"\",\"\",記入済リスト!$D334)","v":""},{"$f":"IF(記入済リスト!$E334=\"\",\"\",記入済リスト!$E334)","v":""}]
[null,{"$f":"IF(記入済リスト!$B335=\"\",\"\",YEAR(記入済リスト!$B335))","v":""},{"$f":"IF(記入済リスト!$B335=\"\",\"\",MONTH(記入済リスト!$B335))","v":""},{"$f":"IF(記入済リスト!$B335=\"\",\"\",DAY(記入済リスト!$B335))","v":""},{"$f":"IF(記入済リスト!$C335=\"\",\"\",記入済リスト!$C335)","v":""},{"$f":"IF(記入済リスト!$D335=\"\",\"\",記入済リスト!$D335)","v":""},{"$f":"IF(記入済リスト!$E335=\"\",\"\",記入済リスト!$E335)","v":""}]
[null,{"$f":"IF(記入済リスト!$B336=\"\",\"\",YEAR(記入済リスト!$B336))","v":""},{"$f":"IF(記入済リスト!$B336=\"\",\"\",MONTH(記入済リスト!$B336))","v":""},{"$f":"IF(記入済リスト!$B336=\"\",\"\",DAY(記入済リスト!$B336))","v":""},{"$f":"IF(記入済リスト!$C336=\"\",\"\",記入済リスト!$C336)","v":""},{"$f":"IF(記入済リスト!$D336=\"\",\"\",記入済リスト!$D336)","v":""},{"$f":"IF(記入済リスト!$E336=\"\",\"\",記入済リスト!$E336)","v":""}]
[null,{"$f":"IF(記入済リスト!$B337=\"\",\"\",YEAR(記入済リスト!$B337))","v":""},{"$f":"IF(記入済リスト!$B337=\"\",\"\",MONTH(記入済リスト!$B337))","v":""},{"$f":"IF(記入済リスト!$B337=\"\",\"\",DAY(記入済リスト!$B337))","v":""},{"$f":"IF(記入済リスト!$C337=\"\",\"\",記入済リスト!$C337)","v":""},{"$f":"IF(記入済リスト!$D337=\"\",\"\",記入済リスト!$D337)","v":""},{"$f":"IF(記入済リスト!$E337=\"\",\"\",記入済リスト!$E337)","v":""}]
[null,{"$f":"IF(記入済リスト!$B338=\"\",\"\",YEAR(記入済リスト!$B338))","v":""},{"$f":"IF(記入済リスト!$B338=\"\",\"\",MONTH(記入済リスト!$B338))","v":""},{"$f":"IF(記入済リスト!$B338=\"\",\"\",DAY(記入済リスト!$B338))","v":""},{"$f":"IF(記入済リスト!$C338=\"\",\"\",記入済リスト!$C338)","v":""},{"$f":"IF(記入済リスト!$D338=\"\",\"\",記入済リスト!$D338)","v":""},{"$f":"IF(記入済リスト!$E338=\"\",\"\",記入済リスト!$E338)","v":""}]
[null,{"$f":"IF(記入済リスト!$B339=\"\",\"\",YEAR(記入済リスト!$B339))","v":""},{"$f":"IF(記入済リスト!$B339=\"\",\"\",MONTH(記入済リスト!$B339))","v":""},{"$f":"IF(記入済リスト!$B339=\"\",\"\",DAY(記入済リスト!$B339))","v":""},{"$f":"IF(記入済リスト!$C339=\"\",\"\",記入済リスト!$C339)","v":""},{"$f":"IF(記入済リスト!$D339=\"\",\"\",記入済リスト!$D339)","v":""},{"$f":"IF(記入済リスト!$E339=\"\",\"\",記入済リスト!$E339)","v":""}]
[null,{"$f":"IF(記入済リスト!$B340=\"\",\"\",YEAR(記入済リスト!$B340))","v":""},{"$f":"IF(記入済リスト!$B340=\"\",\"\",MONTH(記入済リスト!$B340))","v":""},{"$f":"IF(記入済リスト!$B340=\"\",\"\",DAY(記入済リスト!$B340))","v":""},{"$f":"IF(記入済リスト!$C340=\"\",\"\",記入済リスト!$C340)","v":""},{"$f":"IF(記入済リスト!$D340=\"\",\"\",記入済リスト!$D340)","v":""},{"$f":"IF(記入済リスト!$E340=\"\",\"\",記入済リスト!$E340)","v":""}]
[null,{"$f":"IF(記入済リスト!$B341=\"\",\"\",YEAR(記入済リスト!$B341))","v":""},{"$f":"IF(記入済リスト!$B341=\"\",\"\",MONTH(記入済リスト!$B341))","v":""},{"$f":"IF(記入済リスト!$B341=\"\",\"\",DAY(記入済リスト!$B341))","v":""},{"$f":"IF(記入済リスト!$C341=\"\",\"\",記入済リスト!$C341)","v":""},{"$f":"IF(記入済リスト!$D341=\"\",\"\",記入済リスト!$D341)","v":""},{"$f":"IF(記入済リスト!$E341=\"\",\"\",記入済リスト!$E341)","v":""}]
[null,{"$f":"IF(記入済リスト!$B342=\"\",\"\",YEAR(記入済リスト!$B342))","v":""},{"$f":"IF(記入済リスト!$B342=\"\",\"\",MONTH(記入済リスト!$B342))","v":""},{"$f":"IF(記入済リスト!$B342=\"\",\"\",DAY(記入済リスト!$B342))","v":""},{"$f":"IF(記入済リスト!$C342=\"\",\"\",記入済リスト!$C342)","v":""},{"$f":"IF(記入済リスト!$D342=\"\",\"\",記入済リスト!$D342)","v":""},{"$f":"IF(記入済リスト!$E342=\"\",\"\",記入済リスト!$E342)","v":""}]
[null,{"$f":"IF(記入済リスト!$B343=\"\",\"\",YEAR(記入済リスト!$B343))","v":""},{"$f":"IF(記入済リスト!$B343=\"\",\"\",MONTH(記入済リスト!$B343))","v":""},{"$f":"IF(記入済リスト!$B343=\"\",\"\",DAY(記入済リスト!$B343))","v":""},{"$f":"IF(記入済リスト!$C343=\"\",\"\",記入済リスト!$C343)","v":""},{"$f":"IF(記入済リスト!$D343=\"\",\"\",記入済リスト!$D343)","v":""},{"$f":"IF(記入済リスト!$E343=\"\",\"\",記入済リスト!$E343)","v":""}]
[null,{"$f":"IF(記入済リスト!$B344=\"\",\"\",YEAR(記入済リスト!$B344))","v":""},{"$f":"IF(記入済リスト!$B344=\"\",\"\",MONTH(記入済リスト!$B344))","v":""},{"$f":"IF(記入済リスト!$B344=\"\",\"\",DAY(記入済リスト!$B344))","v":""},{"$f":"IF(記入済リスト!$C344=\"\",\"\",記入済リスト!$C344)","v":""},{"$f":"IF(記入済リスト!$D344=\"\",\"\",記入済リスト!$D344)","v":""},{"$f":"IF(記入済リスト!$E344=\"\",\"\",記入済リスト!$E344)","v":""}]
[null,{"$f":"IF(記入済リスト!$B345=\"\",\"\",YEAR(記入済リスト!$B345))","v":""},{"$f":"IF(記入済リスト!$B345=\"\",\"\",MONTH(記入済リスト!$B345))","v":""},{"$f":"IF(記入済リスト!$B345=\"\",\"\",DAY(記入済リスト!$B345))","v":""},{"$f":"IF(記入済リスト!$C345=\"\",\"\",記入済リスト!$C345)","v":""},{"$f":"IF(記入済リスト!$D345=\"\",\"\",記入済リスト!$D345)","v":""},{"$f":"IF(記入済リスト!$E345=\"\",\"\",記入済リスト!$E345)","v":""}]
[null,{"$f":"IF(記入済リスト!$B346=\"\",\"\",YEAR(記入済リスト!$B346))","v":""},{"$f":"IF(記入済リスト!$B346=\"\",\"\",MONTH(記入済リスト!$B346))","v":""},{"$f":"IF(記入済リスト!$B346=\"\",\"\",DAY(記入済リスト!$B346))","v":""},{"$f":"IF(記入済リスト!$C346=\"\",\"\",記入済リスト!$C346)","v":""},{"$f":"IF(記入済リスト!$D346=\"\",\"\",記入済リスト!$D346)","v":""},{"$f":"IF(記入済リスト!$E346=\"\",\"\",記入済リスト!$E346)","v":""}]
[null,{"$f":"IF(記入済リスト!$B347=\"\",\"\",YEAR(記入済リスト!$B347))","v":""},{"$f":"IF(記入済リスト!$B347=\"\",\"\",MONTH(記入済リスト!$B347))","v":""},{"$f":"IF(記入済リスト!$B347=\"\",\"\",DAY(記入済リスト!$B347))","v":""},{"$f":"IF(記入済リスト!$C347=\"\",\"\",記入済リスト!$C347)","v":""},{"$f":"IF(記入済リスト!$D347=\"\",\"\",記入済リスト!$D347)","v":""},{"$f":"IF(記入済リスト!$E347=\"\",\"\",記入済リスト!$E347)","v":""}]
[null,{"$f":"IF(記入済リスト!$B348=\"\",\"\",YEAR(記入済リスト!$B348))","v":""},{"$f":"IF(記入済リスト!$B348=\"\",\"\",MONTH(記入済リスト!$B348))","v":""},{"$f":"IF(記入済リスト!$B348=\"\",\"\",DAY(記入済リスト!$B348))","v":""},{"$f":"IF(記入済リスト!$C348=\"\",\"\",記入済リスト!$C348)","v":""},{"$f":"IF(記入済リスト!$D348=\"\",\"\",記入済リスト!$D348)","v":""},{"$f":"IF(記入済リスト!$E348=\"\",\"\",記入済リスト!$E348)","v":""}]
[null,{"$f":"IF(記入済リスト!$B349=\"\",\"\",YEAR(記入済リスト!$B349))","v":""},{"$f":"IF(記入済リスト!$B349=\"\",\"\",MONTH(記入済リスト!$B349))","v":""},{"$f":"IF(記入済リスト!$B349=\"\",\"\",DAY(記入済リスト!$B349))","v":""},{"$f":"IF(記入済リスト!$C349=\"\",\"\",記入済リスト!$C349)","v":""},{"$f":"IF(記入済リスト!$D349=\"\",\"\",記入済リスト!$D349)","v":""},{"$f":"IF(記入済リスト!$E349=\"\",\"\",記入済リスト!$E349)","v":""}]
[null,{"$f":"IF(記入済リスト!$B350=\"\",\"\",YEAR(記入済リスト!$B350))","v":""},{"$f":"IF(記入済リスト!$B350=\"\",\"\",MONTH(記入済リスト!$B350))","v":""},{"$f":"IF(記入済リスト!$B350=\"\",\"\",DAY(記入済リスト!$B350))","v":""},{"$f":"IF(記入済リスト!$C350=\"\",\"\",記入済リスト!$C350)","v":""},{"$f":"IF(記入済リスト!$D350=\"\",\"\",記入済リスト!$D350)","v":""},{"$f":"IF(記入済リスト!$E350=\"\",\"\",記入済リスト!$E350)","v":""}]
[null,{"$f":"IF(記入済リスト!$B351=\"\",\"\",YEAR(記入済リスト!$B351))","v":""},{"$f":"IF(記入済リスト!$B351=\"\",\"\",MONTH(記入済リスト!$B351))","v":""},{"$f":"IF(記入済リスト!$B351=\"\",\"\",DAY(記入済リスト!$B351))","v":""},{"$f":"IF(記入済リスト!$C351=\"\",\"\",記入済リスト!$C351)","v":""},{"$f":"IF(記入済リスト!$D351=\"\",\"\",記入済リスト!$D351)","v":""},{"$f":"IF(記入済リスト!$E351=\"\",\"\",記入済リスト!$E351)","v":""}]
[null,{"$f":"IF(記入済リスト!$B352=\"\",\"\",YEAR(記入済リスト!$B352))","v":""},{"$f":"IF(記入済リスト!$B352=\"\",\"\",MONTH(記入済リスト!$B352))","v":""},{"$f":"IF(記入済リスト!$B352=\"\",\"\",DAY(記入済リスト!$B352))","v":""},{"$f":"IF(記入済リスト!$C352=\"\",\"\",記入済リスト!$C352)","v":""},{"$f":"IF(記入済リスト!$D352=\"\",\"\",記入済リスト!$D352)","v":""},{"$f":"IF(記入済リスト!$E352=\"\",\"\",記入済リスト!$E352)","v":""}]
[null,{"$f":"IF(記入済リスト!$B353=\"\",\"\",YEAR(記入済リスト!$B353))","v":""},{"$f":"IF(記入済リスト!$B353=\"\",\"\",MONTH(記入済リスト!$B353))","v":""},{"$f":"IF(記入済リスト!$B353=\"\",\"\",DAY(記入済リスト!$B353))","v":""},{"$f":"IF(記入済リスト!$C353=\"\",\"\",記入済リスト!$C353)","v":""},{"$f":"IF(記入済リスト!$D353=\"\",\"\",記入済リスト!$D353)","v":""},{"$f":"IF(記入済リスト!$E353=\"\",\"\",記入済リスト!$E353)","v":""}]
[null,{"$f":"IF(記入済リスト!$B354=\"\",\"\",YEAR(記入済リスト!$B354))","v":""},{"$f":"IF(記入済リスト!$B354=\"\",\"\",MONTH(記入済リスト!$B354))","v":""},{"$f":"IF(記入済リスト!$B354=\"\",\"\",DAY(記入済リスト!$B354))","v":""},{"$f":"IF(記入済リスト!$C354=\"\",\"\",記入済リスト!$C354)","v":""},{"$f":"IF(記入済リスト!$D354=\"\",\"\",記入済リスト!$D354)","v":""},{"$f":"IF(記入済リスト!$E354=\"\",\"\",記入済リスト!$E354)","v":""}]
[null,{"$f":"IF(記入済リスト!$B355=\"\",\"\",YEAR(記入済リスト!$B355))","v":""},{"$f":"IF(記入済リスト!$B355=\"\",\"\",MONTH(記入済リスト!$B355))","v":""},{"$f":"IF(記入済リスト!$B355=\"\",\"\",DAY(記入済リスト!$B355))","v":""},{"$f":"IF(記入済リスト!$C355=\"\",\"\",記入済リスト!$C355)","v":""},{"$f":"IF(記入済リスト!$D355=\"\",\"\",記入済リスト!$D355)","v":""},{"$f":"IF(記入済リスト!$E355=\"\",\"\",記入済リスト!$E355)","v":""}]
[null,{"$f":"IF(記入済リスト!$B356=\"\",\"\",YEAR(記入済リスト!$B356))","v":""},{"$f":"IF(記入済リスト!$B356=\"\",\"\",MONTH(記入済リスト!$B356))","v":""},{"$f":"IF(記入済リスト!$B356=\"\",\"\",DAY(記入済リスト!$B356))","v":""},{"$f":"IF(記入済リスト!$C356=\"\",\"\",記入済リスト!$C356)","v":""},{"$f":"IF(記入済リスト!$D356=\"\",\"\",記入済リスト!$D356)","v":""},{"$f":"IF(記入済リスト!$E356=\"\",\"\",記入済リスト!$E356)","v":""}]
[null,{"$f":"IF(記入済リスト!$B357=\"\",\"\",YEAR(記入済リスト!$B357))","v":""},{"$f":"IF(記入済リスト!$B357=\"\",\"\",MONTH(記入済リスト!$B357))","v":""},{"$f":"IF(記入済リスト!$B357=\"\",\"\",DAY(記入済リスト!$B357))","v":""},{"$f":"IF(記入済リスト!$C357=\"\",\"\",記入済リスト!$C357)","v":""},{"$f":"IF(記入済リスト!$D357=\"\",\"\",記入済リスト!$D357)","v":""},{"$f":"IF(記入済リスト!$E357=\"\",\"\",記入済リスト!$E357)","v":""}]
[null,{"$f":"IF(記入済リスト!$B358=\"\",\"\",YEAR(記入済リスト!$B358))","v":""},{"$f":"IF(記入済リスト!$B358=\"\",\"\",MONTH(記入済リスト!$B358))","v":""},{"$f":"IF(記入済リスト!$B358=\"\",\"\",DAY(記入済リスト!$B358))","v":""},{"$f":"IF(記入済リスト!$C358=\"\",\"\",記入済リスト!$C358)","v":""},{"$f":"IF(記入済リスト!$D358=\"\",\"\",記入済リスト!$D358)","v":""},{"$f":"IF(記入済リスト!$E358=\"\",\"\",記入済リスト!$E358)","v":""}]
[null,{"$f":"IF(記入済リスト!$B359=\"\",\"\",YEAR(記入済リスト!$B359))","v":""},{"$f":"IF(記入済リスト!$B359=\"\",\"\",MONTH(記入済リスト!$B359))","v":""},{"$f":"IF(記入済リスト!$B359=\"\",\"\",DAY(記入済リスト!$B359))","v":""},{"$f":"IF(記入済リスト!$C359=\"\",\"\",記入済リスト!$C359)","v":""},{"$f":"IF(記入済リスト!$D359=\"\",\"\",記入済リスト!$D359)","v":""},{"$f":"IF(記入済リスト!$E359=\"\",\"\",記入済リスト!$E359)","v":""}]
[null,{"$f":"IF(記入済リスト!$B360=\"\",\"\",YEAR(記入済リスト!$B360))","v":""},{"$f":"IF(記入済リスト!$B360=\"\",\"\",MONTH(記入済リスト!$B360))","v":""},{"$f":"IF(記入済リスト!$B360=\"\",\"\",DAY(記入済リスト!$B360))","v":""},{"$f":"IF(記入済リスト!$C360=\"\",\"\",記入済リスト!$C360)","v":""},{"$f":"IF(記入済リスト!$D360=\"\",\"\",記入済リスト!$D360)","v":""},{"$f":"IF(記入済リスト!$E360=\"\",\"\",記入済リスト!$E360)","v":""}]
[null,{"$f":"IF(記入済リスト!$B361=\"\",\"\",YEAR(記入済リスト!$B361))","v":""},{"$f":"IF(記入済リスト!$B361=\"\",\"\",MONTH(記入済リスト!$B361))","v":""},{"$f":"IF(記入済リスト!$B361=\"\",\"\",DAY(記入済リスト!$B361))","v":""},{"$f":"IF(記入済リスト!$C361=\"\",\"\",記入済リスト!$C361)","v":""},{"$f":"IF(記入済リスト!$D361=\"\",\"\",記入済リスト!$D361)","v":""},{"$f":"IF(記入済リスト!$E361=\"\",\"\",記入済リスト!$E361)","v":""}]
[null,{"$f":"IF(記入済リスト!$B362=\"\",\"\",YEAR(記入済リスト!$B362))","v":""},{"$f":"IF(記入済リスト!$B362=\"\",\"\",MONTH(記入済リスト!$B362))","v":""},{"$f":"IF(記入済リスト!$B362=\"\",\"\",DAY(記入済リスト!$B362))","v":""},{"$f":"IF(記入済リスト!$C362=\"\",\"\",記入済リスト!$C362)","v":""},{"$f":"IF(記入済リスト!$D362=\"\",\"\",記入済リスト!$D362)","v":""},{"$f":"IF(記入済リスト!$E362=\"\",\"\",記入済リスト!$E362)","v":""}]
[null,{"$f":"IF(記入済リスト!$B363=\"\",\"\",YEAR(記入済リスト!$B363))","v":""},{"$f":"IF(記入済リスト!$B363=\"\",\"\",MONTH(記入済リスト!$B363))","v":""},{"$f":"IF(記入済リスト!$B363=\"\",\"\",DAY(記入済リスト!$B363))","v":""},{"$f":"IF(記入済リスト!$C363=\"\",\"\",記入済リスト!$C363)","v":""},{"$f":"IF(記入済リスト!$D363=\"\",\"\",記入済リスト!$D363)","v":""},{"$f":"IF(記入済リスト!$E363=\"\",\"\",記入済リスト!$E363)","v":""}]
[null,{"$f":"IF(記入済リスト!$B364=\"\",\"\",YEAR(記入済リスト!$B364))","v":""},{"$f":"IF(記入済リスト!$B364=\"\",\"\",MONTH(記入済リスト!$B364))","v":""},{"$f":"IF(記入済リスト!$B364=\"\",\"\",DAY(記入済リスト!$B364))","v":""},{"$f":"IF(記入済リスト!$C364=\"\",\"\",記入済リスト!$C364)","v":""},{"$f":"IF(記入済リスト!$D364=\"\",\"\",記入済リスト!$D364)","v":""},{"$f":"IF(記入済リスト!$E364=\"\",\"\",記入済リスト!$E364)","v":""}]
[null,{"$f":"IF(記入済リスト!$B365=\"\",\"\",YEAR(記入済リスト!$B365))","v":""},{"$f":"IF(記入済リスト!$B365=\"\",\"\",MONTH(記入済リスト!$B365))","v":""},{"$f":"IF(記入済リスト!$B365=\"\",\"\",DAY(記入済リスト!$B365))","v":""},{"$f":"IF(記入済リスト!$C365=\"\",\"\",記入済リスト!$C365)","v":""},{"$f":"IF(記入済リスト!$D365=\"\",\"\",記入済リスト!$D365)","v":""},{"$f":"IF(記入済リスト!$E365=\"\",\"\",記入済リスト!$E365)","v":""}]
[null,{"$f":"IF(記入済リスト!$B366=\"\",\"\",YEAR(記入済リスト!$B366))","v":""},{"$f":"IF(記入済リスト!$B366=\"\",\"\",MONTH(記入済リスト!$B366))","v":""},{"$f":"IF(記入済リスト!$B366=\"\",\"\",DAY(記入済リスト!$B366))","v":""},{"$f":"IF(記入済リスト!$C366=\"\",\"\",記入済リスト!$C366)","v":""},{"$f":"IF(記入済リスト!$D366=\"\",\"\",記入済リスト!$D366)","v":""},{"$f":"IF(記入済リスト!$E366=\"\",\"\",記入済リスト!$E366)","v":""}]
[null,{"$f":"IF(記入済リスト!$B367=\"\",\"\",YEAR(記入済リスト!$B367))","v":""},{"$f":"IF(記入済リスト!$B367=\"\",\"\",MONTH(記入済リスト!$B367))","v":""},{"$f":"IF(記入済リスト!$B367=\"\",\"\",DAY(記入済リスト!$B367))","v":""},{"$f":"IF(記入済リスト!$C367=\"\",\"\",記入済リスト!$C367)","v":""},{"$f":"IF(記入済リスト!$D367=\"\",\"\",記入済リスト!$D367)","v":""},{"$f":"IF(記入済リスト!$E367=\"\",\"\",記入済リスト!$E367)","v":""}]
[null,{"$f":"IF(記入済リスト!$B368=\"\",\"\",YEAR(記入済リスト!$B368))","v":""},{"$f":"IF(記入済リスト!$B368=\"\",\"\",MONTH(記入済リスト!$B368))","v":""},{"$f":"IF(記入済リスト!$B368=\"\",\"\",DAY(記入済リスト!$B368))","v":""},{"$f":"IF(記入済リスト!$C368=\"\",\"\",記入済リスト!$C368)","v":""},{"$f":"IF(記入済リスト!$D368=\"\",\"\",記入済リスト!$D368)","v":""},{"$f":"IF(記入済リスト!$E368=\"\",\"\",記入済リスト!$E368)","v":""}]
[null,{"$f":"IF(記入済リスト!$B369=\"\",\"\",YEAR(記入済リスト!$B369))","v":""},{"$f":"IF(記入済リスト!$B369=\"\",\"\",MONTH(記入済リスト!$B369))","v":""},{"$f":"IF(記入済リスト!$B369=\"\",\"\",DAY(記入済リスト!$B369))","v":""},{"$f":"IF(記入済リスト!$C369=\"\",\"\",記入済リスト!$C369)","v":""},{"$f":"IF(記入済リスト!$D369=\"\",\"\",記入済リスト!$D369)","v":""},{"$f":"IF(記入済リスト!$E369=\"\",\"\",記入済リスト!$E369)","v":""}]
[null,{"$f":"IF(記入済リスト!$B370=\"\",\"\",YEAR(記入済リスト!$B370))","v":""},{"$f":"IF(記入済リスト!$B370=\"\",\"\",MONTH(記入済リスト!$B370))","v":""},{"$f":"IF(記入済リスト!$B370=\"\",\"\",DAY(記入済リスト!$B370))","v":""},{"$f":"IF(記入済リスト!$C370=\"\",\"\",記入済リスト!$C370)","v":""},{"$f":"IF(記入済リスト!$D370=\"\",\"\",記入済リスト!$D370)","v":""},{"$f":"IF(記入済リスト!$E370=\"\",\"\",記入済リスト!$E370)","v":""}]
[null,{"$f":"IF(記入済リスト!$B371=\"\",\"\",YEAR(記入済リスト!$B371))","v":""},{"$f":"IF(記入済リスト!$B371=\"\",\"\",MONTH(記入済リスト!$B371))","v":""},{"$f":"IF(記入済リスト!$B371=\"\",\"\",DAY(記入済リスト!$B371))","v":""},{"$f":"IF(記入済リスト!$C371=\"\",\"\",記入済リスト!$C371)","v":""},{"$f":"IF(記入済リスト!$D371=\"\",\"\",記入済リスト!$D371)","v":""},{"$f":"IF(記入済リスト!$E371=\"\",\"\",記入済リスト!$E371)","v":""}]

{"sheet":"月別集計","index":4,"n_rows":14,"n_cols":4,"rows_kept":14,"cut":false,"hidden":false,"merged":[]}
[]
[]
[]
[]
[]
[null,"年",2014]
[]
[null,"月","項目","合計 / 金額"]
[null,3,"交通費",6000]
[null,null,"趣味・娯楽",1200]
[null,null,"水道光熱費",10880]
[null,null,"被服・理美容",2080]
[null,4,"水道光熱費",6000]
[null,"総計",null,26160]

{"sheet":"項目リスト","index":5,"n_rows":11,"n_cols":2,"rows_kept":11,"cut":false,"hidden":false,"merged":[]}
[]
[null,"■リスト項目"]
[null,"食費 "]
[null,"日用品"]
[null,"交通費"]
[null,"趣味・娯楽"]
[null,"教育費"]
[null,"被服・理美容"]
[null,"水道光熱費"]
[null,"大型出費"]
[null,"その他"]

{"sheet":"作業用シート","index":6,"n_rows":4,"n_cols":3,"rows_kept":4,"cut":false,"hidden":true,"merged":[[1,1,1,2]]}
[]
[null,"■項目"]
[null,"listindex","listvalue"]
[null,6,"水道光熱費"]