{"text_format":"1","workbook":"xlsx","n_sheets":4,"sheets":["このテンプレートの使い方","TOP","つもり貯金リスト","ピボットテーブル"],"not_rendered":{"charts":2,"images":11,"macros":1,"external_links":0,"defined_names":0,"comments":0,"pivot_tables":1},"unopened":[],"bounds":{"document_bytes":16777216,"sheet_cells":100000,"rows_first":2000,"rows_last":500,"rows_between":2000,"halvings":0,"cell_chars":16384,"cell_head_chars":4096},"cells_cut":0,"cells_raw":0,"read":"whole","date_system":"1900"}

{"sheet":"このテンプレートの使い方","index":0,"n_rows":0,"n_cols":0,"rows_kept":0,"cut":false,"hidden":false,"merged":[]}

{"sheet":"TOP","index":1,"n_rows":22,"n_cols":5,"rows_kept":22,"cut":false,"hidden":false,"merged":[[21,4,26,6]]}
[]
[]
[]
[]
[]
[]
[]
[]
[]
[]
[]
[]
[]
[]
[]
[]
[]
[]
[]
[]
[]
[null,null,null,null,{"$f":"GETPIVOTDATA(\"金額\",ピボットテーブル!$A$3)","v":13600}]

{"sheet":"つもり貯金リスト","index":2,"n_rows":78,"n_cols":8,"rows_kept":78,"cut":false,"hidden":false,"merged":[[77,2,77,3],[71,2,71,3],[72,2,72,3],[73,2,73,3],[74,2,74,3],[75,2,75,3],[76,2,76,3],[70,2,70,3],[59,2,59,3],[60,2,60,3],[61,2,61,3],[62,2,62,3],[63,2,63,3],[64,2,64,3],[65,2,65,3],[66,2,66,3],[67,2,67,3],[68,2,68,3],[69,2,69,3],[58,2,58,3],[47,2,47,3],[48,2,48,3],[49,2,49,3],[50,2,50,3],[51,2,51,3],[52,2,52,3],[53,2,53,3],[54,2,54,3],[55,2,55,3],[56,2,56,3],[57,2,57,3],[46,2,46,3],[35,2,35,3],[36,2,36,3],[37,2,37,3],[38,2,38,3],[39,2,39,3],[40,2,40,3],[41,2,41,3],[42,2,42,3],[43,2,43,3],[44,2,44,3],[45,2,45,3],[34,2,34,3],[23,2,23,3],[24,2,24,3],[25,2,25,3],[26,2,26,3],[27,2,27,3],[28,2,28,3],[29,2,29,3],[30,2,30,3],[31,2,31,3],[32,2,32,3],[33,2,33,3],[22,2,22,3],[4,1,4,4],[11,1,11,2],[15,2,15,3],[16,2,16,3],[17,2,17,3],[18,2,18,3],[19,2,19,3],[20,2,20,3],[21,2,21,3]]}
[]
[]
[]
[]
[null,"数値入力用キーパッド"]
[]
[]
[]
[]
[]
[]
[null,"情報を更新する"]
[]
[]
[]
[null,"日付","使ったつもりで節約したもの",null,"節約した金額",null,"月","金額"]
[null,"2014-03-05","アイスクリームを買ったつもり",null,200,null,{"$f":"IF(つもり貯金リスト!B17=\"\",\"\",MONTH(つもり貯金リスト!B17))","v":3},{"$f":"IF(つもり貯金リスト!E17=\"\",\"\",つもり貯金リスト!E17)","v":200}]
[null,"2014-03-06","ジュースを買ったつもり",null,150,null,{"$f":"IF(つもり貯金リスト!B18=\"\",\"\",MONTH(つもり貯金リスト!B18))","v":3},{"$f":"IF(つもり貯金リスト!E18=\"\",\"\",つもり貯金リスト!E18)","v":150}]
[null,"2014-03-10","電車一駅分乗ったつもりで歩いた",null,130,null,{"$f":"IF(つもり貯金リスト!B19=\"\",\"\",MONTH(つもり貯金リスト!B19))","v":3},{"$f":"IF(つもり貯金リスト!E19=\"\",\"\",つもり貯金リスト!E19)","v":130}]
[null,"2014-03-21","ランチの代わりにお弁当を作った",null,500,null,{"$f":"IF(つもり貯金リスト!B20=\"\",\"\",MONTH(つもり貯金リスト!B20))","v":3},{"$f":"IF(つもり貯金リスト!E20=\"\",\"\",つもり貯金リスト!E20)","v":500}]
[null,"2014-04-01","クリーニングに行ったつもりで自分で洗濯した",null,300,null,{"$f":"IF(つもり貯金リスト!B21=\"\",\"\",MONTH(つもり貯金リスト!B21))","v":4},{"$f":"IF(つもり貯金リスト!E21=\"\",\"\",つもり貯金リスト!E21)","v":300}]
[null,"2014-04-08","欲しかった服をSALE価格でゲットした",null,2200,null,{"$f":"IF(つもり貯金リスト!B22=\"\",\"\",MONTH(つもり貯金リスト!B22))","v":4},{"$f":"IF(つもり貯金リスト!E22=\"\",\"\",つもり貯金リスト!E22)","v":2200}]
[null,"2014-04-12","暑中見舞いはがきを買ったつもりで自作した",null,150,null,{"$f":"IF(つもり貯金リスト!B23=\"\",\"\",MONTH(つもり貯金リスト!B23))","v":4},{"$f":"IF(つもり貯金リスト!E23=\"\",\"\",つもり貯金リスト!E23)","v":150}]
[null,"2014-04-20","ランチの代わりにお弁当を作った",null,500,null,{"$f":"IF(つもり貯金リスト!B24=\"\",\"\",MONTH(つもり貯金リスト!B24))","v":4},{"$f":"IF(つもり貯金リスト!E24=\"\",\"\",つもり貯金リスト!E24)","v":500}]
[null,"2014-04-23","アイスクリームを買ったつもり",null,50,null,{"$f":"IF(つもり貯金リスト!B25=\"\",\"\",MONTH(つもり貯金リスト!B25))","v":4},{"$f":"IF(つもり貯金リスト!E25=\"\",\"\",つもり貯金リスト!E25)","v":50}]
[null,"2014-04-29","ジュースを買ったつもり",null,150,null,{"$f":"IF(つもり貯金リスト!B26=\"\",\"\",MONTH(つもり貯金リスト!B26))","v":4},{"$f":"IF(つもり貯金リスト!E26=\"\",\"\",つもり貯金リスト!E26)","v":150}]
[null,"2014-05-03","電車一駅分乗ったつもりで歩いた",null,100,null,{"$f":"IF(つもり貯金リスト!B27=\"\",\"\",MONTH(つもり貯金リスト!B27))","v":5},{"$f":"IF(つもり貯金リスト!E27=\"\",\"\",つもり貯金リスト!E27)","v":100}]
[null,"2014-05-04","ランチの代わりにお弁当を作った",null,200,null,{"$f":"IF(つもり貯金リスト!B28=\"\",\"\",MONTH(つもり貯金リスト!B28))","v":5},{"$f":"IF(つもり貯金リスト!E28=\"\",\"\",つもり貯金リスト!E28)","v":200}]
[null,"2014-05-05","クリーニングに行ったつもりで自分で洗濯した",null,500,null,{"$f":"IF(つもり貯金リスト!B29=\"\",\"\",MONTH(つもり貯金リスト!B29))","v":5},{"$f":"IF(つもり貯金リスト!E29=\"\",\"\",つもり貯金リスト!E29)","v":500}]
[null,"2014-05-15","欲しかった服をSALE価格でゲットした",null,300,null,{"$f":"IF(つもり貯金リスト!B30=\"\",\"\",MONTH(つもり貯金リスト!B30))","v":5},{"$f":"IF(つもり貯金リスト!E30=\"\",\"\",つもり貯金リスト!E30)","v":300}]
[null,"2014-05-18","暑中見舞いはがきを買ったつもりで自作した",null,350,null,{"$f":"IF(つもり貯金リスト!B31=\"\",\"\",MONTH(つもり貯金リスト!B31))","v":5},{"$f":"IF(つもり貯金リスト!E31=\"\",\"\",つもり貯金リスト!E31)","v":350}]
[null,"2014-05-20","ランチの代わりにお弁当を作った",null,100,null,{"$f":"IF(つもり貯金リスト!B32=\"\",\"\",MONTH(つもり貯金リスト!B32))","v":5},{"$f":"IF(つもり貯金リスト!E32=\"\",\"\",つもり貯金リスト!E32)","v":100}]
[null,"2014-05-26","アイスクリームを買ったつもり",null,50,null,{"$f":"IF(つもり貯金リスト!B33=\"\",\"\",MONTH(つもり貯金リスト!B33))","v":5},{"$f":"IF(つもり貯金リスト!E33=\"\",\"\",つもり貯金リスト!E33)","v":50}]
[null,"2014-06-03","ジュースを買ったつもり",null,150,null,{"$f":"IF(つもり貯金リスト!B34=\"\",\"\",MONTH(つもり貯金リスト!B34))","v":6},{"$f":"IF(つもり貯金リスト!E34=\"\",\"\",つもり貯金リスト!E34)","v":150}]
[null,"2014-06-08","電車一駅分乗ったつもりで歩いた",null,200,null,{"$f":"IF(つもり貯金リスト!B35=\"\",\"\",MONTH(つもり貯金リスト!B35))","v":6},{"$f":"IF(つもり貯金リスト!E35=\"\",\"\",つもり貯金リスト!E35)","v":200}]
[null,"2014-06-10","ランチの代わりにお弁当を作った",null,300,null,{"$f":"IF(つもり貯金リスト!B36=\"\",\"\",MONTH(つもり貯金リスト!B36))","v":6},{"$f":"IF(つもり貯金リスト!E36=\"\",\"\",つもり貯金リスト!E36)","v":300}]
[null,"2014-06-20","クリーニングに行ったつもりで自分で洗濯した",null,150,null,{"$f":"IF(つもり貯金リスト!B37=\"\",\"\",MONTH(つもり貯金リスト!B37))","v":6},{"$f":"IF(つもり貯金リスト!E37=\"\",\"\",つもり貯金リスト!E37)","v":150}]
[null,"2014-06-21","欲しかった服をSALE価格でゲットした",null,100,null,{"$f":"IF(つもり貯金リスト!B38=\"\",\"\",MONTH(つもり貯金リスト!B38))","v":6},{"$f":"IF(つもり貯金リスト!E38=\"\",\"\",つもり貯金リスト!E38)","v":100}]
[null,"2014-07-08","暑中見舞いはがきを買ったつもりで自作した",null,250,null,{"$f":"IF(つもり貯金リスト!B39=\"\",\"\",MONTH(つもり貯金リスト!B39))","v":7},{"$f":"IF(つもり貯金リスト!E39=\"\",\"\",つもり貯金リスト!E39)","v":250}]
[null,"2014-07-10","ランチの代わりにお弁当を作った",null,120,null,{"$f":"IF(つもり貯金リスト!B40=\"\",\"\",MONTH(つもり貯金リスト!B40))","v":7},{"$f":"IF(つもり貯金リスト!E40=\"\",\"\",つもり貯金リスト!E40)","v":120}]
[null,"2014-07-12","アイスクリームを買ったつもり",null,300,null,{"$f":"IF(つもり貯金リスト!B41=\"\",\"\",MONTH(つもり貯金リスト!B41))","v":7},{"$f":"IF(つもり貯金リスト!E41=\"\",\"\",つもり貯金リスト!E41)","v":300}]
[null,"2014-07-18","ジュースを買ったつもり",null,350,null,{"$f":"IF(つもり貯金リスト!B42=\"\",\"\",MONTH(つもり貯金リスト!B42))","v":7},{"$f":"IF(つもり貯金リスト!E42=\"\",\"\",つもり貯金リスト!E42)","v":350}]
[null,"2014-07-20","電車一駅分乗ったつもりで歩いた",null,100,null,{"$f":"IF(つもり貯金リスト!B43=\"\",\"\",MONTH(つもり貯金リスト!B43))","v":7},{"$f":"IF(つもり貯金リスト!E43=\"\",\"\",つもり貯金リスト!E43)","v":100}]
[null,"2014-07-25","ランチの代わりにお弁当を作った",null,150,null,{"$f":"IF(つもり貯金リスト!B44=\"\",\"\",MONTH(つもり貯金リスト!B44))","v":7},{"$f":"IF(つもり貯金リスト!E44=\"\",\"\",つもり貯金リスト!E44)","v":150}]
[null,"2014-07-30","クリーニングに行ったつもりで自分で洗濯した",null,200,null,{"$f":"IF(つもり貯金リスト!B45=\"\",\"\",MONTH(つもり貯金リスト!B45))","v":7},{"$f":"IF(つもり貯金リスト!E45=\"\",\"\",つもり貯金リスト!E45)","v":200}]
[null,"2014-08-01","欲しかった服をSALE価格でゲットした",null,250,null,{"$f":"IF(つもり貯金リスト!B46=\"\",\"\",MONTH(つもり貯金リスト!B46))","v":8},{"$f":"IF(つもり貯金リスト!E46=\"\",\"\",つもり貯金リスト!E46)","v":250}]
[null,"2014-08-02","暑中見舞いはがきを買ったつもりで自作した",null,300,null,{"$f":"IF(つもり貯金リスト!B47=\"\",\"\",MONTH(つもり貯金リスト!B47))","v":8},{"$f":"IF(つもり貯金リスト!E47=\"\",\"\",つもり貯金リスト!E47)","v":300}]
[null,"2014-08-05","アイスクリームを買ったつもり",null,100,null,{"$f":"IF(つもり貯金リスト!B48=\"\",\"\",MONTH(つもり貯金リスト!B48))","v":8},{"$f":"IF(つもり貯金リスト!E48=\"\",\"\",つもり貯金リスト!E48)","v":100}]
[null,"2014-08-10","ジュースを買ったつもり",null,150,null,{"$f":"IF(つもり貯金リスト!B49=\"\",\"\",MONTH(つもり貯金リスト!B49))","v":8},{"$f":"IF(つもり貯金リスト!E49=\"\",\"\",つもり貯金リスト!E49)","v":150}]
[null,"2014-08-11","電車一駅分乗ったつもりで歩いた",null,200,null,{"$f":"IF(つもり貯金リスト!B50=\"\",\"\",MONTH(つもり貯金リスト!B50))","v":8},{"$f":"IF(つもり貯金リスト!E50=\"\",\"\",つもり貯金リスト!E50)","v":200}]
[null,"2014-08-25","ランチの代わりにお弁当を作った",null,300,null,{"$f":"IF(つもり貯金リスト!B51=\"\",\"\",MONTH(つもり貯金リスト!B51))","v":8},{"$f":"IF(つもり貯金リスト!E51=\"\",\"\",つもり貯金リスト!E51)","v":300}]
[null,"2014-08-29","クリーニングに行ったつもりで自分で洗濯した",null,250,null,{"$f":"IF(つもり貯金リスト!B52=\"\",\"\",MONTH(つもり貯金リスト!B52))","v":8},{"$f":"IF(つもり貯金リスト!E52=\"\",\"\",つもり貯金リスト!E52)","v":250}]
[null,"2014-09-04","欲しかった服をSALE価格でゲットした",null,3100,null,{"$f":"IF(つもり貯金リスト!B53=\"\",\"\",MONTH(つもり貯金リスト!B53))","v":9},{"$f":"IF(つもり貯金リスト!E53=\"\",\"\",つもり貯金リスト!E53)","v":3100}]
[null,"2014-10-04","暑中見舞いはがきを買ったつもりで自作した",null,150,null,{"$f":"IF(つもり貯金リスト!B54=\"\",\"\",MONTH(つもり貯金リスト!B54))","v":10},{"$f":"IF(つもり貯金リスト!E54=\"\",\"\",つもり貯金リスト!E54)","v":150}]
[null,"2014-11-03","ランチの代わりにお弁当を作った",null,500,null,{"$f":"IF(つもり貯金リスト!B55=\"\",\"\",MONTH(つもり貯金リスト!B55))","v":11},{"$f":"IF(つもり貯金リスト!E55=\"\",\"\",つもり貯金リスト!E55)","v":500}]
[null,null,null,null,null,null,{"$f":"IF(つもり貯金リスト!B56=\"\",\"\",MONTH(つもり貯金リスト!B56))","v":""},{"$f":"IF(つもり貯金リスト!E56=\"\",\"\",つもり貯金リスト!E56)","v":""}]
[null,null,null,null,null,null,{"$f":"IF(つもり貯金リスト!B57=\"\",\"\",MONTH(つもり貯金リスト!B57))","v":""},{"$f":"IF(つもり貯金リスト!E57=\"\",\"\",つもり貯金リスト!E57)","v":""}]
[null,null,null,null,null,null,{"$f":"IF(つもり貯金リスト!B58=\"\",\"\",MONTH(つもり貯金リスト!B58))","v":""},{"$f":"IF(つもり貯金リスト!E58=\"\",\"\",つもり貯金リスト!E58)","v":""}]
[null,null,null,null,null,null,{"$f":"IF(つもり貯金リスト!B59=\"\",\"\",MONTH(つもり貯金リスト!B59))","v":""},{"$f":"IF(つもり貯金リスト!E59=\"\",\"\",つもり貯金リスト!E59)","v":""}]
[null,null,null,null,null,null,{"$f":"IF(つもり貯金リスト!B60=\"\",\"\",MONTH(つもり貯金リスト!B60))","v":""},{"$f":"IF(つもり貯金リスト!E60=\"\",\"\",つもり貯金リスト!E60)","v":""}]
[null,null,null,null,null,null,{"$f":"IF(つもり貯金リスト!B61=\"\",\"\",MONTH(つもり貯金リスト!B61))","v":""},{"$f":"IF(つもり貯金リスト!E61=\"\",\"\",つもり貯金リスト!E61)","v":""}]
[null,null,null,null,null,null,{"$f":"IF(つもり貯金リスト!B62=\"\",\"\",MONTH(つもり貯金リスト!B62))","v":""},{"$f":"IF(つもり貯金リスト!E62=\"\",\"\",つもり貯金リスト!E62)","v":""}]
[null,null,null,null,null,null,{"$f":"IF(つもり貯金リスト!B63=\"\",\"\",MONTH(つもり貯金リスト!B63))","v":""},{"$f":"IF(つもり貯金リスト!E63=\"\",\"\",つもり貯金リスト!E63)","v":""}]
[null,null,null,null,null,null,{"$f":"IF(つもり貯金リスト!B64=\"\",\"\",MONTH(つもり貯金リスト!B64))","v":""},{"$f":"IF(つもり貯金リスト!E64=\"\",\"\",つもり貯金リスト!E64)","v":""}]
[null,null,null,null,null,null,{"$f":"IF(つもり貯金リスト!B65=\"\",\"\",MONTH(つもり貯金リスト!B65))","v":""},{"$f":"IF(つもり貯金リスト!E65=\"\",\"\",つもり貯金リスト!E65)","v":""}]
[null,null,null,null,null,null,{"$f":"IF(つもり貯金リスト!B66=\"\",\"\",MONTH(つもり貯金リスト!B66))","v":""},{"$f":"IF(つもり貯金リスト!E66=\"\",\"\",つもり貯金リスト!E66)","v":""}]
[null,null,null,null,null,null,{"$f":"IF(つもり貯金リスト!B67=\"\",\"\",MONTH(つもり貯金リスト!B67))","v":""},{"$f":"IF(つもり貯金リスト!E67=\"\",\"\",つもり貯金リスト!E67)","v":""}]
[null,null,null,null,null,null,{"$f":"IF(つもり貯金リスト!B68=\"\",\"\",MONTH(つもり貯金リスト!B68))","v":""},{"$f":"IF(つもり貯金リスト!E68=\"\",\"\",つもり貯金リスト!E68)","v":""}]
[null,null,null,null,null,null,{"$f":"IF(つもり貯金リスト!B69=\"\",\"\",MONTH(つもり貯金リスト!B69))","v":""},{"$f":"IF(つもり貯金リスト!E69=\"\",\"\",つもり貯金リスト!E69)","v":""}]
[null,null,null,null,null,null,{"$f":"IF(つもり貯金リスト!B70=\"\",\"\",MONTH(つもり貯金リスト!B70))","v":""},{"$f":"IF(つもり貯金リスト!E70=\"\",\"\",つもり貯金リスト!E70)","v":""}]
[null,null,null,null,null,null,{"$f":"IF(つもり貯金リスト!B71=\"\",\"\",MONTH(つもり貯金リスト!B71))","v":""},{"$f":"IF(つもり貯金リスト!E71=\"\",\"\",つもり貯金リスト!E71)","v":""}]
[null,null,null,null,null,null,{"$f":"IF(つもり貯金リスト!B72=\"\",\"\",MONTH(つもり貯金リスト!B72))","v":""},{"$f":"IF(つもり貯金リスト!E72=\"\",\"\",つもり貯金リスト!E72)","v":""}]
[null,null,null,null,null,null,{"$f":"IF(つもり貯金リスト!B73=\"\",\"\",MONTH(つもり貯金リスト!B73))","v":""},{"$f":"IF(つもり貯金リスト!E73=\"\",\"\",つもり貯金リスト!E73)","v":""}]
[null,null,null,null,null,null,{"$f":"IF(つもり貯金リスト!B74=\"\",\"\",MONTH(つもり貯金リスト!B74))","v":""},{"$f":"IF(つもり貯金リスト!E74=\"\",\"\",つもり貯金リスト!E74)","v":""}]
[null,null,null,null,null,null,{"$f":"IF(つもり貯金リスト!B75=\"\",\"\",MONTH(つもり貯金リスト!B75))","v":""},{"$f":"IF(つもり貯金リスト!E75=\"\",\"\",つもり貯金リスト!E75)","v":""}]
[null,null,null,null,null,null,{"$f":"IF(つもり貯金リスト!B76=\"\",\"\",MONTH(つもり貯金リスト!B76))","v":""},{"$f":"IF(つもり貯金リスト!E76=\"\",\"\",つもり貯金リスト!E76)","v":""}]
[null,null,null,null,null,null,{"$f":"IF(つもり貯金リスト!B77=\"\",\"\",MONTH(つもり貯金リスト!B77))","v":""},{"$f":"IF(つもり貯金リスト!E77=\"\",\"\",つもり貯金リスト!E77)","v":""}]
[null,null,null,null,null,null,{"$f":"IF(つもり貯金リスト!B78=\"\",\"\",MONTH(つもり貯金リスト!B78))","v":""},{"$f":"IF(つもり貯金リスト!E78=\"\",\"\",つもり貯金リスト!E78)","v":""}]

{"sheet":"ピボットテーブル","index":3,"n_rows":13,"n_cols":2,"rows_kept":13,"cut":false,"hidden":true,"merged":[]}
[]
[]
["行ラベル","合計 / 金額"]
[3,980]
[4,3350]
[5,1600]
[6,900]
[7,1470]
[8,1550]
[9,3100]
[10,150]
[11,500]
["総計",13600]