{"text_format":"1","workbook":"xlsx","n_sheets":8,"sheets":["使い方","月別","日別","開始時刻","終了時刻","休憩開始","休憩終了","設定"],"not_rendered":{"charts":1,"images":3,"macros":1,"external_links":0,"defined_names":0,"comments":0,"pivot_tables":0},"unopened":[],"bounds":{"document_bytes":16777216,"sheet_cells":100000,"rows_first":2000,"rows_last":500,"rows_between":2000,"halvings":0,"cell_chars":16384,"cell_head_chars":4096},"cells_cut":0,"cells_raw":0,"read":"whole","date_system":"1900"}

{"sheet":"使い方","index":0,"n_rows":0,"n_cols":0,"rows_kept":0,"cut":false,"hidden":false,"merged":[]}

{"sheet":"月別","index":1,"n_rows":38,"n_cols":44,"rows_kept":38,"cut":false,"hidden":false,"merged":[[7,2,7,5],[3,10,3,13],[4,10,5,13],[4,1,5,1],[4,2,5,2],[3,15,3,18],[4,15,5,18],[4,8,5,8],[3,20,3,23],[4,20,5,23]]}
[]
[]
[]
[null,null,null,null,null,"早番","通常","遅番","定休日",null,"シフト情報の登録",null,null,null,null,"月別シートの初期化",null,null,null,null,"日別シートの初期化"]
[null,2015,1,null,"開始","08:00:00","11:00:00","16:00:00","日"]
[null,null,null,null,"終了","16:00:00","19:00:00","21:00:00"]
[]
[null,"氏 名","シフト別グラフ",null,null,null,{"$f":"DATE(B5,C5,1)","v":"2015-01-01"},{"$f":"IF(ISERROR(IF(MONTH(G8+1)=MONTH(G8), G8+1,\"\")),\"\",IF(MONTH(G8+1)=MONTH(G8), G8+1,\"\"))","v":"2015-01-02"},{"$f":"IF(ISERROR(IF(MONTH(H8+1)=MONTH(H8), H8+1,\"\")),\"\",IF(MONTH(H8+1)=MONTH(H8), H8+1,\"\"))","v":"2015-01-03"},"2015-01-04","2015-01-05","2015-01-06","2015-01-07","2015-01-08","2015-01-09","2015-01-10","2015-01-11","2015-01-12","2015-01-13","2015-01-14","2015-01-15","2015-01-16","2015-01-17","2015-01-18","2015-01-19","2015-01-20","2015-01-21","2015-01-22","2015-01-23","2015-01-24","2015-01-25","2015-01-26","2015-01-27","2015-01-28","2015-01-29","2015-01-30","2015-01-31",null,{"$f":"設定!B3","v":"早番"},{"$f":"設定!B4","v":"通常"},{"$f":"設定!B5","v":"遅番"},{"$f":"設定!B6","v":"休み"},{"$f":"設定!B7","v":"定休日"},"計"]
[1,null,null,null,null,null,{"$f":"IF(G$8=\"\",\"\",IF(TEXT(WEEKDAY(G$8),\"aaa\")=設定!$C$7,設定!$B$7,\"\"))","v":""},{"$f":"IF(H$8=\"\",\"\",IF(TEXT(WEEKDAY(H$8),\"aaa\")=設定!$C$7,設定!$B$7,\"\"))","v":""},{"$f":"IF(I$8=\"\",\"\",IF(TEXT(WEEKDAY(I$8),\"aaa\")=設定!$C$7,設定!$B$7,\"\"))","v":""},{"$f":"IF(J$8=\"\",\"\",IF(TEXT(WEEKDAY(J$8),\"aaa\")=設定!$C$7,設定!$B$7,\"\"))","v":"定休日"},{"$f":"IF(K$8=\"\",\"\",IF(TEXT(WEEKDAY(K$8),\"aaa\")=設定!$C$7,設定!$B$7,\"\"))","v":""},{"$f":"IF(L$8=\"\",\"\",IF(TEXT(WEEKDAY(L$8),\"aaa\")=設定!$C$7,設定!$B$7,\"\"))","v":""},{"$f":"IF(M$8=\"\",\"\",IF(TEXT(WEEKDAY(M$8),\"aaa\")=設定!$C$7,設定!$B$7,\"\"))","v":""},{"$f":"IF(N$8=\"\",\"\",IF(TEXT(WEEKDAY(N$8),\"aaa\")=設定!$C$7,設定!$B$7,\"\"))","v":""},{"$f":"IF(O$8=\"\",\"\",IF(TEXT(WEEKDAY(O$8),\"aaa\")=設定!$C$7,設定!$B$7,\"\"))","v":""},{"$f":"IF(P$8=\"\",\"\",IF(TEXT(WEEKDAY(P$8),\"aaa\")=設定!$C$7,設定!$B$7,\"\"))","v":""},{"$f":"IF(Q$8=\"\",\"\",IF(TEXT(WEEKDAY(Q$8),\"aaa\")=設定!$C$7,設定!$B$7,\"\"))","v":"定休日"},{"$f":"IF(R$8=\"\",\"\",IF(TEXT(WEEKDAY(R$8),\"aaa\")=設定!$C$7,設定!$B$7,\"\"))","v":""},{"$f":"IF(S$8=\"\",\"\",IF(TEXT(WEEKDAY(S$8),\"aaa\")=設定!$C$7,設定!$B$7,\"\"))","v":""},{"$f":"IF(T$8=\"\",\"\",IF(TEXT(WEEKDAY(T$8),\"aaa\")=設定!$C$7,設定!$B$7,\"\"))","v":""},{"$f":"IF(U$8=\"\",\"\",IF(TEXT(WEEKDAY(U$8),\"aaa\")=設定!$C$7,設定!$B$7,\"\"))","v":""},{"$f":"IF(V$8=\"\",\"\",IF(TEXT(WEEKDAY(V$8),\"aaa\")=設定!$C$7,設定!$B$7,\"\"))","v":""},{"$f":"IF(W$8=\"\",\"\",IF(TEXT(WEEKDAY(W$8),\"aaa\")=設定!$C$7,設定!$B$7,\"\"))","v":""},{"$f":"IF(X$8=\"\",\"\",IF(TEXT(WEEKDAY(X$8),\"aaa\")=設定!$C$7,設定!$B$7,\"\"))","v":"定休日"},{"$f":"IF(Y$8=\"\",\"\",IF(TEXT(WEEKDAY(Y$8),\"aaa\")=設定!$C$7,設定!$B$7,\"\"))","v":""},{"$f":"IF(Z$8=\"\",\"\",IF(TEXT(WEEKDAY(Z$8),\"aaa\")=設定!$C$7,設定!$B$7,\"\"))","v":""},{"$f":"IF(AA$8=\"\",\"\",IF(TEXT(WEEKDAY(AA$8),\"aaa\")=設定!$C$7,設定!$B$7,\"\"))","v":""},{"$f":"IF(AB$8=\"\",\"\",IF(TEXT(WEEKDAY(AB$8),\"aaa\")=設定!$C$7,設定!$B$7,\"\"))","v":""},{"$f":"IF(AC$8=\"\",\"\",IF(TEXT(WEEKDAY(AC$8),\"aaa\")=設定!$C$7,設定!$B$7,\"\"))","v":""},{"$f":"IF(AD$8=\"\",\"\",IF(TEXT(WEEKDAY(AD$8),\"aaa\")=設定!$C$7,設定!$B$7,\"\"))","v":""},{"$f":"IF(AE$8=\"\",\"\",IF(TEXT(WEEKDAY(AE$8),\"aaa\")=設定!$C$7,設定!$B$7,\"\"))","v":"定休日"},{"$f":"IF(AF$8=\"\",\"\",IF(TEXT(WEEKDAY(AF$8),\"aaa\")=設定!$C$7,設定!$B$7,\"\"))","v":""},{"$f":"IF(AG$8=\"\",\"\",IF(TEXT(WEEKDAY(AG$8),\"aaa\")=設定!$C$7,設定!$B$7,\"\"))","v":""},{"$f":"IF(AH$8=\"\",\"\",IF(TEXT(WEEKDAY(AH$8),\"aaa\")=設定!$C$7,設定!$B$7,\"\"))","v":""},{"$f":"IF(AI$8=\"\",\"\",IF(TEXT(WEEKDAY(AI$8),\"aaa\")=設定!$C$7,設定!$B$7,\"\"))","v":""},{"$f":"IF(AJ$8=\"\",\"\",IF(TEXT(WEEKDAY(AJ$8),\"aaa\")=設定!$C$7,設定!$B$7,\"\"))","v":""},{"$f":"IF(AK$8=\"\",\"\",IF(TEXT(WEEKDAY(AK$8),\"aaa\")=設定!$C$7,設定!$B$7,\"\"))","v":""},null,{"$f":"COUNTIF($G9:$AK9,AM$8)","v":0},{"$f":"COUNTIF($G9:$AK9,AN$8)","v":0},{"$f":"COUNTIF($G9:$AK9,AO$8)","v":0},{"$f":"COUNTIF($G9:$AK9,AP$8)","v":0},{"$f":"COUNTIF($G9:$AK9,AQ$8)","v":4},{"$f":"SUM(AM9:AQ9)","v":4}]
[2,null,null,null,null,null,{"$f":"IF(G$8=\"\",\"\",IF(TEXT(WEEKDAY(G$8),\"aaa\")=設定!$C$7,設定!$B$7,\"\"))","v":""},{"$f":"IF(H$8=\"\",\"\",IF(TEXT(WEEKDAY(H$8),\"aaa\")=設定!$C$7,設定!$B$7,\"\"))","v":""},{"$f":"IF(I$8=\"\",\"\",IF(TEXT(WEEKDAY(I$8),\"aaa\")=設定!$C$7,設定!$B$7,\"\"))","v":""},{"$f":"IF(J$8=\"\",\"\",IF(TEXT(WEEKDAY(J$8),\"aaa\")=設定!$C$7,設定!$B$7,\"\"))","v":"定休日"},{"$f":"IF(K$8=\"\",\"\",IF(TEXT(WEEKDAY(K$8),\"aaa\")=設定!$C$7,設定!$B$7,\"\"))","v":""},{"$f":"IF(L$8=\"\",\"\",IF(TEXT(WEEKDAY(L$8),\"aaa\")=設定!$C$7,設定!$B$7,\"\"))","v":""},{"$f":"IF(M$8=\"\",\"\",IF(TEXT(WEEKDAY(M$8),\"aaa\")=設定!$C$7,設定!$B$7,\"\"))","v":""},{"$f":"IF(N$8=\"\",\"\",IF(TEXT(WEEKDAY(N$8),\"aaa\")=設定!$C$7,設定!$B$7,\"\"))","v":""},{"$f":"IF(O$8=\"\",\"\",IF(TEXT(WEEKDAY(O$8),\"aaa\")=設定!$C$7,設定!$B$7,\"\"))","v":""},{"$f":"IF(P$8=\"\",\"\",IF(TEXT(WEEKDAY(P$8),\"aaa\")=設定!$C$7,設定!$B$7,\"\"))","v":""},{"$f":"IF(Q$8=\"\",\"\",IF(TEXT(WEEKDAY(Q$8),\"aaa\")=設定!$C$7,設定!$B$7,\"\"))","v":"定休日"},{"$f":"IF(R$8=\"\",\"\",IF(TEXT(WEEKDAY(R$8),\"aaa\")=設定!$C$7,設定!$B$7,\"\"))","v":""},{"$f":"IF(S$8=\"\",\"\",IF(TEXT(WEEKDAY(S$8),\"aaa\")=設定!$C$7,設定!$B$7,\"\"))","v":""},{"$f":"IF(T$8=\"\",\"\",IF(TEXT(WEEKDAY(T$8),\"aaa\")=設定!$C$7,設定!$B$7,\"\"))","v":""},{"$f":"IF(U$8=\"\",\"\",IF(TEXT(WEEKDAY(U$8),\"aaa\")=設定!$C$7,設定!$B$7,\"\"))","v":""},{"$f":"IF(V$8=\"\",\"\",IF(TEXT(WEEKDAY(V$8),\"aaa\")=設定!$C$7,設定!$B$7,\"\"))","v":""},{"$f":"IF(W$8=\"\",\"\",IF(TEXT(WEEKDAY(W$8),\"aaa\")=設定!$C$7,設定!$B$7,\"\"))","v":""},{"$f":"IF(X$8=\"\",\"\",IF(TEXT(WEEKDAY(X$8),\"aaa\")=設定!$C$7,設定!$B$7,\"\"))","v":"定休日"},{"$f":"IF(Y$8=\"\",\"\",IF(TEXT(WEEKDAY(Y$8),\"aaa\")=設定!$C$7,設定!$B$7,\"\"))","v":""},{"$f":"IF(Z$8=\"\",\"\",IF(TEXT(WEEKDAY(Z$8),\"aaa\")=設定!$C$7,設定!$B$7,\"\"))","v":""},{"$f":"IF(AA$8=\"\",\"\",IF(TEXT(WEEKDAY(AA$8),\"aaa\")=設定!$C$7,設定!$B$7,\"\"))","v":""},{"$f":"IF(AB$8=\"\",\"\",IF(TEXT(WEEKDAY(AB$8),\"aaa\")=設定!$C$7,設定!$B$7,\"\"))","v":""},{"$f":"IF(AC$8=\"\",\"\",IF(TEXT(WEEKDAY(AC$8),\"aaa\")=設定!$C$7,設定!$B$7,\"\"))","v":""},{"$f":"IF(AD$8=\"\",\"\",IF(TEXT(WEEKDAY(AD$8),\"aaa\")=設定!$C$7,設定!$B$7,\"\"))","v":""},{"$f":"IF(AE$8=\"\",\"\",IF(TEXT(WEEKDAY(AE$8),\"aaa\")=設定!$C$7,設定!$B$7,\"\"))","v":"定休日"},{"$f":"IF(AF$8=\"\",\"\",IF(TEXT(WEEKDAY(AF$8),\"aaa\")=設定!$C$7,設定!$B$7,\"\"))","v":""},{"$f":"IF(AG$8=\"\",\"\",IF(TEXT(WEEKDAY(AG$8),\"aaa\")=設定!$C$7,設定!$B$7,\"\"))","v":""},{"$f":"IF(AH$8=\"\",\"\",IF(TEXT(WEEKDAY(AH$8),\"aaa\")=設定!$C$7,設定!$B$7,\"\"))","v":""},{"$f":"IF(AI$8=\"\",\"\",IF(TEXT(WEEKDAY(AI$8),\"aaa\")=設定!$C$7,設定!$B$7,\"\"))","v":""},{"$f":"IF(AJ$8=\"\",\"\",IF(TEXT(WEEKDAY(AJ$8),\"aaa\")=設定!$C$7,設定!$B$7,\"\"))","v":""},{"$f":"IF(AK$8=\"\",\"\",IF(TEXT(WEEKDAY(AK$8),\"aaa\")=設定!$C$7,設定!$B$7,\"\"))","v":""},null,{"$f":"COUNTIF($G10:$AK10,AM$8)","v":0},0,0,0,4,{"$f":"SUM(AM10:AQ10)","v":4}]
[3,null,null,null,null,null,{"$f":"IF(G$8=\"\",\"\",IF(TEXT(WEEKDAY(G$8),\"aaa\")=設定!$C$7,設定!$B$7,\"\"))","v":""},{"$f":"IF(H$8=\"\",\"\",IF(TEXT(WEEKDAY(H$8),\"aaa\")=設定!$C$7,設定!$B$7,\"\"))","v":""},{"$f":"IF(I$8=\"\",\"\",IF(TEXT(WEEKDAY(I$8),\"aaa\")=設定!$C$7,設定!$B$7,\"\"))","v":""},{"$f":"IF(J$8=\"\",\"\",IF(TEXT(WEEKDAY(J$8),\"aaa\")=設定!$C$7,設定!$B$7,\"\"))","v":"定休日"},{"$f":"IF(K$8=\"\",\"\",IF(TEXT(WEEKDAY(K$8),\"aaa\")=設定!$C$7,設定!$B$7,\"\"))","v":""},{"$f":"IF(L$8=\"\",\"\",IF(TEXT(WEEKDAY(L$8),\"aaa\")=設定!$C$7,設定!$B$7,\"\"))","v":""},{"$f":"IF(M$8=\"\",\"\",IF(TEXT(WEEKDAY(M$8),\"aaa\")=設定!$C$7,設定!$B$7,\"\"))","v":""},{"$f":"IF(N$8=\"\",\"\",IF(TEXT(WEEKDAY(N$8),\"aaa\")=設定!$C$7,設定!$B$7,\"\"))","v":""},{"$f":"IF(O$8=\"\",\"\",IF(TEXT(WEEKDAY(O$8),\"aaa\")=設定!$C$7,設定!$B$7,\"\"))","v":""},{"$f":"IF(P$8=\"\",\"\",IF(TEXT(WEEKDAY(P$8),\"aaa\")=設定!$C$7,設定!$B$7,\"\"))","v":""},{"$f":"IF(Q$8=\"\",\"\",IF(TEXT(WEEKDAY(Q$8),\"aaa\")=設定!$C$7,設定!$B$7,\"\"))","v":"定休日"},{"$f":"IF(R$8=\"\",\"\",IF(TEXT(WEEKDAY(R$8),\"aaa\")=設定!$C$7,設定!$B$7,\"\"))","v":""},{"$f":"IF(S$8=\"\",\"\",IF(TEXT(WEEKDAY(S$8),\"aaa\")=設定!$C$7,設定!$B$7,\"\"))","v":""},{"$f":"IF(T$8=\"\",\"\",IF(TEXT(WEEKDAY(T$8),\"aaa\")=設定!$C$7,設定!$B$7,\"\"))","v":""},{"$f":"IF(U$8=\"\",\"\",IF(TEXT(WEEKDAY(U$8),\"aaa\")=設定!$C$7,設定!$B$7,\"\"))","v":""},{"$f":"IF(V$8=\"\",\"\",IF(TEXT(WEEKDAY(V$8),\"aaa\")=設定!$C$7,設定!$B$7,\"\"))","v":""},{"$f":"IF(W$8=\"\",\"\",IF(TEXT(WEEKDAY(W$8),\"aaa\")=設定!$C$7,設定!$B$7,\"\"))","v":""},{"$f":"IF(X$8=\"\",\"\",IF(TEXT(WEEKDAY(X$8),\"aaa\")=設定!$C$7,設定!$B$7,\"\"))","v":"定休日"},{"$f":"IF(Y$8=\"\",\"\",IF(TEXT(WEEKDAY(Y$8),\"aaa\")=設定!$C$7,設定!$B$7,\"\"))","v":""},{"$f":"IF(Z$8=\"\",\"\",IF(TEXT(WEEKDAY(Z$8),\"aaa\")=設定!$C$7,設定!$B$7,\"\"))","v":""},{"$f":"IF(AA$8=\"\",\"\",IF(TEXT(WEEKDAY(AA$8),\"aaa\")=設定!$C$7,設定!$B$7,\"\"))","v":""},{"$f":"IF(AB$8=\"\",\"\",IF(TEXT(WEEKDAY(AB$8),\"aaa\")=設定!$C$7,設定!$B$7,\"\"))","v":""},{"$f":"IF(AC$8=\"\",\"\",IF(TEXT(WEEKDAY(AC$8),\"aaa\")=設定!$C$7,設定!$B$7,\"\"))","v":""},{"$f":"IF(AD$8=\"\",\"\",IF(TEXT(WEEKDAY(AD$8),\"aaa\")=設定!$C$7,設定!$B$7,\"\"))","v":""},{"$f":"IF(AE$8=\"\",\"\",IF(TEXT(WEEKDAY(AE$8),\"aaa\")=設定!$C$7,設定!$B$7,\"\"))","v":"定休日"},{"$f":"IF(AF$8=\"\",\"\",IF(TEXT(WEEKDAY(AF$8),\"aaa\")=設定!$C$7,設定!$B$7,\"\"))","v":""},{"$f":"IF(AG$8=\"\",\"\",IF(TEXT(WEEKDAY(AG$8),\"aaa\")=設定!$C$7,設定!$B$7,\"\"))","v":""},{"$f":"IF(AH$8=\"\",\"\",IF(TEXT(WEEKDAY(AH$8),\"aaa\")=設定!$C$7,設定!$B$7,\"\"))","v":""},{"$f":"IF(AI$8=\"\",\"\",IF(TEXT(WEEKDAY(AI$8),\"aaa\")=設定!$C$7,設定!$B$7,\"\"))","v":""},{"$f":"IF(AJ$8=\"\",\"\",IF(TEXT(WEEKDAY(AJ$8),\"aaa\")=設定!$C$7,設定!$B$7,\"\"))","v":""},{"$f":"IF(AK$8=\"\",\"\",IF(TEXT(WEEKDAY(AK$8),\"aaa\")=設定!$C$7,設定!$B$7,\"\"))","v":""},null,0,0,0,0,4,4]
[4,null,null,null,null,null,{"$f":"IF(G$8=\"\",\"\",IF(TEXT(WEEKDAY(G$8),\"aaa\")=設定!$C$7,設定!$B$7,\"\"))","v":""},{"$f":"IF(H$8=\"\",\"\",IF(TEXT(WEEKDAY(H$8),\"aaa\")=設定!$C$7,設定!$B$7,\"\"))","v":""},{"$f":"IF(I$8=\"\",\"\",IF(TEXT(WEEKDAY(I$8),\"aaa\")=設定!$C$7,設定!$B$7,\"\"))","v":""},{"$f":"IF(J$8=\"\",\"\",IF(TEXT(WEEKDAY(J$8),\"aaa\")=設定!$C$7,設定!$B$7,\"\"))","v":"定休日"},{"$f":"IF(K$8=\"\",\"\",IF(TEXT(WEEKDAY(K$8),\"aaa\")=設定!$C$7,設定!$B$7,\"\"))","v":""},{"$f":"IF(L$8=\"\",\"\",IF(TEXT(WEEKDAY(L$8),\"aaa\")=設定!$C$7,設定!$B$7,\"\"))","v":""},{"$f":"IF(M$8=\"\",\"\",IF(TEXT(WEEKDAY(M$8),\"aaa\")=設定!$C$7,設定!$B$7,\"\"))","v":""},{"$f":"IF(N$8=\"\",\"\",IF(TEXT(WEEKDAY(N$8),\"aaa\")=設定!$C$7,設定!$B$7,\"\"))","v":""},{"$f":"IF(O$8=\"\",\"\",IF(TEXT(WEEKDAY(O$8),\"aaa\")=設定!$C$7,設定!$B$7,\"\"))","v":""},{"$f":"IF(P$8=\"\",\"\",IF(TEXT(WEEKDAY(P$8),\"aaa\")=設定!$C$7,設定!$B$7,\"\"))","v":""},{"$f":"IF(Q$8=\"\",\"\",IF(TEXT(WEEKDAY(Q$8),\"aaa\")=設定!$C$7,設定!$B$7,\"\"))","v":"定休日"},{"$f":"IF(R$8=\"\",\"\",IF(TEXT(WEEKDAY(R$8),\"aaa\")=設定!$C$7,設定!$B$7,\"\"))","v":""},{"$f":"IF(S$8=\"\",\"\",IF(TEXT(WEEKDAY(S$8),\"aaa\")=設定!$C$7,設定!$B$7,\"\"))","v":""},{"$f":"IF(T$8=\"\",\"\",IF(TEXT(WEEKDAY(T$8),\"aaa\")=設定!$C$7,設定!$B$7,\"\"))","v":""},{"$f":"IF(U$8=\"\",\"\",IF(TEXT(WEEKDAY(U$8),\"aaa\")=設定!$C$7,設定!$B$7,\"\"))","v":""},{"$f":"IF(V$8=\"\",\"\",IF(TEXT(WEEKDAY(V$8),\"aaa\")=設定!$C$7,設定!$B$7,\"\"))","v":""},{"$f":"IF(W$8=\"\",\"\",IF(TEXT(WEEKDAY(W$8),\"aaa\")=設定!$C$7,設定!$B$7,\"\"))","v":""},{"$f":"IF(X$8=\"\",\"\",IF(TEXT(WEEKDAY(X$8),\"aaa\")=設定!$C$7,設定!$B$7,\"\"))","v":"定休日"},{"$f":"IF(Y$8=\"\",\"\",IF(TEXT(WEEKDAY(Y$8),\"aaa\")=設定!$C$7,設定!$B$7,\"\"))","v":""},{"$f":"IF(Z$8=\"\",\"\",IF(TEXT(WEEKDAY(Z$8),\"aaa\")=設定!$C$7,設定!$B$7,\"\"))","v":""},{"$f":"IF(AA$8=\"\",\"\",IF(TEXT(WEEKDAY(AA$8),\"aaa\")=設定!$C$7,設定!$B$7,\"\"))","v":""},{"$f":"IF(AB$8=\"\",\"\",IF(TEXT(WEEKDAY(AB$8),\"aaa\")=設定!$C$7,設定!$B$7,\"\"))","v":""},{"$f":"IF(AC$8=\"\",\"\",IF(TEXT(WEEKDAY(AC$8),\"aaa\")=設定!$C$7,設定!$B$7,\"\"))","v":""},{"$f":"IF(AD$8=\"\",\"\",IF(TEXT(WEEKDAY(AD$8),\"aaa\")=設定!$C$7,設定!$B$7,\"\"))","v":""},{"$f":"IF(AE$8=\"\",\"\",IF(TEXT(WEEKDAY(AE$8),\"aaa\")=設定!$C$7,設定!$B$7,\"\"))","v":"定休日"},{"$f":"IF(AF$8=\"\",\"\",IF(TEXT(WEEKDAY(AF$8),\"aaa\")=設定!$C$7,設定!$B$7,\"\"))","v":""},{"$f":"IF(AG$8=\"\",\"\",IF(TEXT(WEEKDAY(AG$8),\"aaa\")=設定!$C$7,設定!$B$7,\"\"))","v":""},{"$f":"IF(AH$8=\"\",\"\",IF(TEXT(WEEKDAY(AH$8),\"aaa\")=設定!$C$7,設定!$B$7,\"\"))","v":""},{"$f":"IF(AI$8=\"\",\"\",IF(TEXT(WEEKDAY(AI$8),\"aaa\")=設定!$C$7,設定!$B$7,\"\"))","v":""},{"$f":"IF(AJ$8=\"\",\"\",IF(TEXT(WEEKDAY(AJ$8),\"aaa\")=設定!$C$7,設定!$B$7,\"\"))","v":""},{"$f":"IF(AK$8=\"\",\"\",IF(TEXT(WEEKDAY(AK$8),\"aaa\")=設定!$C$7,設定!$B$7,\"\"))","v":""},null,0,0,0,0,4,4]
[5,null,null,null,null,null,{"$f":"IF(G$8=\"\",\"\",IF(TEXT(WEEKDAY(G$8),\"aaa\")=設定!$C$7,設定!$B$7,\"\"))","v":""},{"$f":"IF(H$8=\"\",\"\",IF(TEXT(WEEKDAY(H$8),\"aaa\")=設定!$C$7,設定!$B$7,\"\"))","v":""},{"$f":"IF(I$8=\"\",\"\",IF(TEXT(WEEKDAY(I$8),\"aaa\")=設定!$C$7,設定!$B$7,\"\"))","v":""},{"$f":"IF(J$8=\"\",\"\",IF(TEXT(WEEKDAY(J$8),\"aaa\")=設定!$C$7,設定!$B$7,\"\"))","v":"定休日"},{"$f":"IF(K$8=\"\",\"\",IF(TEXT(WEEKDAY(K$8),\"aaa\")=設定!$C$7,設定!$B$7,\"\"))","v":""},{"$f":"IF(L$8=\"\",\"\",IF(TEXT(WEEKDAY(L$8),\"aaa\")=設定!$C$7,設定!$B$7,\"\"))","v":""},{"$f":"IF(M$8=\"\",\"\",IF(TEXT(WEEKDAY(M$8),\"aaa\")=設定!$C$7,設定!$B$7,\"\"))","v":""},{"$f":"IF(N$8=\"\",\"\",IF(TEXT(WEEKDAY(N$8),\"aaa\")=設定!$C$7,設定!$B$7,\"\"))","v":""},{"$f":"IF(O$8=\"\",\"\",IF(TEXT(WEEKDAY(O$8),\"aaa\")=設定!$C$7,設定!$B$7,\"\"))","v":""},{"$f":"IF(P$8=\"\",\"\",IF(TEXT(WEEKDAY(P$8),\"aaa\")=設定!$C$7,設定!$B$7,\"\"))","v":""},{"$f":"IF(Q$8=\"\",\"\",IF(TEXT(WEEKDAY(Q$8),\"aaa\")=設定!$C$7,設定!$B$7,\"\"))","v":"定休日"},{"$f":"IF(R$8=\"\",\"\",IF(TEXT(WEEKDAY(R$8),\"aaa\")=設定!$C$7,設定!$B$7,\"\"))","v":""},{"$f":"IF(S$8=\"\",\"\",IF(TEXT(WEEKDAY(S$8),\"aaa\")=設定!$C$7,設定!$B$7,\"\"))","v":""},{"$f":"IF(T$8=\"\",\"\",IF(TEXT(WEEKDAY(T$8),\"aaa\")=設定!$C$7,設定!$B$7,\"\"))","v":""},{"$f":"IF(U$8=\"\",\"\",IF(TEXT(WEEKDAY(U$8),\"aaa\")=設定!$C$7,設定!$B$7,\"\"))","v":""},{"$f":"IF(V$8=\"\",\"\",IF(TEXT(WEEKDAY(V$8),\"aaa\")=設定!$C$7,設定!$B$7,\"\"))","v":""},{"$f":"IF(W$8=\"\",\"\",IF(TEXT(WEEKDAY(W$8),\"aaa\")=設定!$C$7,設定!$B$7,\"\"))","v":""},{"$f":"IF(X$8=\"\",\"\",IF(TEXT(WEEKDAY(X$8),\"aaa\")=設定!$C$7,設定!$B$7,\"\"))","v":"定休日"},{"$f":"IF(Y$8=\"\",\"\",IF(TEXT(WEEKDAY(Y$8),\"aaa\")=設定!$C$7,設定!$B$7,\"\"))","v":""},{"$f":"IF(Z$8=\"\",\"\",IF(TEXT(WEEKDAY(Z$8),\"aaa\")=設定!$C$7,設定!$B$7,\"\"))","v":""},{"$f":"IF(AA$8=\"\",\"\",IF(TEXT(WEEKDAY(AA$8),\"aaa\")=設定!$C$7,設定!$B$7,\"\"))","v":""},{"$f":"IF(AB$8=\"\",\"\",IF(TEXT(WEEKDAY(AB$8),\"aaa\")=設定!$C$7,設定!$B$7,\"\"))","v":""},{"$f":"IF(AC$8=\"\",\"\",IF(TEXT(WEEKDAY(AC$8),\"aaa\")=設定!$C$7,設定!$B$7,\"\"))","v":""},{"$f":"IF(AD$8=\"\",\"\",IF(TEXT(WEEKDAY(AD$8),\"aaa\")=設定!$C$7,設定!$B$7,\"\"))","v":""},{"$f":"IF(AE$8=\"\",\"\",IF(TEXT(WEEKDAY(AE$8),\"aaa\")=設定!$C$7,設定!$B$7,\"\"))","v":"定休日"},{"$f":"IF(AF$8=\"\",\"\",IF(TEXT(WEEKDAY(AF$8),\"aaa\")=設定!$C$7,設定!$B$7,\"\"))","v":""},{"$f":"IF(AG$8=\"\",\"\",IF(TEXT(WEEKDAY(AG$8),\"aaa\")=設定!$C$7,設定!$B$7,\"\"))","v":""},{"$f":"IF(AH$8=\"\",\"\",IF(TEXT(WEEKDAY(AH$8),\"aaa\")=設定!$C$7,設定!$B$7,\"\"))","v":""},{"$f":"IF(AI$8=\"\",\"\",IF(TEXT(WEEKDAY(AI$8),\"aaa\")=設定!$C$7,設定!$B$7,\"\"))","v":""},{"$f":"IF(AJ$8=\"\",\"\",IF(TEXT(WEEKDAY(AJ$8),\"aaa\")=設定!$C$7,設定!$B$7,\"\"))","v":""},{"$f":"IF(AK$8=\"\",\"\",IF(TEXT(WEEKDAY(AK$8),\"aaa\")=設定!$C$7,設定!$B$7,\"\"))","v":""},null,0,0,0,0,4,4]
[6,null,null,null,null,null,{"$f":"IF(G$8=\"\",\"\",IF(TEXT(WEEKDAY(G$8),\"aaa\")=設定!$C$7,設定!$B$7,\"\"))","v":""},{"$f":"IF(H$8=\"\",\"\",IF(TEXT(WEEKDAY(H$8),\"aaa\")=設定!$C$7,設定!$B$7,\"\"))","v":""},{"$f":"IF(I$8=\"\",\"\",IF(TEXT(WEEKDAY(I$8),\"aaa\")=設定!$C$7,設定!$B$7,\"\"))","v":""},{"$f":"IF(J$8=\"\",\"\",IF(TEXT(WEEKDAY(J$8),\"aaa\")=設定!$C$7,設定!$B$7,\"\"))","v":"定休日"},{"$f":"IF(K$8=\"\",\"\",IF(TEXT(WEEKDAY(K$8),\"aaa\")=設定!$C$7,設定!$B$7,\"\"))","v":""},{"$f":"IF(L$8=\"\",\"\",IF(TEXT(WEEKDAY(L$8),\"aaa\")=設定!$C$7,設定!$B$7,\"\"))","v":""},{"$f":"IF(M$8=\"\",\"\",IF(TEXT(WEEKDAY(M$8),\"aaa\")=設定!$C$7,設定!$B$7,\"\"))","v":""},{"$f":"IF(N$8=\"\",\"\",IF(TEXT(WEEKDAY(N$8),\"aaa\")=設定!$C$7,設定!$B$7,\"\"))","v":""},{"$f":"IF(O$8=\"\",\"\",IF(TEXT(WEEKDAY(O$8),\"aaa\")=設定!$C$7,設定!$B$7,\"\"))","v":""},{"$f":"IF(P$8=\"\",\"\",IF(TEXT(WEEKDAY(P$8),\"aaa\")=設定!$C$7,設定!$B$7,\"\"))","v":""},{"$f":"IF(Q$8=\"\",\"\",IF(TEXT(WEEKDAY(Q$8),\"aaa\")=設定!$C$7,設定!$B$7,\"\"))","v":"定休日"},{"$f":"IF(R$8=\"\",\"\",IF(TEXT(WEEKDAY(R$8),\"aaa\")=設定!$C$7,設定!$B$7,\"\"))","v":""},{"$f":"IF(S$8=\"\",\"\",IF(TEXT(WEEKDAY(S$8),\"aaa\")=設定!$C$7,設定!$B$7,\"\"))","v":""},{"$f":"IF(T$8=\"\",\"\",IF(TEXT(WEEKDAY(T$8),\"aaa\")=設定!$C$7,設定!$B$7,\"\"))","v":""},{"$f":"IF(U$8=\"\",\"\",IF(TEXT(WEEKDAY(U$8),\"aaa\")=設定!$C$7,設定!$B$7,\"\"))","v":""},{"$f":"IF(V$8=\"\",\"\",IF(TEXT(WEEKDAY(V$8),\"aaa\")=設定!$C$7,設定!$B$7,\"\"))","v":""},{"$f":"IF(W$8=\"\",\"\",IF(TEXT(WEEKDAY(W$8),\"aaa\")=設定!$C$7,設定!$B$7,\"\"))","v":""},{"$f":"IF(X$8=\"\",\"\",IF(TEXT(WEEKDAY(X$8),\"aaa\")=設定!$C$7,設定!$B$7,\"\"))","v":"定休日"},{"$f":"IF(Y$8=\"\",\"\",IF(TEXT(WEEKDAY(Y$8),\"aaa\")=設定!$C$7,設定!$B$7,\"\"))","v":""},{"$f":"IF(Z$8=\"\",\"\",IF(TEXT(WEEKDAY(Z$8),\"aaa\")=設定!$C$7,設定!$B$7,\"\"))","v":""},{"$f":"IF(AA$8=\"\",\"\",IF(TEXT(WEEKDAY(AA$8),\"aaa\")=設定!$C$7,設定!$B$7,\"\"))","v":""},{"$f":"IF(AB$8=\"\",\"\",IF(TEXT(WEEKDAY(AB$8),\"aaa\")=設定!$C$7,設定!$B$7,\"\"))","v":""},{"$f":"IF(AC$8=\"\",\"\",IF(TEXT(WEEKDAY(AC$8),\"aaa\")=設定!$C$7,設定!$B$7,\"\"))","v":""},{"$f":"IF(AD$8=\"\",\"\",IF(TEXT(WEEKDAY(AD$8),\"aaa\")=設定!$C$7,設定!$B$7,\"\"))","v":""},{"$f":"IF(AE$8=\"\",\"\",IF(TEXT(WEEKDAY(AE$8),\"aaa\")=設定!$C$7,設定!$B$7,\"\"))","v":"定休日"},{"$f":"IF(AF$8=\"\",\"\",IF(TEXT(WEEKDAY(AF$8),\"aaa\")=設定!$C$7,設定!$B$7,\"\"))","v":""},{"$f":"IF(AG$8=\"\",\"\",IF(TEXT(WEEKDAY(AG$8),\"aaa\")=設定!$C$7,設定!$B$7,\"\"))","v":""},{"$f":"IF(AH$8=\"\",\"\",IF(TEXT(WEEKDAY(AH$8),\"aaa\")=設定!$C$7,設定!$B$7,\"\"))","v":""},{"$f":"IF(AI$8=\"\",\"\",IF(TEXT(WEEKDAY(AI$8),\"aaa\")=設定!$C$7,設定!$B$7,\"\"))","v":""},{"$f":"IF(AJ$8=\"\",\"\",IF(TEXT(WEEKDAY(AJ$8),\"aaa\")=設定!$C$7,設定!$B$7,\"\"))","v":""},{"$f":"IF(AK$8=\"\",\"\",IF(TEXT(WEEKDAY(AK$8),\"aaa\")=設定!$C$7,設定!$B$7,\"\"))","v":""},null,0,0,0,0,4,4]
[7,null,null,null,null,null,{"$f":"IF(G$8=\"\",\"\",IF(TEXT(WEEKDAY(G$8),\"aaa\")=設定!$C$7,設定!$B$7,\"\"))","v":""},{"$f":"IF(H$8=\"\",\"\",IF(TEXT(WEEKDAY(H$8),\"aaa\")=設定!$C$7,設定!$B$7,\"\"))","v":""},{"$f":"IF(I$8=\"\",\"\",IF(TEXT(WEEKDAY(I$8),\"aaa\")=設定!$C$7,設定!$B$7,\"\"))","v":""},{"$f":"IF(J$8=\"\",\"\",IF(TEXT(WEEKDAY(J$8),\"aaa\")=設定!$C$7,設定!$B$7,\"\"))","v":"定休日"},{"$f":"IF(K$8=\"\",\"\",IF(TEXT(WEEKDAY(K$8),\"aaa\")=設定!$C$7,設定!$B$7,\"\"))","v":""},{"$f":"IF(L$8=\"\",\"\",IF(TEXT(WEEKDAY(L$8),\"aaa\")=設定!$C$7,設定!$B$7,\"\"))","v":""},{"$f":"IF(M$8=\"\",\"\",IF(TEXT(WEEKDAY(M$8),\"aaa\")=設定!$C$7,設定!$B$7,\"\"))","v":""},{"$f":"IF(N$8=\"\",\"\",IF(TEXT(WEEKDAY(N$8),\"aaa\")=設定!$C$7,設定!$B$7,\"\"))","v":""},{"$f":"IF(O$8=\"\",\"\",IF(TEXT(WEEKDAY(O$8),\"aaa\")=設定!$C$7,設定!$B$7,\"\"))","v":""},{"$f":"IF(P$8=\"\",\"\",IF(TEXT(WEEKDAY(P$8),\"aaa\")=設定!$C$7,設定!$B$7,\"\"))","v":""},{"$f":"IF(Q$8=\"\",\"\",IF(TEXT(WEEKDAY(Q$8),\"aaa\")=設定!$C$7,設定!$B$7,\"\"))","v":"定休日"},{"$f":"IF(R$8=\"\",\"\",IF(TEXT(WEEKDAY(R$8),\"aaa\")=設定!$C$7,設定!$B$7,\"\"))","v":""},{"$f":"IF(S$8=\"\",\"\",IF(TEXT(WEEKDAY(S$8),\"aaa\")=設定!$C$7,設定!$B$7,\"\"))","v":""},{"$f":"IF(T$8=\"\",\"\",IF(TEXT(WEEKDAY(T$8),\"aaa\")=設定!$C$7,設定!$B$7,\"\"))","v":""},{"$f":"IF(U$8=\"\",\"\",IF(TEXT(WEEKDAY(U$8),\"aaa\")=設定!$C$7,設定!$B$7,\"\"))","v":""},{"$f":"IF(V$8=\"\",\"\",IF(TEXT(WEEKDAY(V$8),\"aaa\")=設定!$C$7,設定!$B$7,\"\"))","v":""},{"$f":"IF(W$8=\"\",\"\",IF(TEXT(WEEKDAY(W$8),\"aaa\")=設定!$C$7,設定!$B$7,\"\"))","v":""},{"$f":"IF(X$8=\"\",\"\",IF(TEXT(WEEKDAY(X$8),\"aaa\")=設定!$C$7,設定!$B$7,\"\"))","v":"定休日"},{"$f":"IF(Y$8=\"\",\"\",IF(TEXT(WEEKDAY(Y$8),\"aaa\")=設定!$C$7,設定!$B$7,\"\"))","v":""},{"$f":"IF(Z$8=\"\",\"\",IF(TEXT(WEEKDAY(Z$8),\"aaa\")=設定!$C$7,設定!$B$7,\"\"))","v":""},{"$f":"IF(AA$8=\"\",\"\",IF(TEXT(WEEKDAY(AA$8),\"aaa\")=設定!$C$7,設定!$B$7,\"\"))","v":""},{"$f":"IF(AB$8=\"\",\"\",IF(TEXT(WEEKDAY(AB$8),\"aaa\")=設定!$C$7,設定!$B$7,\"\"))","v":""},{"$f":"IF(AC$8=\"\",\"\",IF(TEXT(WEEKDAY(AC$8),\"aaa\")=設定!$C$7,設定!$B$7,\"\"))","v":""},{"$f":"IF(AD$8=\"\",\"\",IF(TEXT(WEEKDAY(AD$8),\"aaa\")=設定!$C$7,設定!$B$7,\"\"))","v":""},{"$f":"IF(AE$8=\"\",\"\",IF(TEXT(WEEKDAY(AE$8),\"aaa\")=設定!$C$7,設定!$B$7,\"\"))","v":"定休日"},{"$f":"IF(AF$8=\"\",\"\",IF(TEXT(WEEKDAY(AF$8),\"aaa\")=設定!$C$7,設定!$B$7,\"\"))","v":""},{"$f":"IF(AG$8=\"\",\"\",IF(TEXT(WEEKDAY(AG$8),\"aaa\")=設定!$C$7,設定!$B$7,\"\"))","v":""},{"$f":"IF(AH$8=\"\",\"\",IF(TEXT(WEEKDAY(AH$8),\"aaa\")=設定!$C$7,設定!$B$7,\"\"))","v":""},{"$f":"IF(AI$8=\"\",\"\",IF(TEXT(WEEKDAY(AI$8),\"aaa\")=設定!$C$7,設定!$B$7,\"\"))","v":""},{"$f":"IF(AJ$8=\"\",\"\",IF(TEXT(WEEKDAY(AJ$8),\"aaa\")=設定!$C$7,設定!$B$7,\"\"))","v":""},{"$f":"IF(AK$8=\"\",\"\",IF(TEXT(WEEKDAY(AK$8),\"aaa\")=設定!$C$7,設定!$B$7,\"\"))","v":""},null,0,0,0,0,4,4]
[8,null,null,null,null,null,{"$f":"IF(G$8=\"\",\"\",IF(TEXT(WEEKDAY(G$8),\"aaa\")=設定!$C$7,設定!$B$7,\"\"))","v":""},{"$f":"IF(H$8=\"\",\"\",IF(TEXT(WEEKDAY(H$8),\"aaa\")=設定!$C$7,設定!$B$7,\"\"))","v":""},{"$f":"IF(I$8=\"\",\"\",IF(TEXT(WEEKDAY(I$8),\"aaa\")=設定!$C$7,設定!$B$7,\"\"))","v":""},{"$f":"IF(J$8=\"\",\"\",IF(TEXT(WEEKDAY(J$8),\"aaa\")=設定!$C$7,設定!$B$7,\"\"))","v":"定休日"},{"$f":"IF(K$8=\"\",\"\",IF(TEXT(WEEKDAY(K$8),\"aaa\")=設定!$C$7,設定!$B$7,\"\"))","v":""},{"$f":"IF(L$8=\"\",\"\",IF(TEXT(WEEKDAY(L$8),\"aaa\")=設定!$C$7,設定!$B$7,\"\"))","v":""},{"$f":"IF(M$8=\"\",\"\",IF(TEXT(WEEKDAY(M$8),\"aaa\")=設定!$C$7,設定!$B$7,\"\"))","v":""},{"$f":"IF(N$8=\"\",\"\",IF(TEXT(WEEKDAY(N$8),\"aaa\")=設定!$C$7,設定!$B$7,\"\"))","v":""},{"$f":"IF(O$8=\"\",\"\",IF(TEXT(WEEKDAY(O$8),\"aaa\")=設定!$C$7,設定!$B$7,\"\"))","v":""},{"$f":"IF(P$8=\"\",\"\",IF(TEXT(WEEKDAY(P$8),\"aaa\")=設定!$C$7,設定!$B$7,\"\"))","v":""},{"$f":"IF(Q$8=\"\",\"\",IF(TEXT(WEEKDAY(Q$8),\"aaa\")=設定!$C$7,設定!$B$7,\"\"))","v":"定休日"},{"$f":"IF(R$8=\"\",\"\",IF(TEXT(WEEKDAY(R$8),\"aaa\")=設定!$C$7,設定!$B$7,\"\"))","v":""},{"$f":"IF(S$8=\"\",\"\",IF(TEXT(WEEKDAY(S$8),\"aaa\")=設定!$C$7,設定!$B$7,\"\"))","v":""},{"$f":"IF(T$8=\"\",\"\",IF(TEXT(WEEKDAY(T$8),\"aaa\")=設定!$C$7,設定!$B$7,\"\"))","v":""},{"$f":"IF(U$8=\"\",\"\",IF(TEXT(WEEKDAY(U$8),\"aaa\")=設定!$C$7,設定!$B$7,\"\"))","v":""},{"$f":"IF(V$8=\"\",\"\",IF(TEXT(WEEKDAY(V$8),\"aaa\")=設定!$C$7,設定!$B$7,\"\"))","v":""},{"$f":"IF(W$8=\"\",\"\",IF(TEXT(WEEKDAY(W$8),\"aaa\")=設定!$C$7,設定!$B$7,\"\"))","v":""},{"$f":"IF(X$8=\"\",\"\",IF(TEXT(WEEKDAY(X$8),\"aaa\")=設定!$C$7,設定!$B$7,\"\"))","v":"定休日"},{"$f":"IF(Y$8=\"\",\"\",IF(TEXT(WEEKDAY(Y$8),\"aaa\")=設定!$C$7,設定!$B$7,\"\"))","v":""},{"$f":"IF(Z$8=\"\",\"\",IF(TEXT(WEEKDAY(Z$8),\"aaa\")=設定!$C$7,設定!$B$7,\"\"))","v":""},{"$f":"IF(AA$8=\"\",\"\",IF(TEXT(WEEKDAY(AA$8),\"aaa\")=設定!$C$7,設定!$B$7,\"\"))","v":""},{"$f":"IF(AB$8=\"\",\"\",IF(TEXT(WEEKDAY(AB$8),\"aaa\")=設定!$C$7,設定!$B$7,\"\"))","v":""},{"$f":"IF(AC$8=\"\",\"\",IF(TEXT(WEEKDAY(AC$8),\"aaa\")=設定!$C$7,設定!$B$7,\"\"))","v":""},{"$f":"IF(AD$8=\"\",\"\",IF(TEXT(WEEKDAY(AD$8),\"aaa\")=設定!$C$7,設定!$B$7,\"\"))","v":""},{"$f":"IF(AE$8=\"\",\"\",IF(TEXT(WEEKDAY(AE$8),\"aaa\")=設定!$C$7,設定!$B$7,\"\"))","v":"定休日"},{"$f":"IF(AF$8=\"\",\"\",IF(TEXT(WEEKDAY(AF$8),\"aaa\")=設定!$C$7,設定!$B$7,\"\"))","v":""},{"$f":"IF(AG$8=\"\",\"\",IF(TEXT(WEEKDAY(AG$8),\"aaa\")=設定!$C$7,設定!$B$7,\"\"))","v":""},{"$f":"IF(AH$8=\"\",\"\",IF(TEXT(WEEKDAY(AH$8),\"aaa\")=設定!$C$7,設定!$B$7,\"\"))","v":""},{"$f":"IF(AI$8=\"\",\"\",IF(TEXT(WEEKDAY(AI$8),\"aaa\")=設定!$C$7,設定!$B$7,\"\"))","v":""},{"$f":"IF(AJ$8=\"\",\"\",IF(TEXT(WEEKDAY(AJ$8),\"aaa\")=設定!$C$7,設定!$B$7,\"\"))","v":""},{"$f":"IF(AK$8=\"\",\"\",IF(TEXT(WEEKDAY(AK$8),\"aaa\")=設定!$C$7,設定!$B$7,\"\"))","v":""},null,0,0,0,0,4,4]
[9,null,null,null,null,null,{"$f":"IF(G$8=\"\",\"\",IF(TEXT(WEEKDAY(G$8),\"aaa\")=設定!$C$7,設定!$B$7,\"\"))","v":""},{"$f":"IF(H$8=\"\",\"\",IF(TEXT(WEEKDAY(H$8),\"aaa\")=設定!$C$7,設定!$B$7,\"\"))","v":""},{"$f":"IF(I$8=\"\",\"\",IF(TEXT(WEEKDAY(I$8),\"aaa\")=設定!$C$7,設定!$B$7,\"\"))","v":""},{"$f":"IF(J$8=\"\",\"\",IF(TEXT(WEEKDAY(J$8),\"aaa\")=設定!$C$7,設定!$B$7,\"\"))","v":"定休日"},{"$f":"IF(K$8=\"\",\"\",IF(TEXT(WEEKDAY(K$8),\"aaa\")=設定!$C$7,設定!$B$7,\"\"))","v":""},{"$f":"IF(L$8=\"\",\"\",IF(TEXT(WEEKDAY(L$8),\"aaa\")=設定!$C$7,設定!$B$7,\"\"))","v":""},{"$f":"IF(M$8=\"\",\"\",IF(TEXT(WEEKDAY(M$8),\"aaa\")=設定!$C$7,設定!$B$7,\"\"))","v":""},{"$f":"IF(N$8=\"\",\"\",IF(TEXT(WEEKDAY(N$8),\"aaa\")=設定!$C$7,設定!$B$7,\"\"))","v":""},{"$f":"IF(O$8=\"\",\"\",IF(TEXT(WEEKDAY(O$8),\"aaa\")=設定!$C$7,設定!$B$7,\"\"))","v":""},{"$f":"IF(P$8=\"\",\"\",IF(TEXT(WEEKDAY(P$8),\"aaa\")=設定!$C$7,設定!$B$7,\"\"))","v":""},{"$f":"IF(Q$8=\"\",\"\",IF(TEXT(WEEKDAY(Q$8),\"aaa\")=設定!$C$7,設定!$B$7,\"\"))","v":"定休日"},{"$f":"IF(R$8=\"\",\"\",IF(TEXT(WEEKDAY(R$8),\"aaa\")=設定!$C$7,設定!$B$7,\"\"))","v":""},{"$f":"IF(S$8=\"\",\"\",IF(TEXT(WEEKDAY(S$8),\"aaa\")=設定!$C$7,設定!$B$7,\"\"))","v":""},{"$f":"IF(T$8=\"\",\"\",IF(TEXT(WEEKDAY(T$8),\"aaa\")=設定!$C$7,設定!$B$7,\"\"))","v":""},{"$f":"IF(U$8=\"\",\"\",IF(TEXT(WEEKDAY(U$8),\"aaa\")=設定!$C$7,設定!$B$7,\"\"))","v":""},{"$f":"IF(V$8=\"\",\"\",IF(TEXT(WEEKDAY(V$8),\"aaa\")=設定!$C$7,設定!$B$7,\"\"))","v":""},{"$f":"IF(W$8=\"\",\"\",IF(TEXT(WEEKDAY(W$8),\"aaa\")=設定!$C$7,設定!$B$7,\"\"))","v":""},{"$f":"IF(X$8=\"\",\"\",IF(TEXT(WEEKDAY(X$8),\"aaa\")=設定!$C$7,設定!$B$7,\"\"))","v":"定休日"},{"$f":"IF(Y$8=\"\",\"\",IF(TEXT(WEEKDAY(Y$8),\"aaa\")=設定!$C$7,設定!$B$7,\"\"))","v":""},{"$f":"IF(Z$8=\"\",\"\",IF(TEXT(WEEKDAY(Z$8),\"aaa\")=設定!$C$7,設定!$B$7,\"\"))","v":""},{"$f":"IF(AA$8=\"\",\"\",IF(TEXT(WEEKDAY(AA$8),\"aaa\")=設定!$C$7,設定!$B$7,\"\"))","v":""},{"$f":"IF(AB$8=\"\",\"\",IF(TEXT(WEEKDAY(AB$8),\"aaa\")=設定!$C$7,設定!$B$7,\"\"))","v":""},{"$f":"IF(AC$8=\"\",\"\",IF(TEXT(WEEKDAY(AC$8),\"aaa\")=設定!$C$7,設定!$B$7,\"\"))","v":""},{"$f":"IF(AD$8=\"\",\"\",IF(TEXT(WEEKDAY(AD$8),\"aaa\")=設定!$C$7,設定!$B$7,\"\"))","v":""},{"$f":"IF(AE$8=\"\",\"\",IF(TEXT(WEEKDAY(AE$8),\"aaa\")=設定!$C$7,設定!$B$7,\"\"))","v":"定休日"},{"$f":"IF(AF$8=\"\",\"\",IF(TEXT(WEEKDAY(AF$8),\"aaa\")=設定!$C$7,設定!$B$7,\"\"))","v":""},{"$f":"IF(AG$8=\"\",\"\",IF(TEXT(WEEKDAY(AG$8),\"aaa\")=設定!$C$7,設定!$B$7,\"\"))","v":""},{"$f":"IF(AH$8=\"\",\"\",IF(TEXT(WEEKDAY(AH$8),\"aaa\")=設定!$C$7,設定!$B$7,\"\"))","v":""},{"$f":"IF(AI$8=\"\",\"\",IF(TEXT(WEEKDAY(AI$8),\"aaa\")=設定!$C$7,設定!$B$7,\"\"))","v":""},{"$f":"IF(AJ$8=\"\",\"\",IF(TEXT(WEEKDAY(AJ$8),\"aaa\")=設定!$C$7,設定!$B$7,\"\"))","v":""},{"$f":"IF(AK$8=\"\",\"\",IF(TEXT(WEEKDAY(AK$8),\"aaa\")=設定!$C$7,設定!$B$7,\"\"))","v":""},null,0,0,0,0,4,4]
[10,null,null,null,null,null,{"$f":"IF(G$8=\"\",\"\",IF(TEXT(WEEKDAY(G$8),\"aaa\")=設定!$C$7,設定!$B$7,\"\"))","v":""},{"$f":"IF(H$8=\"\",\"\",IF(TEXT(WEEKDAY(H$8),\"aaa\")=設定!$C$7,設定!$B$7,\"\"))","v":""},{"$f":"IF(I$8=\"\",\"\",IF(TEXT(WEEKDAY(I$8),\"aaa\")=設定!$C$7,設定!$B$7,\"\"))","v":""},{"$f":"IF(J$8=\"\",\"\",IF(TEXT(WEEKDAY(J$8),\"aaa\")=設定!$C$7,設定!$B$7,\"\"))","v":"定休日"},{"$f":"IF(K$8=\"\",\"\",IF(TEXT(WEEKDAY(K$8),\"aaa\")=設定!$C$7,設定!$B$7,\"\"))","v":""},{"$f":"IF(L$8=\"\",\"\",IF(TEXT(WEEKDAY(L$8),\"aaa\")=設定!$C$7,設定!$B$7,\"\"))","v":""},{"$f":"IF(M$8=\"\",\"\",IF(TEXT(WEEKDAY(M$8),\"aaa\")=設定!$C$7,設定!$B$7,\"\"))","v":""},{"$f":"IF(N$8=\"\",\"\",IF(TEXT(WEEKDAY(N$8),\"aaa\")=設定!$C$7,設定!$B$7,\"\"))","v":""},{"$f":"IF(O$8=\"\",\"\",IF(TEXT(WEEKDAY(O$8),\"aaa\")=設定!$C$7,設定!$B$7,\"\"))","v":""},{"$f":"IF(P$8=\"\",\"\",IF(TEXT(WEEKDAY(P$8),\"aaa\")=設定!$C$7,設定!$B$7,\"\"))","v":""},{"$f":"IF(Q$8=\"\",\"\",IF(TEXT(WEEKDAY(Q$8),\"aaa\")=設定!$C$7,設定!$B$7,\"\"))","v":"定休日"},{"$f":"IF(R$8=\"\",\"\",IF(TEXT(WEEKDAY(R$8),\"aaa\")=設定!$C$7,設定!$B$7,\"\"))","v":""},{"$f":"IF(S$8=\"\",\"\",IF(TEXT(WEEKDAY(S$8),\"aaa\")=設定!$C$7,設定!$B$7,\"\"))","v":""},{"$f":"IF(T$8=\"\",\"\",IF(TEXT(WEEKDAY(T$8),\"aaa\")=設定!$C$7,設定!$B$7,\"\"))","v":""},{"$f":"IF(U$8=\"\",\"\",IF(TEXT(WEEKDAY(U$8),\"aaa\")=設定!$C$7,設定!$B$7,\"\"))","v":""},{"$f":"IF(V$8=\"\",\"\",IF(TEXT(WEEKDAY(V$8),\"aaa\")=設定!$C$7,設定!$B$7,\"\"))","v":""},{"$f":"IF(W$8=\"\",\"\",IF(TEXT(WEEKDAY(W$8),\"aaa\")=設定!$C$7,設定!$B$7,\"\"))","v":""},{"$f":"IF(X$8=\"\",\"\",IF(TEXT(WEEKDAY(X$8),\"aaa\")=設定!$C$7,設定!$B$7,\"\"))","v":"定休日"},{"$f":"IF(Y$8=\"\",\"\",IF(TEXT(WEEKDAY(Y$8),\"aaa\")=設定!$C$7,設定!$B$7,\"\"))","v":""},{"$f":"IF(Z$8=\"\",\"\",IF(TEXT(WEEKDAY(Z$8),\"aaa\")=設定!$C$7,設定!$B$7,\"\"))","v":""},{"$f":"IF(AA$8=\"\",\"\",IF(TEXT(WEEKDAY(AA$8),\"aaa\")=設定!$C$7,設定!$B$7,\"\"))","v":""},{"$f":"IF(AB$8=\"\",\"\",IF(TEXT(WEEKDAY(AB$8),\"aaa\")=設定!$C$7,設定!$B$7,\"\"))","v":""},{"$f":"IF(AC$8=\"\",\"\",IF(TEXT(WEEKDAY(AC$8),\"aaa\")=設定!$C$7,設定!$B$7,\"\"))","v":""},{"$f":"IF(AD$8=\"\",\"\",IF(TEXT(WEEKDAY(AD$8),\"aaa\")=設定!$C$7,設定!$B$7,\"\"))","v":""},{"$f":"IF(AE$8=\"\",\"\",IF(TEXT(WEEKDAY(AE$8),\"aaa\")=設定!$C$7,設定!$B$7,\"\"))","v":"定休日"},{"$f":"IF(AF$8=\"\",\"\",IF(TEXT(WEEKDAY(AF$8),\"aaa\")=設定!$C$7,設定!$B$7,\"\"))","v":""},{"$f":"IF(AG$8=\"\",\"\",IF(TEXT(WEEKDAY(AG$8),\"aaa\")=設定!$C$7,設定!$B$7,\"\"))","v":""},{"$f":"IF(AH$8=\"\",\"\",IF(TEXT(WEEKDAY(AH$8),\"aaa\")=設定!$C$7,設定!$B$7,\"\"))","v":""},{"$f":"IF(AI$8=\"\",\"\",IF(TEXT(WEEKDAY(AI$8),\"aaa\")=設定!$C$7,設定!$B$7,\"\"))","v":""},{"$f":"IF(AJ$8=\"\",\"\",IF(TEXT(WEEKDAY(AJ$8),\"aaa\")=設定!$C$7,設定!$B$7,\"\"))","v":""},{"$f":"IF(AK$8=\"\",\"\",IF(TEXT(WEEKDAY(AK$8),\"aaa\")=設定!$C$7,設定!$B$7,\"\"))","v":""},null,0,0,0,0,4,4]
[11,null,null,null,null,null,{"$f":"IF(G$8=\"\",\"\",IF(TEXT(WEEKDAY(G$8),\"aaa\")=設定!$C$7,設定!$B$7,\"\"))","v":""},{"$f":"IF(H$8=\"\",\"\",IF(TEXT(WEEKDAY(H$8),\"aaa\")=設定!$C$7,設定!$B$7,\"\"))","v":""},{"$f":"IF(I$8=\"\",\"\",IF(TEXT(WEEKDAY(I$8),\"aaa\")=設定!$C$7,設定!$B$7,\"\"))","v":""},{"$f":"IF(J$8=\"\",\"\",IF(TEXT(WEEKDAY(J$8),\"aaa\")=設定!$C$7,設定!$B$7,\"\"))","v":"定休日"},{"$f":"IF(K$8=\"\",\"\",IF(TEXT(WEEKDAY(K$8),\"aaa\")=設定!$C$7,設定!$B$7,\"\"))","v":""},{"$f":"IF(L$8=\"\",\"\",IF(TEXT(WEEKDAY(L$8),\"aaa\")=設定!$C$7,設定!$B$7,\"\"))","v":""},{"$f":"IF(M$8=\"\",\"\",IF(TEXT(WEEKDAY(M$8),\"aaa\")=設定!$C$7,設定!$B$7,\"\"))","v":""},{"$f":"IF(N$8=\"\",\"\",IF(TEXT(WEEKDAY(N$8),\"aaa\")=設定!$C$7,設定!$B$7,\"\"))","v":""},{"$f":"IF(O$8=\"\",\"\",IF(TEXT(WEEKDAY(O$8),\"aaa\")=設定!$C$7,設定!$B$7,\"\"))","v":""},{"$f":"IF(P$8=\"\",\"\",IF(TEXT(WEEKDAY(P$8),\"aaa\")=設定!$C$7,設定!$B$7,\"\"))","v":""},{"$f":"IF(Q$8=\"\",\"\",IF(TEXT(WEEKDAY(Q$8),\"aaa\")=設定!$C$7,設定!$B$7,\"\"))","v":"定休日"},{"$f":"IF(R$8=\"\",\"\",IF(TEXT(WEEKDAY(R$8),\"aaa\")=設定!$C$7,設定!$B$7,\"\"))","v":""},{"$f":"IF(S$8=\"\",\"\",IF(TEXT(WEEKDAY(S$8),\"aaa\")=設定!$C$7,設定!$B$7,\"\"))","v":""},{"$f":"IF(T$8=\"\",\"\",IF(TEXT(WEEKDAY(T$8),\"aaa\")=設定!$C$7,設定!$B$7,\"\"))","v":""},{"$f":"IF(U$8=\"\",\"\",IF(TEXT(WEEKDAY(U$8),\"aaa\")=設定!$C$7,設定!$B$7,\"\"))","v":""},{"$f":"IF(V$8=\"\",\"\",IF(TEXT(WEEKDAY(V$8),\"aaa\")=設定!$C$7,設定!$B$7,\"\"))","v":""},{"$f":"IF(W$8=\"\",\"\",IF(TEXT(WEEKDAY(W$8),\"aaa\")=設定!$C$7,設定!$B$7,\"\"))","v":""},{"$f":"IF(X$8=\"\",\"\",IF(TEXT(WEEKDAY(X$8),\"aaa\")=設定!$C$7,設定!$B$7,\"\"))","v":"定休日"},{"$f":"IF(Y$8=\"\",\"\",IF(TEXT(WEEKDAY(Y$8),\"aaa\")=設定!$C$7,設定!$B$7,\"\"))","v":""},{"$f":"IF(Z$8=\"\",\"\",IF(TEXT(WEEKDAY(Z$8),\"aaa\")=設定!$C$7,設定!$B$7,\"\"))","v":""},{"$f":"IF(AA$8=\"\",\"\",IF(TEXT(WEEKDAY(AA$8),\"aaa\")=設定!$C$7,設定!$B$7,\"\"))","v":""},{"$f":"IF(AB$8=\"\",\"\",IF(TEXT(WEEKDAY(AB$8),\"aaa\")=設定!$C$7,設定!$B$7,\"\"))","v":""},{"$f":"IF(AC$8=\"\",\"\",IF(TEXT(WEEKDAY(AC$8),\"aaa\")=設定!$C$7,設定!$B$7,\"\"))","v":""},{"$f":"IF(AD$8=\"\",\"\",IF(TEXT(WEEKDAY(AD$8),\"aaa\")=設定!$C$7,設定!$B$7,\"\"))","v":""},{"$f":"IF(AE$8=\"\",\"\",IF(TEXT(WEEKDAY(AE$8),\"aaa\")=設定!$C$7,設定!$B$7,\"\"))","v":"定休日"},{"$f":"IF(AF$8=\"\",\"\",IF(TEXT(WEEKDAY(AF$8),\"aaa\")=設定!$C$7,設定!$B$7,\"\"))","v":""},{"$f":"IF(AG$8=\"\",\"\",IF(TEXT(WEEKDAY(AG$8),\"aaa\")=設定!$C$7,設定!$B$7,\"\"))","v":""},{"$f":"IF(AH$8=\"\",\"\",IF(TEXT(WEEKDAY(AH$8),\"aaa\")=設定!$C$7,設定!$B$7,\"\"))","v":""},{"$f":"IF(AI$8=\"\",\"\",IF(TEXT(WEEKDAY(AI$8),\"aaa\")=設定!$C$7,設定!$B$7,\"\"))","v":""},{"$f":"IF(AJ$8=\"\",\"\",IF(TEXT(WEEKDAY(AJ$8),\"aaa\")=設定!$C$7,設定!$B$7,\"\"))","v":""},{"$f":"IF(AK$8=\"\",\"\",IF(TEXT(WEEKDAY(AK$8),\"aaa\")=設定!$C$7,設定!$B$7,\"\"))","v":""},null,0,0,0,0,4,{"$f":"SUM(AM19:AQ19)","v":4}]
[12,null,null,null,null,null,{"$f":"IF(G$8=\"\",\"\",IF(TEXT(WEEKDAY(G$8),\"aaa\")=設定!$C$7,設定!$B$7,\"\"))","v":""},{"$f":"IF(H$8=\"\",\"\",IF(TEXT(WEEKDAY(H$8),\"aaa\")=設定!$C$7,設定!$B$7,\"\"))","v":""},{"$f":"IF(I$8=\"\",\"\",IF(TEXT(WEEKDAY(I$8),\"aaa\")=設定!$C$7,設定!$B$7,\"\"))","v":""},{"$f":"IF(J$8=\"\",\"\",IF(TEXT(WEEKDAY(J$8),\"aaa\")=設定!$C$7,設定!$B$7,\"\"))","v":"定休日"},{"$f":"IF(K$8=\"\",\"\",IF(TEXT(WEEKDAY(K$8),\"aaa\")=設定!$C$7,設定!$B$7,\"\"))","v":""},{"$f":"IF(L$8=\"\",\"\",IF(TEXT(WEEKDAY(L$8),\"aaa\")=設定!$C$7,設定!$B$7,\"\"))","v":""},{"$f":"IF(M$8=\"\",\"\",IF(TEXT(WEEKDAY(M$8),\"aaa\")=設定!$C$7,設定!$B$7,\"\"))","v":""},{"$f":"IF(N$8=\"\",\"\",IF(TEXT(WEEKDAY(N$8),\"aaa\")=設定!$C$7,設定!$B$7,\"\"))","v":""},{"$f":"IF(O$8=\"\",\"\",IF(TEXT(WEEKDAY(O$8),\"aaa\")=設定!$C$7,設定!$B$7,\"\"))","v":""},{"$f":"IF(P$8=\"\",\"\",IF(TEXT(WEEKDAY(P$8),\"aaa\")=設定!$C$7,設定!$B$7,\"\"))","v":""},{"$f":"IF(Q$8=\"\",\"\",IF(TEXT(WEEKDAY(Q$8),\"aaa\")=設定!$C$7,設定!$B$7,\"\"))","v":"定休日"},{"$f":"IF(R$8=\"\",\"\",IF(TEXT(WEEKDAY(R$8),\"aaa\")=設定!$C$7,設定!$B$7,\"\"))","v":""},{"$f":"IF(S$8=\"\",\"\",IF(TEXT(WEEKDAY(S$8),\"aaa\")=設定!$C$7,設定!$B$7,\"\"))","v":""},{"$f":"IF(T$8=\"\",\"\",IF(TEXT(WEEKDAY(T$8),\"aaa\")=設定!$C$7,設定!$B$7,\"\"))","v":""},{"$f":"IF(U$8=\"\",\"\",IF(TEXT(WEEKDAY(U$8),\"aaa\")=設定!$C$7,設定!$B$7,\"\"))","v":""},{"$f":"IF(V$8=\"\",\"\",IF(TEXT(WEEKDAY(V$8),\"aaa\")=設定!$C$7,設定!$B$7,\"\"))","v":""},{"$f":"IF(W$8=\"\",\"\",IF(TEXT(WEEKDAY(W$8),\"aaa\")=設定!$C$7,設定!$B$7,\"\"))","v":""},{"$f":"IF(X$8=\"\",\"\",IF(TEXT(WEEKDAY(X$8),\"aaa\")=設定!$C$7,設定!$B$7,\"\"))","v":"定休日"},{"$f":"IF(Y$8=\"\",\"\",IF(TEXT(WEEKDAY(Y$8),\"aaa\")=設定!$C$7,設定!$B$7,\"\"))","v":""},{"$f":"IF(Z$8=\"\",\"\",IF(TEXT(WEEKDAY(Z$8),\"aaa\")=設定!$C$7,設定!$B$7,\"\"))","v":""},{"$f":"IF(AA$8=\"\",\"\",IF(TEXT(WEEKDAY(AA$8),\"aaa\")=設定!$C$7,設定!$B$7,\"\"))","v":""},{"$f":"IF(AB$8=\"\",\"\",IF(TEXT(WEEKDAY(AB$8),\"aaa\")=設定!$C$7,設定!$B$7,\"\"))","v":""},{"$f":"IF(AC$8=\"\",\"\",IF(TEXT(WEEKDAY(AC$8),\"aaa\")=設定!$C$7,設定!$B$7,\"\"))","v":""},{"$f":"IF(AD$8=\"\",\"\",IF(TEXT(WEEKDAY(AD$8),\"aaa\")=設定!$C$7,設定!$B$7,\"\"))","v":""},{"$f":"IF(AE$8=\"\",\"\",IF(TEXT(WEEKDAY(AE$8),\"aaa\")=設定!$C$7,設定!$B$7,\"\"))","v":"定休日"},{"$f":"IF(AF$8=\"\",\"\",IF(TEXT(WEEKDAY(AF$8),\"aaa\")=設定!$C$7,設定!$B$7,\"\"))","v":""},{"$f":"IF(AG$8=\"\",\"\",IF(TEXT(WEEKDAY(AG$8),\"aaa\")=設定!$C$7,設定!$B$7,\"\"))","v":""},{"$f":"IF(AH$8=\"\",\"\",IF(TEXT(WEEKDAY(AH$8),\"aaa\")=設定!$C$7,設定!$B$7,\"\"))","v":""},{"$f":"IF(AI$8=\"\",\"\",IF(TEXT(WEEKDAY(AI$8),\"aaa\")=設定!$C$7,設定!$B$7,\"\"))","v":""},{"$f":"IF(AJ$8=\"\",\"\",IF(TEXT(WEEKDAY(AJ$8),\"aaa\")=設定!$C$7,設定!$B$7,\"\"))","v":""},{"$f":"IF(AK$8=\"\",\"\",IF(TEXT(WEEKDAY(AK$8),\"aaa\")=設定!$C$7,設定!$B$7,\"\"))","v":""},null,0,0,0,0,4,4]
[13,null,null,null,null,null,{"$f":"IF(G$8=\"\",\"\",IF(TEXT(WEEKDAY(G$8),\"aaa\")=設定!$C$7,設定!$B$7,\"\"))","v":""},{"$f":"IF(H$8=\"\",\"\",IF(TEXT(WEEKDAY(H$8),\"aaa\")=設定!$C$7,設定!$B$7,\"\"))","v":""},{"$f":"IF(I$8=\"\",\"\",IF(TEXT(WEEKDAY(I$8),\"aaa\")=設定!$C$7,設定!$B$7,\"\"))","v":""},{"$f":"IF(J$8=\"\",\"\",IF(TEXT(WEEKDAY(J$8),\"aaa\")=設定!$C$7,設定!$B$7,\"\"))","v":"定休日"},{"$f":"IF(K$8=\"\",\"\",IF(TEXT(WEEKDAY(K$8),\"aaa\")=設定!$C$7,設定!$B$7,\"\"))","v":""},{"$f":"IF(L$8=\"\",\"\",IF(TEXT(WEEKDAY(L$8),\"aaa\")=設定!$C$7,設定!$B$7,\"\"))","v":""},{"$f":"IF(M$8=\"\",\"\",IF(TEXT(WEEKDAY(M$8),\"aaa\")=設定!$C$7,設定!$B$7,\"\"))","v":""},{"$f":"IF(N$8=\"\",\"\",IF(TEXT(WEEKDAY(N$8),\"aaa\")=設定!$C$7,設定!$B$7,\"\"))","v":""},{"$f":"IF(O$8=\"\",\"\",IF(TEXT(WEEKDAY(O$8),\"aaa\")=設定!$C$7,設定!$B$7,\"\"))","v":""},{"$f":"IF(P$8=\"\",\"\",IF(TEXT(WEEKDAY(P$8),\"aaa\")=設定!$C$7,設定!$B$7,\"\"))","v":""},{"$f":"IF(Q$8=\"\",\"\",IF(TEXT(WEEKDAY(Q$8),\"aaa\")=設定!$C$7,設定!$B$7,\"\"))","v":"定休日"},{"$f":"IF(R$8=\"\",\"\",IF(TEXT(WEEKDAY(R$8),\"aaa\")=設定!$C$7,設定!$B$7,\"\"))","v":""},{"$f":"IF(S$8=\"\",\"\",IF(TEXT(WEEKDAY(S$8),\"aaa\")=設定!$C$7,設定!$B$7,\"\"))","v":""},{"$f":"IF(T$8=\"\",\"\",IF(TEXT(WEEKDAY(T$8),\"aaa\")=設定!$C$7,設定!$B$7,\"\"))","v":""},{"$f":"IF(U$8=\"\",\"\",IF(TEXT(WEEKDAY(U$8),\"aaa\")=設定!$C$7,設定!$B$7,\"\"))","v":""},{"$f":"IF(V$8=\"\",\"\",IF(TEXT(WEEKDAY(V$8),\"aaa\")=設定!$C$7,設定!$B$7,\"\"))","v":""},{"$f":"IF(W$8=\"\",\"\",IF(TEXT(WEEKDAY(W$8),\"aaa\")=設定!$C$7,設定!$B$7,\"\"))","v":""},{"$f":"IF(X$8=\"\",\"\",IF(TEXT(WEEKDAY(X$8),\"aaa\")=設定!$C$7,設定!$B$7,\"\"))","v":"定休日"},{"$f":"IF(Y$8=\"\",\"\",IF(TEXT(WEEKDAY(Y$8),\"aaa\")=設定!$C$7,設定!$B$7,\"\"))","v":""},{"$f":"IF(Z$8=\"\",\"\",IF(TEXT(WEEKDAY(Z$8),\"aaa\")=設定!$C$7,設定!$B$7,\"\"))","v":""},{"$f":"IF(AA$8=\"\",\"\",IF(TEXT(WEEKDAY(AA$8),\"aaa\")=設定!$C$7,設定!$B$7,\"\"))","v":""},{"$f":"IF(AB$8=\"\",\"\",IF(TEXT(WEEKDAY(AB$8),\"aaa\")=設定!$C$7,設定!$B$7,\"\"))","v":""},{"$f":"IF(AC$8=\"\",\"\",IF(TEXT(WEEKDAY(AC$8),\"aaa\")=設定!$C$7,設定!$B$7,\"\"))","v":""},{"$f":"IF(AD$8=\"\",\"\",IF(TEXT(WEEKDAY(AD$8),\"aaa\")=設定!$C$7,設定!$B$7,\"\"))","v":""},{"$f":"IF(AE$8=\"\",\"\",IF(TEXT(WEEKDAY(AE$8),\"aaa\")=設定!$C$7,設定!$B$7,\"\"))","v":"定休日"},{"$f":"IF(AF$8=\"\",\"\",IF(TEXT(WEEKDAY(AF$8),\"aaa\")=設定!$C$7,設定!$B$7,\"\"))","v":""},{"$f":"IF(AG$8=\"\",\"\",IF(TEXT(WEEKDAY(AG$8),\"aaa\")=設定!$C$7,設定!$B$7,\"\"))","v":""},{"$f":"IF(AH$8=\"\",\"\",IF(TEXT(WEEKDAY(AH$8),\"aaa\")=設定!$C$7,設定!$B$7,\"\"))","v":""},{"$f":"IF(AI$8=\"\",\"\",IF(TEXT(WEEKDAY(AI$8),\"aaa\")=設定!$C$7,設定!$B$7,\"\"))","v":""},{"$f":"IF(AJ$8=\"\",\"\",IF(TEXT(WEEKDAY(AJ$8),\"aaa\")=設定!$C$7,設定!$B$7,\"\"))","v":""},{"$f":"IF(AK$8=\"\",\"\",IF(TEXT(WEEKDAY(AK$8),\"aaa\")=設定!$C$7,設定!$B$7,\"\"))","v":""},null,0,0,0,0,4,4]
[14,null,null,null,null,null,{"$f":"IF(G$8=\"\",\"\",IF(TEXT(WEEKDAY(G$8),\"aaa\")=設定!$C$7,設定!$B$7,\"\"))","v":""},{"$f":"IF(H$8=\"\",\"\",IF(TEXT(WEEKDAY(H$8),\"aaa\")=設定!$C$7,設定!$B$7,\"\"))","v":""},{"$f":"IF(I$8=\"\",\"\",IF(TEXT(WEEKDAY(I$8),\"aaa\")=設定!$C$7,設定!$B$7,\"\"))","v":""},{"$f":"IF(J$8=\"\",\"\",IF(TEXT(WEEKDAY(J$8),\"aaa\")=設定!$C$7,設定!$B$7,\"\"))","v":"定休日"},{"$f":"IF(K$8=\"\",\"\",IF(TEXT(WEEKDAY(K$8),\"aaa\")=設定!$C$7,設定!$B$7,\"\"))","v":""},{"$f":"IF(L$8=\"\",\"\",IF(TEXT(WEEKDAY(L$8),\"aaa\")=設定!$C$7,設定!$B$7,\"\"))","v":""},{"$f":"IF(M$8=\"\",\"\",IF(TEXT(WEEKDAY(M$8),\"aaa\")=設定!$C$7,設定!$B$7,\"\"))","v":""},{"$f":"IF(N$8=\"\",\"\",IF(TEXT(WEEKDAY(N$8),\"aaa\")=設定!$C$7,設定!$B$7,\"\"))","v":""},{"$f":"IF(O$8=\"\",\"\",IF(TEXT(WEEKDAY(O$8),\"aaa\")=設定!$C$7,設定!$B$7,\"\"))","v":""},{"$f":"IF(P$8=\"\",\"\",IF(TEXT(WEEKDAY(P$8),\"aaa\")=設定!$C$7,設定!$B$7,\"\"))","v":""},{"$f":"IF(Q$8=\"\",\"\",IF(TEXT(WEEKDAY(Q$8),\"aaa\")=設定!$C$7,設定!$B$7,\"\"))","v":"定休日"},{"$f":"IF(R$8=\"\",\"\",IF(TEXT(WEEKDAY(R$8),\"aaa\")=設定!$C$7,設定!$B$7,\"\"))","v":""},{"$f":"IF(S$8=\"\",\"\",IF(TEXT(WEEKDAY(S$8),\"aaa\")=設定!$C$7,設定!$B$7,\"\"))","v":""},{"$f":"IF(T$8=\"\",\"\",IF(TEXT(WEEKDAY(T$8),\"aaa\")=設定!$C$7,設定!$B$7,\"\"))","v":""},{"$f":"IF(U$8=\"\",\"\",IF(TEXT(WEEKDAY(U$8),\"aaa\")=設定!$C$7,設定!$B$7,\"\"))","v":""},{"$f":"IF(V$8=\"\",\"\",IF(TEXT(WEEKDAY(V$8),\"aaa\")=設定!$C$7,設定!$B$7,\"\"))","v":""},{"$f":"IF(W$8=\"\",\"\",IF(TEXT(WEEKDAY(W$8),\"aaa\")=設定!$C$7,設定!$B$7,\"\"))","v":""},{"$f":"IF(X$8=\"\",\"\",IF(TEXT(WEEKDAY(X$8),\"aaa\")=設定!$C$7,設定!$B$7,\"\"))","v":"定休日"},{"$f":"IF(Y$8=\"\",\"\",IF(TEXT(WEEKDAY(Y$8),\"aaa\")=設定!$C$7,設定!$B$7,\"\"))","v":""},{"$f":"IF(Z$8=\"\",\"\",IF(TEXT(WEEKDAY(Z$8),\"aaa\")=設定!$C$7,設定!$B$7,\"\"))","v":""},{"$f":"IF(AA$8=\"\",\"\",IF(TEXT(WEEKDAY(AA$8),\"aaa\")=設定!$C$7,設定!$B$7,\"\"))","v":""},{"$f":"IF(AB$8=\"\",\"\",IF(TEXT(WEEKDAY(AB$8),\"aaa\")=設定!$C$7,設定!$B$7,\"\"))","v":""},{"$f":"IF(AC$8=\"\",\"\",IF(TEXT(WEEKDAY(AC$8),\"aaa\")=設定!$C$7,設定!$B$7,\"\"))","v":""},{"$f":"IF(AD$8=\"\",\"\",IF(TEXT(WEEKDAY(AD$8),\"aaa\")=設定!$C$7,設定!$B$7,\"\"))","v":""},{"$f":"IF(AE$8=\"\",\"\",IF(TEXT(WEEKDAY(AE$8),\"aaa\")=設定!$C$7,設定!$B$7,\"\"))","v":"定休日"},{"$f":"IF(AF$8=\"\",\"\",IF(TEXT(WEEKDAY(AF$8),\"aaa\")=設定!$C$7,設定!$B$7,\"\"))","v":""},{"$f":"IF(AG$8=\"\",\"\",IF(TEXT(WEEKDAY(AG$8),\"aaa\")=設定!$C$7,設定!$B$7,\"\"))","v":""},{"$f":"IF(AH$8=\"\",\"\",IF(TEXT(WEEKDAY(AH$8),\"aaa\")=設定!$C$7,設定!$B$7,\"\"))","v":""},{"$f":"IF(AI$8=\"\",\"\",IF(TEXT(WEEKDAY(AI$8),\"aaa\")=設定!$C$7,設定!$B$7,\"\"))","v":""},{"$f":"IF(AJ$8=\"\",\"\",IF(TEXT(WEEKDAY(AJ$8),\"aaa\")=設定!$C$7,設定!$B$7,\"\"))","v":""},{"$f":"IF(AK$8=\"\",\"\",IF(TEXT(WEEKDAY(AK$8),\"aaa\")=設定!$C$7,設定!$B$7,\"\"))","v":""},null,0,0,0,0,4,4]
[15,null,null,null,null,null,{"$f":"IF(G$8=\"\",\"\",IF(TEXT(WEEKDAY(G$8),\"aaa\")=設定!$C$7,設定!$B$7,\"\"))","v":""},{"$f":"IF(H$8=\"\",\"\",IF(TEXT(WEEKDAY(H$8),\"aaa\")=設定!$C$7,設定!$B$7,\"\"))","v":""},{"$f":"IF(I$8=\"\",\"\",IF(TEXT(WEEKDAY(I$8),\"aaa\")=設定!$C$7,設定!$B$7,\"\"))","v":""},{"$f":"IF(J$8=\"\",\"\",IF(TEXT(WEEKDAY(J$8),\"aaa\")=設定!$C$7,設定!$B$7,\"\"))","v":"定休日"},{"$f":"IF(K$8=\"\",\"\",IF(TEXT(WEEKDAY(K$8),\"aaa\")=設定!$C$7,設定!$B$7,\"\"))","v":""},{"$f":"IF(L$8=\"\",\"\",IF(TEXT(WEEKDAY(L$8),\"aaa\")=設定!$C$7,設定!$B$7,\"\"))","v":""},{"$f":"IF(M$8=\"\",\"\",IF(TEXT(WEEKDAY(M$8),\"aaa\")=設定!$C$7,設定!$B$7,\"\"))","v":""},{"$f":"IF(N$8=\"\",\"\",IF(TEXT(WEEKDAY(N$8),\"aaa\")=設定!$C$7,設定!$B$7,\"\"))","v":""},{"$f":"IF(O$8=\"\",\"\",IF(TEXT(WEEKDAY(O$8),\"aaa\")=設定!$C$7,設定!$B$7,\"\"))","v":""},{"$f":"IF(P$8=\"\",\"\",IF(TEXT(WEEKDAY(P$8),\"aaa\")=設定!$C$7,設定!$B$7,\"\"))","v":""},{"$f":"IF(Q$8=\"\",\"\",IF(TEXT(WEEKDAY(Q$8),\"aaa\")=設定!$C$7,設定!$B$7,\"\"))","v":"定休日"},{"$f":"IF(R$8=\"\",\"\",IF(TEXT(WEEKDAY(R$8),\"aaa\")=設定!$C$7,設定!$B$7,\"\"))","v":""},{"$f":"IF(S$8=\"\",\"\",IF(TEXT(WEEKDAY(S$8),\"aaa\")=設定!$C$7,設定!$B$7,\"\"))","v":""},{"$f":"IF(T$8=\"\",\"\",IF(TEXT(WEEKDAY(T$8),\"aaa\")=設定!$C$7,設定!$B$7,\"\"))","v":""},{"$f":"IF(U$8=\"\",\"\",IF(TEXT(WEEKDAY(U$8),\"aaa\")=設定!$C$7,設定!$B$7,\"\"))","v":""},{"$f":"IF(V$8=\"\",\"\",IF(TEXT(WEEKDAY(V$8),\"aaa\")=設定!$C$7,設定!$B$7,\"\"))","v":""},{"$f":"IF(W$8=\"\",\"\",IF(TEXT(WEEKDAY(W$8),\"aaa\")=設定!$C$7,設定!$B$7,\"\"))","v":""},{"$f":"IF(X$8=\"\",\"\",IF(TEXT(WEEKDAY(X$8),\"aaa\")=設定!$C$7,設定!$B$7,\"\"))","v":"定休日"},{"$f":"IF(Y$8=\"\",\"\",IF(TEXT(WEEKDAY(Y$8),\"aaa\")=設定!$C$7,設定!$B$7,\"\"))","v":""},{"$f":"IF(Z$8=\"\",\"\",IF(TEXT(WEEKDAY(Z$8),\"aaa\")=設定!$C$7,設定!$B$7,\"\"))","v":""},{"$f":"IF(AA$8=\"\",\"\",IF(TEXT(WEEKDAY(AA$8),\"aaa\")=設定!$C$7,設定!$B$7,\"\"))","v":""},{"$f":"IF(AB$8=\"\",\"\",IF(TEXT(WEEKDAY(AB$8),\"aaa\")=設定!$C$7,設定!$B$7,\"\"))","v":""},{"$f":"IF(AC$8=\"\",\"\",IF(TEXT(WEEKDAY(AC$8),\"aaa\")=設定!$C$7,設定!$B$7,\"\"))","v":""},{"$f":"IF(AD$8=\"\",\"\",IF(TEXT(WEEKDAY(AD$8),\"aaa\")=設定!$C$7,設定!$B$7,\"\"))","v":""},{"$f":"IF(AE$8=\"\",\"\",IF(TEXT(WEEKDAY(AE$8),\"aaa\")=設定!$C$7,設定!$B$7,\"\"))","v":"定休日"},{"$f":"IF(AF$8=\"\",\"\",IF(TEXT(WEEKDAY(AF$8),\"aaa\")=設定!$C$7,設定!$B$7,\"\"))","v":""},{"$f":"IF(AG$8=\"\",\"\",IF(TEXT(WEEKDAY(AG$8),\"aaa\")=設定!$C$7,設定!$B$7,\"\"))","v":""},{"$f":"IF(AH$8=\"\",\"\",IF(TEXT(WEEKDAY(AH$8),\"aaa\")=設定!$C$7,設定!$B$7,\"\"))","v":""},{"$f":"IF(AI$8=\"\",\"\",IF(TEXT(WEEKDAY(AI$8),\"aaa\")=設定!$C$7,設定!$B$7,\"\"))","v":""},{"$f":"IF(AJ$8=\"\",\"\",IF(TEXT(WEEKDAY(AJ$8),\"aaa\")=設定!$C$7,設定!$B$7,\"\"))","v":""},{"$f":"IF(AK$8=\"\",\"\",IF(TEXT(WEEKDAY(AK$8),\"aaa\")=設定!$C$7,設定!$B$7,\"\"))","v":""},null,0,0,0,0,4,4]
[16,null,null,null,null,null,{"$f":"IF(G$8=\"\",\"\",IF(TEXT(WEEKDAY(G$8),\"aaa\")=設定!$C$7,設定!$B$7,\"\"))","v":""},{"$f":"IF(H$8=\"\",\"\",IF(TEXT(WEEKDAY(H$8),\"aaa\")=設定!$C$7,設定!$B$7,\"\"))","v":""},{"$f":"IF(I$8=\"\",\"\",IF(TEXT(WEEKDAY(I$8),\"aaa\")=設定!$C$7,設定!$B$7,\"\"))","v":""},{"$f":"IF(J$8=\"\",\"\",IF(TEXT(WEEKDAY(J$8),\"aaa\")=設定!$C$7,設定!$B$7,\"\"))","v":"定休日"},{"$f":"IF(K$8=\"\",\"\",IF(TEXT(WEEKDAY(K$8),\"aaa\")=設定!$C$7,設定!$B$7,\"\"))","v":""},{"$f":"IF(L$8=\"\",\"\",IF(TEXT(WEEKDAY(L$8),\"aaa\")=設定!$C$7,設定!$B$7,\"\"))","v":""},{"$f":"IF(M$8=\"\",\"\",IF(TEXT(WEEKDAY(M$8),\"aaa\")=設定!$C$7,設定!$B$7,\"\"))","v":""},{"$f":"IF(N$8=\"\",\"\",IF(TEXT(WEEKDAY(N$8),\"aaa\")=設定!$C$7,設定!$B$7,\"\"))","v":""},{"$f":"IF(O$8=\"\",\"\",IF(TEXT(WEEKDAY(O$8),\"aaa\")=設定!$C$7,設定!$B$7,\"\"))","v":""},{"$f":"IF(P$8=\"\",\"\",IF(TEXT(WEEKDAY(P$8),\"aaa\")=設定!$C$7,設定!$B$7,\"\"))","v":""},{"$f":"IF(Q$8=\"\",\"\",IF(TEXT(WEEKDAY(Q$8),\"aaa\")=設定!$C$7,設定!$B$7,\"\"))","v":"定休日"},{"$f":"IF(R$8=\"\",\"\",IF(TEXT(WEEKDAY(R$8),\"aaa\")=設定!$C$7,設定!$B$7,\"\"))","v":""},{"$f":"IF(S$8=\"\",\"\",IF(TEXT(WEEKDAY(S$8),\"aaa\")=設定!$C$7,設定!$B$7,\"\"))","v":""},{"$f":"IF(T$8=\"\",\"\",IF(TEXT(WEEKDAY(T$8),\"aaa\")=設定!$C$7,設定!$B$7,\"\"))","v":""},{"$f":"IF(U$8=\"\",\"\",IF(TEXT(WEEKDAY(U$8),\"aaa\")=設定!$C$7,設定!$B$7,\"\"))","v":""},{"$f":"IF(V$8=\"\",\"\",IF(TEXT(WEEKDAY(V$8),\"aaa\")=設定!$C$7,設定!$B$7,\"\"))","v":""},{"$f":"IF(W$8=\"\",\"\",IF(TEXT(WEEKDAY(W$8),\"aaa\")=設定!$C$7,設定!$B$7,\"\"))","v":""},{"$f":"IF(X$8=\"\",\"\",IF(TEXT(WEEKDAY(X$8),\"aaa\")=設定!$C$7,設定!$B$7,\"\"))","v":"定休日"},{"$f":"IF(Y$8=\"\",\"\",IF(TEXT(WEEKDAY(Y$8),\"aaa\")=設定!$C$7,設定!$B$7,\"\"))","v":""},{"$f":"IF(Z$8=\"\",\"\",IF(TEXT(WEEKDAY(Z$8),\"aaa\")=設定!$C$7,設定!$B$7,\"\"))","v":""},{"$f":"IF(AA$8=\"\",\"\",IF(TEXT(WEEKDAY(AA$8),\"aaa\")=設定!$C$7,設定!$B$7,\"\"))","v":""},{"$f":"IF(AB$8=\"\",\"\",IF(TEXT(WEEKDAY(AB$8),\"aaa\")=設定!$C$7,設定!$B$7,\"\"))","v":""},{"$f":"IF(AC$8=\"\",\"\",IF(TEXT(WEEKDAY(AC$8),\"aaa\")=設定!$C$7,設定!$B$7,\"\"))","v":""},{"$f":"IF(AD$8=\"\",\"\",IF(TEXT(WEEKDAY(AD$8),\"aaa\")=設定!$C$7,設定!$B$7,\"\"))","v":""},{"$f":"IF(AE$8=\"\",\"\",IF(TEXT(WEEKDAY(AE$8),\"aaa\")=設定!$C$7,設定!$B$7,\"\"))","v":"定休日"},{"$f":"IF(AF$8=\"\",\"\",IF(TEXT(WEEKDAY(AF$8),\"aaa\")=設定!$C$7,設定!$B$7,\"\"))","v":""},{"$f":"IF(AG$8=\"\",\"\",IF(TEXT(WEEKDAY(AG$8),\"aaa\")=設定!$C$7,設定!$B$7,\"\"))","v":""},{"$f":"IF(AH$8=\"\",\"\",IF(TEXT(WEEKDAY(AH$8),\"aaa\")=設定!$C$7,設定!$B$7,\"\"))","v":""},{"$f":"IF(AI$8=\"\",\"\",IF(TEXT(WEEKDAY(AI$8),\"aaa\")=設定!$C$7,設定!$B$7,\"\"))","v":""},{"$f":"IF(AJ$8=\"\",\"\",IF(TEXT(WEEKDAY(AJ$8),\"aaa\")=設定!$C$7,設定!$B$7,\"\"))","v":""},{"$f":"IF(AK$8=\"\",\"\",IF(TEXT(WEEKDAY(AK$8),\"aaa\")=設定!$C$7,設定!$B$7,\"\"))","v":""},null,0,0,0,0,4,4]
[17,null,null,null,null,null,{"$f":"IF(G$8=\"\",\"\",IF(TEXT(WEEKDAY(G$8),\"aaa\")=設定!$C$7,設定!$B$7,\"\"))","v":""},{"$f":"IF(H$8=\"\",\"\",IF(TEXT(WEEKDAY(H$8),\"aaa\")=設定!$C$7,設定!$B$7,\"\"))","v":""},{"$f":"IF(I$8=\"\",\"\",IF(TEXT(WEEKDAY(I$8),\"aaa\")=設定!$C$7,設定!$B$7,\"\"))","v":""},{"$f":"IF(J$8=\"\",\"\",IF(TEXT(WEEKDAY(J$8),\"aaa\")=設定!$C$7,設定!$B$7,\"\"))","v":"定休日"},{"$f":"IF(K$8=\"\",\"\",IF(TEXT(WEEKDAY(K$8),\"aaa\")=設定!$C$7,設定!$B$7,\"\"))","v":""},{"$f":"IF(L$8=\"\",\"\",IF(TEXT(WEEKDAY(L$8),\"aaa\")=設定!$C$7,設定!$B$7,\"\"))","v":""},{"$f":"IF(M$8=\"\",\"\",IF(TEXT(WEEKDAY(M$8),\"aaa\")=設定!$C$7,設定!$B$7,\"\"))","v":""},{"$f":"IF(N$8=\"\",\"\",IF(TEXT(WEEKDAY(N$8),\"aaa\")=設定!$C$7,設定!$B$7,\"\"))","v":""},{"$f":"IF(O$8=\"\",\"\",IF(TEXT(WEEKDAY(O$8),\"aaa\")=設定!$C$7,設定!$B$7,\"\"))","v":""},{"$f":"IF(P$8=\"\",\"\",IF(TEXT(WEEKDAY(P$8),\"aaa\")=設定!$C$7,設定!$B$7,\"\"))","v":""},{"$f":"IF(Q$8=\"\",\"\",IF(TEXT(WEEKDAY(Q$8),\"aaa\")=設定!$C$7,設定!$B$7,\"\"))","v":"定休日"},{"$f":"IF(R$8=\"\",\"\",IF(TEXT(WEEKDAY(R$8),\"aaa\")=設定!$C$7,設定!$B$7,\"\"))","v":""},{"$f":"IF(S$8=\"\",\"\",IF(TEXT(WEEKDAY(S$8),\"aaa\")=設定!$C$7,設定!$B$7,\"\"))","v":""},{"$f":"IF(T$8=\"\",\"\",IF(TEXT(WEEKDAY(T$8),\"aaa\")=設定!$C$7,設定!$B$7,\"\"))","v":""},{"$f":"IF(U$8=\"\",\"\",IF(TEXT(WEEKDAY(U$8),\"aaa\")=設定!$C$7,設定!$B$7,\"\"))","v":""},{"$f":"IF(V$8=\"\",\"\",IF(TEXT(WEEKDAY(V$8),\"aaa\")=設定!$C$7,設定!$B$7,\"\"))","v":""},{"$f":"IF(W$8=\"\",\"\",IF(TEXT(WEEKDAY(W$8),\"aaa\")=設定!$C$7,設定!$B$7,\"\"))","v":""},{"$f":"IF(X$8=\"\",\"\",IF(TEXT(WEEKDAY(X$8),\"aaa\")=設定!$C$7,設定!$B$7,\"\"))","v":"定休日"},{"$f":"IF(Y$8=\"\",\"\",IF(TEXT(WEEKDAY(Y$8),\"aaa\")=設定!$C$7,設定!$B$7,\"\"))","v":""},{"$f":"IF(Z$8=\"\",\"\",IF(TEXT(WEEKDAY(Z$8),\"aaa\")=設定!$C$7,設定!$B$7,\"\"))","v":""},{"$f":"IF(AA$8=\"\",\"\",IF(TEXT(WEEKDAY(AA$8),\"aaa\")=設定!$C$7,設定!$B$7,\"\"))","v":""},{"$f":"IF(AB$8=\"\",\"\",IF(TEXT(WEEKDAY(AB$8),\"aaa\")=設定!$C$7,設定!$B$7,\"\"))","v":""},{"$f":"IF(AC$8=\"\",\"\",IF(TEXT(WEEKDAY(AC$8),\"aaa\")=設定!$C$7,設定!$B$7,\"\"))","v":""},{"$f":"IF(AD$8=\"\",\"\",IF(TEXT(WEEKDAY(AD$8),\"aaa\")=設定!$C$7,設定!$B$7,\"\"))","v":""},{"$f":"IF(AE$8=\"\",\"\",IF(TEXT(WEEKDAY(AE$8),\"aaa\")=設定!$C$7,設定!$B$7,\"\"))","v":"定休日"},{"$f":"IF(AF$8=\"\",\"\",IF(TEXT(WEEKDAY(AF$8),\"aaa\")=設定!$C$7,設定!$B$7,\"\"))","v":""},{"$f":"IF(AG$8=\"\",\"\",IF(TEXT(WEEKDAY(AG$8),\"aaa\")=設定!$C$7,設定!$B$7,\"\"))","v":""},{"$f":"IF(AH$8=\"\",\"\",IF(TEXT(WEEKDAY(AH$8),\"aaa\")=設定!$C$7,設定!$B$7,\"\"))","v":""},{"$f":"IF(AI$8=\"\",\"\",IF(TEXT(WEEKDAY(AI$8),\"aaa\")=設定!$C$7,設定!$B$7,\"\"))","v":""},{"$f":"IF(AJ$8=\"\",\"\",IF(TEXT(WEEKDAY(AJ$8),\"aaa\")=設定!$C$7,設定!$B$7,\"\"))","v":""},{"$f":"IF(AK$8=\"\",\"\",IF(TEXT(WEEKDAY(AK$8),\"aaa\")=設定!$C$7,設定!$B$7,\"\"))","v":""},null,0,0,0,0,4,4]
[18,null,null,null,null,null,{"$f":"IF(G$8=\"\",\"\",IF(TEXT(WEEKDAY(G$8),\"aaa\")=設定!$C$7,設定!$B$7,\"\"))","v":""},{"$f":"IF(H$8=\"\",\"\",IF(TEXT(WEEKDAY(H$8),\"aaa\")=設定!$C$7,設定!$B$7,\"\"))","v":""},{"$f":"IF(I$8=\"\",\"\",IF(TEXT(WEEKDAY(I$8),\"aaa\")=設定!$C$7,設定!$B$7,\"\"))","v":""},{"$f":"IF(J$8=\"\",\"\",IF(TEXT(WEEKDAY(J$8),\"aaa\")=設定!$C$7,設定!$B$7,\"\"))","v":"定休日"},{"$f":"IF(K$8=\"\",\"\",IF(TEXT(WEEKDAY(K$8),\"aaa\")=設定!$C$7,設定!$B$7,\"\"))","v":""},{"$f":"IF(L$8=\"\",\"\",IF(TEXT(WEEKDAY(L$8),\"aaa\")=設定!$C$7,設定!$B$7,\"\"))","v":""},{"$f":"IF(M$8=\"\",\"\",IF(TEXT(WEEKDAY(M$8),\"aaa\")=設定!$C$7,設定!$B$7,\"\"))","v":""},{"$f":"IF(N$8=\"\",\"\",IF(TEXT(WEEKDAY(N$8),\"aaa\")=設定!$C$7,設定!$B$7,\"\"))","v":""},{"$f":"IF(O$8=\"\",\"\",IF(TEXT(WEEKDAY(O$8),\"aaa\")=設定!$C$7,設定!$B$7,\"\"))","v":""},{"$f":"IF(P$8=\"\",\"\",IF(TEXT(WEEKDAY(P$8),\"aaa\")=設定!$C$7,設定!$B$7,\"\"))","v":""},{"$f":"IF(Q$8=\"\",\"\",IF(TEXT(WEEKDAY(Q$8),\"aaa\")=設定!$C$7,設定!$B$7,\"\"))","v":"定休日"},{"$f":"IF(R$8=\"\",\"\",IF(TEXT(WEEKDAY(R$8),\"aaa\")=設定!$C$7,設定!$B$7,\"\"))","v":""},{"$f":"IF(S$8=\"\",\"\",IF(TEXT(WEEKDAY(S$8),\"aaa\")=設定!$C$7,設定!$B$7,\"\"))","v":""},{"$f":"IF(T$8=\"\",\"\",IF(TEXT(WEEKDAY(T$8),\"aaa\")=設定!$C$7,設定!$B$7,\"\"))","v":""},{"$f":"IF(U$8=\"\",\"\",IF(TEXT(WEEKDAY(U$8),\"aaa\")=設定!$C$7,設定!$B$7,\"\"))","v":""},{"$f":"IF(V$8=\"\",\"\",IF(TEXT(WEEKDAY(V$8),\"aaa\")=設定!$C$7,設定!$B$7,\"\"))","v":""},{"$f":"IF(W$8=\"\",\"\",IF(TEXT(WEEKDAY(W$8),\"aaa\")=設定!$C$7,設定!$B$7,\"\"))","v":""},{"$f":"IF(X$8=\"\",\"\",IF(TEXT(WEEKDAY(X$8),\"aaa\")=設定!$C$7,設定!$B$7,\"\"))","v":"定休日"},{"$f":"IF(Y$8=\"\",\"\",IF(TEXT(WEEKDAY(Y$8),\"aaa\")=設定!$C$7,設定!$B$7,\"\"))","v":""},{"$f":"IF(Z$8=\"\",\"\",IF(TEXT(WEEKDAY(Z$8),\"aaa\")=設定!$C$7,設定!$B$7,\"\"))","v":""},{"$f":"IF(AA$8=\"\",\"\",IF(TEXT(WEEKDAY(AA$8),\"aaa\")=設定!$C$7,設定!$B$7,\"\"))","v":""},{"$f":"IF(AB$8=\"\",\"\",IF(TEXT(WEEKDAY(AB$8),\"aaa\")=設定!$C$7,設定!$B$7,\"\"))","v":""},{"$f":"IF(AC$8=\"\",\"\",IF(TEXT(WEEKDAY(AC$8),\"aaa\")=設定!$C$7,設定!$B$7,\"\"))","v":""},{"$f":"IF(AD$8=\"\",\"\",IF(TEXT(WEEKDAY(AD$8),\"aaa\")=設定!$C$7,設定!$B$7,\"\"))","v":""},{"$f":"IF(AE$8=\"\",\"\",IF(TEXT(WEEKDAY(AE$8),\"aaa\")=設定!$C$7,設定!$B$7,\"\"))","v":"定休日"},{"$f":"IF(AF$8=\"\",\"\",IF(TEXT(WEEKDAY(AF$8),\"aaa\")=設定!$C$7,設定!$B$7,\"\"))","v":""},{"$f":"IF(AG$8=\"\",\"\",IF(TEXT(WEEKDAY(AG$8),\"aaa\")=設定!$C$7,設定!$B$7,\"\"))","v":""},{"$f":"IF(AH$8=\"\",\"\",IF(TEXT(WEEKDAY(AH$8),\"aaa\")=設定!$C$7,設定!$B$7,\"\"))","v":""},{"$f":"IF(AI$8=\"\",\"\",IF(TEXT(WEEKDAY(AI$8),\"aaa\")=設定!$C$7,設定!$B$7,\"\"))","v":""},{"$f":"IF(AJ$8=\"\",\"\",IF(TEXT(WEEKDAY(AJ$8),\"aaa\")=設定!$C$7,設定!$B$7,\"\"))","v":""},{"$f":"IF(AK$8=\"\",\"\",IF(TEXT(WEEKDAY(AK$8),\"aaa\")=設定!$C$7,設定!$B$7,\"\"))","v":""},null,{"$f":"COUNTIF($G26:$AK26,AM$8)","v":0},0,0,0,4,4]
[19,null,null,null,null,null,{"$f":"IF(G$8=\"\",\"\",IF(TEXT(WEEKDAY(G$8),\"aaa\")=設定!$C$7,設定!$B$7,\"\"))","v":""},{"$f":"IF(H$8=\"\",\"\",IF(TEXT(WEEKDAY(H$8),\"aaa\")=設定!$C$7,設定!$B$7,\"\"))","v":""},{"$f":"IF(I$8=\"\",\"\",IF(TEXT(WEEKDAY(I$8),\"aaa\")=設定!$C$7,設定!$B$7,\"\"))","v":""},{"$f":"IF(J$8=\"\",\"\",IF(TEXT(WEEKDAY(J$8),\"aaa\")=設定!$C$7,設定!$B$7,\"\"))","v":"定休日"},{"$f":"IF(K$8=\"\",\"\",IF(TEXT(WEEKDAY(K$8),\"aaa\")=設定!$C$7,設定!$B$7,\"\"))","v":""},{"$f":"IF(L$8=\"\",\"\",IF(TEXT(WEEKDAY(L$8),\"aaa\")=設定!$C$7,設定!$B$7,\"\"))","v":""},{"$f":"IF(M$8=\"\",\"\",IF(TEXT(WEEKDAY(M$8),\"aaa\")=設定!$C$7,設定!$B$7,\"\"))","v":""},{"$f":"IF(N$8=\"\",\"\",IF(TEXT(WEEKDAY(N$8),\"aaa\")=設定!$C$7,設定!$B$7,\"\"))","v":""},{"$f":"IF(O$8=\"\",\"\",IF(TEXT(WEEKDAY(O$8),\"aaa\")=設定!$C$7,設定!$B$7,\"\"))","v":""},{"$f":"IF(P$8=\"\",\"\",IF(TEXT(WEEKDAY(P$8),\"aaa\")=設定!$C$7,設定!$B$7,\"\"))","v":""},{"$f":"IF(Q$8=\"\",\"\",IF(TEXT(WEEKDAY(Q$8),\"aaa\")=設定!$C$7,設定!$B$7,\"\"))","v":"定休日"},{"$f":"IF(R$8=\"\",\"\",IF(TEXT(WEEKDAY(R$8),\"aaa\")=設定!$C$7,設定!$B$7,\"\"))","v":""},{"$f":"IF(S$8=\"\",\"\",IF(TEXT(WEEKDAY(S$8),\"aaa\")=設定!$C$7,設定!$B$7,\"\"))","v":""},{"$f":"IF(T$8=\"\",\"\",IF(TEXT(WEEKDAY(T$8),\"aaa\")=設定!$C$7,設定!$B$7,\"\"))","v":""},{"$f":"IF(U$8=\"\",\"\",IF(TEXT(WEEKDAY(U$8),\"aaa\")=設定!$C$7,設定!$B$7,\"\"))","v":""},{"$f":"IF(V$8=\"\",\"\",IF(TEXT(WEEKDAY(V$8),\"aaa\")=設定!$C$7,設定!$B$7,\"\"))","v":""},{"$f":"IF(W$8=\"\",\"\",IF(TEXT(WEEKDAY(W$8),\"aaa\")=設定!$C$7,設定!$B$7,\"\"))","v":""},{"$f":"IF(X$8=\"\",\"\",IF(TEXT(WEEKDAY(X$8),\"aaa\")=設定!$C$7,設定!$B$7,\"\"))","v":"定休日"},{"$f":"IF(Y$8=\"\",\"\",IF(TEXT(WEEKDAY(Y$8),\"aaa\")=設定!$C$7,設定!$B$7,\"\"))","v":""},{"$f":"IF(Z$8=\"\",\"\",IF(TEXT(WEEKDAY(Z$8),\"aaa\")=設定!$C$7,設定!$B$7,\"\"))","v":""},{"$f":"IF(AA$8=\"\",\"\",IF(TEXT(WEEKDAY(AA$8),\"aaa\")=設定!$C$7,設定!$B$7,\"\"))","v":""},{"$f":"IF(AB$8=\"\",\"\",IF(TEXT(WEEKDAY(AB$8),\"aaa\")=設定!$C$7,設定!$B$7,\"\"))","v":""},{"$f":"IF(AC$8=\"\",\"\",IF(TEXT(WEEKDAY(AC$8),\"aaa\")=設定!$C$7,設定!$B$7,\"\"))","v":""},{"$f":"IF(AD$8=\"\",\"\",IF(TEXT(WEEKDAY(AD$8),\"aaa\")=設定!$C$7,設定!$B$7,\"\"))","v":""},{"$f":"IF(AE$8=\"\",\"\",IF(TEXT(WEEKDAY(AE$8),\"aaa\")=設定!$C$7,設定!$B$7,\"\"))","v":"定休日"},{"$f":"IF(AF$8=\"\",\"\",IF(TEXT(WEEKDAY(AF$8),\"aaa\")=設定!$C$7,設定!$B$7,\"\"))","v":""},{"$f":"IF(AG$8=\"\",\"\",IF(TEXT(WEEKDAY(AG$8),\"aaa\")=設定!$C$7,設定!$B$7,\"\"))","v":""},{"$f":"IF(AH$8=\"\",\"\",IF(TEXT(WEEKDAY(AH$8),\"aaa\")=設定!$C$7,設定!$B$7,\"\"))","v":""},{"$f":"IF(AI$8=\"\",\"\",IF(TEXT(WEEKDAY(AI$8),\"aaa\")=設定!$C$7,設定!$B$7,\"\"))","v":""},{"$f":"IF(AJ$8=\"\",\"\",IF(TEXT(WEEKDAY(AJ$8),\"aaa\")=設定!$C$7,設定!$B$7,\"\"))","v":""},{"$f":"IF(AK$8=\"\",\"\",IF(TEXT(WEEKDAY(AK$8),\"aaa\")=設定!$C$7,設定!$B$7,\"\"))","v":""},null,0,0,0,0,4,4]
[20,null,null,null,null,null,{"$f":"IF(G$8=\"\",\"\",IF(TEXT(WEEKDAY(G$8),\"aaa\")=設定!$C$7,設定!$B$7,\"\"))","v":""},{"$f":"IF(H$8=\"\",\"\",IF(TEXT(WEEKDAY(H$8),\"aaa\")=設定!$C$7,設定!$B$7,\"\"))","v":""},{"$f":"IF(I$8=\"\",\"\",IF(TEXT(WEEKDAY(I$8),\"aaa\")=設定!$C$7,設定!$B$7,\"\"))","v":""},{"$f":"IF(J$8=\"\",\"\",IF(TEXT(WEEKDAY(J$8),\"aaa\")=設定!$C$7,設定!$B$7,\"\"))","v":"定休日"},{"$f":"IF(K$8=\"\",\"\",IF(TEXT(WEEKDAY(K$8),\"aaa\")=設定!$C$7,設定!$B$7,\"\"))","v":""},{"$f":"IF(L$8=\"\",\"\",IF(TEXT(WEEKDAY(L$8),\"aaa\")=設定!$C$7,設定!$B$7,\"\"))","v":""},{"$f":"IF(M$8=\"\",\"\",IF(TEXT(WEEKDAY(M$8),\"aaa\")=設定!$C$7,設定!$B$7,\"\"))","v":""},{"$f":"IF(N$8=\"\",\"\",IF(TEXT(WEEKDAY(N$8),\"aaa\")=設定!$C$7,設定!$B$7,\"\"))","v":""},{"$f":"IF(O$8=\"\",\"\",IF(TEXT(WEEKDAY(O$8),\"aaa\")=設定!$C$7,設定!$B$7,\"\"))","v":""},{"$f":"IF(P$8=\"\",\"\",IF(TEXT(WEEKDAY(P$8),\"aaa\")=設定!$C$7,設定!$B$7,\"\"))","v":""},{"$f":"IF(Q$8=\"\",\"\",IF(TEXT(WEEKDAY(Q$8),\"aaa\")=設定!$C$7,設定!$B$7,\"\"))","v":"定休日"},{"$f":"IF(R$8=\"\",\"\",IF(TEXT(WEEKDAY(R$8),\"aaa\")=設定!$C$7,設定!$B$7,\"\"))","v":""},{"$f":"IF(S$8=\"\",\"\",IF(TEXT(WEEKDAY(S$8),\"aaa\")=設定!$C$7,設定!$B$7,\"\"))","v":""},{"$f":"IF(T$8=\"\",\"\",IF(TEXT(WEEKDAY(T$8),\"aaa\")=設定!$C$7,設定!$B$7,\"\"))","v":""},{"$f":"IF(U$8=\"\",\"\",IF(TEXT(WEEKDAY(U$8),\"aaa\")=設定!$C$7,設定!$B$7,\"\"))","v":""},{"$f":"IF(V$8=\"\",\"\",IF(TEXT(WEEKDAY(V$8),\"aaa\")=設定!$C$7,設定!$B$7,\"\"))","v":""},{"$f":"IF(W$8=\"\",\"\",IF(TEXT(WEEKDAY(W$8),\"aaa\")=設定!$C$7,設定!$B$7,\"\"))","v":""},{"$f":"IF(X$8=\"\",\"\",IF(TEXT(WEEKDAY(X$8),\"aaa\")=設定!$C$7,設定!$B$7,\"\"))","v":"定休日"},{"$f":"IF(Y$8=\"\",\"\",IF(TEXT(WEEKDAY(Y$8),\"aaa\")=設定!$C$7,設定!$B$7,\"\"))","v":""},{"$f":"IF(Z$8=\"\",\"\",IF(TEXT(WEEKDAY(Z$8),\"aaa\")=設定!$C$7,設定!$B$7,\"\"))","v":""},{"$f":"IF(AA$8=\"\",\"\",IF(TEXT(WEEKDAY(AA$8),\"aaa\")=設定!$C$7,設定!$B$7,\"\"))","v":""},{"$f":"IF(AB$8=\"\",\"\",IF(TEXT(WEEKDAY(AB$8),\"aaa\")=設定!$C$7,設定!$B$7,\"\"))","v":""},{"$f":"IF(AC$8=\"\",\"\",IF(TEXT(WEEKDAY(AC$8),\"aaa\")=設定!$C$7,設定!$B$7,\"\"))","v":""},{"$f":"IF(AD$8=\"\",\"\",IF(TEXT(WEEKDAY(AD$8),\"aaa\")=設定!$C$7,設定!$B$7,\"\"))","v":""},{"$f":"IF(AE$8=\"\",\"\",IF(TEXT(WEEKDAY(AE$8),\"aaa\")=設定!$C$7,設定!$B$7,\"\"))","v":"定休日"},{"$f":"IF(AF$8=\"\",\"\",IF(TEXT(WEEKDAY(AF$8),\"aaa\")=設定!$C$7,設定!$B$7,\"\"))","v":""},{"$f":"IF(AG$8=\"\",\"\",IF(TEXT(WEEKDAY(AG$8),\"aaa\")=設定!$C$7,設定!$B$7,\"\"))","v":""},{"$f":"IF(AH$8=\"\",\"\",IF(TEXT(WEEKDAY(AH$8),\"aaa\")=設定!$C$7,設定!$B$7,\"\"))","v":""},{"$f":"IF(AI$8=\"\",\"\",IF(TEXT(WEEKDAY(AI$8),\"aaa\")=設定!$C$7,設定!$B$7,\"\"))","v":""},{"$f":"IF(AJ$8=\"\",\"\",IF(TEXT(WEEKDAY(AJ$8),\"aaa\")=設定!$C$7,設定!$B$7,\"\"))","v":""},{"$f":"IF(AK$8=\"\",\"\",IF(TEXT(WEEKDAY(AK$8),\"aaa\")=設定!$C$7,設定!$B$7,\"\"))","v":""},null,0,0,0,0,4,4]
[21,null,null,null,null,null,{"$f":"IF(G$8=\"\",\"\",IF(TEXT(WEEKDAY(G$8),\"aaa\")=設定!$C$7,設定!$B$7,\"\"))","v":""},{"$f":"IF(H$8=\"\",\"\",IF(TEXT(WEEKDAY(H$8),\"aaa\")=設定!$C$7,設定!$B$7,\"\"))","v":""},{"$f":"IF(I$8=\"\",\"\",IF(TEXT(WEEKDAY(I$8),\"aaa\")=設定!$C$7,設定!$B$7,\"\"))","v":""},{"$f":"IF(J$8=\"\",\"\",IF(TEXT(WEEKDAY(J$8),\"aaa\")=設定!$C$7,設定!$B$7,\"\"))","v":"定休日"},{"$f":"IF(K$8=\"\",\"\",IF(TEXT(WEEKDAY(K$8),\"aaa\")=設定!$C$7,設定!$B$7,\"\"))","v":""},{"$f":"IF(L$8=\"\",\"\",IF(TEXT(WEEKDAY(L$8),\"aaa\")=設定!$C$7,設定!$B$7,\"\"))","v":""},{"$f":"IF(M$8=\"\",\"\",IF(TEXT(WEEKDAY(M$8),\"aaa\")=設定!$C$7,設定!$B$7,\"\"))","v":""},{"$f":"IF(N$8=\"\",\"\",IF(TEXT(WEEKDAY(N$8),\"aaa\")=設定!$C$7,設定!$B$7,\"\"))","v":""},{"$f":"IF(O$8=\"\",\"\",IF(TEXT(WEEKDAY(O$8),\"aaa\")=設定!$C$7,設定!$B$7,\"\"))","v":""},{"$f":"IF(P$8=\"\",\"\",IF(TEXT(WEEKDAY(P$8),\"aaa\")=設定!$C$7,設定!$B$7,\"\"))","v":""},{"$f":"IF(Q$8=\"\",\"\",IF(TEXT(WEEKDAY(Q$8),\"aaa\")=設定!$C$7,設定!$B$7,\"\"))","v":"定休日"},{"$f":"IF(R$8=\"\",\"\",IF(TEXT(WEEKDAY(R$8),\"aaa\")=設定!$C$7,設定!$B$7,\"\"))","v":""},{"$f":"IF(S$8=\"\",\"\",IF(TEXT(WEEKDAY(S$8),\"aaa\")=設定!$C$7,設定!$B$7,\"\"))","v":""},{"$f":"IF(T$8=\"\",\"\",IF(TEXT(WEEKDAY(T$8),\"aaa\")=設定!$C$7,設定!$B$7,\"\"))","v":""},{"$f":"IF(U$8=\"\",\"\",IF(TEXT(WEEKDAY(U$8),\"aaa\")=設定!$C$7,設定!$B$7,\"\"))","v":""},{"$f":"IF(V$8=\"\",\"\",IF(TEXT(WEEKDAY(V$8),\"aaa\")=設定!$C$7,設定!$B$7,\"\"))","v":""},{"$f":"IF(W$8=\"\",\"\",IF(TEXT(WEEKDAY(W$8),\"aaa\")=設定!$C$7,設定!$B$7,\"\"))","v":""},{"$f":"IF(X$8=\"\",\"\",IF(TEXT(WEEKDAY(X$8),\"aaa\")=設定!$C$7,設定!$B$7,\"\"))","v":"定休日"},{"$f":"IF(Y$8=\"\",\"\",IF(TEXT(WEEKDAY(Y$8),\"aaa\")=設定!$C$7,設定!$B$7,\"\"))","v":""},{"$f":"IF(Z$8=\"\",\"\",IF(TEXT(WEEKDAY(Z$8),\"aaa\")=設定!$C$7,設定!$B$7,\"\"))","v":""},{"$f":"IF(AA$8=\"\",\"\",IF(TEXT(WEEKDAY(AA$8),\"aaa\")=設定!$C$7,設定!$B$7,\"\"))","v":""},{"$f":"IF(AB$8=\"\",\"\",IF(TEXT(WEEKDAY(AB$8),\"aaa\")=設定!$C$7,設定!$B$7,\"\"))","v":""},{"$f":"IF(AC$8=\"\",\"\",IF(TEXT(WEEKDAY(AC$8),\"aaa\")=設定!$C$7,設定!$B$7,\"\"))","v":""},{"$f":"IF(AD$8=\"\",\"\",IF(TEXT(WEEKDAY(AD$8),\"aaa\")=設定!$C$7,設定!$B$7,\"\"))","v":""},{"$f":"IF(AE$8=\"\",\"\",IF(TEXT(WEEKDAY(AE$8),\"aaa\")=設定!$C$7,設定!$B$7,\"\"))","v":"定休日"},{"$f":"IF(AF$8=\"\",\"\",IF(TEXT(WEEKDAY(AF$8),\"aaa\")=設定!$C$7,設定!$B$7,\"\"))","v":""},{"$f":"IF(AG$8=\"\",\"\",IF(TEXT(WEEKDAY(AG$8),\"aaa\")=設定!$C$7,設定!$B$7,\"\"))","v":""},{"$f":"IF(AH$8=\"\",\"\",IF(TEXT(WEEKDAY(AH$8),\"aaa\")=設定!$C$7,設定!$B$7,\"\"))","v":""},{"$f":"IF(AI$8=\"\",\"\",IF(TEXT(WEEKDAY(AI$8),\"aaa\")=設定!$C$7,設定!$B$7,\"\"))","v":""},{"$f":"IF(AJ$8=\"\",\"\",IF(TEXT(WEEKDAY(AJ$8),\"aaa\")=設定!$C$7,設定!$B$7,\"\"))","v":""},{"$f":"IF(AK$8=\"\",\"\",IF(TEXT(WEEKDAY(AK$8),\"aaa\")=設定!$C$7,設定!$B$7,\"\"))","v":""},null,0,0,0,0,4,4]
[22,null,null,null,null,null,{"$f":"IF(G$8=\"\",\"\",IF(TEXT(WEEKDAY(G$8),\"aaa\")=設定!$C$7,設定!$B$7,\"\"))","v":""},{"$f":"IF(H$8=\"\",\"\",IF(TEXT(WEEKDAY(H$8),\"aaa\")=設定!$C$7,設定!$B$7,\"\"))","v":""},{"$f":"IF(I$8=\"\",\"\",IF(TEXT(WEEKDAY(I$8),\"aaa\")=設定!$C$7,設定!$B$7,\"\"))","v":""},{"$f":"IF(J$8=\"\",\"\",IF(TEXT(WEEKDAY(J$8),\"aaa\")=設定!$C$7,設定!$B$7,\"\"))","v":"定休日"},{"$f":"IF(K$8=\"\",\"\",IF(TEXT(WEEKDAY(K$8),\"aaa\")=設定!$C$7,設定!$B$7,\"\"))","v":""},{"$f":"IF(L$8=\"\",\"\",IF(TEXT(WEEKDAY(L$8),\"aaa\")=設定!$C$7,設定!$B$7,\"\"))","v":""},{"$f":"IF(M$8=\"\",\"\",IF(TEXT(WEEKDAY(M$8),\"aaa\")=設定!$C$7,設定!$B$7,\"\"))","v":""},{"$f":"IF(N$8=\"\",\"\",IF(TEXT(WEEKDAY(N$8),\"aaa\")=設定!$C$7,設定!$B$7,\"\"))","v":""},{"$f":"IF(O$8=\"\",\"\",IF(TEXT(WEEKDAY(O$8),\"aaa\")=設定!$C$7,設定!$B$7,\"\"))","v":""},{"$f":"IF(P$8=\"\",\"\",IF(TEXT(WEEKDAY(P$8),\"aaa\")=設定!$C$7,設定!$B$7,\"\"))","v":""},{"$f":"IF(Q$8=\"\",\"\",IF(TEXT(WEEKDAY(Q$8),\"aaa\")=設定!$C$7,設定!$B$7,\"\"))","v":"定休日"},{"$f":"IF(R$8=\"\",\"\",IF(TEXT(WEEKDAY(R$8),\"aaa\")=設定!$C$7,設定!$B$7,\"\"))","v":""},{"$f":"IF(S$8=\"\",\"\",IF(TEXT(WEEKDAY(S$8),\"aaa\")=設定!$C$7,設定!$B$7,\"\"))","v":""},{"$f":"IF(T$8=\"\",\"\",IF(TEXT(WEEKDAY(T$8),\"aaa\")=設定!$C$7,設定!$B$7,\"\"))","v":""},{"$f":"IF(U$8=\"\",\"\",IF(TEXT(WEEKDAY(U$8),\"aaa\")=設定!$C$7,設定!$B$7,\"\"))","v":""},{"$f":"IF(V$8=\"\",\"\",IF(TEXT(WEEKDAY(V$8),\"aaa\")=設定!$C$7,設定!$B$7,\"\"))","v":""},{"$f":"IF(W$8=\"\",\"\",IF(TEXT(WEEKDAY(W$8),\"aaa\")=設定!$C$7,設定!$B$7,\"\"))","v":""},{"$f":"IF(X$8=\"\",\"\",IF(TEXT(WEEKDAY(X$8),\"aaa\")=設定!$C$7,設定!$B$7,\"\"))","v":"定休日"},{"$f":"IF(Y$8=\"\",\"\",IF(TEXT(WEEKDAY(Y$8),\"aaa\")=設定!$C$7,設定!$B$7,\"\"))","v":""},{"$f":"IF(Z$8=\"\",\"\",IF(TEXT(WEEKDAY(Z$8),\"aaa\")=設定!$C$7,設定!$B$7,\"\"))","v":""},{"$f":"IF(AA$8=\"\",\"\",IF(TEXT(WEEKDAY(AA$8),\"aaa\")=設定!$C$7,設定!$B$7,\"\"))","v":""},{"$f":"IF(AB$8=\"\",\"\",IF(TEXT(WEEKDAY(AB$8),\"aaa\")=設定!$C$7,設定!$B$7,\"\"))","v":""},{"$f":"IF(AC$8=\"\",\"\",IF(TEXT(WEEKDAY(AC$8),\"aaa\")=設定!$C$7,設定!$B$7,\"\"))","v":""},{"$f":"IF(AD$8=\"\",\"\",IF(TEXT(WEEKDAY(AD$8),\"aaa\")=設定!$C$7,設定!$B$7,\"\"))","v":""},{"$f":"IF(AE$8=\"\",\"\",IF(TEXT(WEEKDAY(AE$8),\"aaa\")=設定!$C$7,設定!$B$7,\"\"))","v":"定休日"},{"$f":"IF(AF$8=\"\",\"\",IF(TEXT(WEEKDAY(AF$8),\"aaa\")=設定!$C$7,設定!$B$7,\"\"))","v":""},{"$f":"IF(AG$8=\"\",\"\",IF(TEXT(WEEKDAY(AG$8),\"aaa\")=設定!$C$7,設定!$B$7,\"\"))","v":""},{"$f":"IF(AH$8=\"\",\"\",IF(TEXT(WEEKDAY(AH$8),\"aaa\")=設定!$C$7,設定!$B$7,\"\"))","v":""},{"$f":"IF(AI$8=\"\",\"\",IF(TEXT(WEEKDAY(AI$8),\"aaa\")=設定!$C$7,設定!$B$7,\"\"))","v":""},{"$f":"IF(AJ$8=\"\",\"\",IF(TEXT(WEEKDAY(AJ$8),\"aaa\")=設定!$C$7,設定!$B$7,\"\"))","v":""},{"$f":"IF(AK$8=\"\",\"\",IF(TEXT(WEEKDAY(AK$8),\"aaa\")=設定!$C$7,設定!$B$7,\"\"))","v":""},null,0,0,0,0,4,4]
[23,null,null,null,null,null,{"$f":"IF(G$8=\"\",\"\",IF(TEXT(WEEKDAY(G$8),\"aaa\")=設定!$C$7,設定!$B$7,\"\"))","v":""},{"$f":"IF(H$8=\"\",\"\",IF(TEXT(WEEKDAY(H$8),\"aaa\")=設定!$C$7,設定!$B$7,\"\"))","v":""},{"$f":"IF(I$8=\"\",\"\",IF(TEXT(WEEKDAY(I$8),\"aaa\")=設定!$C$7,設定!$B$7,\"\"))","v":""},{"$f":"IF(J$8=\"\",\"\",IF(TEXT(WEEKDAY(J$8),\"aaa\")=設定!$C$7,設定!$B$7,\"\"))","v":"定休日"},{"$f":"IF(K$8=\"\",\"\",IF(TEXT(WEEKDAY(K$8),\"aaa\")=設定!$C$7,設定!$B$7,\"\"))","v":""},{"$f":"IF(L$8=\"\",\"\",IF(TEXT(WEEKDAY(L$8),\"aaa\")=設定!$C$7,設定!$B$7,\"\"))","v":""},{"$f":"IF(M$8=\"\",\"\",IF(TEXT(WEEKDAY(M$8),\"aaa\")=設定!$C$7,設定!$B$7,\"\"))","v":""},{"$f":"IF(N$8=\"\",\"\",IF(TEXT(WEEKDAY(N$8),\"aaa\")=設定!$C$7,設定!$B$7,\"\"))","v":""},{"$f":"IF(O$8=\"\",\"\",IF(TEXT(WEEKDAY(O$8),\"aaa\")=設定!$C$7,設定!$B$7,\"\"))","v":""},{"$f":"IF(P$8=\"\",\"\",IF(TEXT(WEEKDAY(P$8),\"aaa\")=設定!$C$7,設定!$B$7,\"\"))","v":""},{"$f":"IF(Q$8=\"\",\"\",IF(TEXT(WEEKDAY(Q$8),\"aaa\")=設定!$C$7,設定!$B$7,\"\"))","v":"定休日"},{"$f":"IF(R$8=\"\",\"\",IF(TEXT(WEEKDAY(R$8),\"aaa\")=設定!$C$7,設定!$B$7,\"\"))","v":""},{"$f":"IF(S$8=\"\",\"\",IF(TEXT(WEEKDAY(S$8),\"aaa\")=設定!$C$7,設定!$B$7,\"\"))","v":""},{"$f":"IF(T$8=\"\",\"\",IF(TEXT(WEEKDAY(T$8),\"aaa\")=設定!$C$7,設定!$B$7,\"\"))","v":""},{"$f":"IF(U$8=\"\",\"\",IF(TEXT(WEEKDAY(U$8),\"aaa\")=設定!$C$7,設定!$B$7,\"\"))","v":""},{"$f":"IF(V$8=\"\",\"\",IF(TEXT(WEEKDAY(V$8),\"aaa\")=設定!$C$7,設定!$B$7,\"\"))","v":""},{"$f":"IF(W$8=\"\",\"\",IF(TEXT(WEEKDAY(W$8),\"aaa\")=設定!$C$7,設定!$B$7,\"\"))","v":""},{"$f":"IF(X$8=\"\",\"\",IF(TEXT(WEEKDAY(X$8),\"aaa\")=設定!$C$7,設定!$B$7,\"\"))","v":"定休日"},{"$f":"IF(Y$8=\"\",\"\",IF(TEXT(WEEKDAY(Y$8),\"aaa\")=設定!$C$7,設定!$B$7,\"\"))","v":""},{"$f":"IF(Z$8=\"\",\"\",IF(TEXT(WEEKDAY(Z$8),\"aaa\")=設定!$C$7,設定!$B$7,\"\"))","v":""},{"$f":"IF(AA$8=\"\",\"\",IF(TEXT(WEEKDAY(AA$8),\"aaa\")=設定!$C$7,設定!$B$7,\"\"))","v":""},{"$f":"IF(AB$8=\"\",\"\",IF(TEXT(WEEKDAY(AB$8),\"aaa\")=設定!$C$7,設定!$B$7,\"\"))","v":""},{"$f":"IF(AC$8=\"\",\"\",IF(TEXT(WEEKDAY(AC$8),\"aaa\")=設定!$C$7,設定!$B$7,\"\"))","v":""},{"$f":"IF(AD$8=\"\",\"\",IF(TEXT(WEEKDAY(AD$8),\"aaa\")=設定!$C$7,設定!$B$7,\"\"))","v":""},{"$f":"IF(AE$8=\"\",\"\",IF(TEXT(WEEKDAY(AE$8),\"aaa\")=設定!$C$7,設定!$B$7,\"\"))","v":"定休日"},{"$f":"IF(AF$8=\"\",\"\",IF(TEXT(WEEKDAY(AF$8),\"aaa\")=設定!$C$7,設定!$B$7,\"\"))","v":""},{"$f":"IF(AG$8=\"\",\"\",IF(TEXT(WEEKDAY(AG$8),\"aaa\")=設定!$C$7,設定!$B$7,\"\"))","v":""},{"$f":"IF(AH$8=\"\",\"\",IF(TEXT(WEEKDAY(AH$8),\"aaa\")=設定!$C$7,設定!$B$7,\"\"))","v":""},{"$f":"IF(AI$8=\"\",\"\",IF(TEXT(WEEKDAY(AI$8),\"aaa\")=設定!$C$7,設定!$B$7,\"\"))","v":""},{"$f":"IF(AJ$8=\"\",\"\",IF(TEXT(WEEKDAY(AJ$8),\"aaa\")=設定!$C$7,設定!$B$7,\"\"))","v":""},{"$f":"IF(AK$8=\"\",\"\",IF(TEXT(WEEKDAY(AK$8),\"aaa\")=設定!$C$7,設定!$B$7,\"\"))","v":""},null,0,0,0,0,4,4]
[24,null,null,null,null,null,{"$f":"IF(G$8=\"\",\"\",IF(TEXT(WEEKDAY(G$8),\"aaa\")=設定!$C$7,設定!$B$7,\"\"))","v":""},{"$f":"IF(H$8=\"\",\"\",IF(TEXT(WEEKDAY(H$8),\"aaa\")=設定!$C$7,設定!$B$7,\"\"))","v":""},{"$f":"IF(I$8=\"\",\"\",IF(TEXT(WEEKDAY(I$8),\"aaa\")=設定!$C$7,設定!$B$7,\"\"))","v":""},{"$f":"IF(J$8=\"\",\"\",IF(TEXT(WEEKDAY(J$8),\"aaa\")=設定!$C$7,設定!$B$7,\"\"))","v":"定休日"},{"$f":"IF(K$8=\"\",\"\",IF(TEXT(WEEKDAY(K$8),\"aaa\")=設定!$C$7,設定!$B$7,\"\"))","v":""},{"$f":"IF(L$8=\"\",\"\",IF(TEXT(WEEKDAY(L$8),\"aaa\")=設定!$C$7,設定!$B$7,\"\"))","v":""},{"$f":"IF(M$8=\"\",\"\",IF(TEXT(WEEKDAY(M$8),\"aaa\")=設定!$C$7,設定!$B$7,\"\"))","v":""},{"$f":"IF(N$8=\"\",\"\",IF(TEXT(WEEKDAY(N$8),\"aaa\")=設定!$C$7,設定!$B$7,\"\"))","v":""},{"$f":"IF(O$8=\"\",\"\",IF(TEXT(WEEKDAY(O$8),\"aaa\")=設定!$C$7,設定!$B$7,\"\"))","v":""},{"$f":"IF(P$8=\"\",\"\",IF(TEXT(WEEKDAY(P$8),\"aaa\")=設定!$C$7,設定!$B$7,\"\"))","v":""},{"$f":"IF(Q$8=\"\",\"\",IF(TEXT(WEEKDAY(Q$8),\"aaa\")=設定!$C$7,設定!$B$7,\"\"))","v":"定休日"},{"$f":"IF(R$8=\"\",\"\",IF(TEXT(WEEKDAY(R$8),\"aaa\")=設定!$C$7,設定!$B$7,\"\"))","v":""},{"$f":"IF(S$8=\"\",\"\",IF(TEXT(WEEKDAY(S$8),\"aaa\")=設定!$C$7,設定!$B$7,\"\"))","v":""},{"$f":"IF(T$8=\"\",\"\",IF(TEXT(WEEKDAY(T$8),\"aaa\")=設定!$C$7,設定!$B$7,\"\"))","v":""},{"$f":"IF(U$8=\"\",\"\",IF(TEXT(WEEKDAY(U$8),\"aaa\")=設定!$C$7,設定!$B$7,\"\"))","v":""},{"$f":"IF(V$8=\"\",\"\",IF(TEXT(WEEKDAY(V$8),\"aaa\")=設定!$C$7,設定!$B$7,\"\"))","v":""},{"$f":"IF(W$8=\"\",\"\",IF(TEXT(WEEKDAY(W$8),\"aaa\")=設定!$C$7,設定!$B$7,\"\"))","v":""},{"$f":"IF(X$8=\"\",\"\",IF(TEXT(WEEKDAY(X$8),\"aaa\")=設定!$C$7,設定!$B$7,\"\"))","v":"定休日"},{"$f":"IF(Y$8=\"\",\"\",IF(TEXT(WEEKDAY(Y$8),\"aaa\")=設定!$C$7,設定!$B$7,\"\"))","v":""},{"$f":"IF(Z$8=\"\",\"\",IF(TEXT(WEEKDAY(Z$8),\"aaa\")=設定!$C$7,設定!$B$7,\"\"))","v":""},{"$f":"IF(AA$8=\"\",\"\",IF(TEXT(WEEKDAY(AA$8),\"aaa\")=設定!$C$7,設定!$B$7,\"\"))","v":""},{"$f":"IF(AB$8=\"\",\"\",IF(TEXT(WEEKDAY(AB$8),\"aaa\")=設定!$C$7,設定!$B$7,\"\"))","v":""},{"$f":"IF(AC$8=\"\",\"\",IF(TEXT(WEEKDAY(AC$8),\"aaa\")=設定!$C$7,設定!$B$7,\"\"))","v":""},{"$f":"IF(AD$8=\"\",\"\",IF(TEXT(WEEKDAY(AD$8),\"aaa\")=設定!$C$7,設定!$B$7,\"\"))","v":""},{"$f":"IF(AE$8=\"\",\"\",IF(TEXT(WEEKDAY(AE$8),\"aaa\")=設定!$C$7,設定!$B$7,\"\"))","v":"定休日"},{"$f":"IF(AF$8=\"\",\"\",IF(TEXT(WEEKDAY(AF$8),\"aaa\")=設定!$C$7,設定!$B$7,\"\"))","v":""},{"$f":"IF(AG$8=\"\",\"\",IF(TEXT(WEEKDAY(AG$8),\"aaa\")=設定!$C$7,設定!$B$7,\"\"))","v":""},{"$f":"IF(AH$8=\"\",\"\",IF(TEXT(WEEKDAY(AH$8),\"aaa\")=設定!$C$7,設定!$B$7,\"\"))","v":""},{"$f":"IF(AI$8=\"\",\"\",IF(TEXT(WEEKDAY(AI$8),\"aaa\")=設定!$C$7,設定!$B$7,\"\"))","v":""},{"$f":"IF(AJ$8=\"\",\"\",IF(TEXT(WEEKDAY(AJ$8),\"aaa\")=設定!$C$7,設定!$B$7,\"\"))","v":""},{"$f":"IF(AK$8=\"\",\"\",IF(TEXT(WEEKDAY(AK$8),\"aaa\")=設定!$C$7,設定!$B$7,\"\"))","v":""},null,0,0,0,0,4,4]
[25,null,null,null,null,null,{"$f":"IF(G$8=\"\",\"\",IF(TEXT(WEEKDAY(G$8),\"aaa\")=設定!$C$7,設定!$B$7,\"\"))","v":""},{"$f":"IF(H$8=\"\",\"\",IF(TEXT(WEEKDAY(H$8),\"aaa\")=設定!$C$7,設定!$B$7,\"\"))","v":""},{"$f":"IF(I$8=\"\",\"\",IF(TEXT(WEEKDAY(I$8),\"aaa\")=設定!$C$7,設定!$B$7,\"\"))","v":""},{"$f":"IF(J$8=\"\",\"\",IF(TEXT(WEEKDAY(J$8),\"aaa\")=設定!$C$7,設定!$B$7,\"\"))","v":"定休日"},{"$f":"IF(K$8=\"\",\"\",IF(TEXT(WEEKDAY(K$8),\"aaa\")=設定!$C$7,設定!$B$7,\"\"))","v":""},{"$f":"IF(L$8=\"\",\"\",IF(TEXT(WEEKDAY(L$8),\"aaa\")=設定!$C$7,設定!$B$7,\"\"))","v":""},{"$f":"IF(M$8=\"\",\"\",IF(TEXT(WEEKDAY(M$8),\"aaa\")=設定!$C$7,設定!$B$7,\"\"))","v":""},{"$f":"IF(N$8=\"\",\"\",IF(TEXT(WEEKDAY(N$8),\"aaa\")=設定!$C$7,設定!$B$7,\"\"))","v":""},{"$f":"IF(O$8=\"\",\"\",IF(TEXT(WEEKDAY(O$8),\"aaa\")=設定!$C$7,設定!$B$7,\"\"))","v":""},{"$f":"IF(P$8=\"\",\"\",IF(TEXT(WEEKDAY(P$8),\"aaa\")=設定!$C$7,設定!$B$7,\"\"))","v":""},{"$f":"IF(Q$8=\"\",\"\",IF(TEXT(WEEKDAY(Q$8),\"aaa\")=設定!$C$7,設定!$B$7,\"\"))","v":"定休日"},{"$f":"IF(R$8=\"\",\"\",IF(TEXT(WEEKDAY(R$8),\"aaa\")=設定!$C$7,設定!$B$7,\"\"))","v":""},{"$f":"IF(S$8=\"\",\"\",IF(TEXT(WEEKDAY(S$8),\"aaa\")=設定!$C$7,設定!$B$7,\"\"))","v":""},{"$f":"IF(T$8=\"\",\"\",IF(TEXT(WEEKDAY(T$8),\"aaa\")=設定!$C$7,設定!$B$7,\"\"))","v":""},{"$f":"IF(U$8=\"\",\"\",IF(TEXT(WEEKDAY(U$8),\"aaa\")=設定!$C$7,設定!$B$7,\"\"))","v":""},{"$f":"IF(V$8=\"\",\"\",IF(TEXT(WEEKDAY(V$8),\"aaa\")=設定!$C$7,設定!$B$7,\"\"))","v":""},{"$f":"IF(W$8=\"\",\"\",IF(TEXT(WEEKDAY(W$8),\"aaa\")=設定!$C$7,設定!$B$7,\"\"))","v":""},{"$f":"IF(X$8=\"\",\"\",IF(TEXT(WEEKDAY(X$8),\"aaa\")=設定!$C$7,設定!$B$7,\"\"))","v":"定休日"},{"$f":"IF(Y$8=\"\",\"\",IF(TEXT(WEEKDAY(Y$8),\"aaa\")=設定!$C$7,設定!$B$7,\"\"))","v":""},{"$f":"IF(Z$8=\"\",\"\",IF(TEXT(WEEKDAY(Z$8),\"aaa\")=設定!$C$7,設定!$B$7,\"\"))","v":""},{"$f":"IF(AA$8=\"\",\"\",IF(TEXT(WEEKDAY(AA$8),\"aaa\")=設定!$C$7,設定!$B$7,\"\"))","v":""},{"$f":"IF(AB$8=\"\",\"\",IF(TEXT(WEEKDAY(AB$8),\"aaa\")=設定!$C$7,設定!$B$7,\"\"))","v":""},{"$f":"IF(AC$8=\"\",\"\",IF(TEXT(WEEKDAY(AC$8),\"aaa\")=設定!$C$7,設定!$B$7,\"\"))","v":""},{"$f":"IF(AD$8=\"\",\"\",IF(TEXT(WEEKDAY(AD$8),\"aaa\")=設定!$C$7,設定!$B$7,\"\"))","v":""},{"$f":"IF(AE$8=\"\",\"\",IF(TEXT(WEEKDAY(AE$8),\"aaa\")=設定!$C$7,設定!$B$7,\"\"))","v":"定休日"},{"$f":"IF(AF$8=\"\",\"\",IF(TEXT(WEEKDAY(AF$8),\"aaa\")=設定!$C$7,設定!$B$7,\"\"))","v":""},{"$f":"IF(AG$8=\"\",\"\",IF(TEXT(WEEKDAY(AG$8),\"aaa\")=設定!$C$7,設定!$B$7,\"\"))","v":""},{"$f":"IF(AH$8=\"\",\"\",IF(TEXT(WEEKDAY(AH$8),\"aaa\")=設定!$C$7,設定!$B$7,\"\"))","v":""},{"$f":"IF(AI$8=\"\",\"\",IF(TEXT(WEEKDAY(AI$8),\"aaa\")=設定!$C$7,設定!$B$7,\"\"))","v":""},{"$f":"IF(AJ$8=\"\",\"\",IF(TEXT(WEEKDAY(AJ$8),\"aaa\")=設定!$C$7,設定!$B$7,\"\"))","v":""},{"$f":"IF(AK$8=\"\",\"\",IF(TEXT(WEEKDAY(AK$8),\"aaa\")=設定!$C$7,設定!$B$7,\"\"))","v":""},null,0,0,0,0,4,4]
[26,null,null,null,null,null,{"$f":"IF(G$8=\"\",\"\",IF(TEXT(WEEKDAY(G$8),\"aaa\")=設定!$C$7,設定!$B$7,\"\"))","v":""},{"$f":"IF(H$8=\"\",\"\",IF(TEXT(WEEKDAY(H$8),\"aaa\")=設定!$C$7,設定!$B$7,\"\"))","v":""},{"$f":"IF(I$8=\"\",\"\",IF(TEXT(WEEKDAY(I$8),\"aaa\")=設定!$C$7,設定!$B$7,\"\"))","v":""},{"$f":"IF(J$8=\"\",\"\",IF(TEXT(WEEKDAY(J$8),\"aaa\")=設定!$C$7,設定!$B$7,\"\"))","v":"定休日"},{"$f":"IF(K$8=\"\",\"\",IF(TEXT(WEEKDAY(K$8),\"aaa\")=設定!$C$7,設定!$B$7,\"\"))","v":""},{"$f":"IF(L$8=\"\",\"\",IF(TEXT(WEEKDAY(L$8),\"aaa\")=設定!$C$7,設定!$B$7,\"\"))","v":""},{"$f":"IF(M$8=\"\",\"\",IF(TEXT(WEEKDAY(M$8),\"aaa\")=設定!$C$7,設定!$B$7,\"\"))","v":""},{"$f":"IF(N$8=\"\",\"\",IF(TEXT(WEEKDAY(N$8),\"aaa\")=設定!$C$7,設定!$B$7,\"\"))","v":""},{"$f":"IF(O$8=\"\",\"\",IF(TEXT(WEEKDAY(O$8),\"aaa\")=設定!$C$7,設定!$B$7,\"\"))","v":""},{"$f":"IF(P$8=\"\",\"\",IF(TEXT(WEEKDAY(P$8),\"aaa\")=設定!$C$7,設定!$B$7,\"\"))","v":""},{"$f":"IF(Q$8=\"\",\"\",IF(TEXT(WEEKDAY(Q$8),\"aaa\")=設定!$C$7,設定!$B$7,\"\"))","v":"定休日"},{"$f":"IF(R$8=\"\",\"\",IF(TEXT(WEEKDAY(R$8),\"aaa\")=設定!$C$7,設定!$B$7,\"\"))","v":""},{"$f":"IF(S$8=\"\",\"\",IF(TEXT(WEEKDAY(S$8),\"aaa\")=設定!$C$7,設定!$B$7,\"\"))","v":""},{"$f":"IF(T$8=\"\",\"\",IF(TEXT(WEEKDAY(T$8),\"aaa\")=設定!$C$7,設定!$B$7,\"\"))","v":""},{"$f":"IF(U$8=\"\",\"\",IF(TEXT(WEEKDAY(U$8),\"aaa\")=設定!$C$7,設定!$B$7,\"\"))","v":""},{"$f":"IF(V$8=\"\",\"\",IF(TEXT(WEEKDAY(V$8),\"aaa\")=設定!$C$7,設定!$B$7,\"\"))","v":""},{"$f":"IF(W$8=\"\",\"\",IF(TEXT(WEEKDAY(W$8),\"aaa\")=設定!$C$7,設定!$B$7,\"\"))","v":""},{"$f":"IF(X$8=\"\",\"\",IF(TEXT(WEEKDAY(X$8),\"aaa\")=設定!$C$7,設定!$B$7,\"\"))","v":"定休日"},{"$f":"IF(Y$8=\"\",\"\",IF(TEXT(WEEKDAY(Y$8),\"aaa\")=設定!$C$7,設定!$B$7,\"\"))","v":""},{"$f":"IF(Z$8=\"\",\"\",IF(TEXT(WEEKDAY(Z$8),\"aaa\")=設定!$C$7,設定!$B$7,\"\"))","v":""},{"$f":"IF(AA$8=\"\",\"\",IF(TEXT(WEEKDAY(AA$8),\"aaa\")=設定!$C$7,設定!$B$7,\"\"))","v":""},{"$f":"IF(AB$8=\"\",\"\",IF(TEXT(WEEKDAY(AB$8),\"aaa\")=設定!$C$7,設定!$B$7,\"\"))","v":""},{"$f":"IF(AC$8=\"\",\"\",IF(TEXT(WEEKDAY(AC$8),\"aaa\")=設定!$C$7,設定!$B$7,\"\"))","v":""},{"$f":"IF(AD$8=\"\",\"\",IF(TEXT(WEEKDAY(AD$8),\"aaa\")=設定!$C$7,設定!$B$7,\"\"))","v":""},{"$f":"IF(AE$8=\"\",\"\",IF(TEXT(WEEKDAY(AE$8),\"aaa\")=設定!$C$7,設定!$B$7,\"\"))","v":"定休日"},{"$f":"IF(AF$8=\"\",\"\",IF(TEXT(WEEKDAY(AF$8),\"aaa\")=設定!$C$7,設定!$B$7,\"\"))","v":""},{"$f":"IF(AG$8=\"\",\"\",IF(TEXT(WEEKDAY(AG$8),\"aaa\")=設定!$C$7,設定!$B$7,\"\"))","v":""},{"$f":"IF(AH$8=\"\",\"\",IF(TEXT(WEEKDAY(AH$8),\"aaa\")=設定!$C$7,設定!$B$7,\"\"))","v":""},{"$f":"IF(AI$8=\"\",\"\",IF(TEXT(WEEKDAY(AI$8),\"aaa\")=設定!$C$7,設定!$B$7,\"\"))","v":""},{"$f":"IF(AJ$8=\"\",\"\",IF(TEXT(WEEKDAY(AJ$8),\"aaa\")=設定!$C$7,設定!$B$7,\"\"))","v":""},{"$f":"IF(AK$8=\"\",\"\",IF(TEXT(WEEKDAY(AK$8),\"aaa\")=設定!$C$7,設定!$B$7,\"\"))","v":""},null,0,0,0,0,4,4]
[27,null,null,null,null,null,{"$f":"IF(G$8=\"\",\"\",IF(TEXT(WEEKDAY(G$8),\"aaa\")=設定!$C$7,設定!$B$7,\"\"))","v":""},{"$f":"IF(H$8=\"\",\"\",IF(TEXT(WEEKDAY(H$8),\"aaa\")=設定!$C$7,設定!$B$7,\"\"))","v":""},{"$f":"IF(I$8=\"\",\"\",IF(TEXT(WEEKDAY(I$8),\"aaa\")=設定!$C$7,設定!$B$7,\"\"))","v":""},{"$f":"IF(J$8=\"\",\"\",IF(TEXT(WEEKDAY(J$8),\"aaa\")=設定!$C$7,設定!$B$7,\"\"))","v":"定休日"},{"$f":"IF(K$8=\"\",\"\",IF(TEXT(WEEKDAY(K$8),\"aaa\")=設定!$C$7,設定!$B$7,\"\"))","v":""},{"$f":"IF(L$8=\"\",\"\",IF(TEXT(WEEKDAY(L$8),\"aaa\")=設定!$C$7,設定!$B$7,\"\"))","v":""},{"$f":"IF(M$8=\"\",\"\",IF(TEXT(WEEKDAY(M$8),\"aaa\")=設定!$C$7,設定!$B$7,\"\"))","v":""},{"$f":"IF(N$8=\"\",\"\",IF(TEXT(WEEKDAY(N$8),\"aaa\")=設定!$C$7,設定!$B$7,\"\"))","v":""},{"$f":"IF(O$8=\"\",\"\",IF(TEXT(WEEKDAY(O$8),\"aaa\")=設定!$C$7,設定!$B$7,\"\"))","v":""},{"$f":"IF(P$8=\"\",\"\",IF(TEXT(WEEKDAY(P$8),\"aaa\")=設定!$C$7,設定!$B$7,\"\"))","v":""},{"$f":"IF(Q$8=\"\",\"\",IF(TEXT(WEEKDAY(Q$8),\"aaa\")=設定!$C$7,設定!$B$7,\"\"))","v":"定休日"},{"$f":"IF(R$8=\"\",\"\",IF(TEXT(WEEKDAY(R$8),\"aaa\")=設定!$C$7,設定!$B$7,\"\"))","v":""},{"$f":"IF(S$8=\"\",\"\",IF(TEXT(WEEKDAY(S$8),\"aaa\")=設定!$C$7,設定!$B$7,\"\"))","v":""},{"$f":"IF(T$8=\"\",\"\",IF(TEXT(WEEKDAY(T$8),\"aaa\")=設定!$C$7,設定!$B$7,\"\"))","v":""},{"$f":"IF(U$8=\"\",\"\",IF(TEXT(WEEKDAY(U$8),\"aaa\")=設定!$C$7,設定!$B$7,\"\"))","v":""},{"$f":"IF(V$8=\"\",\"\",IF(TEXT(WEEKDAY(V$8),\"aaa\")=設定!$C$7,設定!$B$7,\"\"))","v":""},{"$f":"IF(W$8=\"\",\"\",IF(TEXT(WEEKDAY(W$8),\"aaa\")=設定!$C$7,設定!$B$7,\"\"))","v":""},{"$f":"IF(X$8=\"\",\"\",IF(TEXT(WEEKDAY(X$8),\"aaa\")=設定!$C$7,設定!$B$7,\"\"))","v":"定休日"},{"$f":"IF(Y$8=\"\",\"\",IF(TEXT(WEEKDAY(Y$8),\"aaa\")=設定!$C$7,設定!$B$7,\"\"))","v":""},{"$f":"IF(Z$8=\"\",\"\",IF(TEXT(WEEKDAY(Z$8),\"aaa\")=設定!$C$7,設定!$B$7,\"\"))","v":""},{"$f":"IF(AA$8=\"\",\"\",IF(TEXT(WEEKDAY(AA$8),\"aaa\")=設定!$C$7,設定!$B$7,\"\"))","v":""},{"$f":"IF(AB$8=\"\",\"\",IF(TEXT(WEEKDAY(AB$8),\"aaa\")=設定!$C$7,設定!$B$7,\"\"))","v":""},{"$f":"IF(AC$8=\"\",\"\",IF(TEXT(WEEKDAY(AC$8),\"aaa\")=設定!$C$7,設定!$B$7,\"\"))","v":""},{"$f":"IF(AD$8=\"\",\"\",IF(TEXT(WEEKDAY(AD$8),\"aaa\")=設定!$C$7,設定!$B$7,\"\"))","v":""},{"$f":"IF(AE$8=\"\",\"\",IF(TEXT(WEEKDAY(AE$8),\"aaa\")=設定!$C$7,設定!$B$7,\"\"))","v":"定休日"},{"$f":"IF(AF$8=\"\",\"\",IF(TEXT(WEEKDAY(AF$8),\"aaa\")=設定!$C$7,設定!$B$7,\"\"))","v":""},{"$f":"IF(AG$8=\"\",\"\",IF(TEXT(WEEKDAY(AG$8),\"aaa\")=設定!$C$7,設定!$B$7,\"\"))","v":""},{"$f":"IF(AH$8=\"\",\"\",IF(TEXT(WEEKDAY(AH$8),\"aaa\")=設定!$C$7,設定!$B$7,\"\"))","v":""},{"$f":"IF(AI$8=\"\",\"\",IF(TEXT(WEEKDAY(AI$8),\"aaa\")=設定!$C$7,設定!$B$7,\"\"))","v":""},{"$f":"IF(AJ$8=\"\",\"\",IF(TEXT(WEEKDAY(AJ$8),\"aaa\")=設定!$C$7,設定!$B$7,\"\"))","v":""},{"$f":"IF(AK$8=\"\",\"\",IF(TEXT(WEEKDAY(AK$8),\"aaa\")=設定!$C$7,設定!$B$7,\"\"))","v":""},null,0,0,0,0,4,4]
[28,null,null,null,null,null,{"$f":"IF(G$8=\"\",\"\",IF(TEXT(WEEKDAY(G$8),\"aaa\")=設定!$C$7,設定!$B$7,\"\"))","v":""},{"$f":"IF(H$8=\"\",\"\",IF(TEXT(WEEKDAY(H$8),\"aaa\")=設定!$C$7,設定!$B$7,\"\"))","v":""},{"$f":"IF(I$8=\"\",\"\",IF(TEXT(WEEKDAY(I$8),\"aaa\")=設定!$C$7,設定!$B$7,\"\"))","v":""},{"$f":"IF(J$8=\"\",\"\",IF(TEXT(WEEKDAY(J$8),\"aaa\")=設定!$C$7,設定!$B$7,\"\"))","v":"定休日"},{"$f":"IF(K$8=\"\",\"\",IF(TEXT(WEEKDAY(K$8),\"aaa\")=設定!$C$7,設定!$B$7,\"\"))","v":""},{"$f":"IF(L$8=\"\",\"\",IF(TEXT(WEEKDAY(L$8),\"aaa\")=設定!$C$7,設定!$B$7,\"\"))","v":""},{"$f":"IF(M$8=\"\",\"\",IF(TEXT(WEEKDAY(M$8),\"aaa\")=設定!$C$7,設定!$B$7,\"\"))","v":""},{"$f":"IF(N$8=\"\",\"\",IF(TEXT(WEEKDAY(N$8),\"aaa\")=設定!$C$7,設定!$B$7,\"\"))","v":""},{"$f":"IF(O$8=\"\",\"\",IF(TEXT(WEEKDAY(O$8),\"aaa\")=設定!$C$7,設定!$B$7,\"\"))","v":""},{"$f":"IF(P$8=\"\",\"\",IF(TEXT(WEEKDAY(P$8),\"aaa\")=設定!$C$7,設定!$B$7,\"\"))","v":""},{"$f":"IF(Q$8=\"\",\"\",IF(TEXT(WEEKDAY(Q$8),\"aaa\")=設定!$C$7,設定!$B$7,\"\"))","v":"定休日"},{"$f":"IF(R$8=\"\",\"\",IF(TEXT(WEEKDAY(R$8),\"aaa\")=設定!$C$7,設定!$B$7,\"\"))","v":""},{"$f":"IF(S$8=\"\",\"\",IF(TEXT(WEEKDAY(S$8),\"aaa\")=設定!$C$7,設定!$B$7,\"\"))","v":""},{"$f":"IF(T$8=\"\",\"\",IF(TEXT(WEEKDAY(T$8),\"aaa\")=設定!$C$7,設定!$B$7,\"\"))","v":""},{"$f":"IF(U$8=\"\",\"\",IF(TEXT(WEEKDAY(U$8),\"aaa\")=設定!$C$7,設定!$B$7,\"\"))","v":""},{"$f":"IF(V$8=\"\",\"\",IF(TEXT(WEEKDAY(V$8),\"aaa\")=設定!$C$7,設定!$B$7,\"\"))","v":""},{"$f":"IF(W$8=\"\",\"\",IF(TEXT(WEEKDAY(W$8),\"aaa\")=設定!$C$7,設定!$B$7,\"\"))","v":""},{"$f":"IF(X$8=\"\",\"\",IF(TEXT(WEEKDAY(X$8),\"aaa\")=設定!$C$7,設定!$B$7,\"\"))","v":"定休日"},{"$f":"IF(Y$8=\"\",\"\",IF(TEXT(WEEKDAY(Y$8),\"aaa\")=設定!$C$7,設定!$B$7,\"\"))","v":""},{"$f":"IF(Z$8=\"\",\"\",IF(TEXT(WEEKDAY(Z$8),\"aaa\")=設定!$C$7,設定!$B$7,\"\"))","v":""},{"$f":"IF(AA$8=\"\",\"\",IF(TEXT(WEEKDAY(AA$8),\"aaa\")=設定!$C$7,設定!$B$7,\"\"))","v":""},{"$f":"IF(AB$8=\"\",\"\",IF(TEXT(WEEKDAY(AB$8),\"aaa\")=設定!$C$7,設定!$B$7,\"\"))","v":""},{"$f":"IF(AC$8=\"\",\"\",IF(TEXT(WEEKDAY(AC$8),\"aaa\")=設定!$C$7,設定!$B$7,\"\"))","v":""},{"$f":"IF(AD$8=\"\",\"\",IF(TEXT(WEEKDAY(AD$8),\"aaa\")=設定!$C$7,設定!$B$7,\"\"))","v":""},{"$f":"IF(AE$8=\"\",\"\",IF(TEXT(WEEKDAY(AE$8),\"aaa\")=設定!$C$7,設定!$B$7,\"\"))","v":"定休日"},{"$f":"IF(AF$8=\"\",\"\",IF(TEXT(WEEKDAY(AF$8),\"aaa\")=設定!$C$7,設定!$B$7,\"\"))","v":""},{"$f":"IF(AG$8=\"\",\"\",IF(TEXT(WEEKDAY(AG$8),\"aaa\")=設定!$C$7,設定!$B$7,\"\"))","v":""},{"$f":"IF(AH$8=\"\",\"\",IF(TEXT(WEEKDAY(AH$8),\"aaa\")=設定!$C$7,設定!$B$7,\"\"))","v":""},{"$f":"IF(AI$8=\"\",\"\",IF(TEXT(WEEKDAY(AI$8),\"aaa\")=設定!$C$7,設定!$B$7,\"\"))","v":""},{"$f":"IF(AJ$8=\"\",\"\",IF(TEXT(WEEKDAY(AJ$8),\"aaa\")=設定!$C$7,設定!$B$7,\"\"))","v":""},{"$f":"IF(AK$8=\"\",\"\",IF(TEXT(WEEKDAY(AK$8),\"aaa\")=設定!$C$7,設定!$B$7,\"\"))","v":""},null,0,0,0,0,4,4]
[29,null,null,null,null,null,{"$f":"IF(G$8=\"\",\"\",IF(TEXT(WEEKDAY(G$8),\"aaa\")=設定!$C$7,設定!$B$7,\"\"))","v":""},{"$f":"IF(H$8=\"\",\"\",IF(TEXT(WEEKDAY(H$8),\"aaa\")=設定!$C$7,設定!$B$7,\"\"))","v":""},{"$f":"IF(I$8=\"\",\"\",IF(TEXT(WEEKDAY(I$8),\"aaa\")=設定!$C$7,設定!$B$7,\"\"))","v":""},{"$f":"IF(J$8=\"\",\"\",IF(TEXT(WEEKDAY(J$8),\"aaa\")=設定!$C$7,設定!$B$7,\"\"))","v":"定休日"},{"$f":"IF(K$8=\"\",\"\",IF(TEXT(WEEKDAY(K$8),\"aaa\")=設定!$C$7,設定!$B$7,\"\"))","v":""},{"$f":"IF(L$8=\"\",\"\",IF(TEXT(WEEKDAY(L$8),\"aaa\")=設定!$C$7,設定!$B$7,\"\"))","v":""},{"$f":"IF(M$8=\"\",\"\",IF(TEXT(WEEKDAY(M$8),\"aaa\")=設定!$C$7,設定!$B$7,\"\"))","v":""},{"$f":"IF(N$8=\"\",\"\",IF(TEXT(WEEKDAY(N$8),\"aaa\")=設定!$C$7,設定!$B$7,\"\"))","v":""},{"$f":"IF(O$8=\"\",\"\",IF(TEXT(WEEKDAY(O$8),\"aaa\")=設定!$C$7,設定!$B$7,\"\"))","v":""},{"$f":"IF(P$8=\"\",\"\",IF(TEXT(WEEKDAY(P$8),\"aaa\")=設定!$C$7,設定!$B$7,\"\"))","v":""},{"$f":"IF(Q$8=\"\",\"\",IF(TEXT(WEEKDAY(Q$8),\"aaa\")=設定!$C$7,設定!$B$7,\"\"))","v":"定休日"},{"$f":"IF(R$8=\"\",\"\",IF(TEXT(WEEKDAY(R$8),\"aaa\")=設定!$C$7,設定!$B$7,\"\"))","v":""},{"$f":"IF(S$8=\"\",\"\",IF(TEXT(WEEKDAY(S$8),\"aaa\")=設定!$C$7,設定!$B$7,\"\"))","v":""},{"$f":"IF(T$8=\"\",\"\",IF(TEXT(WEEKDAY(T$8),\"aaa\")=設定!$C$7,設定!$B$7,\"\"))","v":""},{"$f":"IF(U$8=\"\",\"\",IF(TEXT(WEEKDAY(U$8),\"aaa\")=設定!$C$7,設定!$B$7,\"\"))","v":""},{"$f":"IF(V$8=\"\",\"\",IF(TEXT(WEEKDAY(V$8),\"aaa\")=設定!$C$7,設定!$B$7,\"\"))","v":""},{"$f":"IF(W$8=\"\",\"\",IF(TEXT(WEEKDAY(W$8),\"aaa\")=設定!$C$7,設定!$B$7,\"\"))","v":""},{"$f":"IF(X$8=\"\",\"\",IF(TEXT(WEEKDAY(X$8),\"aaa\")=設定!$C$7,設定!$B$7,\"\"))","v":"定休日"},{"$f":"IF(Y$8=\"\",\"\",IF(TEXT(WEEKDAY(Y$8),\"aaa\")=設定!$C$7,設定!$B$7,\"\"))","v":""},{"$f":"IF(Z$8=\"\",\"\",IF(TEXT(WEEKDAY(Z$8),\"aaa\")=設定!$C$7,設定!$B$7,\"\"))","v":""},{"$f":"IF(AA$8=\"\",\"\",IF(TEXT(WEEKDAY(AA$8),\"aaa\")=設定!$C$7,設定!$B$7,\"\"))","v":""},{"$f":"IF(AB$8=\"\",\"\",IF(TEXT(WEEKDAY(AB$8),\"aaa\")=設定!$C$7,設定!$B$7,\"\"))","v":""},{"$f":"IF(AC$8=\"\",\"\",IF(TEXT(WEEKDAY(AC$8),\"aaa\")=設定!$C$7,設定!$B$7,\"\"))","v":""},{"$f":"IF(AD$8=\"\",\"\",IF(TEXT(WEEKDAY(AD$8),\"aaa\")=設定!$C$7,設定!$B$7,\"\"))","v":""},{"$f":"IF(AE$8=\"\",\"\",IF(TEXT(WEEKDAY(AE$8),\"aaa\")=設定!$C$7,設定!$B$7,\"\"))","v":"定休日"},{"$f":"IF(AF$8=\"\",\"\",IF(TEXT(WEEKDAY(AF$8),\"aaa\")=設定!$C$7,設定!$B$7,\"\"))","v":""},{"$f":"IF(AG$8=\"\",\"\",IF(TEXT(WEEKDAY(AG$8),\"aaa\")=設定!$C$7,設定!$B$7,\"\"))","v":""},{"$f":"IF(AH$8=\"\",\"\",IF(TEXT(WEEKDAY(AH$8),\"aaa\")=設定!$C$7,設定!$B$7,\"\"))","v":""},{"$f":"IF(AI$8=\"\",\"\",IF(TEXT(WEEKDAY(AI$8),\"aaa\")=設定!$C$7,設定!$B$7,\"\"))","v":""},{"$f":"IF(AJ$8=\"\",\"\",IF(TEXT(WEEKDAY(AJ$8),\"aaa\")=設定!$C$7,設定!$B$7,\"\"))","v":""},{"$f":"IF(AK$8=\"\",\"\",IF(TEXT(WEEKDAY(AK$8),\"aaa\")=設定!$C$7,設定!$B$7,\"\"))","v":""},null,0,0,0,0,4,4]
[30,null,null,null,null,null,{"$f":"IF(G$8=\"\",\"\",IF(TEXT(WEEKDAY(G$8),\"aaa\")=設定!$C$7,設定!$B$7,\"\"))","v":""},{"$f":"IF(H$8=\"\",\"\",IF(TEXT(WEEKDAY(H$8),\"aaa\")=設定!$C$7,設定!$B$7,\"\"))","v":""},{"$f":"IF(I$8=\"\",\"\",IF(TEXT(WEEKDAY(I$8),\"aaa\")=設定!$C$7,設定!$B$7,\"\"))","v":""},{"$f":"IF(J$8=\"\",\"\",IF(TEXT(WEEKDAY(J$8),\"aaa\")=設定!$C$7,設定!$B$7,\"\"))","v":"定休日"},{"$f":"IF(K$8=\"\",\"\",IF(TEXT(WEEKDAY(K$8),\"aaa\")=設定!$C$7,設定!$B$7,\"\"))","v":""},{"$f":"IF(L$8=\"\",\"\",IF(TEXT(WEEKDAY(L$8),\"aaa\")=設定!$C$7,設定!$B$7,\"\"))","v":""},{"$f":"IF(M$8=\"\",\"\",IF(TEXT(WEEKDAY(M$8),\"aaa\")=設定!$C$7,設定!$B$7,\"\"))","v":""},{"$f":"IF(N$8=\"\",\"\",IF(TEXT(WEEKDAY(N$8),\"aaa\")=設定!$C$7,設定!$B$7,\"\"))","v":""},{"$f":"IF(O$8=\"\",\"\",IF(TEXT(WEEKDAY(O$8),\"aaa\")=設定!$C$7,設定!$B$7,\"\"))","v":""},{"$f":"IF(P$8=\"\",\"\",IF(TEXT(WEEKDAY(P$8),\"aaa\")=設定!$C$7,設定!$B$7,\"\"))","v":""},{"$f":"IF(Q$8=\"\",\"\",IF(TEXT(WEEKDAY(Q$8),\"aaa\")=設定!$C$7,設定!$B$7,\"\"))","v":"定休日"},{"$f":"IF(R$8=\"\",\"\",IF(TEXT(WEEKDAY(R$8),\"aaa\")=設定!$C$7,設定!$B$7,\"\"))","v":""},{"$f":"IF(S$8=\"\",\"\",IF(TEXT(WEEKDAY(S$8),\"aaa\")=設定!$C$7,設定!$B$7,\"\"))","v":""},{"$f":"IF(T$8=\"\",\"\",IF(TEXT(WEEKDAY(T$8),\"aaa\")=設定!$C$7,設定!$B$7,\"\"))","v":""},{"$f":"IF(U$8=\"\",\"\",IF(TEXT(WEEKDAY(U$8),\"aaa\")=設定!$C$7,設定!$B$7,\"\"))","v":""},{"$f":"IF(V$8=\"\",\"\",IF(TEXT(WEEKDAY(V$8),\"aaa\")=設定!$C$7,設定!$B$7,\"\"))","v":""},{"$f":"IF(W$8=\"\",\"\",IF(TEXT(WEEKDAY(W$8),\"aaa\")=設定!$C$7,設定!$B$7,\"\"))","v":""},{"$f":"IF(X$8=\"\",\"\",IF(TEXT(WEEKDAY(X$8),\"aaa\")=設定!$C$7,設定!$B$7,\"\"))","v":"定休日"},{"$f":"IF(Y$8=\"\",\"\",IF(TEXT(WEEKDAY(Y$8),\"aaa\")=設定!$C$7,設定!$B$7,\"\"))","v":""},{"$f":"IF(Z$8=\"\",\"\",IF(TEXT(WEEKDAY(Z$8),\"aaa\")=設定!$C$7,設定!$B$7,\"\"))","v":""},{"$f":"IF(AA$8=\"\",\"\",IF(TEXT(WEEKDAY(AA$8),\"aaa\")=設定!$C$7,設定!$B$7,\"\"))","v":""},{"$f":"IF(AB$8=\"\",\"\",IF(TEXT(WEEKDAY(AB$8),\"aaa\")=設定!$C$7,設定!$B$7,\"\"))","v":""},{"$f":"IF(AC$8=\"\",\"\",IF(TEXT(WEEKDAY(AC$8),\"aaa\")=設定!$C$7,設定!$B$7,\"\"))","v":""},{"$f":"IF(AD$8=\"\",\"\",IF(TEXT(WEEKDAY(AD$8),\"aaa\")=設定!$C$7,設定!$B$7,\"\"))","v":""},{"$f":"IF(AE$8=\"\",\"\",IF(TEXT(WEEKDAY(AE$8),\"aaa\")=設定!$C$7,設定!$B$7,\"\"))","v":"定休日"},{"$f":"IF(AF$8=\"\",\"\",IF(TEXT(WEEKDAY(AF$8),\"aaa\")=設定!$C$7,設定!$B$7,\"\"))","v":""},{"$f":"IF(AG$8=\"\",\"\",IF(TEXT(WEEKDAY(AG$8),\"aaa\")=設定!$C$7,設定!$B$7,\"\"))","v":""},{"$f":"IF(AH$8=\"\",\"\",IF(TEXT(WEEKDAY(AH$8),\"aaa\")=設定!$C$7,設定!$B$7,\"\"))","v":""},{"$f":"IF(AI$8=\"\",\"\",IF(TEXT(WEEKDAY(AI$8),\"aaa\")=設定!$C$7,設定!$B$7,\"\"))","v":""},{"$f":"IF(AJ$8=\"\",\"\",IF(TEXT(WEEKDAY(AJ$8),\"aaa\")=設定!$C$7,設定!$B$7,\"\"))","v":""},{"$f":"IF(AK$8=\"\",\"\",IF(TEXT(WEEKDAY(AK$8),\"aaa\")=設定!$C$7,設定!$B$7,\"\"))","v":""},null,0,0,0,0,4,4]

{"sheet":"日別","index":2,"n_rows":39,"n_cols":41,"rows_kept":39,"cut":false,"hidden":false,"merged":[[3,7,3,11],[4,7,5,11],[4,1,5,1],[4,2,5,2],[4,3,5,3],[3,4,3,5],[4,4,5,5]]}
[]
[]
[]
[null,null,null,null,"日付の調節",null,null,"シフト情報の登録"]
[null,2015,1,1]
[]
[]
[null,"氏 名","開始時刻","終了時刻","休憩開始","休憩終了","07:00:00",{"$f":"G8+1/48","v":"07:30:00"},{"$f":"H8+1/48","v":"08:00:00"},"08:30:00","09:00:00","09:30:00","10:00:00","10:30:00","11:00:00","11:30:00","12:00:00","12:30:00","13:00:00","13:30:00","14:00:00","14:30:00","15:00:00","15:30:00","16:00:00","16:30:00","17:00:00","17:30:00","18:00:00","18:30:00","19:00:00","19:30:00","20:00:00","20:30:00","21:00:00","21:30:00","22:00:00","22:30:00","23:00:00","23:30:00",1.0000000000000007]
[1,"ああ",{"$f":"IF(ISBLANK(INDIRECT(ADDRESS(MATCH($C$5,INDIRECT(C$8&\"!$B$1:$B$354\"),0)+$A9,$D$5+2,4,1,C$8))),\"\",INDIRECT(ADDRESS(MATCH($C$5,INDIRECT(C$8&\"!$B$1:$B$354\"),0)+$A9,$D$5+2,4,1,C$8)))","v":""},"","","",{"$f":"IF(OR($C9=\"\",$D9=\"\",$E9=\"\",$F9=\"\"),\"\",IF($C9=\"休み\",\"\",IF(AND(AND(G$8>=$C9-(1/288),G$8<=($D9-((1/48)-(1/288)))),NOT(AND(G$8>=$E9-(1/288),G$8<=($F9-((1/48)-(1/288)))))),1,\"\")))","v":""},{"$f":"IF(OR($C9=\"\",$D9=\"\",$E9=\"\",$F9=\"\"),\"\",IF($C9=\"休み\",\"\",IF(AND(AND(H$8>=$C9-(1/288),H$8<=($D9-((1/48)-(1/288)))),NOT(AND(H$8>=$E9-(1/288),H$8<=($F9-((1/48)-(1/288)))))),1,\"\")))","v":""},"","","","","","","","","","","","","","","",{"$f":"IF(OR($C9=\"\",$D9=\"\",$E9=\"\",$F9=\"\"),\"\",IF($C9=\"休み\",\"\",IF(AND(AND(X$8>=$C9-(1/288),X$8<=($D9-((1/48)-(1/288)))),NOT(AND(X$8>=$E9-(1/288),X$8<=($F9-((1/48)-(1/288)))))),1,\"\")))","v":""},"","","","","","","","","","","","","","","",{"$f":"IF(OR($C9=\"\",$D9=\"\",$E9=\"\",$F9=\"\"),\"\",IF($C9=\"休み\",\"\",IF(AND(AND(AN$8>=$C9-(1/288),AN$8<=($D9-((1/48)-(1/288)))),NOT(AND(AN$8>=$E9-(1/288),AN$8<=($F9-((1/48)-(1/288)))))),1,\"\")))","v":""},""]
[2,{"$f":"IF(月別!B10=\"\",\"\",月別!B10)","v":""},"","","","",{"$f":"IF(OR($C10=\"\",$D10=\"\",$E10=\"\",$F10=\"\"),\"\",IF($C10=\"休み\",\"\",IF(AND(AND(G$8>=$C10-(1/288),G$8<=($D10-((1/48)-(1/288)))),NOT(AND(G$8>=$E10-(1/288),G$8<=($F10-((1/48)-(1/288)))))),1,\"\")))","v":""},"","","","","","","","","","","","","","","","","","","","","","","","","","","","","","","","","",""]
[3,{"$f":"IF(月別!B11=\"\",\"\",月別!B11)","v":""},"","","","","","","","","","","","","","","","","","","","","","","","","","","","","","","","","","","","","","",""]
[4,{"$f":"IF(月別!B12=\"\",\"\",月別!B12)","v":""},"","","","","","","","","","","","","","","","","","","","","","","","","","","","","","","","","","","","","","",""]
[5,{"$f":"IF(月別!B13=\"\",\"\",月別!B13)","v":""},"","","","","","","","","","","","","","","","","","","","","","","","","","","","","","","","","","","","","","",""]
[6,{"$f":"IF(月別!B14=\"\",\"\",月別!B14)","v":""},"","","","","","","","","","","","","","","","","","","","","","","","","","","","","","","","","","","","","","",""]
[7,{"$f":"IF(月別!B15=\"\",\"\",月別!B15)","v":""},"","","","","","","","","","","","","","","","","","","","","","","","","","","","","","","","","","","","","","",""]
[8,{"$f":"IF(月別!B16=\"\",\"\",月別!B16)","v":""},"","","","","","","","","","","","","","","","","","","","","","","","","","","","","","","","","","","","","","",""]
[9,{"$f":"IF(月別!B17=\"\",\"\",月別!B17)","v":""},"","","","","","","","","","","","","","","","","","","","","","","","","","","","","","","","","","","","","","",""]
[10,{"$f":"IF(月別!B18=\"\",\"\",月別!B18)","v":""},"","","","","","","","","","","","","","","","","","","","","","","","","","","","","","","","","","","","","","",""]
[11,{"$f":"IF(月別!B19=\"\",\"\",月別!B19)","v":""},"","","","","","","","","","","","","","","","","","","","","","","","","","","","","","","","","","","","","","",""]
[12,{"$f":"IF(月別!B20=\"\",\"\",月別!B20)","v":""},"","","","","","","","","","","","","","","","","","","","","","","","","","","","","","","","","","","","","","",""]
[13,{"$f":"IF(月別!B21=\"\",\"\",月別!B21)","v":""},"","","","","","","","","","","","","","","","","","","","","","","","","","","","","","","","","","","","","","",""]
[14,{"$f":"IF(月別!B22=\"\",\"\",月別!B22)","v":""},"","","","","","","","","","","","","","","","","","","","","","","","","","","","","","","","","","","","","","",""]
[15,{"$f":"IF(月別!B23=\"\",\"\",月別!B23)","v":""},"","","","","","","","","","","","","","","","","","","","","","","","","","","","","","","","","","","","","","",""]
[16,{"$f":"IF(月別!B24=\"\",\"\",月別!B24)","v":""},"","","","","","","","","","","","","","","","","","","","",{"$f":"IF(OR($C24=\"\",$D24=\"\",$E24=\"\",$F24=\"\"),\"\",IF($C24=\"休み\",\"\",IF(AND(AND(W$8>=$C24-(1/288),W$8<=($D24-((1/48)-(1/288)))),NOT(AND(W$8>=$E24-(1/288),W$8<=($F24-((1/48)-(1/288)))))),1,\"\")))","v":""},"","","","","","","","","","","","","","","",{"$f":"IF(OR($C24=\"\",$D24=\"\",$E24=\"\",$F24=\"\"),\"\",IF($C24=\"休み\",\"\",IF(AND(AND(AM$8>=$C24-(1/288),AM$8<=($D24-((1/48)-(1/288)))),NOT(AND(AM$8>=$E24-(1/288),AM$8<=($F24-((1/48)-(1/288)))))),1,\"\")))","v":""},"",""]
[17,{"$f":"IF(月別!B25=\"\",\"\",月別!B25)","v":""},"","","","","","","","","","","","","","","","","","","","","","","","","","","","","","","","","","","","","","",""]
[18,{"$f":"IF(月別!B26=\"\",\"\",月別!B26)","v":""},"","","","",{"$f":"IF(OR($C26=\"\",$D26=\"\",$E26=\"\",$F26=\"\"),\"\",IF($C26=\"休み\",\"\",IF(AND(AND(G$8>=$C26-(1/288),G$8<=($D26-((1/48)-(1/288)))),NOT(AND(G$8>=$E26-(1/288),G$8<=($F26-((1/48)-(1/288)))))),1,\"\")))","v":""},"","","","","","","","","","","","","","","","","","","","","","","","","","","","","","","","","",""]
[19,{"$f":"IF(月別!B27=\"\",\"\",月別!B27)","v":""},"","","","","","","","","","","","","","","","","","","","","","","","","","","","","","","","","","","","","","",""]
[20,{"$f":"IF(月別!B28=\"\",\"\",月別!B28)","v":""},"","","","","","","","","","","","","","","","","","","","","","","","","","","","","","","","","","","","","","",""]
[21,{"$f":"IF(月別!B29=\"\",\"\",月別!B29)","v":""},"","","","","","","","","","","","","","","","","","","","","","","","","","","","","","","","","","","","","","",""]
[22,{"$f":"IF(月別!B30=\"\",\"\",月別!B30)","v":""},"","","","","","","","","","","","","","","","","","","","","","","","","","","","","","","","","","","","","","",""]
[23,{"$f":"IF(月別!B31=\"\",\"\",月別!B31)","v":""},"","","","","","","","","","","","","","","","","","","","","","","","","","","","","","","","","","","","","","",""]
[24,{"$f":"IF(月別!B32=\"\",\"\",月別!B32)","v":""},"","","","","","","","","","","","","","","","","","","","","","","","","","","","","","","","","","","","","","",""]
[25,{"$f":"IF(月別!B33=\"\",\"\",月別!B33)","v":""},"","","","","","","","","","","","","","","","","","","","","","","","","","","","","","","","","","","","","","",""]
[26,{"$f":"IF(月別!B34=\"\",\"\",月別!B34)","v":""},"","","","","","","","","","","","","","","","","","","","","","","","","","","","","","","","","","","","","","",""]
[27,{"$f":"IF(月別!B35=\"\",\"\",月別!B35)","v":""},"","","","","","","","","","","","","","","","","","","","","","","","","","","","","","","","","","","","","","",""]
[28,{"$f":"IF(月別!B36=\"\",\"\",月別!B36)","v":""},"","","","","","","","","","","","","","","","","","","","","","","","","","","","","","","","","","","","","","",""]
[29,{"$f":"IF(月別!B37=\"\",\"\",月別!B37)","v":""},"","","","","","","","","","","","","","","","","","","","","","","","","","","","","","","","","","","","","","",""]
[30,{"$f":"IF(月別!B38=\"\",\"\",月別!B38)","v":""},"","","","","","","","","","","","","","","","","","","","","","","","","","","","","","","","","","","","","","",""]
[null,null,null,null,null,"計",{"$f":"SUM(G9:G38)","v":0},{"$f":"SUM(H9:H38)","v":0},{"$f":"SUM(I9:I38)","v":0},{"$f":"SUM(J9:J38)","v":0},0,0,0,0,0,0,0,0,0,0,0,0,0,0,0,0,0,0,0,0,0,0,0,0,0,0,0,0,0,0,0]

{"sheet":"開始時刻","index":3,"n_rows":384,"n_cols":34,"rows_kept":384,"cut":false,"hidden":true,"merged":[]}
[]
[null,1,{"$f":"DATE(月別!$B$5,B2,1)","v":"2015-01-01"},{"$f":"IF(ISERROR(IF(MONTH(C2+1)=MONTH(C2), C2+1,\"\")),\"\",IF(MONTH(C2+1)=MONTH(C2), C2+1,\"\"))","v":"2015-01-02"},{"$f":"IF(ISERROR(IF(MONTH(D2+1)=MONTH(D2), D2+1,\"\")),\"\",IF(MONTH(D2+1)=MONTH(D2), D2+1,\"\"))","v":"2015-01-03"},"2015-01-04","2015-01-05","2015-01-06","2015-01-07","2015-01-08","2015-01-09","2015-01-10","2015-01-11","2015-01-12","2015-01-13","2015-01-14","2015-01-15","2015-01-16","2015-01-17","2015-01-18","2015-01-19","2015-01-20","2015-01-21","2015-01-22","2015-01-23","2015-01-24","2015-01-25","2015-01-26","2015-01-27","2015-01-28","2015-01-29","2015-01-30","2015-01-31",{"$f":"IF(ISERROR(IF(MONTH(AG2+1)=MONTH(AG2), AG2+1,\"\")),\"\",IF(MONTH(AG2+1)=MONTH(AG2), AG2+1,\"\"))","v":""}]
[null,"user_01"]
[null,"user_02"]
[null,"user_03"]
[null,"user_04"]
[null,"user_05"]
[null,"user_06"]
[null,"user_07"]
[null,"user_08"]
[null,"user_09"]
[null,"user_10"]
[null,"user_11"]
[null,"user_12"]
[null,"user_13"]
[null,"user_14"]
[null,"user_15"]
[null,"user_16"]
[null,"user_17"]
[null,"user_18"]
[null,"user_19"]
[null,"user_20"]
[null,"user_21"]
[null,"user_22"]
[null,"user_23"]
[null,"user_24"]
[null,"user_25"]
[null,"user_26"]
[null,"user_27"]
[null,"user_28"]
[null,"user_29"]
[null,"user_30"]
[]
[null,2,{"$f":"DATE(月別!$B$5,B34,1)","v":"2015-02-01"},{"$f":"IF(ISERROR(IF(MONTH(C34+1)=MONTH(C34), C34+1,\"\")),\"\",IF(MONTH(C34+1)=MONTH(C34), C34+1,\"\"))","v":"2015-02-02"},{"$f":"IF(ISERROR(IF(MONTH(D34+1)=MONTH(D34), D34+1,\"\")),\"\",IF(MONTH(D34+1)=MONTH(D34), D34+1,\"\"))","v":"2015-02-03"},{"$f":"IF(ISERROR(IF(MONTH(E34+1)=MONTH(E34), E34+1,\"\")),\"\",IF(MONTH(E34+1)=MONTH(E34), E34+1,\"\"))","v":"2015-02-04"},{"$f":"IF(ISERROR(IF(MONTH(F34+1)=MONTH(F34), F34+1,\"\")),\"\",IF(MONTH(F34+1)=MONTH(F34), F34+1,\"\"))","v":"2015-02-05"},{"$f":"IF(ISERROR(IF(MONTH(G34+1)=MONTH(G34), G34+1,\"\")),\"\",IF(MONTH(G34+1)=MONTH(G34), G34+1,\"\"))","v":"2015-02-06"},{"$f":"IF(ISERROR(IF(MONTH(H34+1)=MONTH(H34), H34+1,\"\")),\"\",IF(MONTH(H34+1)=MONTH(H34), H34+1,\"\"))","v":"2015-02-07"},{"$f":"IF(ISERROR(IF(MONTH(I34+1)=MONTH(I34), I34+1,\"\")),\"\",IF(MONTH(I34+1)=MONTH(I34), I34+1,\"\"))","v":"2015-02-08"},{"$f":"IF(ISERROR(IF(MONTH(J34+1)=MONTH(J34), J34+1,\"\")),\"\",IF(MONTH(J34+1)=MONTH(J34), J34+1,\"\"))","v":"2015-02-09"},{"$f":"IF(ISERROR(IF(MONTH(K34+1)=MONTH(K34), K34+1,\"\")),\"\",IF(MONTH(K34+1)=MONTH(K34), K34+1,\"\"))","v":"2015-02-10"},{"$f":"IF(ISERROR(IF(MONTH(L34+1)=MONTH(L34), L34+1,\"\")),\"\",IF(MONTH(L34+1)=MONTH(L34), L34+1,\"\"))","v":"2015-02-11"},{"$f":"IF(ISERROR(IF(MONTH(M34+1)=MONTH(M34), M34+1,\"\")),\"\",IF(MONTH(M34+1)=MONTH(M34), M34+1,\"\"))","v":"2015-02-12"},{"$f":"IF(ISERROR(IF(MONTH(N34+1)=MONTH(N34), N34+1,\"\")),\"\",IF(MONTH(N34+1)=MONTH(N34), N34+1,\"\"))","v":"2015-02-13"},{"$f":"IF(ISERROR(IF(MONTH(O34+1)=MONTH(O34), O34+1,\"\")),\"\",IF(MONTH(O34+1)=MONTH(O34), O34+1,\"\"))","v":"2015-02-14"},{"$f":"IF(ISERROR(IF(MONTH(P34+1)=MONTH(P34), P34+1,\"\")),\"\",IF(MONTH(P34+1)=MONTH(P34), P34+1,\"\"))","v":"2015-02-15"},{"$f":"IF(ISERROR(IF(MONTH(Q34+1)=MONTH(Q34), Q34+1,\"\")),\"\",IF(MONTH(Q34+1)=MONTH(Q34), Q34+1,\"\"))","v":"2015-02-16"},{"$f":"IF(ISERROR(IF(MONTH(R34+1)=MONTH(R34), R34+1,\"\")),\"\",IF(MONTH(R34+1)=MONTH(R34), R34+1,\"\"))","v":"2015-02-17"},{"$f":"IF(ISERROR(IF(MONTH(S34+1)=MONTH(S34), S34+1,\"\")),\"\",IF(MONTH(S34+1)=MONTH(S34), S34+1,\"\"))","v":"2015-02-18"},{"$f":"IF(ISERROR(IF(MONTH(T34+1)=MONTH(T34), T34+1,\"\")),\"\",IF(MONTH(T34+1)=MONTH(T34), T34+1,\"\"))","v":"2015-02-19"},{"$f":"IF(ISERROR(IF(MONTH(U34+1)=MONTH(U34), U34+1,\"\")),\"\",IF(MONTH(U34+1)=MONTH(U34), U34+1,\"\"))","v":"2015-02-20"},{"$f":"IF(ISERROR(IF(MONTH(V34+1)=MONTH(V34), V34+1,\"\")),\"\",IF(MONTH(V34+1)=MONTH(V34), V34+1,\"\"))","v":"2015-02-21"},{"$f":"IF(ISERROR(IF(MONTH(W34+1)=MONTH(W34), W34+1,\"\")),\"\",IF(MONTH(W34+1)=MONTH(W34), W34+1,\"\"))","v":"2015-02-22"},{"$f":"IF(ISERROR(IF(MONTH(X34+1)=MONTH(X34), X34+1,\"\")),\"\",IF(MONTH(X34+1)=MONTH(X34), X34+1,\"\"))","v":"2015-02-23"},{"$f":"IF(ISERROR(IF(MONTH(Y34+1)=MONTH(Y34), Y34+1,\"\")),\"\",IF(MONTH(Y34+1)=MONTH(Y34), Y34+1,\"\"))","v":"2015-02-24"},{"$f":"IF(ISERROR(IF(MONTH(Z34+1)=MONTH(Z34), Z34+1,\"\")),\"\",IF(MONTH(Z34+1)=MONTH(Z34), Z34+1,\"\"))","v":"2015-02-25"},{"$f":"IF(ISERROR(IF(MONTH(AA34+1)=MONTH(AA34), AA34+1,\"\")),\"\",IF(MONTH(AA34+1)=MONTH(AA34), AA34+1,\"\"))","v":"2015-02-26"},{"$f":"IF(ISERROR(IF(MONTH(AB34+1)=MONTH(AB34), AB34+1,\"\")),\"\",IF(MONTH(AB34+1)=MONTH(AB34), AB34+1,\"\"))","v":"2015-02-27"},{"$f":"IF(ISERROR(IF(MONTH(AC34+1)=MONTH(AC34), AC34+1,\"\")),\"\",IF(MONTH(AC34+1)=MONTH(AC34), AC34+1,\"\"))","v":"2015-02-28"},{"$f":"IF(ISERROR(IF(MONTH(AD34+1)=MONTH(AD34), AD34+1,\"\")),\"\",IF(MONTH(AD34+1)=MONTH(AD34), AD34+1,\"\"))","v":""},{"$f":"IF(ISERROR(IF(MONTH(AE34+1)=MONTH(AE34), AE34+1,\"\")),\"\",IF(MONTH(AE34+1)=MONTH(AE34), AE34+1,\"\"))","v":""},{"$f":"IF(ISERROR(IF(MONTH(AF34+1)=MONTH(AF34), AF34+1,\"\")),\"\",IF(MONTH(AF34+1)=MONTH(AF34), AF34+1,\"\"))","v":""}]
[null,"user_01"]
[null,"user_02"]
[null,"user_03"]
[null,"user_04"]
[null,"user_05"]
[null,"user_06"]
[null,"user_07"]
[null,"user_08"]
[null,"user_09"]
[null,"user_10"]
[null,"user_11"]
[null,"user_12"]
[null,"user_13"]
[null,"user_14"]
[null,"user_15"]
[null,"user_16"]
[null,"user_17"]
[null,"user_18"]
[null,"user_19"]
[null,"user_20"]
[null,"user_21"]
[null,"user_22"]
[null,"user_23"]
[null,"user_24"]
[null,"user_25"]
[null,"user_26"]
[null,"user_27"]
[null,"user_28"]
[null,"user_29"]
[null,"user_30"]
[]
[null,3,{"$f":"DATE(月別!$B$5,B66,1)","v":"2015-03-01"},{"$f":"IF(ISERROR(IF(MONTH(C66+1)=MONTH(C66), C66+1,\"\")),\"\",IF(MONTH(C66+1)=MONTH(C66), C66+1,\"\"))","v":"2015-03-02"},{"$f":"IF(ISERROR(IF(MONTH(D66+1)=MONTH(D66), D66+1,\"\")),\"\",IF(MONTH(D66+1)=MONTH(D66), D66+1,\"\"))","v":"2015-03-03"},{"$f":"IF(ISERROR(IF(MONTH(E66+1)=MONTH(E66), E66+1,\"\")),\"\",IF(MONTH(E66+1)=MONTH(E66), E66+1,\"\"))","v":"2015-03-04"},{"$f":"IF(ISERROR(IF(MONTH(F66+1)=MONTH(F66), F66+1,\"\")),\"\",IF(MONTH(F66+1)=MONTH(F66), F66+1,\"\"))","v":"2015-03-05"},{"$f":"IF(ISERROR(IF(MONTH(G66+1)=MONTH(G66), G66+1,\"\")),\"\",IF(MONTH(G66+1)=MONTH(G66), G66+1,\"\"))","v":"2015-03-06"},{"$f":"IF(ISERROR(IF(MONTH(H66+1)=MONTH(H66), H66+1,\"\")),\"\",IF(MONTH(H66+1)=MONTH(H66), H66+1,\"\"))","v":"2015-03-07"},{"$f":"IF(ISERROR(IF(MONTH(I66+1)=MONTH(I66), I66+1,\"\")),\"\",IF(MONTH(I66+1)=MONTH(I66), I66+1,\"\"))","v":"2015-03-08"},{"$f":"IF(ISERROR(IF(MONTH(J66+1)=MONTH(J66), J66+1,\"\")),\"\",IF(MONTH(J66+1)=MONTH(J66), J66+1,\"\"))","v":"2015-03-09"},{"$f":"IF(ISERROR(IF(MONTH(K66+1)=MONTH(K66), K66+1,\"\")),\"\",IF(MONTH(K66+1)=MONTH(K66), K66+1,\"\"))","v":"2015-03-10"},{"$f":"IF(ISERROR(IF(MONTH(L66+1)=MONTH(L66), L66+1,\"\")),\"\",IF(MONTH(L66+1)=MONTH(L66), L66+1,\"\"))","v":"2015-03-11"},{"$f":"IF(ISERROR(IF(MONTH(M66+1)=MONTH(M66), M66+1,\"\")),\"\",IF(MONTH(M66+1)=MONTH(M66), M66+1,\"\"))","v":"2015-03-12"},{"$f":"IF(ISERROR(IF(MONTH(N66+1)=MONTH(N66), N66+1,\"\")),\"\",IF(MONTH(N66+1)=MONTH(N66), N66+1,\"\"))","v":"2015-03-13"},{"$f":"IF(ISERROR(IF(MONTH(O66+1)=MONTH(O66), O66+1,\"\")),\"\",IF(MONTH(O66+1)=MONTH(O66), O66+1,\"\"))","v":"2015-03-14"},{"$f":"IF(ISERROR(IF(MONTH(P66+1)=MONTH(P66), P66+1,\"\")),\"\",IF(MONTH(P66+1)=MONTH(P66), P66+1,\"\"))","v":"2015-03-15"},{"$f":"IF(ISERROR(IF(MONTH(Q66+1)=MONTH(Q66), Q66+1,\"\")),\"\",IF(MONTH(Q66+1)=MONTH(Q66), Q66+1,\"\"))","v":"2015-03-16"},{"$f":"IF(ISERROR(IF(MONTH(R66+1)=MONTH(R66), R66+1,\"\")),\"\",IF(MONTH(R66+1)=MONTH(R66), R66+1,\"\"))","v":"2015-03-17"},{"$f":"IF(ISERROR(IF(MONTH(S66+1)=MONTH(S66), S66+1,\"\")),\"\",IF(MONTH(S66+1)=MONTH(S66), S66+1,\"\"))","v":"2015-03-18"},{"$f":"IF(ISERROR(IF(MONTH(T66+1)=MONTH(T66), T66+1,\"\")),\"\",IF(MONTH(T66+1)=MONTH(T66), T66+1,\"\"))","v":"2015-03-19"},{"$f":"IF(ISERROR(IF(MONTH(U66+1)=MONTH(U66), U66+1,\"\")),\"\",IF(MONTH(U66+1)=MONTH(U66), U66+1,\"\"))","v":"2015-03-20"},{"$f":"IF(ISERROR(IF(MONTH(V66+1)=MONTH(V66), V66+1,\"\")),\"\",IF(MONTH(V66+1)=MONTH(V66), V66+1,\"\"))","v":"2015-03-21"},{"$f":"IF(ISERROR(IF(MONTH(W66+1)=MONTH(W66), W66+1,\"\")),\"\",IF(MONTH(W66+1)=MONTH(W66), W66+1,\"\"))","v":"2015-03-22"},{"$f":"IF(ISERROR(IF(MONTH(X66+1)=MONTH(X66), X66+1,\"\")),\"\",IF(MONTH(X66+1)=MONTH(X66), X66+1,\"\"))","v":"2015-03-23"},{"$f":"IF(ISERROR(IF(MONTH(Y66+1)=MONTH(Y66), Y66+1,\"\")),\"\",IF(MONTH(Y66+1)=MONTH(Y66), Y66+1,\"\"))","v":"2015-03-24"},{"$f":"IF(ISERROR(IF(MONTH(Z66+1)=MONTH(Z66), Z66+1,\"\")),\"\",IF(MONTH(Z66+1)=MONTH(Z66), Z66+1,\"\"))","v":"2015-03-25"},{"$f":"IF(ISERROR(IF(MONTH(AA66+1)=MONTH(AA66), AA66+1,\"\")),\"\",IF(MONTH(AA66+1)=MONTH(AA66), AA66+1,\"\"))","v":"2015-03-26"},{"$f":"IF(ISERROR(IF(MONTH(AB66+1)=MONTH(AB66), AB66+1,\"\")),\"\",IF(MONTH(AB66+1)=MONTH(AB66), AB66+1,\"\"))","v":"2015-03-27"},{"$f":"IF(ISERROR(IF(MONTH(AC66+1)=MONTH(AC66), AC66+1,\"\")),\"\",IF(MONTH(AC66+1)=MONTH(AC66), AC66+1,\"\"))","v":"2015-03-28"},{"$f":"IF(ISERROR(IF(MONTH(AD66+1)=MONTH(AD66), AD66+1,\"\")),\"\",IF(MONTH(AD66+1)=MONTH(AD66), AD66+1,\"\"))","v":"2015-03-29"},{"$f":"IF(ISERROR(IF(MONTH(AE66+1)=MONTH(AE66), AE66+1,\"\")),\"\",IF(MONTH(AE66+1)=MONTH(AE66), AE66+1,\"\"))","v":"2015-03-30"},{"$f":"IF(ISERROR(IF(MONTH(AF66+1)=MONTH(AF66), AF66+1,\"\")),\"\",IF(MONTH(AF66+1)=MONTH(AF66), AF66+1,\"\"))","v":"2015-03-31"}]
[null,"user_01"]
[null,"user_02"]
[null,"user_03"]
[null,"user_04"]
[null,"user_05"]
[null,"user_06"]
[null,"user_07"]
[null,"user_08"]
[null,"user_09"]
[null,"user_10"]
[null,"user_11"]
[null,"user_12"]
[null,"user_13"]
[null,"user_14"]
[null,"user_15"]
[null,"user_16"]
[null,"user_17"]
[null,"user_18"]
[null,"user_19"]
[null,"user_20"]
[null,"user_21"]
[null,"user_22"]
[null,"user_23"]
[null,"user_24"]
[null,"user_25"]
[null,"user_26"]
[null,"user_27"]
[null,"user_28"]
[null,"user_29"]
[null,"user_30"]
[]
[null,4,{"$f":"DATE(月別!$B$5,B98,1)","v":"2015-04-01"},{"$f":"IF(ISERROR(IF(MONTH(C98+1)=MONTH(C98), C98+1,\"\")),\"\",IF(MONTH(C98+1)=MONTH(C98), C98+1,\"\"))","v":"2015-04-02"},{"$f":"IF(ISERROR(IF(MONTH(D98+1)=MONTH(D98), D98+1,\"\")),\"\",IF(MONTH(D98+1)=MONTH(D98), D98+1,\"\"))","v":"2015-04-03"},{"$f":"IF(ISERROR(IF(MONTH(E98+1)=MONTH(E98), E98+1,\"\")),\"\",IF(MONTH(E98+1)=MONTH(E98), E98+1,\"\"))","v":"2015-04-04"},{"$f":"IF(ISERROR(IF(MONTH(F98+1)=MONTH(F98), F98+1,\"\")),\"\",IF(MONTH(F98+1)=MONTH(F98), F98+1,\"\"))","v":"2015-04-05"},{"$f":"IF(ISERROR(IF(MONTH(G98+1)=MONTH(G98), G98+1,\"\")),\"\",IF(MONTH(G98+1)=MONTH(G98), G98+1,\"\"))","v":"2015-04-06"},{"$f":"IF(ISERROR(IF(MONTH(H98+1)=MONTH(H98), H98+1,\"\")),\"\",IF(MONTH(H98+1)=MONTH(H98), H98+1,\"\"))","v":"2015-04-07"},{"$f":"IF(ISERROR(IF(MONTH(I98+1)=MONTH(I98), I98+1,\"\")),\"\",IF(MONTH(I98+1)=MONTH(I98), I98+1,\"\"))","v":"2015-04-08"},{"$f":"IF(ISERROR(IF(MONTH(J98+1)=MONTH(J98), J98+1,\"\")),\"\",IF(MONTH(J98+1)=MONTH(J98), J98+1,\"\"))","v":"2015-04-09"},{"$f":"IF(ISERROR(IF(MONTH(K98+1)=MONTH(K98), K98+1,\"\")),\"\",IF(MONTH(K98+1)=MONTH(K98), K98+1,\"\"))","v":"2015-04-10"},{"$f":"IF(ISERROR(IF(MONTH(L98+1)=MONTH(L98), L98+1,\"\")),\"\",IF(MONTH(L98+1)=MONTH(L98), L98+1,\"\"))","v":"2015-04-11"},{"$f":"IF(ISERROR(IF(MONTH(M98+1)=MONTH(M98), M98+1,\"\")),\"\",IF(MONTH(M98+1)=MONTH(M98), M98+1,\"\"))","v":"2015-04-12"},{"$f":"IF(ISERROR(IF(MONTH(N98+1)=MONTH(N98), N98+1,\"\")),\"\",IF(MONTH(N98+1)=MONTH(N98), N98+1,\"\"))","v":"2015-04-13"},{"$f":"IF(ISERROR(IF(MONTH(O98+1)=MONTH(O98), O98+1,\"\")),\"\",IF(MONTH(O98+1)=MONTH(O98), O98+1,\"\"))","v":"2015-04-14"},{"$f":"IF(ISERROR(IF(MONTH(P98+1)=MONTH(P98), P98+1,\"\")),\"\",IF(MONTH(P98+1)=MONTH(P98), P98+1,\"\"))","v":"2015-04-15"},{"$f":"IF(ISERROR(IF(MONTH(Q98+1)=MONTH(Q98), Q98+1,\"\")),\"\",IF(MONTH(Q98+1)=MONTH(Q98), Q98+1,\"\"))","v":"2015-04-16"},{"$f":"IF(ISERROR(IF(MONTH(R98+1)=MONTH(R98), R98+1,\"\")),\"\",IF(MONTH(R98+1)=MONTH(R98), R98+1,\"\"))","v":"2015-04-17"},{"$f":"IF(ISERROR(IF(MONTH(S98+1)=MONTH(S98), S98+1,\"\")),\"\",IF(MONTH(S98+1)=MONTH(S98), S98+1,\"\"))","v":"2015-04-18"},{"$f":"IF(ISERROR(IF(MONTH(T98+1)=MONTH(T98), T98+1,\"\")),\"\",IF(MONTH(T98+1)=MONTH(T98), T98+1,\"\"))","v":"2015-04-19"},{"$f":"IF(ISERROR(IF(MONTH(U98+1)=MONTH(U98), U98+1,\"\")),\"\",IF(MONTH(U98+1)=MONTH(U98), U98+1,\"\"))","v":"2015-04-20"},{"$f":"IF(ISERROR(IF(MONTH(V98+1)=MONTH(V98), V98+1,\"\")),\"\",IF(MONTH(V98+1)=MONTH(V98), V98+1,\"\"))","v":"2015-04-21"},{"$f":"IF(ISERROR(IF(MONTH(W98+1)=MONTH(W98), W98+1,\"\")),\"\",IF(MONTH(W98+1)=MONTH(W98), W98+1,\"\"))","v":"2015-04-22"},{"$f":"IF(ISERROR(IF(MONTH(X98+1)=MONTH(X98), X98+1,\"\")),\"\",IF(MONTH(X98+1)=MONTH(X98), X98+1,\"\"))","v":"2015-04-23"},{"$f":"IF(ISERROR(IF(MONTH(Y98+1)=MONTH(Y98), Y98+1,\"\")),\"\",IF(MONTH(Y98+1)=MONTH(Y98), Y98+1,\"\"))","v":"2015-04-24"},{"$f":"IF(ISERROR(IF(MONTH(Z98+1)=MONTH(Z98), Z98+1,\"\")),\"\",IF(MONTH(Z98+1)=MONTH(Z98), Z98+1,\"\"))","v":"2015-04-25"},{"$f":"IF(ISERROR(IF(MONTH(AA98+1)=MONTH(AA98), AA98+1,\"\")),\"\",IF(MONTH(AA98+1)=MONTH(AA98), AA98+1,\"\"))","v":"2015-04-26"},{"$f":"IF(ISERROR(IF(MONTH(AB98+1)=MONTH(AB98), AB98+1,\"\")),\"\",IF(MONTH(AB98+1)=MONTH(AB98), AB98+1,\"\"))","v":"2015-04-27"},{"$f":"IF(ISERROR(IF(MONTH(AC98+1)=MONTH(AC98), AC98+1,\"\")),\"\",IF(MONTH(AC98+1)=MONTH(AC98), AC98+1,\"\"))","v":"2015-04-28"},{"$f":"IF(ISERROR(IF(MONTH(AD98+1)=MONTH(AD98), AD98+1,\"\")),\"\",IF(MONTH(AD98+1)=MONTH(AD98), AD98+1,\"\"))","v":"2015-04-29"},{"$f":"IF(ISERROR(IF(MONTH(AE98+1)=MONTH(AE98), AE98+1,\"\")),\"\",IF(MONTH(AE98+1)=MONTH(AE98), AE98+1,\"\"))","v":"2015-04-30"},{"$f":"IF(ISERROR(IF(MONTH(AF98+1)=MONTH(AF98), AF98+1,\"\")),\"\",IF(MONTH(AF98+1)=MONTH(AF98), AF98+1,\"\"))","v":""}]
[null,"user_01"]
[null,"user_02"]
[null,"user_03"]
[null,"user_04"]
[null,"user_05"]
[null,"user_06"]
[null,"user_07"]
[null,"user_08"]
[null,"user_09"]
[null,"user_10"]
[null,"user_11"]
[null,"user_12"]
[null,"user_13"]
[null,"user_14"]
[null,"user_15"]
[null,"user_16"]
[null,"user_17"]
[null,"user_18"]
[null,"user_19"]
[null,"user_20"]
[null,"user_21"]
[null,"user_22"]
[null,"user_23"]
[null,"user_24"]
[null,"user_25"]
[null,"user_26"]
[null,"user_27"]
[null,"user_28"]
[null,"user_29"]
[null,"user_30"]
[]
[null,5,{"$f":"DATE(月別!$B$5,B130,1)","v":"2015-05-01"},{"$f":"IF(ISERROR(IF(MONTH(C130+1)=MONTH(C130), C130+1,\"\")),\"\",IF(MONTH(C130+1)=MONTH(C130), C130+1,\"\"))","v":"2015-05-02"},{"$f":"IF(ISERROR(IF(MONTH(D130+1)=MONTH(D130), D130+1,\"\")),\"\",IF(MONTH(D130+1)=MONTH(D130), D130+1,\"\"))","v":"2015-05-03"},{"$f":"IF(ISERROR(IF(MONTH(E130+1)=MONTH(E130), E130+1,\"\")),\"\",IF(MONTH(E130+1)=MONTH(E130), E130+1,\"\"))","v":"2015-05-04"},{"$f":"IF(ISERROR(IF(MONTH(F130+1)=MONTH(F130), F130+1,\"\")),\"\",IF(MONTH(F130+1)=MONTH(F130), F130+1,\"\"))","v":"2015-05-05"},{"$f":"IF(ISERROR(IF(MONTH(G130+1)=MONTH(G130), G130+1,\"\")),\"\",IF(MONTH(G130+1)=MONTH(G130), G130+1,\"\"))","v":"2015-05-06"},{"$f":"IF(ISERROR(IF(MONTH(H130+1)=MONTH(H130), H130+1,\"\")),\"\",IF(MONTH(H130+1)=MONTH(H130), H130+1,\"\"))","v":"2015-05-07"},{"$f":"IF(ISERROR(IF(MONTH(I130+1)=MONTH(I130), I130+1,\"\")),\"\",IF(MONTH(I130+1)=MONTH(I130), I130+1,\"\"))","v":"2015-05-08"},{"$f":"IF(ISERROR(IF(MONTH(J130+1)=MONTH(J130), J130+1,\"\")),\"\",IF(MONTH(J130+1)=MONTH(J130), J130+1,\"\"))","v":"2015-05-09"},{"$f":"IF(ISERROR(IF(MONTH(K130+1)=MONTH(K130), K130+1,\"\")),\"\",IF(MONTH(K130+1)=MONTH(K130), K130+1,\"\"))","v":"2015-05-10"},{"$f":"IF(ISERROR(IF(MONTH(L130+1)=MONTH(L130), L130+1,\"\")),\"\",IF(MONTH(L130+1)=MONTH(L130), L130+1,\"\"))","v":"2015-05-11"},{"$f":"IF(ISERROR(IF(MONTH(M130+1)=MONTH(M130), M130+1,\"\")),\"\",IF(MONTH(M130+1)=MONTH(M130), M130+1,\"\"))","v":"2015-05-12"},{"$f":"IF(ISERROR(IF(MONTH(N130+1)=MONTH(N130), N130+1,\"\")),\"\",IF(MONTH(N130+1)=MONTH(N130), N130+1,\"\"))","v":"2015-05-13"},{"$f":"IF(ISERROR(IF(MONTH(O130+1)=MONTH(O130), O130+1,\"\")),\"\",IF(MONTH(O130+1)=MONTH(O130), O130+1,\"\"))","v":"2015-05-14"},{"$f":"IF(ISERROR(IF(MONTH(P130+1)=MONTH(P130), P130+1,\"\")),\"\",IF(MONTH(P130+1)=MONTH(P130), P130+1,\"\"))","v":"2015-05-15"},{"$f":"IF(ISERROR(IF(MONTH(Q130+1)=MONTH(Q130), Q130+1,\"\")),\"\",IF(MONTH(Q130+1)=MONTH(Q130), Q130+1,\"\"))","v":"2015-05-16"},{"$f":"IF(ISERROR(IF(MONTH(R130+1)=MONTH(R130), R130+1,\"\")),\"\",IF(MONTH(R130+1)=MONTH(R130), R130+1,\"\"))","v":"2015-05-17"},{"$f":"IF(ISERROR(IF(MONTH(S130+1)=MONTH(S130), S130+1,\"\")),\"\",IF(MONTH(S130+1)=MONTH(S130), S130+1,\"\"))","v":"2015-05-18"},{"$f":"IF(ISERROR(IF(MONTH(T130+1)=MONTH(T130), T130+1,\"\")),\"\",IF(MONTH(T130+1)=MONTH(T130), T130+1,\"\"))","v":"2015-05-19"},{"$f":"IF(ISERROR(IF(MONTH(U130+1)=MONTH(U130), U130+1,\"\")),\"\",IF(MONTH(U130+1)=MONTH(U130), U130+1,\"\"))","v":"2015-05-20"},{"$f":"IF(ISERROR(IF(MONTH(V130+1)=MONTH(V130), V130+1,\"\")),\"\",IF(MONTH(V130+1)=MONTH(V130), V130+1,\"\"))","v":"2015-05-21"},{"$f":"IF(ISERROR(IF(MONTH(W130+1)=MONTH(W130), W130+1,\"\")),\"\",IF(MONTH(W130+1)=MONTH(W130), W130+1,\"\"))","v":"2015-05-22"},{"$f":"IF(ISERROR(IF(MONTH(X130+1)=MONTH(X130), X130+1,\"\")),\"\",IF(MONTH(X130+1)=MONTH(X130), X130+1,\"\"))","v":"2015-05-23"},{"$f":"IF(ISERROR(IF(MONTH(Y130+1)=MONTH(Y130), Y130+1,\"\")),\"\",IF(MONTH(Y130+1)=MONTH(Y130), Y130+1,\"\"))","v":"2015-05-24"},{"$f":"IF(ISERROR(IF(MONTH(Z130+1)=MONTH(Z130), Z130+1,\"\")),\"\",IF(MONTH(Z130+1)=MONTH(Z130), Z130+1,\"\"))","v":"2015-05-25"},{"$f":"IF(ISERROR(IF(MONTH(AA130+1)=MONTH(AA130), AA130+1,\"\")),\"\",IF(MONTH(AA130+1)=MONTH(AA130), AA130+1,\"\"))","v":"2015-05-26"},{"$f":"IF(ISERROR(IF(MONTH(AB130+1)=MONTH(AB130), AB130+1,\"\")),\"\",IF(MONTH(AB130+1)=MONTH(AB130), AB130+1,\"\"))","v":"2015-05-27"},{"$f":"IF(ISERROR(IF(MONTH(AC130+1)=MONTH(AC130), AC130+1,\"\")),\"\",IF(MONTH(AC130+1)=MONTH(AC130), AC130+1,\"\"))","v":"2015-05-28"},{"$f":"IF(ISERROR(IF(MONTH(AD130+1)=MONTH(AD130), AD130+1,\"\")),\"\",IF(MONTH(AD130+1)=MONTH(AD130), AD130+1,\"\"))","v":"2015-05-29"},{"$f":"IF(ISERROR(IF(MONTH(AE130+1)=MONTH(AE130), AE130+1,\"\")),\"\",IF(MONTH(AE130+1)=MONTH(AE130), AE130+1,\"\"))","v":"2015-05-30"},{"$f":"IF(ISERROR(IF(MONTH(AF130+1)=MONTH(AF130), AF130+1,\"\")),\"\",IF(MONTH(AF130+1)=MONTH(AF130), AF130+1,\"\"))","v":"2015-05-31"}]
[null,"user_01"]
[null,"user_02"]
[null,"user_03"]
[null,"user_04"]
[null,"user_05"]
[null,"user_06"]
[null,"user_07"]
[null,"user_08"]
[null,"user_09"]
[null,"user_10"]
[null,"user_11"]
[null,"user_12"]
[null,"user_13"]
[null,"user_14"]
[null,"user_15"]
[null,"user_16"]
[null,"user_17"]
[null,"user_18"]
[null,"user_19"]
[null,"user_20"]
[null,"user_21"]
[null,"user_22"]
[null,"user_23"]
[null,"user_24"]
[null,"user_25"]
[null,"user_26"]
[null,"user_27"]
[null,"user_28"]
[null,"user_29"]
[null,"user_30"]
[]
[null,6,{"$f":"DATE(月別!$B$5,B162,1)","v":"2015-06-01"},{"$f":"IF(ISERROR(IF(MONTH(C162+1)=MONTH(C162), C162+1,\"\")),\"\",IF(MONTH(C162+1)=MONTH(C162), C162+1,\"\"))","v":"2015-06-02"},{"$f":"IF(ISERROR(IF(MONTH(D162+1)=MONTH(D162), D162+1,\"\")),\"\",IF(MONTH(D162+1)=MONTH(D162), D162+1,\"\"))","v":"2015-06-03"},{"$f":"IF(ISERROR(IF(MONTH(E162+1)=MONTH(E162), E162+1,\"\")),\"\",IF(MONTH(E162+1)=MONTH(E162), E162+1,\"\"))","v":"2015-06-04"},{"$f":"IF(ISERROR(IF(MONTH(F162+1)=MONTH(F162), F162+1,\"\")),\"\",IF(MONTH(F162+1)=MONTH(F162), F162+1,\"\"))","v":"2015-06-05"},{"$f":"IF(ISERROR(IF(MONTH(G162+1)=MONTH(G162), G162+1,\"\")),\"\",IF(MONTH(G162+1)=MONTH(G162), G162+1,\"\"))","v":"2015-06-06"},{"$f":"IF(ISERROR(IF(MONTH(H162+1)=MONTH(H162), H162+1,\"\")),\"\",IF(MONTH(H162+1)=MONTH(H162), H162+1,\"\"))","v":"2015-06-07"},{"$f":"IF(ISERROR(IF(MONTH(I162+1)=MONTH(I162), I162+1,\"\")),\"\",IF(MONTH(I162+1)=MONTH(I162), I162+1,\"\"))","v":"2015-06-08"},{"$f":"IF(ISERROR(IF(MONTH(J162+1)=MONTH(J162), J162+1,\"\")),\"\",IF(MONTH(J162+1)=MONTH(J162), J162+1,\"\"))","v":"2015-06-09"},{"$f":"IF(ISERROR(IF(MONTH(K162+1)=MONTH(K162), K162+1,\"\")),\"\",IF(MONTH(K162+1)=MONTH(K162), K162+1,\"\"))","v":"2015-06-10"},{"$f":"IF(ISERROR(IF(MONTH(L162+1)=MONTH(L162), L162+1,\"\")),\"\",IF(MONTH(L162+1)=MONTH(L162), L162+1,\"\"))","v":"2015-06-11"},{"$f":"IF(ISERROR(IF(MONTH(M162+1)=MONTH(M162), M162+1,\"\")),\"\",IF(MONTH(M162+1)=MONTH(M162), M162+1,\"\"))","v":"2015-06-12"},{"$f":"IF(ISERROR(IF(MONTH(N162+1)=MONTH(N162), N162+1,\"\")),\"\",IF(MONTH(N162+1)=MONTH(N162), N162+1,\"\"))","v":"2015-06-13"},{"$f":"IF(ISERROR(IF(MONTH(O162+1)=MONTH(O162), O162+1,\"\")),\"\",IF(MONTH(O162+1)=MONTH(O162), O162+1,\"\"))","v":"2015-06-14"},{"$f":"IF(ISERROR(IF(MONTH(P162+1)=MONTH(P162), P162+1,\"\")),\"\",IF(MONTH(P162+1)=MONTH(P162), P162+1,\"\"))","v":"2015-06-15"},{"$f":"IF(ISERROR(IF(MONTH(Q162+1)=MONTH(Q162), Q162+1,\"\")),\"\",IF(MONTH(Q162+1)=MONTH(Q162), Q162+1,\"\"))","v":"2015-06-16"},{"$f":"IF(ISERROR(IF(MONTH(R162+1)=MONTH(R162), R162+1,\"\")),\"\",IF(MONTH(R162+1)=MONTH(R162), R162+1,\"\"))","v":"2015-06-17"},{"$f":"IF(ISERROR(IF(MONTH(S162+1)=MONTH(S162), S162+1,\"\")),\"\",IF(MONTH(S162+1)=MONTH(S162), S162+1,\"\"))","v":"2015-06-18"},{"$f":"IF(ISERROR(IF(MONTH(T162+1)=MONTH(T162), T162+1,\"\")),\"\",IF(MONTH(T162+1)=MONTH(T162), T162+1,\"\"))","v":"2015-06-19"},{"$f":"IF(ISERROR(IF(MONTH(U162+1)=MONTH(U162), U162+1,\"\")),\"\",IF(MONTH(U162+1)=MONTH(U162), U162+1,\"\"))","v":"2015-06-20"},{"$f":"IF(ISERROR(IF(MONTH(V162+1)=MONTH(V162), V162+1,\"\")),\"\",IF(MONTH(V162+1)=MONTH(V162), V162+1,\"\"))","v":"2015-06-21"},{"$f":"IF(ISERROR(IF(MONTH(W162+1)=MONTH(W162), W162+1,\"\")),\"\",IF(MONTH(W162+1)=MONTH(W162), W162+1,\"\"))","v":"2015-06-22"},{"$f":"IF(ISERROR(IF(MONTH(X162+1)=MONTH(X162), X162+1,\"\")),\"\",IF(MONTH(X162+1)=MONTH(X162), X162+1,\"\"))","v":"2015-06-23"},{"$f":"IF(ISERROR(IF(MONTH(Y162+1)=MONTH(Y162), Y162+1,\"\")),\"\",IF(MONTH(Y162+1)=MONTH(Y162), Y162+1,\"\"))","v":"2015-06-24"},{"$f":"IF(ISERROR(IF(MONTH(Z162+1)=MONTH(Z162), Z162+1,\"\")),\"\",IF(MONTH(Z162+1)=MONTH(Z162), Z162+1,\"\"))","v":"2015-06-25"},{"$f":"IF(ISERROR(IF(MONTH(AA162+1)=MONTH(AA162), AA162+1,\"\")),\"\",IF(MONTH(AA162+1)=MONTH(AA162), AA162+1,\"\"))","v":"2015-06-26"},{"$f":"IF(ISERROR(IF(MONTH(AB162+1)=MONTH(AB162), AB162+1,\"\")),\"\",IF(MONTH(AB162+1)=MONTH(AB162), AB162+1,\"\"))","v":"2015-06-27"},{"$f":"IF(ISERROR(IF(MONTH(AC162+1)=MONTH(AC162), AC162+1,\"\")),\"\",IF(MONTH(AC162+1)=MONTH(AC162), AC162+1,\"\"))","v":"2015-06-28"},{"$f":"IF(ISERROR(IF(MONTH(AD162+1)=MONTH(AD162), AD162+1,\"\")),\"\",IF(MONTH(AD162+1)=MONTH(AD162), AD162+1,\"\"))","v":"2015-06-29"},{"$f":"IF(ISERROR(IF(MONTH(AE162+1)=MONTH(AE162), AE162+1,\"\")),\"\",IF(MONTH(AE162+1)=MONTH(AE162), AE162+1,\"\"))","v":"2015-06-30"},{"$f":"IF(ISERROR(IF(MONTH(AF162+1)=MONTH(AF162), AF162+1,\"\")),\"\",IF(MONTH(AF162+1)=MONTH(AF162), AF162+1,\"\"))","v":""}]
[null,"user_01"]
[null,"user_02"]
[null,"user_03"]
[null,"user_04"]
[null,"user_05"]
[null,"user_06"]
[null,"user_07"]
[null,"user_08"]
[null,"user_09"]
[null,"user_10"]
[null,"user_11"]
[null,"user_12"]
[null,"user_13"]
[null,"user_14"]
[null,"user_15"]
[null,"user_16"]
[null,"user_17"]
[null,"user_18"]
[null,"user_19"]
[null,"user_20"]
[null,"user_21"]
[null,"user_22"]
[null,"user_23"]
[null,"user_24"]
[null,"user_25"]
[null,"user_26"]
[null,"user_27"]
[null,"user_28"]
[null,"user_29"]
[null,"user_30"]
[]
[null,7,{"$f":"DATE(月別!$B$5,B194,1)","v":"2015-07-01"},{"$f":"IF(ISERROR(IF(MONTH(C194+1)=MONTH(C194), C194+1,\"\")),\"\",IF(MONTH(C194+1)=MONTH(C194), C194+1,\"\"))","v":"2015-07-02"},{"$f":"IF(ISERROR(IF(MONTH(D194+1)=MONTH(D194), D194+1,\"\")),\"\",IF(MONTH(D194+1)=MONTH(D194), D194+1,\"\"))","v":"2015-07-03"},{"$f":"IF(ISERROR(IF(MONTH(E194+1)=MONTH(E194), E194+1,\"\")),\"\",IF(MONTH(E194+1)=MONTH(E194), E194+1,\"\"))","v":"2015-07-04"},{"$f":"IF(ISERROR(IF(MONTH(F194+1)=MONTH(F194), F194+1,\"\")),\"\",IF(MONTH(F194+1)=MONTH(F194), F194+1,\"\"))","v":"2015-07-05"},{"$f":"IF(ISERROR(IF(MONTH(G194+1)=MONTH(G194), G194+1,\"\")),\"\",IF(MONTH(G194+1)=MONTH(G194), G194+1,\"\"))","v":"2015-07-06"},{"$f":"IF(ISERROR(IF(MONTH(H194+1)=MONTH(H194), H194+1,\"\")),\"\",IF(MONTH(H194+1)=MONTH(H194), H194+1,\"\"))","v":"2015-07-07"},{"$f":"IF(ISERROR(IF(MONTH(I194+1)=MONTH(I194), I194+1,\"\")),\"\",IF(MONTH(I194+1)=MONTH(I194), I194+1,\"\"))","v":"2015-07-08"},{"$f":"IF(ISERROR(IF(MONTH(J194+1)=MONTH(J194), J194+1,\"\")),\"\",IF(MONTH(J194+1)=MONTH(J194), J194+1,\"\"))","v":"2015-07-09"},{"$f":"IF(ISERROR(IF(MONTH(K194+1)=MONTH(K194), K194+1,\"\")),\"\",IF(MONTH(K194+1)=MONTH(K194), K194+1,\"\"))","v":"2015-07-10"},{"$f":"IF(ISERROR(IF(MONTH(L194+1)=MONTH(L194), L194+1,\"\")),\"\",IF(MONTH(L194+1)=MONTH(L194), L194+1,\"\"))","v":"2015-07-11"},{"$f":"IF(ISERROR(IF(MONTH(M194+1)=MONTH(M194), M194+1,\"\")),\"\",IF(MONTH(M194+1)=MONTH(M194), M194+1,\"\"))","v":"2015-07-12"},{"$f":"IF(ISERROR(IF(MONTH(N194+1)=MONTH(N194), N194+1,\"\")),\"\",IF(MONTH(N194+1)=MONTH(N194), N194+1,\"\"))","v":"2015-07-13"},{"$f":"IF(ISERROR(IF(MONTH(O194+1)=MONTH(O194), O194+1,\"\")),\"\",IF(MONTH(O194+1)=MONTH(O194), O194+1,\"\"))","v":"2015-07-14"},{"$f":"IF(ISERROR(IF(MONTH(P194+1)=MONTH(P194), P194+1,\"\")),\"\",IF(MONTH(P194+1)=MONTH(P194), P194+1,\"\"))","v":"2015-07-15"},{"$f":"IF(ISERROR(IF(MONTH(Q194+1)=MONTH(Q194), Q194+1,\"\")),\"\",IF(MONTH(Q194+1)=MONTH(Q194), Q194+1,\"\"))","v":"2015-07-16"},{"$f":"IF(ISERROR(IF(MONTH(R194+1)=MONTH(R194), R194+1,\"\")),\"\",IF(MONTH(R194+1)=MONTH(R194), R194+1,\"\"))","v":"2015-07-17"},{"$f":"IF(ISERROR(IF(MONTH(S194+1)=MONTH(S194), S194+1,\"\")),\"\",IF(MONTH(S194+1)=MONTH(S194), S194+1,\"\"))","v":"2015-07-18"},{"$f":"IF(ISERROR(IF(MONTH(T194+1)=MONTH(T194), T194+1,\"\")),\"\",IF(MONTH(T194+1)=MONTH(T194), T194+1,\"\"))","v":"2015-07-19"},{"$f":"IF(ISERROR(IF(MONTH(U194+1)=MONTH(U194), U194+1,\"\")),\"\",IF(MONTH(U194+1)=MONTH(U194), U194+1,\"\"))","v":"2015-07-20"},{"$f":"IF(ISERROR(IF(MONTH(V194+1)=MONTH(V194), V194+1,\"\")),\"\",IF(MONTH(V194+1)=MONTH(V194), V194+1,\"\"))","v":"2015-07-21"},{"$f":"IF(ISERROR(IF(MONTH(W194+1)=MONTH(W194), W194+1,\"\")),\"\",IF(MONTH(W194+1)=MONTH(W194), W194+1,\"\"))","v":"2015-07-22"},{"$f":"IF(ISERROR(IF(MONTH(X194+1)=MONTH(X194), X194+1,\"\")),\"\",IF(MONTH(X194+1)=MONTH(X194), X194+1,\"\"))","v":"2015-07-23"},{"$f":"IF(ISERROR(IF(MONTH(Y194+1)=MONTH(Y194), Y194+1,\"\")),\"\",IF(MONTH(Y194+1)=MONTH(Y194), Y194+1,\"\"))","v":"2015-07-24"},{"$f":"IF(ISERROR(IF(MONTH(Z194+1)=MONTH(Z194), Z194+1,\"\")),\"\",IF(MONTH(Z194+1)=MONTH(Z194), Z194+1,\"\"))","v":"2015-07-25"},{"$f":"IF(ISERROR(IF(MONTH(AA194+1)=MONTH(AA194), AA194+1,\"\")),\"\",IF(MONTH(AA194+1)=MONTH(AA194), AA194+1,\"\"))","v":"2015-07-26"},{"$f":"IF(ISERROR(IF(MONTH(AB194+1)=MONTH(AB194), AB194+1,\"\")),\"\",IF(MONTH(AB194+1)=MONTH(AB194), AB194+1,\"\"))","v":"2015-07-27"},{"$f":"IF(ISERROR(IF(MONTH(AC194+1)=MONTH(AC194), AC194+1,\"\")),\"\",IF(MONTH(AC194+1)=MONTH(AC194), AC194+1,\"\"))","v":"2015-07-28"},{"$f":"IF(ISERROR(IF(MONTH(AD194+1)=MONTH(AD194), AD194+1,\"\")),\"\",IF(MONTH(AD194+1)=MONTH(AD194), AD194+1,\"\"))","v":"2015-07-29"},{"$f":"IF(ISERROR(IF(MONTH(AE194+1)=MONTH(AE194), AE194+1,\"\")),\"\",IF(MONTH(AE194+1)=MONTH(AE194), AE194+1,\"\"))","v":"2015-07-30"},{"$f":"IF(ISERROR(IF(MONTH(AF194+1)=MONTH(AF194), AF194+1,\"\")),\"\",IF(MONTH(AF194+1)=MONTH(AF194), AF194+1,\"\"))","v":"2015-07-31"}]
[null,"user_01"]
[null,"user_02"]
[null,"user_03"]
[null,"user_04"]
[null,"user_05"]
[null,"user_06"]
[null,"user_07"]
[null,"user_08"]
[null,"user_09"]
[null,"user_10"]
[null,"user_11"]
[null,"user_12"]
[null,"user_13"]
[null,"user_14"]
[null,"user_15"]
[null,"user_16"]
[null,"user_17"]
[null,"user_18"]
[null,"user_19"]
[null,"user_20"]
[null,"user_21"]
[null,"user_22"]
[null,"user_23"]
[null,"user_24"]
[null,"user_25"]
[null,"user_26"]
[null,"user_27"]
[null,"user_28"]
[null,"user_29"]
[null,"user_30"]
[]
[null,8,{"$f":"DATE(月別!$B$5,B226,1)","v":"2015-08-01"},{"$f":"IF(ISERROR(IF(MONTH(C226+1)=MONTH(C226), C226+1,\"\")),\"\",IF(MONTH(C226+1)=MONTH(C226), C226+1,\"\"))","v":"2015-08-02"},{"$f":"IF(ISERROR(IF(MONTH(D226+1)=MONTH(D226), D226+1,\"\")),\"\",IF(MONTH(D226+1)=MONTH(D226), D226+1,\"\"))","v":"2015-08-03"},{"$f":"IF(ISERROR(IF(MONTH(E226+1)=MONTH(E226), E226+1,\"\")),\"\",IF(MONTH(E226+1)=MONTH(E226), E226+1,\"\"))","v":"2015-08-04"},{"$f":"IF(ISERROR(IF(MONTH(F226+1)=MONTH(F226), F226+1,\"\")),\"\",IF(MONTH(F226+1)=MONTH(F226), F226+1,\"\"))","v":"2015-08-05"},{"$f":"IF(ISERROR(IF(MONTH(G226+1)=MONTH(G226), G226+1,\"\")),\"\",IF(MONTH(G226+1)=MONTH(G226), G226+1,\"\"))","v":"2015-08-06"},{"$f":"IF(ISERROR(IF(MONTH(H226+1)=MONTH(H226), H226+1,\"\")),\"\",IF(MONTH(H226+1)=MONTH(H226), H226+1,\"\"))","v":"2015-08-07"},{"$f":"IF(ISERROR(IF(MONTH(I226+1)=MONTH(I226), I226+1,\"\")),\"\",IF(MONTH(I226+1)=MONTH(I226), I226+1,\"\"))","v":"2015-08-08"},{"$f":"IF(ISERROR(IF(MONTH(J226+1)=MONTH(J226), J226+1,\"\")),\"\",IF(MONTH(J226+1)=MONTH(J226), J226+1,\"\"))","v":"2015-08-09"},{"$f":"IF(ISERROR(IF(MONTH(K226+1)=MONTH(K226), K226+1,\"\")),\"\",IF(MONTH(K226+1)=MONTH(K226), K226+1,\"\"))","v":"2015-08-10"},{"$f":"IF(ISERROR(IF(MONTH(L226+1)=MONTH(L226), L226+1,\"\")),\"\",IF(MONTH(L226+1)=MONTH(L226), L226+1,\"\"))","v":"2015-08-11"},{"$f":"IF(ISERROR(IF(MONTH(M226+1)=MONTH(M226), M226+1,\"\")),\"\",IF(MONTH(M226+1)=MONTH(M226), M226+1,\"\"))","v":"2015-08-12"},{"$f":"IF(ISERROR(IF(MONTH(N226+1)=MONTH(N226), N226+1,\"\")),\"\",IF(MONTH(N226+1)=MONTH(N226), N226+1,\"\"))","v":"2015-08-13"},{"$f":"IF(ISERROR(IF(MONTH(O226+1)=MONTH(O226), O226+1,\"\")),\"\",IF(MONTH(O226+1)=MONTH(O226), O226+1,\"\"))","v":"2015-08-14"},{"$f":"IF(ISERROR(IF(MONTH(P226+1)=MONTH(P226), P226+1,\"\")),\"\",IF(MONTH(P226+1)=MONTH(P226), P226+1,\"\"))","v":"2015-08-15"},{"$f":"IF(ISERROR(IF(MONTH(Q226+1)=MONTH(Q226), Q226+1,\"\")),\"\",IF(MONTH(Q226+1)=MONTH(Q226), Q226+1,\"\"))","v":"2015-08-16"},{"$f":"IF(ISERROR(IF(MONTH(R226+1)=MONTH(R226), R226+1,\"\")),\"\",IF(MONTH(R226+1)=MONTH(R226), R226+1,\"\"))","v":"2015-08-17"},{"$f":"IF(ISERROR(IF(MONTH(S226+1)=MONTH(S226), S226+1,\"\")),\"\",IF(MONTH(S226+1)=MONTH(S226), S226+1,\"\"))","v":"2015-08-18"},{"$f":"IF(ISERROR(IF(MONTH(T226+1)=MONTH(T226), T226+1,\"\")),\"\",IF(MONTH(T226+1)=MONTH(T226), T226+1,\"\"))","v":"2015-08-19"},{"$f":"IF(ISERROR(IF(MONTH(U226+1)=MONTH(U226), U226+1,\"\")),\"\",IF(MONTH(U226+1)=MONTH(U226), U226+1,\"\"))","v":"2015-08-20"},{"$f":"IF(ISERROR(IF(MONTH(V226+1)=MONTH(V226), V226+1,\"\")),\"\",IF(MONTH(V226+1)=MONTH(V226), V226+1,\"\"))","v":"2015-08-21"},{"$f":"IF(ISERROR(IF(MONTH(W226+1)=MONTH(W226), W226+1,\"\")),\"\",IF(MONTH(W226+1)=MONTH(W226), W226+1,\"\"))","v":"2015-08-22"},{"$f":"IF(ISERROR(IF(MONTH(X226+1)=MONTH(X226), X226+1,\"\")),\"\",IF(MONTH(X226+1)=MONTH(X226), X226+1,\"\"))","v":"2015-08-23"},{"$f":"IF(ISERROR(IF(MONTH(Y226+1)=MONTH(Y226), Y226+1,\"\")),\"\",IF(MONTH(Y226+1)=MONTH(Y226), Y226+1,\"\"))","v":"2015-08-24"},{"$f":"IF(ISERROR(IF(MONTH(Z226+1)=MONTH(Z226), Z226+1,\"\")),\"\",IF(MONTH(Z226+1)=MONTH(Z226), Z226+1,\"\"))","v":"2015-08-25"},{"$f":"IF(ISERROR(IF(MONTH(AA226+1)=MONTH(AA226), AA226+1,\"\")),\"\",IF(MONTH(AA226+1)=MONTH(AA226), AA226+1,\"\"))","v":"2015-08-26"},{"$f":"IF(ISERROR(IF(MONTH(AB226+1)=MONTH(AB226), AB226+1,\"\")),\"\",IF(MONTH(AB226+1)=MONTH(AB226), AB226+1,\"\"))","v":"2015-08-27"},{"$f":"IF(ISERROR(IF(MONTH(AC226+1)=MONTH(AC226), AC226+1,\"\")),\"\",IF(MONTH(AC226+1)=MONTH(AC226), AC226+1,\"\"))","v":"2015-08-28"},{"$f":"IF(ISERROR(IF(MONTH(AD226+1)=MONTH(AD226), AD226+1,\"\")),\"\",IF(MONTH(AD226+1)=MONTH(AD226), AD226+1,\"\"))","v":"2015-08-29"},{"$f":"IF(ISERROR(IF(MONTH(AE226+1)=MONTH(AE226), AE226+1,\"\")),\"\",IF(MONTH(AE226+1)=MONTH(AE226), AE226+1,\"\"))","v":"2015-08-30"},{"$f":"IF(ISERROR(IF(MONTH(AF226+1)=MONTH(AF226), AF226+1,\"\")),\"\",IF(MONTH(AF226+1)=MONTH(AF226), AF226+1,\"\"))","v":"2015-08-31"}]
[null,"user_01"]
[null,"user_02"]
[null,"user_03"]
[null,"user_04"]
[null,"user_05"]
[null,"user_06"]
[null,"user_07"]
[null,"user_08"]
[null,"user_09"]
[null,"user_10"]
[null,"user_11"]
[null,"user_12"]
[null,"user_13"]
[null,"user_14"]
[null,"user_15"]
[null,"user_16"]
[null,"user_17"]
[null,"user_18"]
[null,"user_19"]
[null,"user_20"]
[null,"user_21"]
[null,"user_22"]
[null,"user_23"]
[null,"user_24"]
[null,"user_25"]
[null,"user_26"]
[null,"user_27"]
[null,"user_28"]
[null,"user_29"]
[null,"user_30"]
[]
[null,9,{"$f":"DATE(月別!$B$5,B258,1)","v":"2015-09-01"},{"$f":"IF(ISERROR(IF(MONTH(C258+1)=MONTH(C258), C258+1,\"\")),\"\",IF(MONTH(C258+1)=MONTH(C258), C258+1,\"\"))","v":"2015-09-02"},{"$f":"IF(ISERROR(IF(MONTH(D258+1)=MONTH(D258), D258+1,\"\")),\"\",IF(MONTH(D258+1)=MONTH(D258), D258+1,\"\"))","v":"2015-09-03"},{"$f":"IF(ISERROR(IF(MONTH(E258+1)=MONTH(E258), E258+1,\"\")),\"\",IF(MONTH(E258+1)=MONTH(E258), E258+1,\"\"))","v":"2015-09-04"},{"$f":"IF(ISERROR(IF(MONTH(F258+1)=MONTH(F258), F258+1,\"\")),\"\",IF(MONTH(F258+1)=MONTH(F258), F258+1,\"\"))","v":"2015-09-05"},{"$f":"IF(ISERROR(IF(MONTH(G258+1)=MONTH(G258), G258+1,\"\")),\"\",IF(MONTH(G258+1)=MONTH(G258), G258+1,\"\"))","v":"2015-09-06"},{"$f":"IF(ISERROR(IF(MONTH(H258+1)=MONTH(H258), H258+1,\"\")),\"\",IF(MONTH(H258+1)=MONTH(H258), H258+1,\"\"))","v":"2015-09-07"},{"$f":"IF(ISERROR(IF(MONTH(I258+1)=MONTH(I258), I258+1,\"\")),\"\",IF(MONTH(I258+1)=MONTH(I258), I258+1,\"\"))","v":"2015-09-08"},{"$f":"IF(ISERROR(IF(MONTH(J258+1)=MONTH(J258), J258+1,\"\")),\"\",IF(MONTH(J258+1)=MONTH(J258), J258+1,\"\"))","v":"2015-09-09"},{"$f":"IF(ISERROR(IF(MONTH(K258+1)=MONTH(K258), K258+1,\"\")),\"\",IF(MONTH(K258+1)=MONTH(K258), K258+1,\"\"))","v":"2015-09-10"},{"$f":"IF(ISERROR(IF(MONTH(L258+1)=MONTH(L258), L258+1,\"\")),\"\",IF(MONTH(L258+1)=MONTH(L258), L258+1,\"\"))","v":"2015-09-11"},{"$f":"IF(ISERROR(IF(MONTH(M258+1)=MONTH(M258), M258+1,\"\")),\"\",IF(MONTH(M258+1)=MONTH(M258), M258+1,\"\"))","v":"2015-09-12"},{"$f":"IF(ISERROR(IF(MONTH(N258+1)=MONTH(N258), N258+1,\"\")),\"\",IF(MONTH(N258+1)=MONTH(N258), N258+1,\"\"))","v":"2015-09-13"},{"$f":"IF(ISERROR(IF(MONTH(O258+1)=MONTH(O258), O258+1,\"\")),\"\",IF(MONTH(O258+1)=MONTH(O258), O258+1,\"\"))","v":"2015-09-14"},{"$f":"IF(ISERROR(IF(MONTH(P258+1)=MONTH(P258), P258+1,\"\")),\"\",IF(MONTH(P258+1)=MONTH(P258), P258+1,\"\"))","v":"2015-09-15"},{"$f":"IF(ISERROR(IF(MONTH(Q258+1)=MONTH(Q258), Q258+1,\"\")),\"\",IF(MONTH(Q258+1)=MONTH(Q258), Q258+1,\"\"))","v":"2015-09-16"},{"$f":"IF(ISERROR(IF(MONTH(R258+1)=MONTH(R258), R258+1,\"\")),\"\",IF(MONTH(R258+1)=MONTH(R258), R258+1,\"\"))","v":"2015-09-17"},{"$f":"IF(ISERROR(IF(MONTH(S258+1)=MONTH(S258), S258+1,\"\")),\"\",IF(MONTH(S258+1)=MONTH(S258), S258+1,\"\"))","v":"2015-09-18"},{"$f":"IF(ISERROR(IF(MONTH(T258+1)=MONTH(T258), T258+1,\"\")),\"\",IF(MONTH(T258+1)=MONTH(T258), T258+1,\"\"))","v":"2015-09-19"},{"$f":"IF(ISERROR(IF(MONTH(U258+1)=MONTH(U258), U258+1,\"\")),\"\",IF(MONTH(U258+1)=MONTH(U258), U258+1,\"\"))","v":"2015-09-20"},{"$f":"IF(ISERROR(IF(MONTH(V258+1)=MONTH(V258), V258+1,\"\")),\"\",IF(MONTH(V258+1)=MONTH(V258), V258+1,\"\"))","v":"2015-09-21"},{"$f":"IF(ISERROR(IF(MONTH(W258+1)=MONTH(W258), W258+1,\"\")),\"\",IF(MONTH(W258+1)=MONTH(W258), W258+1,\"\"))","v":"2015-09-22"},{"$f":"IF(ISERROR(IF(MONTH(X258+1)=MONTH(X258), X258+1,\"\")),\"\",IF(MONTH(X258+1)=MONTH(X258), X258+1,\"\"))","v":"2015-09-23"},{"$f":"IF(ISERROR(IF(MONTH(Y258+1)=MONTH(Y258), Y258+1,\"\")),\"\",IF(MONTH(Y258+1)=MONTH(Y258), Y258+1,\"\"))","v":"2015-09-24"},{"$f":"IF(ISERROR(IF(MONTH(Z258+1)=MONTH(Z258), Z258+1,\"\")),\"\",IF(MONTH(Z258+1)=MONTH(Z258), Z258+1,\"\"))","v":"2015-09-25"},{"$f":"IF(ISERROR(IF(MONTH(AA258+1)=MONTH(AA258), AA258+1,\"\")),\"\",IF(MONTH(AA258+1)=MONTH(AA258), AA258+1,\"\"))","v":"2015-09-26"},{"$f":"IF(ISERROR(IF(MONTH(AB258+1)=MONTH(AB258), AB258+1,\"\")),\"\",IF(MONTH(AB258+1)=MONTH(AB258), AB258+1,\"\"))","v":"2015-09-27"},{"$f":"IF(ISERROR(IF(MONTH(AC258+1)=MONTH(AC258), AC258+1,\"\")),\"\",IF(MONTH(AC258+1)=MONTH(AC258), AC258+1,\"\"))","v":"2015-09-28"},{"$f":"IF(ISERROR(IF(MONTH(AD258+1)=MONTH(AD258), AD258+1,\"\")),\"\",IF(MONTH(AD258+1)=MONTH(AD258), AD258+1,\"\"))","v":"2015-09-29"},{"$f":"IF(ISERROR(IF(MONTH(AE258+1)=MONTH(AE258), AE258+1,\"\")),\"\",IF(MONTH(AE258+1)=MONTH(AE258), AE258+1,\"\"))","v":"2015-09-30"},{"$f":"IF(ISERROR(IF(MONTH(AF258+1)=MONTH(AF258), AF258+1,\"\")),\"\",IF(MONTH(AF258+1)=MONTH(AF258), AF258+1,\"\"))","v":""}]
[null,"user_01"]
[null,"user_02"]
[null,"user_03"]
[null,"user_04"]
[null,"user_05"]
[null,"user_06"]
[null,"user_07"]
[null,"user_08"]
[null,"user_09"]
[null,"user_10"]
[null,"user_11"]
[null,"user_12"]
[null,"user_13"]
[null,"user_14"]
[null,"user_15"]
[null,"user_16"]
[null,"user_17"]
[null,"user_18"]
[null,"user_19"]
[null,"user_20"]
[null,"user_21"]
[null,"user_22"]
[null,"user_23"]
[null,"user_24"]
[null,"user_25"]
[null,"user_26"]
[null,"user_27"]
[null,"user_28"]
[null,"user_29"]
[null,"user_30"]
[]
[null,10,{"$f":"DATE(月別!$B$5,B290,1)","v":"2015-10-01"},{"$f":"IF(ISERROR(IF(MONTH(C290+1)=MONTH(C290), C290+1,\"\")),\"\",IF(MONTH(C290+1)=MONTH(C290), C290+1,\"\"))","v":"2015-10-02"},{"$f":"IF(ISERROR(IF(MONTH(D290+1)=MONTH(D290), D290+1,\"\")),\"\",IF(MONTH(D290+1)=MONTH(D290), D290+1,\"\"))","v":"2015-10-03"},{"$f":"IF(ISERROR(IF(MONTH(E290+1)=MONTH(E290), E290+1,\"\")),\"\",IF(MONTH(E290+1)=MONTH(E290), E290+1,\"\"))","v":"2015-10-04"},{"$f":"IF(ISERROR(IF(MONTH(F290+1)=MONTH(F290), F290+1,\"\")),\"\",IF(MONTH(F290+1)=MONTH(F290), F290+1,\"\"))","v":"2015-10-05"},{"$f":"IF(ISERROR(IF(MONTH(G290+1)=MONTH(G290), G290+1,\"\")),\"\",IF(MONTH(G290+1)=MONTH(G290), G290+1,\"\"))","v":"2015-10-06"},{"$f":"IF(ISERROR(IF(MONTH(H290+1)=MONTH(H290), H290+1,\"\")),\"\",IF(MONTH(H290+1)=MONTH(H290), H290+1,\"\"))","v":"2015-10-07"},{"$f":"IF(ISERROR(IF(MONTH(I290+1)=MONTH(I290), I290+1,\"\")),\"\",IF(MONTH(I290+1)=MONTH(I290), I290+1,\"\"))","v":"2015-10-08"},{"$f":"IF(ISERROR(IF(MONTH(J290+1)=MONTH(J290), J290+1,\"\")),\"\",IF(MONTH(J290+1)=MONTH(J290), J290+1,\"\"))","v":"2015-10-09"},{"$f":"IF(ISERROR(IF(MONTH(K290+1)=MONTH(K290), K290+1,\"\")),\"\",IF(MONTH(K290+1)=MONTH(K290), K290+1,\"\"))","v":"2015-10-10"},{"$f":"IF(ISERROR(IF(MONTH(L290+1)=MONTH(L290), L290+1,\"\")),\"\",IF(MONTH(L290+1)=MONTH(L290), L290+1,\"\"))","v":"2015-10-11"},{"$f":"IF(ISERROR(IF(MONTH(M290+1)=MONTH(M290), M290+1,\"\")),\"\",IF(MONTH(M290+1)=MONTH(M290), M290+1,\"\"))","v":"2015-10-12"},{"$f":"IF(ISERROR(IF(MONTH(N290+1)=MONTH(N290), N290+1,\"\")),\"\",IF(MONTH(N290+1)=MONTH(N290), N290+1,\"\"))","v":"2015-10-13"},{"$f":"IF(ISERROR(IF(MONTH(O290+1)=MONTH(O290), O290+1,\"\")),\"\",IF(MONTH(O290+1)=MONTH(O290), O290+1,\"\"))","v":"2015-10-14"},{"$f":"IF(ISERROR(IF(MONTH(P290+1)=MONTH(P290), P290+1,\"\")),\"\",IF(MONTH(P290+1)=MONTH(P290), P290+1,\"\"))","v":"2015-10-15"},{"$f":"IF(ISERROR(IF(MONTH(Q290+1)=MONTH(Q290), Q290+1,\"\")),\"\",IF(MONTH(Q290+1)=MONTH(Q290), Q290+1,\"\"))","v":"2015-10-16"},{"$f":"IF(ISERROR(IF(MONTH(R290+1)=MONTH(R290), R290+1,\"\")),\"\",IF(MONTH(R290+1)=MONTH(R290), R290+1,\"\"))","v":"2015-10-17"},{"$f":"IF(ISERROR(IF(MONTH(S290+1)=MONTH(S290), S290+1,\"\")),\"\",IF(MONTH(S290+1)=MONTH(S290), S290+1,\"\"))","v":"2015-10-18"},{"$f":"IF(ISERROR(IF(MONTH(T290+1)=MONTH(T290), T290+1,\"\")),\"\",IF(MONTH(T290+1)=MONTH(T290), T290+1,\"\"))","v":"2015-10-19"},{"$f":"IF(ISERROR(IF(MONTH(U290+1)=MONTH(U290), U290+1,\"\")),\"\",IF(MONTH(U290+1)=MONTH(U290), U290+1,\"\"))","v":"2015-10-20"},{"$f":"IF(ISERROR(IF(MONTH(V290+1)=MONTH(V290), V290+1,\"\")),\"\",IF(MONTH(V290+1)=MONTH(V290), V290+1,\"\"))","v":"2015-10-21"},{"$f":"IF(ISERROR(IF(MONTH(W290+1)=MONTH(W290), W290+1,\"\")),\"\",IF(MONTH(W290+1)=MONTH(W290), W290+1,\"\"))","v":"2015-10-22"},{"$f":"IF(ISERROR(IF(MONTH(X290+1)=MONTH(X290), X290+1,\"\")),\"\",IF(MONTH(X290+1)=MONTH(X290), X290+1,\"\"))","v":"2015-10-23"},{"$f":"IF(ISERROR(IF(MONTH(Y290+1)=MONTH(Y290), Y290+1,\"\")),\"\",IF(MONTH(Y290+1)=MONTH(Y290), Y290+1,\"\"))","v":"2015-10-24"},{"$f":"IF(ISERROR(IF(MONTH(Z290+1)=MONTH(Z290), Z290+1,\"\")),\"\",IF(MONTH(Z290+1)=MONTH(Z290), Z290+1,\"\"))","v":"2015-10-25"},{"$f":"IF(ISERROR(IF(MONTH(AA290+1)=MONTH(AA290), AA290+1,\"\")),\"\",IF(MONTH(AA290+1)=MONTH(AA290), AA290+1,\"\"))","v":"2015-10-26"},{"$f":"IF(ISERROR(IF(MONTH(AB290+1)=MONTH(AB290), AB290+1,\"\")),\"\",IF(MONTH(AB290+1)=MONTH(AB290), AB290+1,\"\"))","v":"2015-10-27"},{"$f":"IF(ISERROR(IF(MONTH(AC290+1)=MONTH(AC290), AC290+1,\"\")),\"\",IF(MONTH(AC290+1)=MONTH(AC290), AC290+1,\"\"))","v":"2015-10-28"},{"$f":"IF(ISERROR(IF(MONTH(AD290+1)=MONTH(AD290), AD290+1,\"\")),\"\",IF(MONTH(AD290+1)=MONTH(AD290), AD290+1,\"\"))","v":"2015-10-29"},{"$f":"IF(ISERROR(IF(MONTH(AE290+1)=MONTH(AE290), AE290+1,\"\")),\"\",IF(MONTH(AE290+1)=MONTH(AE290), AE290+1,\"\"))","v":"2015-10-30"},{"$f":"IF(ISERROR(IF(MONTH(AF290+1)=MONTH(AF290), AF290+1,\"\")),\"\",IF(MONTH(AF290+1)=MONTH(AF290), AF290+1,\"\"))","v":"2015-10-31"}]
[null,"user_01"]
[null,"user_02"]
[null,"user_03"]
[null,"user_04"]
[null,"user_05"]
[null,"user_06"]
[null,"user_07"]
[null,"user_08"]
[null,"user_09"]
[null,"user_10"]
[null,"user_11"]
[null,"user_12"]
[null,"user_13"]
[null,"user_14"]
[null,"user_15"]
[null,"user_16"]
[null,"user_17"]
[null,"user_18"]
[null,"user_19"]
[null,"user_20"]
[null,"user_21"]
[null,"user_22"]
[null,"user_23"]
[null,"user_24"]
[null,"user_25"]
[null,"user_26"]
[null,"user_27"]
[null,"user_28"]
[null,"user_29"]
[null,"user_30"]
[]
[null,11,{"$f":"DATE(月別!$B$5,B322,1)","v":"2015-11-01"},{"$f":"IF(ISERROR(IF(MONTH(C322+1)=MONTH(C322), C322+1,\"\")),\"\",IF(MONTH(C322+1)=MONTH(C322), C322+1,\"\"))","v":"2015-11-02"},{"$f":"IF(ISERROR(IF(MONTH(D322+1)=MONTH(D322), D322+1,\"\")),\"\",IF(MONTH(D322+1)=MONTH(D322), D322+1,\"\"))","v":"2015-11-03"},{"$f":"IF(ISERROR(IF(MONTH(E322+1)=MONTH(E322), E322+1,\"\")),\"\",IF(MONTH(E322+1)=MONTH(E322), E322+1,\"\"))","v":"2015-11-04"},{"$f":"IF(ISERROR(IF(MONTH(F322+1)=MONTH(F322), F322+1,\"\")),\"\",IF(MONTH(F322+1)=MONTH(F322), F322+1,\"\"))","v":"2015-11-05"},{"$f":"IF(ISERROR(IF(MONTH(G322+1)=MONTH(G322), G322+1,\"\")),\"\",IF(MONTH(G322+1)=MONTH(G322), G322+1,\"\"))","v":"2015-11-06"},{"$f":"IF(ISERROR(IF(MONTH(H322+1)=MONTH(H322), H322+1,\"\")),\"\",IF(MONTH(H322+1)=MONTH(H322), H322+1,\"\"))","v":"2015-11-07"},{"$f":"IF(ISERROR(IF(MONTH(I322+1)=MONTH(I322), I322+1,\"\")),\"\",IF(MONTH(I322+1)=MONTH(I322), I322+1,\"\"))","v":"2015-11-08"},{"$f":"IF(ISERROR(IF(MONTH(J322+1)=MONTH(J322), J322+1,\"\")),\"\",IF(MONTH(J322+1)=MONTH(J322), J322+1,\"\"))","v":"2015-11-09"},{"$f":"IF(ISERROR(IF(MONTH(K322+1)=MONTH(K322), K322+1,\"\")),\"\",IF(MONTH(K322+1)=MONTH(K322), K322+1,\"\"))","v":"2015-11-10"},{"$f":"IF(ISERROR(IF(MONTH(L322+1)=MONTH(L322), L322+1,\"\")),\"\",IF(MONTH(L322+1)=MONTH(L322), L322+1,\"\"))","v":"2015-11-11"},{"$f":"IF(ISERROR(IF(MONTH(M322+1)=MONTH(M322), M322+1,\"\")),\"\",IF(MONTH(M322+1)=MONTH(M322), M322+1,\"\"))","v":"2015-11-12"},{"$f":"IF(ISERROR(IF(MONTH(N322+1)=MONTH(N322), N322+1,\"\")),\"\",IF(MONTH(N322+1)=MONTH(N322), N322+1,\"\"))","v":"2015-11-13"},{"$f":"IF(ISERROR(IF(MONTH(O322+1)=MONTH(O322), O322+1,\"\")),\"\",IF(MONTH(O322+1)=MONTH(O322), O322+1,\"\"))","v":"2015-11-14"},{"$f":"IF(ISERROR(IF(MONTH(P322+1)=MONTH(P322), P322+1,\"\")),\"\",IF(MONTH(P322+1)=MONTH(P322), P322+1,\"\"))","v":"2015-11-15"},{"$f":"IF(ISERROR(IF(MONTH(Q322+1)=MONTH(Q322), Q322+1,\"\")),\"\",IF(MONTH(Q322+1)=MONTH(Q322), Q322+1,\"\"))","v":"2015-11-16"},{"$f":"IF(ISERROR(IF(MONTH(R322+1)=MONTH(R322), R322+1,\"\")),\"\",IF(MONTH(R322+1)=MONTH(R322), R322+1,\"\"))","v":"2015-11-17"},{"$f":"IF(ISERROR(IF(MONTH(S322+1)=MONTH(S322), S322+1,\"\")),\"\",IF(MONTH(S322+1)=MONTH(S322), S322+1,\"\"))","v":"2015-11-18"},{"$f":"IF(ISERROR(IF(MONTH(T322+1)=MONTH(T322), T322+1,\"\")),\"\",IF(MONTH(T322+1)=MONTH(T322), T322+1,\"\"))","v":"2015-11-19"},{"$f":"IF(ISERROR(IF(MONTH(U322+1)=MONTH(U322), U322+1,\"\")),\"\",IF(MONTH(U322+1)=MONTH(U322), U322+1,\"\"))","v":"2015-11-20"},{"$f":"IF(ISERROR(IF(MONTH(V322+1)=MONTH(V322), V322+1,\"\")),\"\",IF(MONTH(V322+1)=MONTH(V322), V322+1,\"\"))","v":"2015-11-21"},{"$f":"IF(ISERROR(IF(MONTH(W322+1)=MONTH(W322), W322+1,\"\")),\"\",IF(MONTH(W322+1)=MONTH(W322), W322+1,\"\"))","v":"2015-11-22"},{"$f":"IF(ISERROR(IF(MONTH(X322+1)=MONTH(X322), X322+1,\"\")),\"\",IF(MONTH(X322+1)=MONTH(X322), X322+1,\"\"))","v":"2015-11-23"},{"$f":"IF(ISERROR(IF(MONTH(Y322+1)=MONTH(Y322), Y322+1,\"\")),\"\",IF(MONTH(Y322+1)=MONTH(Y322), Y322+1,\"\"))","v":"2015-11-24"},{"$f":"IF(ISERROR(IF(MONTH(Z322+1)=MONTH(Z322), Z322+1,\"\")),\"\",IF(MONTH(Z322+1)=MONTH(Z322), Z322+1,\"\"))","v":"2015-11-25"},{"$f":"IF(ISERROR(IF(MONTH(AA322+1)=MONTH(AA322), AA322+1,\"\")),\"\",IF(MONTH(AA322+1)=MONTH(AA322), AA322+1,\"\"))","v":"2015-11-26"},{"$f":"IF(ISERROR(IF(MONTH(AB322+1)=MONTH(AB322), AB322+1,\"\")),\"\",IF(MONTH(AB322+1)=MONTH(AB322), AB322+1,\"\"))","v":"2015-11-27"},{"$f":"IF(ISERROR(IF(MONTH(AC322+1)=MONTH(AC322), AC322+1,\"\")),\"\",IF(MONTH(AC322+1)=MONTH(AC322), AC322+1,\"\"))","v":"2015-11-28"},{"$f":"IF(ISERROR(IF(MONTH(AD322+1)=MONTH(AD322), AD322+1,\"\")),\"\",IF(MONTH(AD322+1)=MONTH(AD322), AD322+1,\"\"))","v":"2015-11-29"},{"$f":"IF(ISERROR(IF(MONTH(AE322+1)=MONTH(AE322), AE322+1,\"\")),\"\",IF(MONTH(AE322+1)=MONTH(AE322), AE322+1,\"\"))","v":"2015-11-30"},{"$f":"IF(ISERROR(IF(MONTH(AF322+1)=MONTH(AF322), AF322+1,\"\")),\"\",IF(MONTH(AF322+1)=MONTH(AF322), AF322+1,\"\"))","v":""}]
[null,"user_01"]
[null,"user_02"]
[null,"user_03"]
[null,"user_04"]
[null,"user_05"]
[null,"user_06"]
[null,"user_07"]
[null,"user_08"]
[null,"user_09"]
[null,"user_10"]
[null,"user_11"]
[null,"user_12"]
[null,"user_13"]
[null,"user_14"]
[null,"user_15"]
[null,"user_16"]
[null,"user_17"]
[null,"user_18"]
[null,"user_19"]
[null,"user_20"]
[null,"user_21"]
[null,"user_22"]
[null,"user_23"]
[null,"user_24"]
[null,"user_25"]
[null,"user_26"]
[null,"user_27"]
[null,"user_28"]
[null,"user_29"]
[null,"user_30"]
[]
[null,12,{"$f":"DATE(月別!$B$5,B354,1)","v":"2015-12-01"},{"$f":"IF(ISERROR(IF(MONTH(C354+1)=MONTH(C354), C354+1,\"\")),\"\",IF(MONTH(C354+1)=MONTH(C354), C354+1,\"\"))","v":"2015-12-02"},{"$f":"IF(ISERROR(IF(MONTH(D354+1)=MONTH(D354), D354+1,\"\")),\"\",IF(MONTH(D354+1)=MONTH(D354), D354+1,\"\"))","v":"2015-12-03"},{"$f":"IF(ISERROR(IF(MONTH(E354+1)=MONTH(E354), E354+1,\"\")),\"\",IF(MONTH(E354+1)=MONTH(E354), E354+1,\"\"))","v":"2015-12-04"},{"$f":"IF(ISERROR(IF(MONTH(F354+1)=MONTH(F354), F354+1,\"\")),\"\",IF(MONTH(F354+1)=MONTH(F354), F354+1,\"\"))","v":"2015-12-05"},{"$f":"IF(ISERROR(IF(MONTH(G354+1)=MONTH(G354), G354+1,\"\")),\"\",IF(MONTH(G354+1)=MONTH(G354), G354+1,\"\"))","v":"2015-12-06"},{"$f":"IF(ISERROR(IF(MONTH(H354+1)=MONTH(H354), H354+1,\"\")),\"\",IF(MONTH(H354+1)=MONTH(H354), H354+1,\"\"))","v":"2015-12-07"},{"$f":"IF(ISERROR(IF(MONTH(I354+1)=MONTH(I354), I354+1,\"\")),\"\",IF(MONTH(I354+1)=MONTH(I354), I354+1,\"\"))","v":"2015-12-08"},{"$f":"IF(ISERROR(IF(MONTH(J354+1)=MONTH(J354), J354+1,\"\")),\"\",IF(MONTH(J354+1)=MONTH(J354), J354+1,\"\"))","v":"2015-12-09"},{"$f":"IF(ISERROR(IF(MONTH(K354+1)=MONTH(K354), K354+1,\"\")),\"\",IF(MONTH(K354+1)=MONTH(K354), K354+1,\"\"))","v":"2015-12-10"},{"$f":"IF(ISERROR(IF(MONTH(L354+1)=MONTH(L354), L354+1,\"\")),\"\",IF(MONTH(L354+1)=MONTH(L354), L354+1,\"\"))","v":"2015-12-11"},{"$f":"IF(ISERROR(IF(MONTH(M354+1)=MONTH(M354), M354+1,\"\")),\"\",IF(MONTH(M354+1)=MONTH(M354), M354+1,\"\"))","v":"2015-12-12"},{"$f":"IF(ISERROR(IF(MONTH(N354+1)=MONTH(N354), N354+1,\"\")),\"\",IF(MONTH(N354+1)=MONTH(N354), N354+1,\"\"))","v":"2015-12-13"},{"$f":"IF(ISERROR(IF(MONTH(O354+1)=MONTH(O354), O354+1,\"\")),\"\",IF(MONTH(O354+1)=MONTH(O354), O354+1,\"\"))","v":"2015-12-14"},{"$f":"IF(ISERROR(IF(MONTH(P354+1)=MONTH(P354), P354+1,\"\")),\"\",IF(MONTH(P354+1)=MONTH(P354), P354+1,\"\"))","v":"2015-12-15"},{"$f":"IF(ISERROR(IF(MONTH(Q354+1)=MONTH(Q354), Q354+1,\"\")),\"\",IF(MONTH(Q354+1)=MONTH(Q354), Q354+1,\"\"))","v":"2015-12-16"},{"$f":"IF(ISERROR(IF(MONTH(R354+1)=MONTH(R354), R354+1,\"\")),\"\",IF(MONTH(R354+1)=MONTH(R354), R354+1,\"\"))","v":"2015-12-17"},{"$f":"IF(ISERROR(IF(MONTH(S354+1)=MONTH(S354), S354+1,\"\")),\"\",IF(MONTH(S354+1)=MONTH(S354), S354+1,\"\"))","v":"2015-12-18"},{"$f":"IF(ISERROR(IF(MONTH(T354+1)=MONTH(T354), T354+1,\"\")),\"\",IF(MONTH(T354+1)=MONTH(T354), T354+1,\"\"))","v":"2015-12-19"},{"$f":"IF(ISERROR(IF(MONTH(U354+1)=MONTH(U354), U354+1,\"\")),\"\",IF(MONTH(U354+1)=MONTH(U354), U354+1,\"\"))","v":"2015-12-20"},{"$f":"IF(ISERROR(IF(MONTH(V354+1)=MONTH(V354), V354+1,\"\")),\"\",IF(MONTH(V354+1)=MONTH(V354), V354+1,\"\"))","v":"2015-12-21"},{"$f":"IF(ISERROR(IF(MONTH(W354+1)=MONTH(W354), W354+1,\"\")),\"\",IF(MONTH(W354+1)=MONTH(W354), W354+1,\"\"))","v":"2015-12-22"},{"$f":"IF(ISERROR(IF(MONTH(X354+1)=MONTH(X354), X354+1,\"\")),\"\",IF(MONTH(X354+1)=MONTH(X354), X354+1,\"\"))","v":"2015-12-23"},{"$f":"IF(ISERROR(IF(MONTH(Y354+1)=MONTH(Y354), Y354+1,\"\")),\"\",IF(MONTH(Y354+1)=MONTH(Y354), Y354+1,\"\"))","v":"2015-12-24"},{"$f":"IF(ISERROR(IF(MONTH(Z354+1)=MONTH(Z354), Z354+1,\"\")),\"\",IF(MONTH(Z354+1)=MONTH(Z354), Z354+1,\"\"))","v":"2015-12-25"},{"$f":"IF(ISERROR(IF(MONTH(AA354+1)=MONTH(AA354), AA354+1,\"\")),\"\",IF(MONTH(AA354+1)=MONTH(AA354), AA354+1,\"\"))","v":"2015-12-26"},{"$f":"IF(ISERROR(IF(MONTH(AB354+1)=MONTH(AB354), AB354+1,\"\")),\"\",IF(MONTH(AB354+1)=MONTH(AB354), AB354+1,\"\"))","v":"2015-12-27"},{"$f":"IF(ISERROR(IF(MONTH(AC354+1)=MONTH(AC354), AC354+1,\"\")),\"\",IF(MONTH(AC354+1)=MONTH(AC354), AC354+1,\"\"))","v":"2015-12-28"},{"$f":"IF(ISERROR(IF(MONTH(AD354+1)=MONTH(AD354), AD354+1,\"\")),\"\",IF(MONTH(AD354+1)=MONTH(AD354), AD354+1,\"\"))","v":"2015-12-29"},{"$f":"IF(ISERROR(IF(MONTH(AE354+1)=MONTH(AE354), AE354+1,\"\")),\"\",IF(MONTH(AE354+1)=MONTH(AE354), AE354+1,\"\"))","v":"2015-12-30"},{"$f":"IF(ISERROR(IF(MONTH(AF354+1)=MONTH(AF354), AF354+1,\"\")),\"\",IF(MONTH(AF354+1)=MONTH(AF354), AF354+1,\"\"))","v":"2015-12-31"}]
[null,"user_01"]
[null,"user_02"]
[null,"user_03"]
[null,"user_04"]
[null,"user_05"]
[null,"user_06"]
[null,"user_07"]
[null,"user_08"]
[null,"user_09"]
[null,"user_10"]
[null,"user_11"]
[null,"user_12"]
[null,"user_13"]
[null,"user_14"]
[null,"user_15"]
[null,"user_16"]
[null,"user_17"]
[null,"user_18"]
[null,"user_19"]
[null,"user_20"]
[null,"user_21"]
[null,"user_22"]
[null,"user_23"]
[null,"user_24"]
[null,"user_25"]
[null,"user_26"]
[null,"user_27"]
[null,"user_28"]
[null,"user_29"]
[null,"user_30"]

{"sheet":"終了時刻","index":4,"n_rows":384,"n_cols":33,"rows_kept":384,"cut":false,"hidden":true,"merged":[]}
[]
[null,1,{"$f":"DATE(月別!$B$5,B2,1)","v":"2015-01-01"},{"$f":"IF(ISERROR(IF(MONTH(C2+1)=MONTH(C2), C2+1,\"\")),\"\",IF(MONTH(C2+1)=MONTH(C2), C2+1,\"\"))","v":"2015-01-02"},{"$f":"IF(ISERROR(IF(MONTH(D2+1)=MONTH(D2), D2+1,\"\")),\"\",IF(MONTH(D2+1)=MONTH(D2), D2+1,\"\"))","v":"2015-01-03"},"2015-01-04","2015-01-05","2015-01-06","2015-01-07","2015-01-08","2015-01-09","2015-01-10","2015-01-11","2015-01-12","2015-01-13","2015-01-14","2015-01-15","2015-01-16","2015-01-17","2015-01-18","2015-01-19","2015-01-20","2015-01-21","2015-01-22","2015-01-23","2015-01-24","2015-01-25","2015-01-26","2015-01-27","2015-01-28","2015-01-29","2015-01-30","2015-01-31"]
[null,"user_01"]
[null,"user_02"]
[null,"user_03"]
[null,"user_04"]
[null,"user_05"]
[null,"user_06"]
[null,"user_07"]
[null,"user_08"]
[null,"user_09"]
[null,"user_10"]
[null,"user_11"]
[null,"user_12"]
[null,"user_13"]
[null,"user_14"]
[null,"user_15"]
[null,"user_16"]
[null,"user_17"]
[null,"user_18"]
[null,"user_19"]
[null,"user_20"]
[null,"user_21"]
[null,"user_22"]
[null,"user_23"]
[null,"user_24"]
[null,"user_25"]
[null,"user_26"]
[null,"user_27"]
[null,"user_28"]
[null,"user_29"]
[null,"user_30"]
[]
[null,2,{"$f":"DATE(月別!$B$5,B34,1)","v":"2015-02-01"},{"$f":"IF(ISERROR(IF(MONTH(C34+1)=MONTH(C34), C34+1,\"\")),\"\",IF(MONTH(C34+1)=MONTH(C34), C34+1,\"\"))","v":"2015-02-02"},{"$f":"IF(ISERROR(IF(MONTH(D34+1)=MONTH(D34), D34+1,\"\")),\"\",IF(MONTH(D34+1)=MONTH(D34), D34+1,\"\"))","v":"2015-02-03"},"2015-02-04","2015-02-05","2015-02-06","2015-02-07","2015-02-08","2015-02-09","2015-02-10","2015-02-11","2015-02-12","2015-02-13","2015-02-14","2015-02-15","2015-02-16","2015-02-17","2015-02-18","2015-02-19","2015-02-20","2015-02-21","2015-02-22","2015-02-23","2015-02-24","2015-02-25","2015-02-26","2015-02-27","2015-02-28","","",""]
[null,"user_01"]
[null,"user_02"]
[null,"user_03"]
[null,"user_04"]
[null,"user_05"]
[null,"user_06"]
[null,"user_07"]
[null,"user_08"]
[null,"user_09"]
[null,"user_10"]
[null,"user_11"]
[null,"user_12"]
[null,"user_13"]
[null,"user_14"]
[null,"user_15"]
[null,"user_16"]
[null,"user_17"]
[null,"user_18"]
[null,"user_19"]
[null,"user_20"]
[null,"user_21"]
[null,"user_22"]
[null,"user_23"]
[null,"user_24"]
[null,"user_25"]
[null,"user_26"]
[null,"user_27"]
[null,"user_28"]
[null,"user_29"]
[null,"user_30"]
[]
[null,3,{"$f":"DATE(月別!$B$5,B66,1)","v":"2015-03-01"},{"$f":"IF(ISERROR(IF(MONTH(C66+1)=MONTH(C66), C66+1,\"\")),\"\",IF(MONTH(C66+1)=MONTH(C66), C66+1,\"\"))","v":"2015-03-02"},{"$f":"IF(ISERROR(IF(MONTH(D66+1)=MONTH(D66), D66+1,\"\")),\"\",IF(MONTH(D66+1)=MONTH(D66), D66+1,\"\"))","v":"2015-03-03"},"2015-03-04","2015-03-05","2015-03-06","2015-03-07","2015-03-08","2015-03-09","2015-03-10","2015-03-11","2015-03-12","2015-03-13","2015-03-14","2015-03-15","2015-03-16","2015-03-17","2015-03-18","2015-03-19","2015-03-20","2015-03-21","2015-03-22","2015-03-23","2015-03-24","2015-03-25","2015-03-26","2015-03-27","2015-03-28","2015-03-29","2015-03-30","2015-03-31"]
[null,"user_01"]
[null,"user_02"]
[null,"user_03"]
[null,"user_04"]
[null,"user_05"]
[null,"user_06"]
[null,"user_07"]
[null,"user_08"]
[null,"user_09"]
[null,"user_10"]
[null,"user_11"]
[null,"user_12"]
[null,"user_13"]
[null,"user_14"]
[null,"user_15"]
[null,"user_16"]
[null,"user_17"]
[null,"user_18"]
[null,"user_19"]
[null,"user_20"]
[null,"user_21"]
[null,"user_22"]
[null,"user_23"]
[null,"user_24"]
[null,"user_25"]
[null,"user_26"]
[null,"user_27"]
[null,"user_28"]
[null,"user_29"]
[null,"user_30"]
[]
[null,4,{"$f":"DATE(月別!$B$5,B98,1)","v":"2015-04-01"},{"$f":"IF(ISERROR(IF(MONTH(C98+1)=MONTH(C98), C98+1,\"\")),\"\",IF(MONTH(C98+1)=MONTH(C98), C98+1,\"\"))","v":"2015-04-02"},{"$f":"IF(ISERROR(IF(MONTH(D98+1)=MONTH(D98), D98+1,\"\")),\"\",IF(MONTH(D98+1)=MONTH(D98), D98+1,\"\"))","v":"2015-04-03"},"2015-04-04","2015-04-05","2015-04-06","2015-04-07","2015-04-08","2015-04-09","2015-04-10","2015-04-11","2015-04-12","2015-04-13","2015-04-14","2015-04-15","2015-04-16","2015-04-17","2015-04-18","2015-04-19","2015-04-20","2015-04-21","2015-04-22","2015-04-23","2015-04-24","2015-04-25","2015-04-26","2015-04-27","2015-04-28","2015-04-29","2015-04-30",""]
[null,"user_01"]
[null,"user_02"]
[null,"user_03"]
[null,"user_04"]
[null,"user_05"]
[null,"user_06"]
[null,"user_07"]
[null,"user_08"]
[null,"user_09"]
[null,"user_10"]
[null,"user_11"]
[null,"user_12"]
[null,"user_13"]
[null,"user_14"]
[null,"user_15"]
[null,"user_16"]
[null,"user_17"]
[null,"user_18"]
[null,"user_19"]
[null,"user_20"]
[null,"user_21"]
[null,"user_22"]
[null,"user_23"]
[null,"user_24"]
[null,"user_25"]
[null,"user_26"]
[null,"user_27"]
[null,"user_28"]
[null,"user_29"]
[null,"user_30"]
[]
[null,5,{"$f":"DATE(月別!$B$5,B130,1)","v":"2015-05-01"},{"$f":"IF(ISERROR(IF(MONTH(C130+1)=MONTH(C130), C130+1,\"\")),\"\",IF(MONTH(C130+1)=MONTH(C130), C130+1,\"\"))","v":"2015-05-02"},{"$f":"IF(ISERROR(IF(MONTH(D130+1)=MONTH(D130), D130+1,\"\")),\"\",IF(MONTH(D130+1)=MONTH(D130), D130+1,\"\"))","v":"2015-05-03"},"2015-05-04","2015-05-05","2015-05-06","2015-05-07","2015-05-08","2015-05-09","2015-05-10","2015-05-11","2015-05-12","2015-05-13","2015-05-14","2015-05-15","2015-05-16","2015-05-17","2015-05-18","2015-05-19","2015-05-20","2015-05-21","2015-05-22","2015-05-23","2015-05-24","2015-05-25","2015-05-26","2015-05-27","2015-05-28","2015-05-29","2015-05-30","2015-05-31"]
[null,"user_01"]
[null,"user_02"]
[null,"user_03"]
[null,"user_04"]
[null,"user_05"]
[null,"user_06"]
[null,"user_07"]
[null,"user_08"]
[null,"user_09"]
[null,"user_10"]
[null,"user_11"]
[null,"user_12"]
[null,"user_13"]
[null,"user_14"]
[null,"user_15"]
[null,"user_16"]
[null,"user_17"]
[null,"user_18"]
[null,"user_19"]
[null,"user_20"]
[null,"user_21"]
[null,"user_22"]
[null,"user_23"]
[null,"user_24"]
[null,"user_25"]
[null,"user_26"]
[null,"user_27"]
[null,"user_28"]
[null,"user_29"]
[null,"user_30"]
[]
[null,6,{"$f":"DATE(月別!$B$5,B162,1)","v":"2015-06-01"},{"$f":"IF(ISERROR(IF(MONTH(C162+1)=MONTH(C162), C162+1,\"\")),\"\",IF(MONTH(C162+1)=MONTH(C162), C162+1,\"\"))","v":"2015-06-02"},{"$f":"IF(ISERROR(IF(MONTH(D162+1)=MONTH(D162), D162+1,\"\")),\"\",IF(MONTH(D162+1)=MONTH(D162), D162+1,\"\"))","v":"2015-06-03"},"2015-06-04","2015-06-05","2015-06-06","2015-06-07","2015-06-08","2015-06-09","2015-06-10","2015-06-11","2015-06-12","2015-06-13","2015-06-14","2015-06-15","2015-06-16","2015-06-17","2015-06-18","2015-06-19","2015-06-20","2015-06-21","2015-06-22","2015-06-23","2015-06-24","2015-06-25","2015-06-26","2015-06-27","2015-06-28","2015-06-29","2015-06-30",""]
[null,"user_01"]
[null,"user_02"]
[null,"user_03"]
[null,"user_04"]
[null,"user_05"]
[null,"user_06"]
[null,"user_07"]
[null,"user_08"]
[null,"user_09"]
[null,"user_10"]
[null,"user_11"]
[null,"user_12"]
[null,"user_13"]
[null,"user_14"]
[null,"user_15"]
[null,"user_16"]
[null,"user_17"]
[null,"user_18"]
[null,"user_19"]
[null,"user_20"]
[null,"user_21"]
[null,"user_22"]
[null,"user_23"]
[null,"user_24"]
[null,"user_25"]
[null,"user_26"]
[null,"user_27"]
[null,"user_28"]
[null,"user_29"]
[null,"user_30"]
[]
[null,7,{"$f":"DATE(月別!$B$5,B194,1)","v":"2015-07-01"},{"$f":"IF(ISERROR(IF(MONTH(C194+1)=MONTH(C194), C194+1,\"\")),\"\",IF(MONTH(C194+1)=MONTH(C194), C194+1,\"\"))","v":"2015-07-02"},{"$f":"IF(ISERROR(IF(MONTH(D194+1)=MONTH(D194), D194+1,\"\")),\"\",IF(MONTH(D194+1)=MONTH(D194), D194+1,\"\"))","v":"2015-07-03"},"2015-07-04","2015-07-05","2015-07-06","2015-07-07","2015-07-08","2015-07-09","2015-07-10","2015-07-11","2015-07-12","2015-07-13","2015-07-14","2015-07-15","2015-07-16","2015-07-17","2015-07-18","2015-07-19","2015-07-20","2015-07-21","2015-07-22","2015-07-23","2015-07-24","2015-07-25","2015-07-26","2015-07-27","2015-07-28","2015-07-29","2015-07-30","2015-07-31"]
[null,"user_01"]
[null,"user_02"]
[null,"user_03"]
[null,"user_04"]
[null,"user_05"]
[null,"user_06"]
[null,"user_07"]
[null,"user_08"]
[null,"user_09"]
[null,"user_10"]
[null,"user_11"]
[null,"user_12"]
[null,"user_13"]
[null,"user_14"]
[null,"user_15"]
[null,"user_16"]
[null,"user_17"]
[null,"user_18"]
[null,"user_19"]
[null,"user_20"]
[null,"user_21"]
[null,"user_22"]
[null,"user_23"]
[null,"user_24"]
[null,"user_25"]
[null,"user_26"]
[null,"user_27"]
[null,"user_28"]
[null,"user_29"]
[null,"user_30"]
[]
[null,8,{"$f":"DATE(月別!$B$5,B226,1)","v":"2015-08-01"},{"$f":"IF(ISERROR(IF(MONTH(C226+1)=MONTH(C226), C226+1,\"\")),\"\",IF(MONTH(C226+1)=MONTH(C226), C226+1,\"\"))","v":"2015-08-02"},{"$f":"IF(ISERROR(IF(MONTH(D226+1)=MONTH(D226), D226+1,\"\")),\"\",IF(MONTH(D226+1)=MONTH(D226), D226+1,\"\"))","v":"2015-08-03"},"2015-08-04","2015-08-05","2015-08-06","2015-08-07","2015-08-08","2015-08-09","2015-08-10","2015-08-11","2015-08-12","2015-08-13","2015-08-14","2015-08-15","2015-08-16","2015-08-17","2015-08-18","2015-08-19","2015-08-20","2015-08-21","2015-08-22","2015-08-23","2015-08-24","2015-08-25","2015-08-26","2015-08-27","2015-08-28","2015-08-29","2015-08-30","2015-08-31"]
[null,"user_01"]
[null,"user_02"]
[null,"user_03"]
[null,"user_04"]
[null,"user_05"]
[null,"user_06"]
[null,"user_07"]
[null,"user_08"]
[null,"user_09"]
[null,"user_10"]
[null,"user_11"]
[null,"user_12"]
[null,"user_13"]
[null,"user_14"]
[null,"user_15"]
[null,"user_16"]
[null,"user_17"]
[null,"user_18"]
[null,"user_19"]
[null,"user_20"]
[null,"user_21"]
[null,"user_22"]
[null,"user_23"]
[null,"user_24"]
[null,"user_25"]
[null,"user_26"]
[null,"user_27"]
[null,"user_28"]
[null,"user_29"]
[null,"user_30"]
[]
[null,9,{"$f":"DATE(月別!$B$5,B258,1)","v":"2015-09-01"},{"$f":"IF(ISERROR(IF(MONTH(C258+1)=MONTH(C258), C258+1,\"\")),\"\",IF(MONTH(C258+1)=MONTH(C258), C258+1,\"\"))","v":"2015-09-02"},{"$f":"IF(ISERROR(IF(MONTH(D258+1)=MONTH(D258), D258+1,\"\")),\"\",IF(MONTH(D258+1)=MONTH(D258), D258+1,\"\"))","v":"2015-09-03"},"2015-09-04","2015-09-05","2015-09-06","2015-09-07","2015-09-08","2015-09-09","2015-09-10","2015-09-11","2015-09-12","2015-09-13","2015-09-14","2015-09-15","2015-09-16","2015-09-17","2015-09-18","2015-09-19","2015-09-20","2015-09-21","2015-09-22","2015-09-23","2015-09-24","2015-09-25","2015-09-26","2015-09-27","2015-09-28","2015-09-29","2015-09-30",""]
[null,"user_01"]
[null,"user_02"]
[null,"user_03"]
[null,"user_04"]
[null,"user_05"]
[null,"user_06"]
[null,"user_07"]
[null,"user_08"]
[null,"user_09"]
[null,"user_10"]
[null,"user_11"]
[null,"user_12"]
[null,"user_13"]
[null,"user_14"]
[null,"user_15"]
[null,"user_16"]
[null,"user_17"]
[null,"user_18"]
[null,"user_19"]
[null,"user_20"]
[null,"user_21"]
[null,"user_22"]
[null,"user_23"]
[null,"user_24"]
[null,"user_25"]
[null,"user_26"]
[null,"user_27"]
[null,"user_28"]
[null,"user_29"]
[null,"user_30"]
[]
[null,10,{"$f":"DATE(月別!$B$5,B290,1)","v":"2015-10-01"},{"$f":"IF(ISERROR(IF(MONTH(C290+1)=MONTH(C290), C290+1,\"\")),\"\",IF(MONTH(C290+1)=MONTH(C290), C290+1,\"\"))","v":"2015-10-02"},{"$f":"IF(ISERROR(IF(MONTH(D290+1)=MONTH(D290), D290+1,\"\")),\"\",IF(MONTH(D290+1)=MONTH(D290), D290+1,\"\"))","v":"2015-10-03"},"2015-10-04","2015-10-05","2015-10-06","2015-10-07","2015-10-08","2015-10-09","2015-10-10","2015-10-11","2015-10-12","2015-10-13","2015-10-14","2015-10-15","2015-10-16","2015-10-17","2015-10-18","2015-10-19","2015-10-20","2015-10-21","2015-10-22","2015-10-23","2015-10-24","2015-10-25","2015-10-26","2015-10-27","2015-10-28","2015-10-29","2015-10-30","2015-10-31"]
[null,"user_01"]
[null,"user_02"]
[null,"user_03"]
[null,"user_04"]
[null,"user_05"]
[null,"user_06"]
[null,"user_07"]
[null,"user_08"]
[null,"user_09"]
[null,"user_10"]
[null,"user_11"]
[null,"user_12"]
[null,"user_13"]
[null,"user_14"]
[null,"user_15"]
[null,"user_16"]
[null,"user_17"]
[null,"user_18"]
[null,"user_19"]
[null,"user_20"]
[null,"user_21"]
[null,"user_22"]
[null,"user_23"]
[null,"user_24"]
[null,"user_25"]
[null,"user_26"]
[null,"user_27"]
[null,"user_28"]
[null,"user_29"]
[null,"user_30"]
[]
[null,11,{"$f":"DATE(月別!$B$5,B322,1)","v":"2015-11-01"},{"$f":"IF(ISERROR(IF(MONTH(C322+1)=MONTH(C322), C322+1,\"\")),\"\",IF(MONTH(C322+1)=MONTH(C322), C322+1,\"\"))","v":"2015-11-02"},{"$f":"IF(ISERROR(IF(MONTH(D322+1)=MONTH(D322), D322+1,\"\")),\"\",IF(MONTH(D322+1)=MONTH(D322), D322+1,\"\"))","v":"2015-11-03"},"2015-11-04","2015-11-05","2015-11-06","2015-11-07","2015-11-08","2015-11-09","2015-11-10","2015-11-11","2015-11-12","2015-11-13","2015-11-14","2015-11-15","2015-11-16","2015-11-17","2015-11-18","2015-11-19","2015-11-20","2015-11-21","2015-11-22","2015-11-23","2015-11-24","2015-11-25","2015-11-26","2015-11-27","2015-11-28","2015-11-29","2015-11-30",""]
[null,"user_01"]
[null,"user_02"]
[null,"user_03"]
[null,"user_04"]
[null,"user_05"]
[null,"user_06"]
[null,"user_07"]
[null,"user_08"]
[null,"user_09"]
[null,"user_10"]
[null,"user_11"]
[null,"user_12"]
[null,"user_13"]
[null,"user_14"]
[null,"user_15"]
[null,"user_16"]
[null,"user_17"]
[null,"user_18"]
[null,"user_19"]
[null,"user_20"]
[null,"user_21"]
[null,"user_22"]
[null,"user_23"]
[null,"user_24"]
[null,"user_25"]
[null,"user_26"]
[null,"user_27"]
[null,"user_28"]
[null,"user_29"]
[null,"user_30"]
[]
[null,12,{"$f":"DATE(月別!$B$5,B354,1)","v":"2015-12-01"},{"$f":"IF(ISERROR(IF(MONTH(C354+1)=MONTH(C354), C354+1,\"\")),\"\",IF(MONTH(C354+1)=MONTH(C354), C354+1,\"\"))","v":"2015-12-02"},{"$f":"IF(ISERROR(IF(MONTH(D354+1)=MONTH(D354), D354+1,\"\")),\"\",IF(MONTH(D354+1)=MONTH(D354), D354+1,\"\"))","v":"2015-12-03"},"2015-12-04","2015-12-05","2015-12-06","2015-12-07","2015-12-08","2015-12-09","2015-12-10","2015-12-11","2015-12-12","2015-12-13","2015-12-14","2015-12-15","2015-12-16","2015-12-17","2015-12-18","2015-12-19","2015-12-20","2015-12-21","2015-12-22","2015-12-23","2015-12-24","2015-12-25","2015-12-26","2015-12-27","2015-12-28","2015-12-29","2015-12-30","2015-12-31"]
[null,"user_01"]
[null,"user_02"]
[null,"user_03"]
[null,"user_04"]
[null,"user_05"]
[null,"user_06"]
[null,"user_07"]
[null,"user_08"]
[null,"user_09"]
[null,"user_10"]
[null,"user_11"]
[null,"user_12"]
[null,"user_13"]
[null,"user_14"]
[null,"user_15"]
[null,"user_16"]
[null,"user_17"]
[null,"user_18"]
[null,"user_19"]
[null,"user_20"]
[null,"user_21"]
[null,"user_22"]
[null,"user_23"]
[null,"user_24"]
[null,"user_25"]
[null,"user_26"]
[null,"user_27"]
[null,"user_28"]
[null,"user_29"]
[null,"user_30"]

{"sheet":"休憩開始","index":5,"n_rows":384,"n_cols":33,"rows_kept":384,"cut":false,"hidden":true,"merged":[]}
[]
[null,1,{"$f":"DATE(月別!$B$5,B2,1)","v":"2015-01-01"},{"$f":"IF(ISERROR(IF(MONTH(C2+1)=MONTH(C2), C2+1,\"\")),\"\",IF(MONTH(C2+1)=MONTH(C2), C2+1,\"\"))","v":"2015-01-02"},{"$f":"IF(ISERROR(IF(MONTH(D2+1)=MONTH(D2), D2+1,\"\")),\"\",IF(MONTH(D2+1)=MONTH(D2), D2+1,\"\"))","v":"2015-01-03"},"2015-01-04","2015-01-05","2015-01-06","2015-01-07","2015-01-08","2015-01-09","2015-01-10","2015-01-11","2015-01-12","2015-01-13","2015-01-14","2015-01-15","2015-01-16","2015-01-17","2015-01-18","2015-01-19","2015-01-20","2015-01-21","2015-01-22","2015-01-23","2015-01-24","2015-01-25","2015-01-26","2015-01-27","2015-01-28","2015-01-29","2015-01-30","2015-01-31"]
[null,"user_01"]
[null,"user_02"]
[null,"user_03"]
[null,"user_04"]
[null,"user_05"]
[null,"user_06"]
[null,"user_07"]
[null,"user_08"]
[null,"user_09"]
[null,"user_10"]
[null,"user_11"]
[null,"user_12"]
[null,"user_13"]
[null,"user_14"]
[null,"user_15"]
[null,"user_16"]
[null,"user_17"]
[null,"user_18"]
[null,"user_19"]
[null,"user_20"]
[null,"user_21"]
[null,"user_22"]
[null,"user_23"]
[null,"user_24"]
[null,"user_25"]
[null,"user_26"]
[null,"user_27"]
[null,"user_28"]
[null,"user_29"]
[null,"user_30"]
[]
[null,2,{"$f":"DATE(月別!$B$5,B34,1)","v":"2015-02-01"},{"$f":"IF(ISERROR(IF(MONTH(C34+1)=MONTH(C34), C34+1,\"\")),\"\",IF(MONTH(C34+1)=MONTH(C34), C34+1,\"\"))","v":"2015-02-02"},{"$f":"IF(ISERROR(IF(MONTH(D34+1)=MONTH(D34), D34+1,\"\")),\"\",IF(MONTH(D34+1)=MONTH(D34), D34+1,\"\"))","v":"2015-02-03"},"2015-02-04","2015-02-05","2015-02-06","2015-02-07","2015-02-08","2015-02-09","2015-02-10","2015-02-11","2015-02-12","2015-02-13","2015-02-14","2015-02-15","2015-02-16","2015-02-17","2015-02-18","2015-02-19","2015-02-20","2015-02-21","2015-02-22","2015-02-23","2015-02-24","2015-02-25","2015-02-26","2015-02-27","2015-02-28","","",""]
[null,"user_01"]
[null,"user_02"]
[null,"user_03"]
[null,"user_04"]
[null,"user_05"]
[null,"user_06"]
[null,"user_07"]
[null,"user_08"]
[null,"user_09"]
[null,"user_10"]
[null,"user_11"]
[null,"user_12"]
[null,"user_13"]
[null,"user_14"]
[null,"user_15"]
[null,"user_16"]
[null,"user_17"]
[null,"user_18"]
[null,"user_19"]
[null,"user_20"]
[null,"user_21"]
[null,"user_22"]
[null,"user_23"]
[null,"user_24"]
[null,"user_25"]
[null,"user_26"]
[null,"user_27"]
[null,"user_28"]
[null,"user_29"]
[null,"user_30"]
[]
[null,3,{"$f":"DATE(月別!$B$5,B66,1)","v":"2015-03-01"},{"$f":"IF(ISERROR(IF(MONTH(C66+1)=MONTH(C66), C66+1,\"\")),\"\",IF(MONTH(C66+1)=MONTH(C66), C66+1,\"\"))","v":"2015-03-02"},{"$f":"IF(ISERROR(IF(MONTH(D66+1)=MONTH(D66), D66+1,\"\")),\"\",IF(MONTH(D66+1)=MONTH(D66), D66+1,\"\"))","v":"2015-03-03"},"2015-03-04","2015-03-05","2015-03-06","2015-03-07","2015-03-08","2015-03-09","2015-03-10","2015-03-11","2015-03-12","2015-03-13","2015-03-14","2015-03-15","2015-03-16","2015-03-17","2015-03-18","2015-03-19","2015-03-20","2015-03-21","2015-03-22","2015-03-23","2015-03-24","2015-03-25","2015-03-26","2015-03-27","2015-03-28","2015-03-29","2015-03-30","2015-03-31"]
[null,"user_01"]
[null,"user_02"]
[null,"user_03"]
[null,"user_04"]
[null,"user_05"]
[null,"user_06"]
[null,"user_07"]
[null,"user_08"]
[null,"user_09"]
[null,"user_10"]
[null,"user_11"]
[null,"user_12"]
[null,"user_13"]
[null,"user_14"]
[null,"user_15"]
[null,"user_16"]
[null,"user_17"]
[null,"user_18"]
[null,"user_19"]
[null,"user_20"]
[null,"user_21"]
[null,"user_22"]
[null,"user_23"]
[null,"user_24"]
[null,"user_25"]
[null,"user_26"]
[null,"user_27"]
[null,"user_28"]
[null,"user_29"]
[null,"user_30"]
[]
[null,4,{"$f":"DATE(月別!$B$5,B98,1)","v":"2015-04-01"},{"$f":"IF(ISERROR(IF(MONTH(C98+1)=MONTH(C98), C98+1,\"\")),\"\",IF(MONTH(C98+1)=MONTH(C98), C98+1,\"\"))","v":"2015-04-02"},{"$f":"IF(ISERROR(IF(MONTH(D98+1)=MONTH(D98), D98+1,\"\")),\"\",IF(MONTH(D98+1)=MONTH(D98), D98+1,\"\"))","v":"2015-04-03"},"2015-04-04","2015-04-05","2015-04-06","2015-04-07","2015-04-08","2015-04-09","2015-04-10","2015-04-11","2015-04-12","2015-04-13","2015-04-14","2015-04-15","2015-04-16","2015-04-17","2015-04-18","2015-04-19","2015-04-20","2015-04-21","2015-04-22","2015-04-23","2015-04-24","2015-04-25","2015-04-26","2015-04-27","2015-04-28","2015-04-29","2015-04-30",""]
[null,"user_01"]
[null,"user_02"]
[null,"user_03"]
[null,"user_04"]
[null,"user_05"]
[null,"user_06"]
[null,"user_07"]
[null,"user_08"]
[null,"user_09"]
[null,"user_10"]
[null,"user_11"]
[null,"user_12"]
[null,"user_13"]
[null,"user_14"]
[null,"user_15"]
[null,"user_16"]
[null,"user_17"]
[null,"user_18"]
[null,"user_19"]
[null,"user_20"]
[null,"user_21"]
[null,"user_22"]
[null,"user_23"]
[null,"user_24"]
[null,"user_25"]
[null,"user_26"]
[null,"user_27"]
[null,"user_28"]
[null,"user_29"]
[null,"user_30"]
[]
[null,5,{"$f":"DATE(月別!$B$5,B130,1)","v":"2015-05-01"},{"$f":"IF(ISERROR(IF(MONTH(C130+1)=MONTH(C130), C130+1,\"\")),\"\",IF(MONTH(C130+1)=MONTH(C130), C130+1,\"\"))","v":"2015-05-02"},{"$f":"IF(ISERROR(IF(MONTH(D130+1)=MONTH(D130), D130+1,\"\")),\"\",IF(MONTH(D130+1)=MONTH(D130), D130+1,\"\"))","v":"2015-05-03"},"2015-05-04","2015-05-05","2015-05-06","2015-05-07","2015-05-08","2015-05-09","2015-05-10","2015-05-11","2015-05-12","2015-05-13","2015-05-14","2015-05-15","2015-05-16","2015-05-17","2015-05-18","2015-05-19","2015-05-20","2015-05-21","2015-05-22","2015-05-23","2015-05-24","2015-05-25","2015-05-26","2015-05-27","2015-05-28","2015-05-29","2015-05-30","2015-05-31"]
[null,"user_01"]
[null,"user_02"]
[null,"user_03"]
[null,"user_04"]
[null,"user_05"]
[null,"user_06"]
[null,"user_07"]
[null,"user_08"]
[null,"user_09"]
[null,"user_10"]
[null,"user_11"]
[null,"user_12"]
[null,"user_13"]
[null,"user_14"]
[null,"user_15"]
[null,"user_16"]
[null,"user_17"]
[null,"user_18"]
[null,"user_19"]
[null,"user_20"]
[null,"user_21"]
[null,"user_22"]
[null,"user_23"]
[null,"user_24"]
[null,"user_25"]
[null,"user_26"]
[null,"user_27"]
[null,"user_28"]
[null,"user_29"]
[null,"user_30"]
[]
[null,6,{"$f":"DATE(月別!$B$5,B162,1)","v":"2015-06-01"},{"$f":"IF(ISERROR(IF(MONTH(C162+1)=MONTH(C162), C162+1,\"\")),\"\",IF(MONTH(C162+1)=MONTH(C162), C162+1,\"\"))","v":"2015-06-02"},{"$f":"IF(ISERROR(IF(MONTH(D162+1)=MONTH(D162), D162+1,\"\")),\"\",IF(MONTH(D162+1)=MONTH(D162), D162+1,\"\"))","v":"2015-06-03"},"2015-06-04","2015-06-05","2015-06-06","2015-06-07","2015-06-08","2015-06-09","2015-06-10","2015-06-11","2015-06-12","2015-06-13","2015-06-14","2015-06-15","2015-06-16","2015-06-17","2015-06-18","2015-06-19","2015-06-20","2015-06-21","2015-06-22","2015-06-23","2015-06-24","2015-06-25","2015-06-26","2015-06-27","2015-06-28","2015-06-29","2015-06-30",""]
[null,"user_01"]
[null,"user_02"]
[null,"user_03"]
[null,"user_04"]
[null,"user_05"]
[null,"user_06"]
[null,"user_07"]
[null,"user_08"]
[null,"user_09"]
[null,"user_10"]
[null,"user_11"]
[null,"user_12"]
[null,"user_13"]
[null,"user_14"]
[null,"user_15"]
[null,"user_16"]
[null,"user_17"]
[null,"user_18"]
[null,"user_19"]
[null,"user_20"]
[null,"user_21"]
[null,"user_22"]
[null,"user_23"]
[null,"user_24"]
[null,"user_25"]
[null,"user_26"]
[null,"user_27"]
[null,"user_28"]
[null,"user_29"]
[null,"user_30"]
[]
[null,7,{"$f":"DATE(月別!$B$5,B194,1)","v":"2015-07-01"},{"$f":"IF(ISERROR(IF(MONTH(C194+1)=MONTH(C194), C194+1,\"\")),\"\",IF(MONTH(C194+1)=MONTH(C194), C194+1,\"\"))","v":"2015-07-02"},{"$f":"IF(ISERROR(IF(MONTH(D194+1)=MONTH(D194), D194+1,\"\")),\"\",IF(MONTH(D194+1)=MONTH(D194), D194+1,\"\"))","v":"2015-07-03"},"2015-07-04","2015-07-05","2015-07-06","2015-07-07","2015-07-08","2015-07-09","2015-07-10","2015-07-11","2015-07-12","2015-07-13","2015-07-14","2015-07-15","2015-07-16","2015-07-17","2015-07-18","2015-07-19","2015-07-20","2015-07-21","2015-07-22","2015-07-23","2015-07-24","2015-07-25","2015-07-26","2015-07-27","2015-07-28","2015-07-29","2015-07-30","2015-07-31"]
[null,"user_01"]
[null,"user_02"]
[null,"user_03"]
[null,"user_04"]
[null,"user_05"]
[null,"user_06"]
[null,"user_07"]
[null,"user_08"]
[null,"user_09"]
[null,"user_10"]
[null,"user_11"]
[null,"user_12"]
[null,"user_13"]
[null,"user_14"]
[null,"user_15"]
[null,"user_16"]
[null,"user_17"]
[null,"user_18"]
[null,"user_19"]
[null,"user_20"]
[null,"user_21"]
[null,"user_22"]
[null,"user_23"]
[null,"user_24"]
[null,"user_25"]
[null,"user_26"]
[null,"user_27"]
[null,"user_28"]
[null,"user_29"]
[null,"user_30"]
[]
[null,8,{"$f":"DATE(月別!$B$5,B226,1)","v":"2015-08-01"},{"$f":"IF(ISERROR(IF(MONTH(C226+1)=MONTH(C226), C226+1,\"\")),\"\",IF(MONTH(C226+1)=MONTH(C226), C226+1,\"\"))","v":"2015-08-02"},{"$f":"IF(ISERROR(IF(MONTH(D226+1)=MONTH(D226), D226+1,\"\")),\"\",IF(MONTH(D226+1)=MONTH(D226), D226+1,\"\"))","v":"2015-08-03"},"2015-08-04","2015-08-05","2015-08-06","2015-08-07","2015-08-08","2015-08-09","2015-08-10","2015-08-11","2015-08-12","2015-08-13","2015-08-14","2015-08-15","2015-08-16","2015-08-17","2015-08-18","2015-08-19","2015-08-20","2015-08-21","2015-08-22","2015-08-23","2015-08-24","2015-08-25","2015-08-26","2015-08-27","2015-08-28","2015-08-29","2015-08-30","2015-08-31"]
[null,"user_01"]
[null,"user_02"]
[null,"user_03"]
[null,"user_04"]
[null,"user_05"]
[null,"user_06"]
[null,"user_07"]
[null,"user_08"]
[null,"user_09"]
[null,"user_10"]
[null,"user_11"]
[null,"user_12"]
[null,"user_13"]
[null,"user_14"]
[null,"user_15"]
[null,"user_16"]
[null,"user_17"]
[null,"user_18"]
[null,"user_19"]
[null,"user_20"]
[null,"user_21"]
[null,"user_22"]
[null,"user_23"]
[null,"user_24"]
[null,"user_25"]
[null,"user_26"]
[null,"user_27"]
[null,"user_28"]
[null,"user_29"]
[null,"user_30"]
[]
[null,9,{"$f":"DATE(月別!$B$5,B258,1)","v":"2015-09-01"},{"$f":"IF(ISERROR(IF(MONTH(C258+1)=MONTH(C258), C258+1,\"\")),\"\",IF(MONTH(C258+1)=MONTH(C258), C258+1,\"\"))","v":"2015-09-02"},{"$f":"IF(ISERROR(IF(MONTH(D258+1)=MONTH(D258), D258+1,\"\")),\"\",IF(MONTH(D258+1)=MONTH(D258), D258+1,\"\"))","v":"2015-09-03"},"2015-09-04","2015-09-05","2015-09-06","2015-09-07","2015-09-08","2015-09-09","2015-09-10","2015-09-11","2015-09-12","2015-09-13","2015-09-14","2015-09-15","2015-09-16","2015-09-17","2015-09-18","2015-09-19","2015-09-20","2015-09-21","2015-09-22","2015-09-23","2015-09-24","2015-09-25","2015-09-26","2015-09-27","2015-09-28","2015-09-29","2015-09-30",""]
[null,"user_01"]
[null,"user_02"]
[null,"user_03"]
[null,"user_04"]
[null,"user_05"]
[null,"user_06"]
[null,"user_07"]
[null,"user_08"]
[null,"user_09"]
[null,"user_10"]
[null,"user_11"]
[null,"user_12"]
[null,"user_13"]
[null,"user_14"]
[null,"user_15"]
[null,"user_16"]
[null,"user_17"]
[null,"user_18"]
[null,"user_19"]
[null,"user_20"]
[null,"user_21"]
[null,"user_22"]
[null,"user_23"]
[null,"user_24"]
[null,"user_25"]
[null,"user_26"]
[null,"user_27"]
[null,"user_28"]
[null,"user_29"]
[null,"user_30"]
[]
[null,10,{"$f":"DATE(月別!$B$5,B290,1)","v":"2015-10-01"},{"$f":"IF(ISERROR(IF(MONTH(C290+1)=MONTH(C290), C290+1,\"\")),\"\",IF(MONTH(C290+1)=MONTH(C290), C290+1,\"\"))","v":"2015-10-02"},{"$f":"IF(ISERROR(IF(MONTH(D290+1)=MONTH(D290), D290+1,\"\")),\"\",IF(MONTH(D290+1)=MONTH(D290), D290+1,\"\"))","v":"2015-10-03"},"2015-10-04","2015-10-05","2015-10-06","2015-10-07","2015-10-08","2015-10-09","2015-10-10","2015-10-11","2015-10-12","2015-10-13","2015-10-14","2015-10-15","2015-10-16","2015-10-17","2015-10-18","2015-10-19","2015-10-20","2015-10-21","2015-10-22","2015-10-23","2015-10-24","2015-10-25","2015-10-26","2015-10-27","2015-10-28","2015-10-29","2015-10-30","2015-10-31"]
[null,"user_01"]
[null,"user_02"]
[null,"user_03"]
[null,"user_04"]
[null,"user_05"]
[null,"user_06"]
[null,"user_07"]
[null,"user_08"]
[null,"user_09"]
[null,"user_10"]
[null,"user_11"]
[null,"user_12"]
[null,"user_13"]
[null,"user_14"]
[null,"user_15"]
[null,"user_16"]
[null,"user_17"]
[null,"user_18"]
[null,"user_19"]
[null,"user_20"]
[null,"user_21"]
[null,"user_22"]
[null,"user_23"]
[null,"user_24"]
[null,"user_25"]
[null,"user_26"]
[null,"user_27"]
[null,"user_28"]
[null,"user_29"]
[null,"user_30"]
[]
[null,11,{"$f":"DATE(月別!$B$5,B322,1)","v":"2015-11-01"},{"$f":"IF(ISERROR(IF(MONTH(C322+1)=MONTH(C322), C322+1,\"\")),\"\",IF(MONTH(C322+1)=MONTH(C322), C322+1,\"\"))","v":"2015-11-02"},{"$f":"IF(ISERROR(IF(MONTH(D322+1)=MONTH(D322), D322+1,\"\")),\"\",IF(MONTH(D322+1)=MONTH(D322), D322+1,\"\"))","v":"2015-11-03"},"2015-11-04","2015-11-05","2015-11-06","2015-11-07","2015-11-08","2015-11-09","2015-11-10","2015-11-11","2015-11-12","2015-11-13","2015-11-14","2015-11-15","2015-11-16","2015-11-17","2015-11-18","2015-11-19","2015-11-20","2015-11-21","2015-11-22","2015-11-23","2015-11-24","2015-11-25","2015-11-26","2015-11-27","2015-11-28","2015-11-29","2015-11-30",""]
[null,"user_01"]
[null,"user_02"]
[null,"user_03"]
[null,"user_04"]
[null,"user_05"]
[null,"user_06"]
[null,"user_07"]
[null,"user_08"]
[null,"user_09"]
[null,"user_10"]
[null,"user_11"]
[null,"user_12"]
[null,"user_13"]
[null,"user_14"]
[null,"user_15"]
[null,"user_16"]
[null,"user_17"]
[null,"user_18"]
[null,"user_19"]
[null,"user_20"]
[null,"user_21"]
[null,"user_22"]
[null,"user_23"]
[null,"user_24"]
[null,"user_25"]
[null,"user_26"]
[null,"user_27"]
[null,"user_28"]
[null,"user_29"]
[null,"user_30"]
[]
[null,12,{"$f":"DATE(月別!$B$5,B354,1)","v":"2015-12-01"},{"$f":"IF(ISERROR(IF(MONTH(C354+1)=MONTH(C354), C354+1,\"\")),\"\",IF(MONTH(C354+1)=MONTH(C354), C354+1,\"\"))","v":"2015-12-02"},{"$f":"IF(ISERROR(IF(MONTH(D354+1)=MONTH(D354), D354+1,\"\")),\"\",IF(MONTH(D354+1)=MONTH(D354), D354+1,\"\"))","v":"2015-12-03"},"2015-12-04","2015-12-05","2015-12-06","2015-12-07","2015-12-08","2015-12-09","2015-12-10","2015-12-11","2015-12-12","2015-12-13","2015-12-14","2015-12-15","2015-12-16","2015-12-17","2015-12-18","2015-12-19","2015-12-20","2015-12-21","2015-12-22","2015-12-23","2015-12-24","2015-12-25","2015-12-26","2015-12-27","2015-12-28","2015-12-29","2015-12-30","2015-12-31"]
[null,"user_01"]
[null,"user_02"]
[null,"user_03"]
[null,"user_04"]
[null,"user_05"]
[null,"user_06"]
[null,"user_07"]
[null,"user_08"]
[null,"user_09"]
[null,"user_10"]
[null,"user_11"]
[null,"user_12"]
[null,"user_13"]
[null,"user_14"]
[null,"user_15"]
[null,"user_16"]
[null,"user_17"]
[null,"user_18"]
[null,"user_19"]
[null,"user_20"]
[null,"user_21"]
[null,"user_22"]
[null,"user_23"]
[null,"user_24"]
[null,"user_25"]
[null,"user_26"]
[null,"user_27"]
[null,"user_28"]
[null,"user_29"]
[null,"user_30"]

{"sheet":"休憩終了","index":6,"n_rows":384,"n_cols":33,"rows_kept":384,"cut":false,"hidden":true,"merged":[]}
[]
[null,1,{"$f":"DATE(月別!$B$5,B2,1)","v":"2015-01-01"},{"$f":"IF(ISERROR(IF(MONTH(C2+1)=MONTH(C2), C2+1,\"\")),\"\",IF(MONTH(C2+1)=MONTH(C2), C2+1,\"\"))","v":"2015-01-02"},{"$f":"IF(ISERROR(IF(MONTH(D2+1)=MONTH(D2), D2+1,\"\")),\"\",IF(MONTH(D2+1)=MONTH(D2), D2+1,\"\"))","v":"2015-01-03"},"2015-01-04","2015-01-05","2015-01-06","2015-01-07","2015-01-08","2015-01-09","2015-01-10","2015-01-11","2015-01-12","2015-01-13","2015-01-14","2015-01-15","2015-01-16","2015-01-17","2015-01-18","2015-01-19","2015-01-20","2015-01-21","2015-01-22","2015-01-23","2015-01-24","2015-01-25","2015-01-26","2015-01-27","2015-01-28","2015-01-29","2015-01-30","2015-01-31"]
[null,"user_01"]
[null,"user_02"]
[null,"user_03"]
[null,"user_04"]
[null,"user_05"]
[null,"user_06"]
[null,"user_07"]
[null,"user_08"]
[null,"user_09"]
[null,"user_10"]
[null,"user_11"]
[null,"user_12"]
[null,"user_13"]
[null,"user_14"]
[null,"user_15"]
[null,"user_16"]
[null,"user_17"]
[null,"user_18"]
[null,"user_19"]
[null,"user_20"]
[null,"user_21"]
[null,"user_22"]
[null,"user_23"]
[null,"user_24"]
[null,"user_25"]
[null,"user_26"]
[null,"user_27"]
[null,"user_28"]
[null,"user_29"]
[null,"user_30"]
[]
[null,2,{"$f":"DATE(月別!$B$5,B34,1)","v":"2015-02-01"},{"$f":"IF(ISERROR(IF(MONTH(C34+1)=MONTH(C34), C34+1,\"\")),\"\",IF(MONTH(C34+1)=MONTH(C34), C34+1,\"\"))","v":"2015-02-02"},{"$f":"IF(ISERROR(IF(MONTH(D34+1)=MONTH(D34), D34+1,\"\")),\"\",IF(MONTH(D34+1)=MONTH(D34), D34+1,\"\"))","v":"2015-02-03"},"2015-02-04","2015-02-05","2015-02-06","2015-02-07","2015-02-08","2015-02-09","2015-02-10","2015-02-11","2015-02-12","2015-02-13","2015-02-14","2015-02-15","2015-02-16","2015-02-17","2015-02-18","2015-02-19","2015-02-20","2015-02-21","2015-02-22","2015-02-23","2015-02-24","2015-02-25","2015-02-26","2015-02-27","2015-02-28","","",""]
[null,"user_01"]
[null,"user_02"]
[null,"user_03"]
[null,"user_04"]
[null,"user_05"]
[null,"user_06"]
[null,"user_07"]
[null,"user_08"]
[null,"user_09"]
[null,"user_10"]
[null,"user_11"]
[null,"user_12"]
[null,"user_13"]
[null,"user_14"]
[null,"user_15"]
[null,"user_16"]
[null,"user_17"]
[null,"user_18"]
[null,"user_19"]
[null,"user_20"]
[null,"user_21"]
[null,"user_22"]
[null,"user_23"]
[null,"user_24"]
[null,"user_25"]
[null,"user_26"]
[null,"user_27"]
[null,"user_28"]
[null,"user_29"]
[null,"user_30"]
[]
[null,3,{"$f":"DATE(月別!$B$5,B66,1)","v":"2015-03-01"},{"$f":"IF(ISERROR(IF(MONTH(C66+1)=MONTH(C66), C66+1,\"\")),\"\",IF(MONTH(C66+1)=MONTH(C66), C66+1,\"\"))","v":"2015-03-02"},{"$f":"IF(ISERROR(IF(MONTH(D66+1)=MONTH(D66), D66+1,\"\")),\"\",IF(MONTH(D66+1)=MONTH(D66), D66+1,\"\"))","v":"2015-03-03"},"2015-03-04","2015-03-05","2015-03-06","2015-03-07","2015-03-08","2015-03-09","2015-03-10","2015-03-11","2015-03-12","2015-03-13","2015-03-14","2015-03-15","2015-03-16","2015-03-17","2015-03-18","2015-03-19","2015-03-20","2015-03-21","2015-03-22","2015-03-23","2015-03-24","2015-03-25","2015-03-26","2015-03-27","2015-03-28","2015-03-29","2015-03-30","2015-03-31"]
[null,"user_01"]
[null,"user_02"]
[null,"user_03"]
[null,"user_04"]
[null,"user_05"]
[null,"user_06"]
[null,"user_07"]
[null,"user_08"]
[null,"user_09"]
[null,"user_10"]
[null,"user_11"]
[null,"user_12"]
[null,"user_13"]
[null,"user_14"]
[null,"user_15"]
[null,"user_16"]
[null,"user_17"]
[null,"user_18"]
[null,"user_19"]
[null,"user_20"]
[null,"user_21"]
[null,"user_22"]
[null,"user_23"]
[null,"user_24"]
[null,"user_25"]
[null,"user_26"]
[null,"user_27"]
[null,"user_28"]
[null,"user_29"]
[null,"user_30"]
[]
[null,4,{"$f":"DATE(月別!$B$5,B98,1)","v":"2015-04-01"},{"$f":"IF(ISERROR(IF(MONTH(C98+1)=MONTH(C98), C98+1,\"\")),\"\",IF(MONTH(C98+1)=MONTH(C98), C98+1,\"\"))","v":"2015-04-02"},{"$f":"IF(ISERROR(IF(MONTH(D98+1)=MONTH(D98), D98+1,\"\")),\"\",IF(MONTH(D98+1)=MONTH(D98), D98+1,\"\"))","v":"2015-04-03"},"2015-04-04","2015-04-05","2015-04-06","2015-04-07","2015-04-08","2015-04-09","2015-04-10","2015-04-11","2015-04-12","2015-04-13","2015-04-14","2015-04-15","2015-04-16","2015-04-17","2015-04-18","2015-04-19","2015-04-20","2015-04-21","2015-04-22","2015-04-23","2015-04-24","2015-04-25","2015-04-26","2015-04-27","2015-04-28","2015-04-29","2015-04-30",""]
[null,"user_01"]
[null,"user_02"]
[null,"user_03"]
[null,"user_04"]
[null,"user_05"]
[null,"user_06"]
[null,"user_07"]
[null,"user_08"]
[null,"user_09"]
[null,"user_10"]
[null,"user_11"]
[null,"user_12"]
[null,"user_13"]
[null,"user_14"]
[null,"user_15"]
[null,"user_16"]
[null,"user_17"]
[null,"user_18"]
[null,"user_19"]
[null,"user_20"]
[null,"user_21"]
[null,"user_22"]
[null,"user_23"]
[null,"user_24"]
[null,"user_25"]
[null,"user_26"]
[null,"user_27"]
[null,"user_28"]
[null,"user_29"]
[null,"user_30"]
[]
[null,5,{"$f":"DATE(月別!$B$5,B130,1)","v":"2015-05-01"},{"$f":"IF(ISERROR(IF(MONTH(C130+1)=MONTH(C130), C130+1,\"\")),\"\",IF(MONTH(C130+1)=MONTH(C130), C130+1,\"\"))","v":"2015-05-02"},{"$f":"IF(ISERROR(IF(MONTH(D130+1)=MONTH(D130), D130+1,\"\")),\"\",IF(MONTH(D130+1)=MONTH(D130), D130+1,\"\"))","v":"2015-05-03"},"2015-05-04","2015-05-05","2015-05-06","2015-05-07","2015-05-08","2015-05-09","2015-05-10","2015-05-11","2015-05-12","2015-05-13","2015-05-14","2015-05-15","2015-05-16","2015-05-17","2015-05-18","2015-05-19","2015-05-20","2015-05-21","2015-05-22","2015-05-23","2015-05-24","2015-05-25","2015-05-26","2015-05-27","2015-05-28","2015-05-29","2015-05-30","2015-05-31"]
[null,"user_01"]
[null,"user_02"]
[null,"user_03"]
[null,"user_04"]
[null,"user_05"]
[null,"user_06"]
[null,"user_07"]
[null,"user_08"]
[null,"user_09"]
[null,"user_10"]
[null,"user_11"]
[null,"user_12"]
[null,"user_13"]
[null,"user_14"]
[null,"user_15"]
[null,"user_16"]
[null,"user_17"]
[null,"user_18"]
[null,"user_19"]
[null,"user_20"]
[null,"user_21"]
[null,"user_22"]
[null,"user_23"]
[null,"user_24"]
[null,"user_25"]
[null,"user_26"]
[null,"user_27"]
[null,"user_28"]
[null,"user_29"]
[null,"user_30"]
[]
[null,6,{"$f":"DATE(月別!$B$5,B162,1)","v":"2015-06-01"},{"$f":"IF(ISERROR(IF(MONTH(C162+1)=MONTH(C162), C162+1,\"\")),\"\",IF(MONTH(C162+1)=MONTH(C162), C162+1,\"\"))","v":"2015-06-02"},{"$f":"IF(ISERROR(IF(MONTH(D162+1)=MONTH(D162), D162+1,\"\")),\"\",IF(MONTH(D162+1)=MONTH(D162), D162+1,\"\"))","v":"2015-06-03"},"2015-06-04","2015-06-05","2015-06-06","2015-06-07","2015-06-08","2015-06-09","2015-06-10","2015-06-11","2015-06-12","2015-06-13","2015-06-14","2015-06-15","2015-06-16","2015-06-17","2015-06-18","2015-06-19","2015-06-20","2015-06-21","2015-06-22","2015-06-23","2015-06-24","2015-06-25","2015-06-26","2015-06-27","2015-06-28","2015-06-29","2015-06-30",""]
[null,"user_01"]
[null,"user_02"]
[null,"user_03"]
[null,"user_04"]
[null,"user_05"]
[null,"user_06"]
[null,"user_07"]
[null,"user_08"]
[null,"user_09"]
[null,"user_10"]
[null,"user_11"]
[null,"user_12"]
[null,"user_13"]
[null,"user_14"]
[null,"user_15"]
[null,"user_16"]
[null,"user_17"]
[null,"user_18"]
[null,"user_19"]
[null,"user_20"]
[null,"user_21"]
[null,"user_22"]
[null,"user_23"]
[null,"user_24"]
[null,"user_25"]
[null,"user_26"]
[null,"user_27"]
[null,"user_28"]
[null,"user_29"]
[null,"user_30"]
[]
[null,7,{"$f":"DATE(月別!$B$5,B194,1)","v":"2015-07-01"},{"$f":"IF(ISERROR(IF(MONTH(C194+1)=MONTH(C194), C194+1,\"\")),\"\",IF(MONTH(C194+1)=MONTH(C194), C194+1,\"\"))","v":"2015-07-02"},{"$f":"IF(ISERROR(IF(MONTH(D194+1)=MONTH(D194), D194+1,\"\")),\"\",IF(MONTH(D194+1)=MONTH(D194), D194+1,\"\"))","v":"2015-07-03"},"2015-07-04","2015-07-05","2015-07-06","2015-07-07","2015-07-08","2015-07-09","2015-07-10","2015-07-11","2015-07-12","2015-07-13","2015-07-14","2015-07-15","2015-07-16","2015-07-17","2015-07-18","2015-07-19","2015-07-20","2015-07-21","2015-07-22","2015-07-23","2015-07-24","2015-07-25","2015-07-26","2015-07-27","2015-07-28","2015-07-29","2015-07-30","2015-07-31"]
[null,"user_01"]
[null,"user_02"]
[null,"user_03"]
[null,"user_04"]
[null,"user_05"]
[null,"user_06"]
[null,"user_07"]
[null,"user_08"]
[null,"user_09"]
[null,"user_10"]
[null,"user_11"]
[null,"user_12"]
[null,"user_13"]
[null,"user_14"]
[null,"user_15"]
[null,"user_16"]
[null,"user_17"]
[null,"user_18"]
[null,"user_19"]
[null,"user_20"]
[null,"user_21"]
[null,"user_22"]
[null,"user_23"]
[null,"user_24"]
[null,"user_25"]
[null,"user_26"]
[null,"user_27"]
[null,"user_28"]
[null,"user_29"]
[null,"user_30"]
[]
[null,8,{"$f":"DATE(月別!$B$5,B226,1)","v":"2015-08-01"},{"$f":"IF(ISERROR(IF(MONTH(C226+1)=MONTH(C226), C226+1,\"\")),\"\",IF(MONTH(C226+1)=MONTH(C226), C226+1,\"\"))","v":"2015-08-02"},{"$f":"IF(ISERROR(IF(MONTH(D226+1)=MONTH(D226), D226+1,\"\")),\"\",IF(MONTH(D226+1)=MONTH(D226), D226+1,\"\"))","v":"2015-08-03"},"2015-08-04","2015-08-05","2015-08-06","2015-08-07","2015-08-08","2015-08-09","2015-08-10","2015-08-11","2015-08-12","2015-08-13","2015-08-14","2015-08-15","2015-08-16","2015-08-17","2015-08-18","2015-08-19","2015-08-20","2015-08-21","2015-08-22","2015-08-23","2015-08-24","2015-08-25","2015-08-26","2015-08-27","2015-08-28","2015-08-29","2015-08-30","2015-08-31"]
[null,"user_01"]
[null,"user_02"]
[null,"user_03"]
[null,"user_04"]
[null,"user_05"]
[null,"user_06"]
[null,"user_07"]
[null,"user_08"]
[null,"user_09"]
[null,"user_10"]
[null,"user_11"]
[null,"user_12"]
[null,"user_13"]
[null,"user_14"]
[null,"user_15"]
[null,"user_16"]
[null,"user_17"]
[null,"user_18"]
[null,"user_19"]
[null,"user_20"]
[null,"user_21"]
[null,"user_22"]
[null,"user_23"]
[null,"user_24"]
[null,"user_25"]
[null,"user_26"]
[null,"user_27"]
[null,"user_28"]
[null,"user_29"]
[null,"user_30"]
[]
[null,9,{"$f":"DATE(月別!$B$5,B258,1)","v":"2015-09-01"},{"$f":"IF(ISERROR(IF(MONTH(C258+1)=MONTH(C258), C258+1,\"\")),\"\",IF(MONTH(C258+1)=MONTH(C258), C258+1,\"\"))","v":"2015-09-02"},{"$f":"IF(ISERROR(IF(MONTH(D258+1)=MONTH(D258), D258+1,\"\")),\"\",IF(MONTH(D258+1)=MONTH(D258), D258+1,\"\"))","v":"2015-09-03"},"2015-09-04","2015-09-05","2015-09-06","2015-09-07","2015-09-08","2015-09-09","2015-09-10","2015-09-11","2015-09-12","2015-09-13","2015-09-14","2015-09-15","2015-09-16","2015-09-17","2015-09-18","2015-09-19","2015-09-20","2015-09-21","2015-09-22","2015-09-23","2015-09-24","2015-09-25","2015-09-26","2015-09-27","2015-09-28","2015-09-29","2015-09-30",""]
[null,"user_01"]
[null,"user_02"]
[null,"user_03"]
[null,"user_04"]
[null,"user_05"]
[null,"user_06"]
[null,"user_07"]
[null,"user_08"]
[null,"user_09"]
[null,"user_10"]
[null,"user_11"]
[null,"user_12"]
[null,"user_13"]
[null,"user_14"]
[null,"user_15"]
[null,"user_16"]
[null,"user_17"]
[null,"user_18"]
[null,"user_19"]
[null,"user_20"]
[null,"user_21"]
[null,"user_22"]
[null,"user_23"]
[null,"user_24"]
[null,"user_25"]
[null,"user_26"]
[null,"user_27"]
[null,"user_28"]
[null,"user_29"]
[null,"user_30"]
[]
[null,10,{"$f":"DATE(月別!$B$5,B290,1)","v":"2015-10-01"},{"$f":"IF(ISERROR(IF(MONTH(C290+1)=MONTH(C290), C290+1,\"\")),\"\",IF(MONTH(C290+1)=MONTH(C290), C290+1,\"\"))","v":"2015-10-02"},{"$f":"IF(ISERROR(IF(MONTH(D290+1)=MONTH(D290), D290+1,\"\")),\"\",IF(MONTH(D290+1)=MONTH(D290), D290+1,\"\"))","v":"2015-10-03"},"2015-10-04","2015-10-05","2015-10-06","2015-10-07","2015-10-08","2015-10-09","2015-10-10","2015-10-11","2015-10-12","2015-10-13","2015-10-14","2015-10-15","2015-10-16","2015-10-17","2015-10-18","2015-10-19","2015-10-20","2015-10-21","2015-10-22","2015-10-23","2015-10-24","2015-10-25","2015-10-26","2015-10-27","2015-10-28","2015-10-29","2015-10-30","2015-10-31"]
[null,"user_01"]
[null,"user_02"]
[null,"user_03"]
[null,"user_04"]
[null,"user_05"]
[null,"user_06"]
[null,"user_07"]
[null,"user_08"]
[null,"user_09"]
[null,"user_10"]
[null,"user_11"]
[null,"user_12"]
[null,"user_13"]
[null,"user_14"]
[null,"user_15"]
[null,"user_16"]
[null,"user_17"]
[null,"user_18"]
[null,"user_19"]
[null,"user_20"]
[null,"user_21"]
[null,"user_22"]
[null,"user_23"]
[null,"user_24"]
[null,"user_25"]
[null,"user_26"]
[null,"user_27"]
[null,"user_28"]
[null,"user_29"]
[null,"user_30"]
[]
[null,11,{"$f":"DATE(月別!$B$5,B322,1)","v":"2015-11-01"},{"$f":"IF(ISERROR(IF(MONTH(C322+1)=MONTH(C322), C322+1,\"\")),\"\",IF(MONTH(C322+1)=MONTH(C322), C322+1,\"\"))","v":"2015-11-02"},{"$f":"IF(ISERROR(IF(MONTH(D322+1)=MONTH(D322), D322+1,\"\")),\"\",IF(MONTH(D322+1)=MONTH(D322), D322+1,\"\"))","v":"2015-11-03"},"2015-11-04","2015-11-05","2015-11-06","2015-11-07","2015-11-08","2015-11-09","2015-11-10","2015-11-11","2015-11-12","2015-11-13","2015-11-14","2015-11-15","2015-11-16","2015-11-17","2015-11-18","2015-11-19","2015-11-20","2015-11-21","2015-11-22","2015-11-23","2015-11-24","2015-11-25","2015-11-26","2015-11-27","2015-11-28","2015-11-29","2015-11-30",""]
[null,"user_01"]
[null,"user_02"]
[null,"user_03"]
[null,"user_04"]
[null,"user_05"]
[null,"user_06"]
[null,"user_07"]
[null,"user_08"]
[null,"user_09"]
[null,"user_10"]
[null,"user_11"]
[null,"user_12"]
[null,"user_13"]
[null,"user_14"]
[null,"user_15"]
[null,"user_16"]
[null,"user_17"]
[null,"user_18"]
[null,"user_19"]
[null,"user_20"]
[null,"user_21"]
[null,"user_22"]
[null,"user_23"]
[null,"user_24"]
[null,"user_25"]
[null,"user_26"]
[null,"user_27"]
[null,"user_28"]
[null,"user_29"]
[null,"user_30"]
[]
[null,12,{"$f":"DATE(月別!$B$5,B354,1)","v":"2015-12-01"},{"$f":"IF(ISERROR(IF(MONTH(C354+1)=MONTH(C354), C354+1,\"\")),\"\",IF(MONTH(C354+1)=MONTH(C354), C354+1,\"\"))","v":"2015-12-02"},{"$f":"IF(ISERROR(IF(MONTH(D354+1)=MONTH(D354), D354+1,\"\")),\"\",IF(MONTH(D354+1)=MONTH(D354), D354+1,\"\"))","v":"2015-12-03"},"2015-12-04","2015-12-05","2015-12-06","2015-12-07","2015-12-08","2015-12-09","2015-12-10","2015-12-11","2015-12-12","2015-12-13","2015-12-14","2015-12-15","2015-12-16","2015-12-17","2015-12-18","2015-12-19","2015-12-20","2015-12-21","2015-12-22","2015-12-23","2015-12-24","2015-12-25","2015-12-26","2015-12-27","2015-12-28","2015-12-29","2015-12-30","2015-12-31"]
[null,"user_01"]
[null,"user_02"]
[null,"user_03"]
[null,"user_04"]
[null,"user_05"]
[null,"user_06"]
[null,"user_07"]
[null,"user_08"]
[null,"user_09"]
[null,"user_10"]
[null,"user_11"]
[null,"user_12"]
[null,"user_13"]
[null,"user_14"]
[null,"user_15"]
[null,"user_16"]
[null,"user_17"]
[null,"user_18"]
[null,"user_19"]
[null,"user_20"]
[null,"user_21"]
[null,"user_22"]
[null,"user_23"]
[null,"user_24"]
[null,"user_25"]
[null,"user_26"]
[null,"user_27"]
[null,"user_28"]
[null,"user_29"]
[null,"user_30"]

{"sheet":"設定","index":7,"n_rows":356,"n_cols":11,"rows_kept":356,"cut":false,"hidden":true,"merged":[]}
[]
[null,null,"リスト情報",null,null,"祝日設定",null,"月リスト",null,"時リスト","分リスト"]
[null,{"$f":"月別!F4","v":"早番"},{"$f":"月別!F5","v":"08:00:00"},{"$f":"月別!F6","v":"16:00:00"},null,"2013-01-01",null,1,null,7,0]
[null,{"$f":"月別!G4","v":"通常"},{"$f":"月別!G5","v":"11:00:00"},{"$f":"月別!G6","v":"19:00:00"},null,"2013-01-14",null,2,null,8,30]
[null,{"$f":"月別!H4","v":"遅番"},{"$f":"月別!H5","v":"16:00:00"},{"$f":"月別!H6","v":"21:00:00"},null,"2013-02-11",null,3,null,9]
[null,"休み","-",null,null,"2013-03-20",null,4,null,10]
[null,{"$f":"月別!I4","v":"定休日"},{"$f":"月別!I5","v":"日"},null,null,"2013-04-29",null,5,null,11]
[null,null,null,null,null,"2013-05-03",null,6,null,12]
[null,null,null,null,null,"2013-05-04",null,7,null,13]
[null,null,null,null,null,"2013-05-05",null,8,null,14]
[null,null,null,null,null,"2013-05-06",null,9,null,15]
[null,null,null,null,null,"2013-07-15",null,10,null,16]
[null,null,null,null,null,"2013-09-16",null,11,null,17]
[null,null,null,null,null,"2013-09-23",null,12,null,18]
[null,null,null,null,null,"2013-10-14",null,null,null,19]
[null,null,null,null,null,"2013-11-03",null,null,null,20]
[null,null,null,null,null,"2013-11-04",null,null,null,21]
[null,null,null,null,null,"2013-11-23",null,null,null,22]
[null,null,null,null,null,"2013-12-23",null,null,null,23]
[null,null,null,null,null,"2014-01-01",null,null,null,"休み"]
[null,null,null,null,null,"2014-01-13"]
[null,null,null,null,null,"2014-02-11"]
[null,null,null,null,null,"2014-03-21"]
[null,null,null,null,null,"2014-04-29"]
[null,null,null,null,null,"2014-05-03"]
[null,null,null,null,null,"2014-05-04"]
[null,null,null,null,null,"2014-05-05"]
[null,null,null,null,null,"2014-05-06"]
[null,null,null,null,null,"2014-07-21"]
[null,null,null,null,null,"2014-09-15"]
[null,null,null,null,null,"2014-09-23"]
[null,null,null,null,null,"2014-10-13"]
[null,null,null,null,null,"2014-11-03"]
[null,null,null,null,null,"2014-11-23"]
[null,null,null,null,null,"2014-11-24"]
[null,null,null,null,null,"2014-12-23"]
[null,null,null,null,null,"2015-01-01"]
[null,null,null,null,null,"2015-01-12"]
[null,null,null,null,null,"2015-02-11"]
[null,null,null,null,null,"2015-03-21"]
[null,null,null,null,null,"2015-04-29"]
[null,null,null,null,null,"2015-05-03"]
[null,null,null,null,null,"2015-05-04"]
[null,null,null,null,null,"2015-05-05"]
[null,null,null,null,null,"2015-05-06"]
[null,null,null,null,null,"2015-07-20"]
[null,null,null,null,null,"2015-09-21"]
[null,null,null,null,null,"2015-09-22"]
[null,null,null,null,null,"2015-09-23"]
[null,null,null,null,null,"2015-10-12"]
[null,null,null,null,null,"2015-11-03"]
[null,null,null,null,null,"2015-11-23"]
[null,null,null,null,null,"2015-12-23"]
[null,null,null,null,null,"2016-01-01"]
[null,null,null,null,null,"2016-01-11"]
[null,null,null,null,null,"2016-02-11"]
[null,null,null,null,null,"2016-03-20"]
[null,null,null,null,null,"2016-03-21"]
[null,null,null,null,null,"2016-04-29"]
[null,null,null,null,null,"2016-05-03"]
[null,null,null,null,null,"2016-05-04"]
[null,null,null,null,null,"2016-05-05"]
[null,null,null,null,null,"2016-07-18"]
[null,null,null,null,null,"2016-08-11"]
[null,null,null,null,null,"2016-09-19"]
[null,null,null,null,null,"2016-09-22"]
[null,null,null,null,null,"2016-10-10"]
[null,null,null,null,null,"2016-11-03"]
[null,null,null,null,null,"2016-11-23"]
[null,null,null,null,null,"2016-12-23"]
[null,null,null,null,null,"2017-01-01"]
[null,null,null,null,null,"2017-01-02"]
[null,null,null,null,null,"2017-01-09"]
[null,null,null,null,null,"2017-02-11"]
[null,null,null,null,null,"2017-03-20"]
[null,null,null,null,null,"2017-04-29"]
[null,null,null,null,null,"2017-05-03"]
[null,null,null,null,null,"2017-05-04"]
[null,null,null,null,null,"2017-05-05"]
[null,null,null,null,null,"2017-07-17"]
[null,null,null,null,null,"2017-08-11"]
[null,null,null,null,null,"2017-09-18"]
[null,null,null,null,null,"2017-09-23"]
[null,null,null,null,null,"2017-10-09"]
[null,null,null,null,null,"2017-11-03"]
[null,null,null,null,null,"2017-11-23"]
[null,null,null,null,null,"2017-12-23"]
[null,null,null,null,null,"2018-01-01"]
[null,null,null,null,null,"2018-01-08"]
[null,null,null,null,null,"2018-02-11"]
[null,null,null,null,null,"2018-02-12"]
[null,null,null,null,null,"2018-03-21"]
[null,null,null,null,null,"2018-04-29"]
[null,null,null,null,null,"2018-04-30"]
[null,null,null,null,null,"2018-05-03"]
[null,null,null,null,null,"2018-05-04"]
[null,null,null,null,null,"2018-05-05"]
[null,null,null,null,null,"2018-07-16"]
[null,null,null,null,null,"2018-08-11"]
[null,null,null,null,null,"2018-09-17"]
[null,null,null,null,null,"2018-09-23"]
[null,null,null,null,null,"2018-09-24"]
[null,null,null,null,null,"2018-10-08"]
[null,null,null,null,null,"2018-11-03"]
[null,null,null,null,null,"2018-11-23"]
[null,null,null,null,null,"2018-12-23"]
[null,null,null,null,null,"2018-12-24"]
[null,null,null,null,null,"2019-01-01"]
[null,null,null,null,null,"2019-01-14"]
[null,null,null,null,null,"2019-02-11"]
[null,null,null,null,null,"2019-03-21"]
[null,null,null,null,null,"2019-04-29"]
[null,null,null,null,null,"2019-05-03"]
[null,null,null,null,null,"2019-05-04"]
[null,null,null,null,null,"2019-05-05"]
[null,null,null,null,null,"2019-05-06"]
[null,null,null,null,null,"2019-07-15"]
[null,null,null,null,null,"2019-08-11"]
[null,null,null,null,null,"2019-08-12"]
[null,null,null,null,null,"2019-09-16"]
[null,null,null,null,null,"2019-09-23"]
[null,null,null,null,null,"2019-10-14"]
[null,null,null,null,null,"2019-11-03"]
[null,null,null,null,null,"2019-11-04"]
[null,null,null,null,null,"2019-11-23"]
[null,null,null,null,null,"2019-12-23"]
[null,null,null,null,null,"2020-01-01"]
[null,null,null,null,null,"2020-01-13"]
[null,null,null,null,null,"2020-02-11"]
[null,null,null,null,null,"2020-03-20"]
[null,null,null,null,null,"2020-04-29"]
[null,null,null,null,null,"2020-05-03"]
[null,null,null,null,null,"2020-05-04"]
[null,null,null,null,null,"2020-05-05"]
[null,null,null,null,null,"2020-05-06"]
[null,null,null,null,null,"2020-07-20"]
[null,null,null,null,null,"2020-08-11"]
[null,null,null,null,null,"2020-09-21"]
[null,null,null,null,null,"2020-09-22"]
[null,null,null,null,null,"2020-10-12"]
[null,null,null,null,null,"2020-11-03"]
[null,null,null,null,null,"2020-11-23"]
[null,null,null,null,null,"2020-12-23"]
[null,null,null,null,null,"2021-01-01"]
[null,null,null,null,null,"2021-01-11"]
[null,null,null,null,null,"2021-02-11"]
[null,null,null,null,null,"2021-03-20"]
[null,null,null,null,null,"2021-04-29"]
[null,null,null,null,null,"2021-05-03"]
[null,null,null,null,null,"2021-05-04"]
[null,null,null,null,null,"2021-05-05"]
[null,null,null,null,null,"2021-07-19"]
[null,null,null,null,null,"2021-08-11"]
[null,null,null,null,null,"2021-09-20"]
[null,null,null,null,null,"2021-09-23"]
[null,null,null,null,null,"2021-10-11"]
[null,null,null,null,null,"2021-11-03"]
[null,null,null,null,null,"2021-11-23"]
[null,null,null,null,null,"2021-12-23"]
[null,null,null,null,null,"2022-01-01"]
[null,null,null,null,null,"2022-01-10"]
[null,null,null,null,null,"2022-02-11"]
[null,null,null,null,null,"2022-03-21"]
[null,null,null,null,null,"2022-04-29"]
[null,null,null,null,null,"2022-05-03"]
[null,null,null,null,null,"2022-05-04"]
[null,null,null,null,null,"2022-05-05"]
[null,null,null,null,null,"2022-07-18"]
[null,null,null,null,null,"2022-08-11"]
[null,null,null,null,null,"2022-09-19"]
[null,null,null,null,null,"2022-09-23"]
[null,null,null,null,null,"2022-10-10"]
[null,null,null,null,null,"2022-11-03"]
[null,null,null,null,null,"2022-11-23"]
[null,null,null,null,null,"2022-12-23"]
[null,null,null,null,null,"2023-01-01"]
[null,null,null,null,null,"2023-01-02"]
[null,null,null,null,null,"2023-01-09"]
[null,null,null,null,null,"2023-02-11"]
[null,null,null,null,null,"2023-03-21"]
[null,null,null,null,null,"2023-04-29"]
[null,null,null,null,null,"2023-05-03"]
[null,null,null,null,null,"2023-05-04"]
[null,null,null,null,null,"2023-05-05"]
[null,null,null,null,null,"2023-07-17"]
[null,null,null,null,null,"2023-08-11"]
[null,null,null,null,null,"2023-09-18"]
[null,null,null,null,null,"2023-09-23"]
[null,null,null,null,null,"2023-10-09"]
[null,null,null,null,null,"2023-11-03"]
[null,null,null,null,null,"2023-11-23"]
[null,null,null,null,null,"2023-12-23"]
[null,null,null,null,null,"2024-01-01"]
[null,null,null,null,null,"2024-01-08"]
[null,null,null,null,null,"2024-02-11"]
[null,null,null,null,null,"2024-02-12"]
[null,null,null,null,null,"2024-03-20"]
[null,null,null,null,null,"2024-04-29"]
[null,null,null,null,null,"2024-05-03"]
[null,null,null,null,null,"2024-05-04"]
[null,null,null,null,null,"2024-05-05"]
[null,null,null,null,null,"2024-05-06"]
[null,null,null,null,null,"2024-07-15"]
[null,null,null,null,null,"2024-08-11"]
[null,null,null,null,null,"2024-08-12"]
[null,null,null,null,null,"2024-09-16"]
[null,null,null,null,null,"2024-09-22"]
[null,null,null,null,null,"2024-09-23"]
[null,null,null,null,null,"2024-10-14"]
[null,null,null,null,null,"2024-11-03"]
[null,null,null,null,null,"2024-11-04"]
[null,null,null,null,null,"2024-11-23"]
[null,null,null,null,null,"2024-12-23"]
[null,null,null,null,null,"2025-01-01"]
[null,null,null,null,null,"2025-01-13"]
[null,null,null,null,null,"2025-02-11"]
[null,null,null,null,null,"2025-03-20"]
[null,null,null,null,null,"2025-04-29"]
[null,null,null,null,null,"2025-05-03"]
[null,null,null,null,null,"2025-05-04"]
[null,null,null,null,null,"2025-05-05"]
[null,null,null,null,null,"2025-05-06"]
[null,null,null,null,null,"2025-07-21"]
[null,null,null,null,null,"2025-08-11"]
[null,null,null,null,null,"2025-09-15"]
[null,null,null,null,null,"2025-09-23"]
[null,null,null,null,null,"2025-10-13"]
[null,null,null,null,null,"2025-11-03"]
[null,null,null,null,null,"2025-11-23"]
[null,null,null,null,null,"2025-11-24"]
[null,null,null,null,null,"2025-12-23"]
[null,null,null,null,null,"2026-01-01"]
[null,null,null,null,null,"2026-01-12"]
[null,null,null,null,null,"2026-02-11"]
[null,null,null,null,null,"2026-03-20"]
[null,null,null,null,null,"2026-04-29"]
[null,null,null,null,null,"2026-05-03"]
[null,null,null,null,null,"2026-05-04"]
[null,null,null,null,null,"2026-05-05"]
[null,null,null,null,null,"2026-05-06"]
[null,null,null,null,null,"2026-07-20"]
[null,null,null,null,null,"2026-08-11"]
[null,null,null,null,null,"2026-09-21"]
[null,null,null,null,null,"2026-09-22"]
[null,null,null,null,null,"2026-09-23"]
[null,null,null,null,null,"2026-10-12"]
[null,null,null,null,null,"2026-11-03"]
[null,null,null,null,null,"2026-11-23"]
[null,null,null,null,null,"2026-12-23"]
[null,null,null,null,null,"2027-01-01"]
[null,null,null,null,null,"2027-01-11"]
[null,null,null,null,null,"2027-02-11"]
[null,null,null,null,null,"2027-03-21"]
[null,null,null,null,null,"2027-03-22"]
[null,null,null,null,null,"2027-04-29"]
[null,null,null,null,null,"2027-05-03"]
[null,null,null,null,null,"2027-05-04"]
[null,null,null,null,null,"2027-05-05"]
[null,null,null,null,null,"2027-07-19"]
[null,null,null,null,null,"2027-08-11"]
[null,null,null,null,null,"2027-09-20"]
[null,null,null,null,null,"2027-09-23"]
[null,null,null,null,null,"2027-10-11"]
[null,null,null,null,null,"2027-11-03"]
[null,null,null,null,null,"2027-11-23"]
[null,null,null,null,null,"2027-12-23"]
[null,null,null,null,null,"2028-01-01"]
[null,null,null,null,null,"2028-01-10"]
[null,null,null,null,null,"2028-02-11"]
[null,null,null,null,null,"2028-03-20"]
[null,null,null,null,null,"2028-04-29"]
[null,null,null,null,null,"2028-05-03"]
[null,null,null,null,null,"2028-05-04"]
[null,null,null,null,null,"2028-05-05"]
[null,null,null,null,null,"2028-07-17"]
[null,null,null,null,null,"2028-08-11"]
[null,null,null,null,null,"2028-09-18"]
[null,null,null,null,null,"2028-09-22"]
[null,null,null,null,null,"2028-10-09"]
[null,null,null,null,null,"2028-11-03"]
[null,null,null,null,null,"2028-11-23"]
[null,null,null,null,null,"2028-12-23"]
[null,null,null,null,null,"2029-01-01"]
[null,null,null,null,null,"2029-01-08"]
[null,null,null,null,null,"2029-02-11"]
[null,null,null,null,null,"2029-02-12"]
[null,null,null,null,null,"2029-03-20"]
[null,null,null,null,null,"2029-04-29"]
[null,null,null,null,null,"2029-04-30"]
[null,null,null,null,null,"2029-05-03"]
[null,null,null,null,null,"2029-05-04"]
[null,null,null,null,null,"2029-05-05"]
[null,null,null,null,null,"2029-07-16"]
[null,null,null,null,null,"2029-08-11"]
[null,null,null,null,null,"2029-09-17"]
[null,null,null,null,null,"2029-09-23"]
[null,null,null,null,null,"2029-09-24"]
[null,null,null,null,null,"2029-10-08"]
[null,null,null,null,null,"2029-11-03"]
[null,null,null,null,null,"2029-11-23"]
[null,null,null,null,null,"2029-12-23"]
[null,null,null,null,null,"2029-12-24"]
[null,null,null,null,null,"2030-01-01"]
[null,null,null,null,null,"2030-01-14"]
[null,null,null,null,null,"2030-02-11"]
[null,null,null,null,null,"2030-03-20"]
[null,null,null,null,null,"2030-04-29"]
[null,null,null,null,null,"2030-05-03"]
[null,null,null,null,null,"2030-05-04"]
[null,null,null,null,null,"2030-05-05"]
[null,null,null,null,null,"2030-05-06"]
[null,null,null,null,null,"2030-07-15"]
[null,null,null,null,null,"2030-08-11"]
[null,null,null,null,null,"2030-08-12"]
[null,null,null,null,null,"2030-09-16"]
[null,null,null,null,null,"2030-09-23"]
[null,null,null,null,null,"2030-10-14"]
[null,null,null,null,null,"2030-11-03"]
[null,null,null,null,null,"2030-11-04"]
[null,null,null,null,null,"2030-11-23"]
[null,null,null,null,null,"2030-12-23"]
[null,null,null,null,null,"2031-01-01"]
[null,null,null,null,null,"2031-01-13"]
[null,null,null,null,null,"2031-02-11"]
[null,null,null,null,null,"2031-03-21"]
[null,null,null,null,null,"2031-04-29"]
[null,null,null,null,null,"2031-05-03"]
[null,null,null,null,null,"2031-05-04"]
[null,null,null,null,null,"2031-05-05"]
[null,null,null,null,null,"2031-05-06"]
[null,null,null,null,null,"2031-07-21"]
[null,null,null,null,null,"2031-08-11"]
[null,null,null,null,null,"2031-09-15"]
[null,null,null,null,null,"2031-09-23"]
[null,null,null,null,null,"2031-10-13"]
[null,null,null,null,null,"2031-11-03"]
[null,null,null,null,null,"2031-11-23"]
[null,null,null,null,null,"2031-11-24"]
[null,null,null,null,null,"2031-12-23"]
[null,null,null,null,null,"2032-01-01"]
[null,null,null,null,null,"2032-01-12"]
[null,null,null,null,null,"2032-02-11"]
[null,null,null,null,null,"2032-03-20"]
[null,null,null,null,null,"2032-04-29"]
[null,null,null,null,null,"2032-05-03"]
[null,null,null,null,null,"2032-05-04"]
[null,null,null,null,null,"2032-05-05"]
[null,null,null,null,null,"2032-07-19"]
[null,null,null,null,null,"2032-08-11"]
[null,null,null,null,null,"2032-09-20"]
[null,null,null,null,null,"2032-09-21"]
[null,null,null,null,null,"2032-09-22"]
[null,null,null,null,null,"2032-10-11"]
[null,null,null,null,null,"2032-11-03"]
[null,null,null,null,null,"2032-11-23"]
[null,null,null,null,null,"2032-12-23"]