{"text_format":"1","workbook":"xlsx","n_sheets":4,"sheets":["手順","お手本","リンク","美文字練習シート"],"not_rendered":{"charts":0,"images":11,"macros":0,"external_links":0,"defined_names":1,"comments":0,"pivot_tables":0},"unopened":[],"bounds":{"document_bytes":16777216,"sheet_cells":100000,"rows_first":2000,"rows_last":500,"rows_between":2000,"halvings":0,"cell_chars":16384,"cell_head_chars":4096},"cells_cut":0,"cells_raw":0,"read":"whole","date_system":"1900"}

{"sheet":"手順","index":0,"n_rows":29,"n_cols":2,"rows_kept":29,"cut":false,"hidden":false,"merged":[[1,0,1,9],[4,1,4,8]]}
[]
["手順"]
[]
[1,"[お手本] に練習したい文字を入力します。"]
[null,"※1行、縦4文字の入力が可能です。それ以上の文字数を練習したい場合は、\n　次の行も使って、練習することができます。"]
[]
[2,"[お手本] に入力した文字は別シートの [美文字練習シート] の"]
[null,"右側から反映されていきます。"]
[]
[3,"[美文字練習シート] は、Ａ４サイズで印刷してください。"]
[]
[]
[]
[]
[]
[]
[]
[]
[]
[]
[]
[]
[4,"リボンの [ファイル] の [印刷] から上記の印刷画面の"]
[null,"[シートを1ページに印刷]を選択します。"]
[]
[5,"印刷します。"]
[]
[6,"他の文字を練習する場合は、"]
[null,"[お手本] に練習したい文字に変更してください。"]

{"sheet":"お手本","index":1,"n_rows":17,"n_cols":25,"rows_kept":17,"cut":false,"hidden":false,"merged":[[2,25,3,26],[4,25,5,26],[6,25,7,26],[8,25,9,26],[0,1,0,26],[8,7,9,8],[2,1,3,2],[4,1,5,2],[6,1,7,2],[8,1,9,2],[2,4,3,5],[4,4,5,5],[8,4,9,5],[6,4,7,5],[2,10,3,11],[2,13,3,14],[8,10,9,11],[8,13,9,14],[4,7,5,8],[6,7,7,8],[2,19,3,20],[4,10,5,11],[4,13,5,14],[6,10,7,11],[2,7,3,8],[6,13,7,14],[2,22,3,23],[4,19,5,20],[4,22,5,23],[6,19,7,20],[2,16,3,17],[4,16,5,17],[6,16,7,17],[16,1,17,2],[16,4,17,5],[6,22,7,23],[8,19,9,20],[8,22,9,23],[10,1,11,2],[10,4,11,5],[10,7,11,8],[10,10,11,11],[8,16,9,17],[12,1,13,2],[12,4,13,5],[14,1,15,2],[12,7,13,8],[14,7,15,8],[16,7,17,8],[14,4,15,5],[14,16,15,17],[16,16,17,17],[16,10,17,11],[16,13,17,14],[14,10,15,11],[14,13,15,14],[10,16,11,17],[12,16,13,17],[10,13,11,14],[12,10,13,11],[12,13,13,14]]}
[]
[]
[1,null,null,2,null,null,3,null,null,4,null,null,5,null,null,6,null,null,7,null,null,8,null,null,9]
[]
[]
[]
[]
[]
[]
[]
[null,null,null,null,{"$f":"IF($B11=\"\",\"\",$B11)","v":""}]
[]
[null,null,null,null,{"$f":"IF($B13=\"\",\"\",$B13)","v":""}]
[]
[null,null,null,null,{"$f":"IF($B15=\"\",\"\",$B15)","v":""}]
[]
[null,null,null,null,{"$f":"IF($B17=\"\",\"\",$B17)","v":""}]

{"sheet":"リンク","index":2,"n_rows":15,"n_cols":26,"rows_kept":15,"cut":false,"hidden":true,"merged":[[14,1,15,2],[12,1,13,2],[10,1,11,2],[14,13,15,14],[14,16,15,17],[10,10,11,11],[10,13,11,14],[14,19,15,20],[14,22,15,23],[14,25,15,26],[12,25,13,26],[14,4,15,5],[14,7,15,8],[14,10,15,11],[12,13,13,14],[12,16,13,17],[12,19,13,20],[12,22,13,23],[12,4,13,5],[12,7,13,8],[12,10,13,11],[8,25,9,26],[10,4,11,5],[10,7,11,8],[8,16,9,17],[8,10,9,11],[8,13,9,14],[10,22,11,23],[10,25,11,26],[10,16,11,17],[10,19,11,20],[8,1,9,2],[8,4,9,5],[8,7,9,8],[6,19,7,20],[6,22,7,23],[8,19,9,20],[8,22,9,23],[6,25,7,26],[6,16,7,17],[6,10,7,11],[6,13,7,14],[6,1,7,2],[6,4,7,5],[6,7,7,8],[4,19,5,20],[4,22,5,23],[4,25,5,26],[4,16,5,17],[4,10,5,11],[4,13,5,14],[2,1,3,2],[2,4,3,5],[2,7,3,8],[4,1,5,2],[4,4,5,5],[4,7,5,8],[0,25,1,26],[0,16,1,17],[0,10,1,11],[0,13,1,14],[2,25,3,26],[2,16,3,17],[2,10,3,11],[2,13,3,14],[2,19,3,20],[2,22,3,23],[0,1,1,2],[0,4,1,5],[0,7,1,8],[0,19,1,20],[0,22,1,23]]}
[1,{"$f":"IF(お手本!B$3=\"\",\"\",お手本!B$3)","v":""},null,2,{"$f":"IF(お手本!E$3=\"\",\"\",お手本!E$3)","v":""},null,3,{"$f":"IF(お手本!H$3=\"\",\"\",お手本!H$3)","v":""},null,4,{"$f":"IF(お手本!K$3=\"\",\"\",お手本!K$3)","v":""},null,5,{"$f":"IF(お手本!N$3=\"\",\"\",お手本!N$3)","v":""},null,6,{"$f":"IF(お手本!Q$3=\"\",\"\",お手本!Q$3)","v":""},null,7,{"$f":"IF(お手本!T$3=\"\",\"\",お手本!T$3)","v":""},null,8,{"$f":"IF(お手本!W$3=\"\",\"\",お手本!W$3)","v":""},null,9,{"$f":"IF(お手本!Z$3=\"\",\"\",お手本!Z$3)","v":""}]
[]
[null,{"$f":"IF(COUNTA(お手本!B$3:C$10)=0,\"\",IF(COUNTA(お手本!B$3:C$10)=1,お手本!B$3,お手本!B$5))","v":""},null,null,{"$f":"IF(COUNTA(お手本!E$3:F$10)=0,\"\",IF(COUNTA(お手本!E$3:F$10)=1,お手本!E$3,お手本!E$5))","v":""},null,null,{"$f":"IF(COUNTA(お手本!H$3:I$10)=0,\"\",IF(COUNTA(お手本!H$3:I$10)=1,お手本!H$3,お手本!H$5))","v":""},null,null,{"$f":"IF(COUNTA(お手本!K$3:L$10)=0,\"\",IF(COUNTA(お手本!K$3:L$10)=1,お手本!K$3,お手本!K$5))","v":""},null,null,{"$f":"IF(COUNTA(お手本!N$3:O$10)=0,\"\",IF(COUNTA(お手本!N$3:O$10)=1,お手本!N$3,お手本!N$5))","v":""},null,null,{"$f":"IF(COUNTA(お手本!Q$3:R$10)=0,\"\",IF(COUNTA(お手本!Q$3:R$10)=1,お手本!Q$3,お手本!Q$5))","v":""},null,null,{"$f":"IF(COUNTA(お手本!T$3:U$10)=0,\"\",IF(COUNTA(お手本!T$3:U$10)=1,お手本!T$3,お手本!T$5))","v":""},null,null,{"$f":"IF(COUNTA(お手本!W$3:X$10)=0,\"\",IF(COUNTA(お手本!W$3:X$10)=1,お手本!W$3,お手本!W$5))","v":""},null,null,{"$f":"IF(COUNTA(お手本!Z$3:AA$10)=0,\"\",IF(COUNTA(お手本!Z$3:AA$10)=1,お手本!Z$3,お手本!Z$5))","v":""}]
[]
[null,{"$f":"IF(COUNTA(お手本!B$3:C$10)=0,\"\",IF(COUNTA(お手本!B$3:C$10)<3,お手本!B$3,お手本!B$7))","v":""},null,null,{"$f":"IF(COUNTA(お手本!E$3:F$10)=0,\"\",IF(COUNTA(お手本!E$3:F$10)<3,お手本!E$3,お手本!E$7))","v":""},null,null,{"$f":"IF(COUNTA(お手本!H$3:I$10)=0,\"\",IF(COUNTA(お手本!H$3:I$10)<3,お手本!H$3,お手本!H$7))","v":""},null,null,{"$f":"IF(COUNTA(お手本!K$3:L$10)=0,\"\",IF(COUNTA(お手本!K$3:L$10)<3,お手本!K$3,お手本!K$7))","v":""},null,null,{"$f":"IF(COUNTA(お手本!N$3:O$10)=0,\"\",IF(COUNTA(お手本!N$3:O$10)<3,お手本!N$3,お手本!N$7))","v":""},null,null,{"$f":"IF(COUNTA(お手本!Q$3:R$10)=0,\"\",IF(COUNTA(お手本!Q$3:R$10)<3,お手本!Q$3,お手本!Q$7))","v":""},null,null,{"$f":"IF(COUNTA(お手本!T$3:U$10)=0,\"\",IF(COUNTA(お手本!T$3:U$10)<3,お手本!T$3,お手本!T$7))","v":""},null,null,{"$f":"IF(COUNTA(お手本!W$3:X$10)=0,\"\",IF(COUNTA(お手本!W$3:X$10)<3,お手本!W$3,お手本!W$7))","v":""},null,null,{"$f":"IF(COUNTA(お手本!Z$3:AA$10)=0,\"\",IF(COUNTA(お手本!Z$3:AA$10)<3,お手本!Z$3,お手本!Z$7))","v":""}]
[]
[null,{"$f":"IF(COUNTA(お手本!B$3:C$10)=0,\"\",CHOOSE(COUNTA(お手本!B$3:C$10),お手本!B$3,お手本!B$5,お手本!B$3,お手本!B$9))","v":""},null,null,{"$f":"IF(COUNTA(お手本!E$3:F$10)=0,\"\",CHOOSE(COUNTA(お手本!E$3:F$10),お手本!E$3,お手本!E$5,お手本!E$3,お手本!E$9))","v":""},null,null,{"$f":"IF(COUNTA(お手本!H$3:I$10)=0,\"\",CHOOSE(COUNTA(お手本!H$3:I$10),お手本!H$3,お手本!H$5,お手本!H$3,お手本!H$9))","v":""},null,null,{"$f":"IF(COUNTA(お手本!K$3:L$10)=0,\"\",CHOOSE(COUNTA(お手本!K$3:L$10),お手本!K$3,お手本!K$5,お手本!K$3,お手本!K$9))","v":""},null,null,{"$f":"IF(COUNTA(お手本!N$3:O$10)=0,\"\",CHOOSE(COUNTA(お手本!N$3:O$10),お手本!N$3,お手本!N$5,お手本!N$3,お手本!N$9))","v":""},null,null,{"$f":"IF(COUNTA(お手本!Q$3:R$10)=0,\"\",CHOOSE(COUNTA(お手本!Q$3:R$10),お手本!Q$3,お手本!Q$5,お手本!Q$3,お手本!Q$9))","v":""},null,null,{"$f":"IF(COUNTA(お手本!T$3:U$10)=0,\"\",CHOOSE(COUNTA(お手本!T$3:U$10),お手本!T$3,お手本!T$5,お手本!T$3,お手本!T$9))","v":""},null,null,{"$f":"IF(COUNTA(お手本!W$3:X$10)=0,\"\",CHOOSE(COUNTA(お手本!W$3:X$10),お手本!W$3,お手本!W$5,お手本!W$3,お手本!W$9))","v":""},null,null,{"$f":"IF(COUNTA(お手本!Z$3:AA$10)=0,\"\",CHOOSE(COUNTA(お手本!Z$3:AA$10),お手本!Z$3,お手本!Z$5,お手本!Z$3,お手本!Z$9))","v":""}]
[]
[null,{"$f":"IF(COUNTA(お手本!B$3:C$10)=0,\"\",CHOOSE(COUNTA(お手本!B$3:C$10),\"\",お手本!B$3,お手本!B$5,お手本!B$3))","v":""},null,null,{"$f":"IF(COUNTA(お手本!E$3:F$10)=0,\"\",CHOOSE(COUNTA(お手本!E$3:F$10),\"\",お手本!E$3,お手本!E$5,お手本!E$3))","v":""},null,null,{"$f":"IF(COUNTA(お手本!H$3:I$10)=0,\"\",CHOOSE(COUNTA(お手本!H$3:I$10),\"\",お手本!H$3,お手本!H$5,お手本!H$3))","v":""},null,null,{"$f":"IF(COUNTA(お手本!K$3:L$10)=0,\"\",CHOOSE(COUNTA(お手本!K$3:L$10),\"\",お手本!K$3,お手本!K$5,お手本!K$3))","v":""},null,null,{"$f":"IF(COUNTA(お手本!N$3:O$10)=0,\"\",CHOOSE(COUNTA(お手本!N$3:O$10),\"\",お手本!N$3,お手本!N$5,お手本!N$3))","v":""},null,null,{"$f":"IF(COUNTA(お手本!Q$3:R$10)=0,\"\",CHOOSE(COUNTA(お手本!Q$3:R$10),\"\",お手本!Q$3,お手本!Q$5,お手本!Q$3))","v":""},null,null,{"$f":"IF(COUNTA(お手本!T$3:U$10)=0,\"\",CHOOSE(COUNTA(お手本!T$3:U$10),\"\",お手本!T$3,お手本!T$5,お手本!T$3))","v":""},null,null,{"$f":"IF(COUNTA(お手本!W$3:X$10)=0,\"\",CHOOSE(COUNTA(お手本!W$3:X$10),\"\",お手本!W$3,お手本!W$5,お手本!W$3))","v":""},null,null,{"$f":"IF(COUNTA(お手本!Z$3:AA$10)=0,\"\",CHOOSE(COUNTA(お手本!Z$3:AA$10),\"\",お手本!Z$3,お手本!Z$5,お手本!Z$3))","v":""}]
[]
[null,{"$f":"IF(COUNTA(お手本!B$3:C$10)=0,\"\",CHOOSE(COUNTA(お手本!B$3:C$10),\"\",お手本!B$5,お手本!B$7,お手本!B$5))","v":""},null,null,{"$f":"IF(COUNTA(お手本!E$3:F$10)=0,\"\",CHOOSE(COUNTA(お手本!E$3:F$10),\"\",お手本!E$5,お手本!E$7,お手本!E$5))","v":""},null,null,{"$f":"IF(COUNTA(お手本!H$3:I$10)=0,\"\",CHOOSE(COUNTA(お手本!H$3:I$10),\"\",お手本!H$5,お手本!H$7,お手本!H$5))","v":""},null,null,{"$f":"IF(COUNTA(お手本!K$3:L$10)=0,\"\",CHOOSE(COUNTA(お手本!K$3:L$10),\"\",お手本!K$5,お手本!K$7,お手本!K$5))","v":""},null,null,{"$f":"IF(COUNTA(お手本!N$3:O$10)=0,\"\",CHOOSE(COUNTA(お手本!N$3:O$10),\"\",お手本!N$5,お手本!N$7,お手本!N$5))","v":""},null,null,{"$f":"IF(COUNTA(お手本!Q$3:R$10)=0,\"\",CHOOSE(COUNTA(お手本!Q$3:R$10),\"\",お手本!Q$5,お手本!Q$7,お手本!Q$5))","v":""},null,null,{"$f":"IF(COUNTA(お手本!T$3:U$10)=0,\"\",CHOOSE(COUNTA(お手本!T$3:U$10),\"\",お手本!T$5,お手本!T$7,お手本!T$5))","v":""},null,null,{"$f":"IF(COUNTA(お手本!W$3:X$10)=0,\"\",CHOOSE(COUNTA(お手本!W$3:X$10),\"\",お手本!W$5,お手本!W$7,お手本!W$5))","v":""},null,null,{"$f":"IF(COUNTA(お手本!Z$3:AA$10)=0,\"\",CHOOSE(COUNTA(お手本!Z$3:AA$10),\"\",お手本!Z$5,お手本!Z$7,お手本!Z$5))","v":""}]
[]
[null,{"$f":"IF(COUNTA(お手本!B$3:C$10)<4,\"\",お手本!B$7)","v":""},null,null,{"$f":"IF(COUNTA(お手本!E$3:F$10)<4,\"\",お手本!E$7)","v":""},null,null,{"$f":"IF(COUNTA(お手本!H$3:I$10)<4,\"\",お手本!H$7)","v":""},null,null,{"$f":"IF(COUNTA(お手本!K$3:L$10)<4,\"\",お手本!K$7)","v":""},null,null,{"$f":"IF(COUNTA(お手本!N$3:O$10)<4,\"\",お手本!N$7)","v":""},null,null,{"$f":"IF(COUNTA(お手本!Q$3:R$10)<4,\"\",お手本!Q$7)","v":""},null,null,{"$f":"IF(COUNTA(お手本!T$3:U$10)<4,\"\",お手本!T$7)","v":""},null,null,{"$f":"IF(COUNTA(お手本!W$3:X$10)<4,\"\",お手本!W$7)","v":""},null,null,{"$f":"IF(COUNTA(お手本!Z$3:AA$10)<4,\"\",お手本!Z$7)","v":""}]
[]
[null,{"$f":"IF(COUNTA(お手本!B$3:C$10)<4,\"\",お手本!B$9)","v":""},null,null,{"$f":"IF(COUNTA(お手本!E$3:F$10)<4,\"\",お手本!E$9)","v":""},null,null,{"$f":"IF(COUNTA(お手本!H$3:I$10)<4,\"\",お手本!H$9)","v":""},null,null,{"$f":"IF(COUNTA(お手本!K$3:L$10)<4,\"\",お手本!K$9)","v":""},null,null,{"$f":"IF(COUNTA(お手本!N$3:O$10)<4,\"\",お手本!N$9)","v":""},null,null,{"$f":"IF(COUNTA(お手本!Q$3:R$10)<4,\"\",お手本!Q$9)","v":""},null,null,{"$f":"IF(COUNTA(お手本!T$3:U$10)<4,\"\",お手本!T$9)","v":""},null,null,{"$f":"IF(COUNTA(お手本!W$3:X$10)<4,\"\",お手本!W$9)","v":""},null,null,{"$f":"IF(COUNTA(お手本!Z$3:AA$10)<4,\"\",お手本!Z$9)","v":""}]

{"sheet":"美文字練習シート","index":3,"n_rows":0,"n_cols":0,"rows_kept":0,"cut":false,"hidden":false,"merged":[]}