{"text_format":"1","workbook":"xlsx","n_sheets":16,"sheets":["MENU","DatiAppoggio","Voci_Indici","CE_VOCI","SP_VOCI","SCHEMA_CE","SCHEMA_SP","CE_STORICO","SP_STORICO","Ricavi_Costi","Attivita_Passivita","CE_PIANO","SP_PIANO","BASE","INDICI","INDICI_Valori"],"not_rendered":{"charts":0,"images":2,"macros":1,"external_links":0,"defined_names":19,"comments":0,"pivot_tables":0},"unopened":[],"bounds":{"document_bytes":16777216,"sheet_cells":100000,"rows_first":2000,"rows_last":500,"rows_between":2000,"halvings":0,"cell_chars":16384,"cell_head_chars":4096},"cells_cut":0,"cells_raw":0,"read":"whole","date_system":"1900"}

{"sheet":"MENU","index":0,"n_rows":11,"n_cols":3,"rows_kept":11,"cut":false,"hidden":false,"merged":[[4,2,4,6]]}
[]
[]
[]
[]
[null,"Ragione Sociale","XYZ SpA"]
[]
[null,"Numero anni di storico",2]
[]
[null,"Primo anno di storico",2003]
[]
[null,"Numero anni di piano",3]

{"sheet":"DatiAppoggio","index":1,"n_rows":100,"n_cols":1,"rows_kept":100,"cut":false,"hidden":true,"merged":[]}
["CODICI"]
["01"]
["02"]
["03"]
["04"]
["05"]
["06"]
["07"]
["08"]
["09"]
["10"]
["11"]
["12"]
["13"]
["14"]
["15"]
["16"]
["17"]
["18"]
["19"]
["20"]
["21"]
["22"]
["23"]
["24"]
["25"]
["26"]
["27"]
["28"]
["29"]
["30"]
["31"]
["32"]
["33"]
["34"]
["35"]
["36"]
["37"]
["38"]
["39"]
["40"]
["41"]
["42"]
["43"]
["44"]
["45"]
["46"]
["47"]
["48"]
["49"]
["50"]
["51"]
["52"]
["53"]
["54"]
["55"]
["56"]
["57"]
["58"]
["59"]
["60"]
["61"]
["62"]
["63"]
["64"]
["65"]
["66"]
["67"]
["68"]
["69"]
["70"]
["71"]
["72"]
["73"]
["74"]
["75"]
["76"]
["77"]
["78"]
["79"]
["80"]
["81"]
["82"]
["83"]
["84"]
["85"]
["86"]
["87"]
["88"]
["89"]
["90"]
["91"]
["92"]
["93"]
["94"]
["95"]
["96"]
["97"]
["98"]
["99"]

{"sheet":"Voci_Indici","index":2,"n_rows":52,"n_cols":5,"rows_kept":52,"cut":false,"hidden":false,"merged":[]}
[]
["'Codice'","Tipo",null,"'Codice'","Tipo"]
["010101_Vendite prodotti","R",null,"010101_Concessioni, licenze, marchi","A"]
["010111_Vendite servizi","R",null,"010111_Software","A"]
["010199_TOTALE VENDITE",null,null,"010199_IMMOBILIZZAZIONI IMMATERIALI"]
["020201_Magazzino iniziale","C",null,"010201_Terreni e fabbricati","A"]
["020211_Acquisti materie prime","C",null,"010211_Attrezzature e impianti","A"]
["020221_Magazzino finale","R",null,"010221_Altri beni","A"]
["020299_TOTALE CONSUMI",null,null,"010299_IMMOBILIZZAZIONI MATERIALI"]
["020301_Energia elettrica","C",null,"010301_Partecipazioni","A"]
["020311_Manutenzioni","C",null,"010311_Crediti","A"]
["020321_Altri costi industriali","C",null,"010321_Altri","A"]
["020331_Ammortamenti industriali","C",null,"010399_IMMOBILIZZAZIONI FINANZIARIE"]
["020399_COSTI INDUSTRIALI",null,null,"019901_IMMOBILIZZAZIONI"]
["029901_COSTO DEL VENDUTO",null,null,"020401_Magazzino","A"]
["029999_MARGINE INDUSTRIALE",null,null,"020402_Crediti verso clienti","A"]
["030101_Provvigioni","C",null,"020403_Altri crediti","A"]
["030111_Promozioni/pubblicità","C",null,"020404_Ratei/risconti attivi","A"]
["030121_Altri costi commerciali","C",null,"020499_ATTIVO CIRCOLANTE"]
["030199_COSTI COMMERCIALI",null,null,"020505_Debiti verso fornitori","P"]
["030201_Ammortamenti","C",null,"020506_Debiti verso altri","P"]
["030211_Personale ammmistrazione/struttura","C",null,"020507_Debiti tributari","P"]
["030221_Altri costi amministrativi","C",null,"020508_Ratei/risconti passivi","P"]
["030299_COSTI AMMINISTRATIVI",null,null,"020509_Fondi imposte","I"]
["039901_COSTI DI STRUTTURA",null,null,"020599_PASSIVO CIRCOLANTE"]
["039999_REDDITO OPERATIVO",null,null,"029901_CAPITALE CIRCOLANTE OPERATIVO"]
["040101_Proventi di natura extra operativa","R",null,"030101_Cassa","A"]
["040102_Oneri di natura extra operativa","C",null,"030111_Banca ","A"]
["040199_ALTRI PROVENTI / ONERI",null,null,"030121_Titoli ","A"]
["040201_Proventi finanziari","R",null,"030199_LIQUIDITA'"]
["040211_Oneri finanziari","C",null,"049999_CAPITALE INVESTITO"]
["040221_Risultato finanziario a breve","X",null,"110101_Capitale sociale","P"]
["040299_PROVENTI / ONERI FINANZIARI",null,null,"110102_Riserve","P"]
["049999_UTILE ANTE IMPOSTE",null,null,"110103_Risultato del periodo","U"]
["050101_Imposte","T",null,"110199_PATRIMONIO NETTO"]
["050199_IMPOSTE DELL'ESERCIZIO",null,null,"110201_Debiti a breve verso banche","X"]
["069999_UTILE NETTO","U",null,"110211_Debiti a breve verso altri finanziatori","P"]
["",null,null,"110299_DEBITI FINANZIARI A BREVE"]
["",null,null,"110301_Debiti a medio termine verso banche","P"]
["",null,null,"110311_Debiti a medio termine verso altri finanziatori","P"]
["",null,null,"110399_DEBITI FINANZIARI A MEDIO"]
["",null,null,"110401_TFR","P"]
["",null,null,"110499_TOTALE TFR"]
["",null,null,"119999_FONTI DI FINANZIAMENTO"]
["",null,null,""]
["",null,null,""]
["",null,null,""]
["",null,null,""]
["",null,null,""]
["",null,null,""]
["",null,null,""]
["",null,null,""]

{"sheet":"CE_VOCI","index":3,"n_rows":21,"n_cols":8,"rows_kept":21,"cut":false,"hidden":false,"merged":[]}
[]
["'Codice'","Tipo",null,"'Codice'","Tipo",null,"'Codice'","Tipo"]
["020201_Magazzino iniziale","C",null,"010101_Vendite prodotti","R",null,"020201_Magazzino iniziale","C"]
["020211_Acquisti materie prime","C",null,"010111_Vendite servizi","R",null,"020211_Acquisti materie prime","C"]
["020301_Energia elettrica","C",null,"020221_Magazzino finale","R",null,"020301_Energia elettrica","C"]
["020311_Manutenzioni","C",null,"040101_Proventi di natura extra operativa","R",null,"020311_Manutenzioni","C"]
["020321_Altri costi industriali","C",null,"040201_Proventi finanziari","R",null,"020321_Altri costi industriali","C"]
["020331_Ammortamenti industriali","C",null,null,null,null,"020331_Ammortamenti industriali","C"]
["030101_Provvigioni","C",null,null,null,null,"030101_Provvigioni","C"]
["030111_Promozioni/pubblicità","C",null,null,null,null,"030111_Promozioni/pubblicità","C"]
["030121_Altri costi commerciali","C",null,null,null,null,"030121_Altri costi commerciali","C"]
["030201_Ammortamenti","C",null,null,null,null,"030201_Ammortamenti","C"]
["030211_Personale ammmistrazione/struttura","C",null,null,null,null,"030211_Personale ammmistrazione/struttura","C"]
["030221_Altri costi amministrativi","C",null,null,null,null,"030221_Altri costi amministrativi","C"]
["040102_Oneri di natura extra operativa","C",null,null,null,null,"040102_Oneri di natura extra operativa","C"]
["040211_Oneri finanziari","C",null,null,null,null,"040211_Oneri finanziari","C"]
[null,null,null,null,null,null,"010101_Vendite prodotti","R"]
[null,null,null,null,null,null,"010111_Vendite servizi","R"]
[null,null,null,null,null,null,"020221_Magazzino finale","R"]
[null,null,null,null,null,null,"040101_Proventi di natura extra operativa","R"]
[null,null,null,null,null,null,"040201_Proventi finanziari","R"]

{"sheet":"SP_VOCI","index":4,"n_rows":27,"n_cols":8,"rows_kept":27,"cut":false,"hidden":false,"merged":[]}
[]
["'Codice'","Tipo",null,"'Codice'","Tipo",null,"'Codice'","Tipo"]
["010101_Concessioni, licenze, marchi","A",null,"020505_Debiti verso fornitori","P",null,"010101_Concessioni, licenze, marchi","A"]
["010111_Software","A",null,"020506_Debiti verso altri","P",null,"010111_Software","A"]
["010201_Terreni e fabbricati","A",null,"020507_Debiti tributari","P",null,"010201_Terreni e fabbricati","A"]
["010211_Attrezzature e impianti","A",null,"020508_Ratei/risconti passivi","P",null,"010211_Attrezzature e impianti","A"]
["010221_Altri beni","A",null,"110101_Capitale sociale","P",null,"010221_Altri beni","A"]
["010301_Partecipazioni","A",null,"110102_Riserve","P",null,"010301_Partecipazioni","A"]
["010311_Crediti","A",null,"110211_Debiti a breve verso altri finanziatori","P",null,"010311_Crediti","A"]
["010321_Altri","A",null,"110301_Debiti a medio termine verso banche","P",null,"010321_Altri","A"]
["020401_Magazzino","A",null,"110311_Debiti a medio termine verso altri finanziatori","P",null,"020401_Magazzino","A"]
["020402_Crediti verso clienti","A",null,"110401_TFR","P",null,"020402_Crediti verso clienti","A"]
["020403_Altri crediti","A",null,null,null,null,"020403_Altri crediti","A"]
["020404_Ratei/risconti attivi","A",null,null,null,null,"020404_Ratei/risconti attivi","A"]
["030101_Cassa","A",null,null,null,null,"030101_Cassa","A"]
["030111_Banca ","A",null,null,null,null,"030111_Banca ","A"]
["030121_Titoli ","A",null,null,null,null,"030121_Titoli ","A"]
[null,null,null,null,null,null,"020505_Debiti verso fornitori","P"]
[null,null,null,null,null,null,"020506_Debiti verso altri","P"]
[null,null,null,null,null,null,"020507_Debiti tributari","P"]
[null,null,null,null,null,null,"020508_Ratei/risconti passivi","P"]
[null,null,null,null,null,null,"110101_Capitale sociale","P"]
[null,null,null,null,null,null,"110102_Riserve","P"]
[null,null,null,null,null,null,"110211_Debiti a breve verso altri finanziatori","P"]
[null,null,null,null,null,null,"110301_Debiti a medio termine verso banche","P"]
[null,null,null,null,null,null,"110311_Debiti a medio termine verso altri finanziatori","P"]
[null,null,null,null,null,null,"110401_TFR","P"]

{"sheet":"SCHEMA_CE","index":5,"n_rows":54,"n_cols":6,"rows_kept":54,"cut":false,"hidden":false,"merged":[[0,0,0,3]]}
[{"$f":"MENU!$C$5&\" - DEFINIZIONE SCHEMA DI CONTO ECONOMICO\"","v":"XYZ SpA - DEFINIZIONE SCHEMA DI CONTO ECONOMICO"}]
[]
[]
["Livello1","Livello2","Livello3","Descrizione riga","Column1","Tipo"]
["01","01","01","Vendite prodotti",{"$f":"IF(A5=\"\",\"\",A5&B5&C5&\"_\"&D5)","v":"010101_Vendite prodotti"},"R"]
["01","01","11","Vendite servizi",{"$f":"IF(A6=\"\",\"\",A6&B6&C6&\"_\"&D6)","v":"010111_Vendite servizi"},"R"]
["01","01","99","TOTALE VENDITE",{"$f":"IF(A7=\"\",\"\",A7&B7&C7&\"_\"&D7)","v":"010199_TOTALE VENDITE"}]
["02","02","01","Magazzino iniziale",{"$f":"IF(A8=\"\",\"\",A8&B8&C8&\"_\"&D8)","v":"020201_Magazzino iniziale"},"C"]
["02","02","11","Acquisti materie prime",{"$f":"IF(A9=\"\",\"\",A9&B9&C9&\"_\"&D9)","v":"020211_Acquisti materie prime"},"C"]
["02","02","21","Magazzino finale",{"$f":"IF(A10=\"\",\"\",A10&B10&C10&\"_\"&D10)","v":"020221_Magazzino finale"},"R"]
["02","02","99","TOTALE CONSUMI",{"$f":"IF(A11=\"\",\"\",A11&B11&C11&\"_\"&D11)","v":"020299_TOTALE CONSUMI"}]
["02","03","01","Energia elettrica",{"$f":"IF(A12=\"\",\"\",A12&B12&C12&\"_\"&D12)","v":"020301_Energia elettrica"},"C"]
["02","03","11","Manutenzioni",{"$f":"IF(A13=\"\",\"\",A13&B13&C13&\"_\"&D13)","v":"020311_Manutenzioni"},"C"]
["02","03","21","Altri costi industriali",{"$f":"IF(A14=\"\",\"\",A14&B14&C14&\"_\"&D14)","v":"020321_Altri costi industriali"},"C"]
["02","03","31","Ammortamenti industriali",{"$f":"IF(A15=\"\",\"\",A15&B15&C15&\"_\"&D15)","v":"020331_Ammortamenti industriali"},"C"]
["02","03","99","COSTI INDUSTRIALI",{"$f":"IF(A16=\"\",\"\",A16&B16&C16&\"_\"&D16)","v":"020399_COSTI INDUSTRIALI"}]
["02","99","01","COSTO DEL VENDUTO",{"$f":"IF(A17=\"\",\"\",A17&B17&C17&\"_\"&D17)","v":"029901_COSTO DEL VENDUTO"}]
["02","99","99","MARGINE INDUSTRIALE",{"$f":"IF(A18=\"\",\"\",A18&B18&C18&\"_\"&D18)","v":"029999_MARGINE INDUSTRIALE"}]
["03","01","01","Provvigioni",{"$f":"IF(A19=\"\",\"\",A19&B19&C19&\"_\"&D19)","v":"030101_Provvigioni"},"C"]
["03","01","11","Promozioni/pubblicità",{"$f":"IF(A20=\"\",\"\",A20&B20&C20&\"_\"&D20)","v":"030111_Promozioni/pubblicità"},"C"]
["03","01","21","Altri costi commerciali",{"$f":"IF(A21=\"\",\"\",A21&B21&C21&\"_\"&D21)","v":"030121_Altri costi commerciali"},"C"]
["03","01","99","COSTI COMMERCIALI",{"$f":"IF(A22=\"\",\"\",A22&B22&C22&\"_\"&D22)","v":"030199_COSTI COMMERCIALI"}]
["03","02","01","Ammortamenti",{"$f":"IF(A23=\"\",\"\",A23&B23&C23&\"_\"&D23)","v":"030201_Ammortamenti"},"C"]
["03","02","11","Personale ammmistrazione/struttura",{"$f":"IF(A24=\"\",\"\",A24&B24&C24&\"_\"&D24)","v":"030211_Personale ammmistrazione/struttura"},"C"]
["03","02","21","Altri costi amministrativi",{"$f":"IF(A25=\"\",\"\",A25&B25&C25&\"_\"&D25)","v":"030221_Altri costi amministrativi"},"C"]
["03","02","99","COSTI AMMINISTRATIVI",{"$f":"IF(A26=\"\",\"\",A26&B26&C26&\"_\"&D26)","v":"030299_COSTI AMMINISTRATIVI"}]
["03","99","01","COSTI DI STRUTTURA",{"$f":"IF(A27=\"\",\"\",A27&B27&C27&\"_\"&D27)","v":"039901_COSTI DI STRUTTURA"}]
["03","99","99","REDDITO OPERATIVO",{"$f":"IF(A28=\"\",\"\",A28&B28&C28&\"_\"&D28)","v":"039999_REDDITO OPERATIVO"}]
["04","01","01","Proventi di natura extra operativa",{"$f":"IF(A29=\"\",\"\",A29&B29&C29&\"_\"&D29)","v":"040101_Proventi di natura extra operativa"},"R"]
["04","01","02","Oneri di natura extra operativa",{"$f":"IF(A30=\"\",\"\",A30&B30&C30&\"_\"&D30)","v":"040102_Oneri di natura extra operativa"},"C"]
["04","01","99","ALTRI PROVENTI / ONERI",{"$f":"IF(A31=\"\",\"\",A31&B31&C31&\"_\"&D31)","v":"040199_ALTRI PROVENTI / ONERI"}]
["04","02","01","Proventi finanziari",{"$f":"IF(A32=\"\",\"\",A32&B32&C32&\"_\"&D32)","v":"040201_Proventi finanziari"},"R"]
["04","02","11","Oneri finanziari",{"$f":"IF(A33=\"\",\"\",A33&B33&C33&\"_\"&D33)","v":"040211_Oneri finanziari"},"C"]
["04","02","21","Risultato finanziario a breve",{"$f":"IF(A34=\"\",\"\",A34&B34&C34&\"_\"&D34)","v":"040221_Risultato finanziario a breve"},"X"]
["04","02","99","PROVENTI / ONERI FINANZIARI",{"$f":"IF(A35=\"\",\"\",A35&B35&C35&\"_\"&D35)","v":"040299_PROVENTI / ONERI FINANZIARI"}]
["04","99","99","UTILE ANTE IMPOSTE",{"$f":"IF(A36=\"\",\"\",A36&B36&C36&\"_\"&D36)","v":"049999_UTILE ANTE IMPOSTE"}]
["05","01","01","Imposte",{"$f":"IF(A37=\"\",\"\",A37&B37&C37&\"_\"&D37)","v":"050101_Imposte"},"T"]
["05","01","99","IMPOSTE DELL'ESERCIZIO",{"$f":"IF(A38=\"\",\"\",A38&B38&C38&\"_\"&D38)","v":"050199_IMPOSTE DELL'ESERCIZIO"}]
["06","99","99","UTILE NETTO",{"$f":"IF(A39=\"\",\"\",A39&B39&C39&\"_\"&D39)","v":"069999_UTILE NETTO"},"U"]
[null,null,null,null,{"$f":"IF(A40=\"\",\"\",A40&B40&C40&\"_\"&D40)","v":""}]
[null,null,null,null,{"$f":"IF(A41=\"\",\"\",A41&B41&C41&\"_\"&D41)","v":""}]
[null,null,null,null,{"$f":"IF(A42=\"\",\"\",A42&B42&C42&\"_\"&D42)","v":""}]
[null,null,null,null,{"$f":"IF(A43=\"\",\"\",A43&B43&C43&\"_\"&D43)","v":""}]
[null,null,null,null,{"$f":"IF(A44=\"\",\"\",A44&B44&C44&\"_\"&D44)","v":""}]
[null,null,null,null,{"$f":"IF(A45=\"\",\"\",A45&B45&C45&\"_\"&D45)","v":""}]
[null,null,null,null,{"$f":"IF(A46=\"\",\"\",A46&B46&C46&\"_\"&D46)","v":""}]
[null,null,null,null,{"$f":"IF(A47=\"\",\"\",A47&B47&C47&\"_\"&D47)","v":""}]
[null,null,null,null,{"$f":"IF(A48=\"\",\"\",A48&B48&C48&\"_\"&D48)","v":""}]
[null,null,null,null,{"$f":"IF(A49=\"\",\"\",A49&B49&C49&\"_\"&D49)","v":""}]
[null,null,null,null,{"$f":"IF(A50=\"\",\"\",A50&B50&C50&\"_\"&D50)","v":""}]
[null,null,null,null,{"$f":"IF(A51=\"\",\"\",A51&B51&C51&\"_\"&D51)","v":""}]
[null,null,null,null,{"$f":"IF(A52=\"\",\"\",A52&B52&C52&\"_\"&D52)","v":""}]
[null,null,null,null,{"$f":"IF(A53=\"\",\"\",A53&B53&C53&\"_\"&D53)","v":""}]
[null,null,null,null,{"$f":"IF(A54=\"\",\"\",A54&B54&C54&\"_\"&D54)","v":""}]

{"sheet":"SCHEMA_SP","index":6,"n_rows":54,"n_cols":6,"rows_kept":54,"cut":false,"hidden":false,"merged":[[0,0,0,3]]}
[{"$f":"MENU!$C$5&\" - DEFINIZIONE SCHEMA DI STATO PATRIMONIALE\"","v":"XYZ SpA - DEFINIZIONE SCHEMA DI STATO PATRIMONIALE"}]
[]
[]
["Livello1","Livello2","Livello3","Descrizione riga","Column1","Tipo"]
["01","01","01","Concessioni, licenze, marchi",{"$f":"IF(A5=\"\",\"\",A5&B5&C5&\"_\"&D5)","v":"010101_Concessioni, licenze, marchi"},"A"]
["01","01","11","Software","010111_Software","A"]
["01","01","99","IMMOBILIZZAZIONI IMMATERIALI","010199_IMMOBILIZZAZIONI IMMATERIALI"]
["01","02","01","Terreni e fabbricati","010201_Terreni e fabbricati","A"]
["01","02","11","Attrezzature e impianti","010211_Attrezzature e impianti","A"]
["01","02","21","Altri beni","010221_Altri beni","A"]
["01","02","99","IMMOBILIZZAZIONI MATERIALI","010299_IMMOBILIZZAZIONI MATERIALI"]
["01","03","01","Partecipazioni","010301_Partecipazioni","A"]
["01","03","11","Crediti","010311_Crediti","A"]
["01","03","21","Altri","010321_Altri","A"]
["01","03","99","IMMOBILIZZAZIONI FINANZIARIE","010399_IMMOBILIZZAZIONI FINANZIARIE"]
["01","99","01","IMMOBILIZZAZIONI","019901_IMMOBILIZZAZIONI"]
["02","04","01","Magazzino","020401_Magazzino","A"]
["02","04","02","Crediti verso clienti","020402_Crediti verso clienti","A"]
["02","04","03","Altri crediti","020403_Altri crediti","A"]
["02","04","04","Ratei/risconti attivi","020404_Ratei/risconti attivi","A"]
["02","04","99","ATTIVO CIRCOLANTE","020499_ATTIVO CIRCOLANTE"]
["02","05","05","Debiti verso fornitori","020505_Debiti verso fornitori","P"]
["02","05","06","Debiti verso altri","020506_Debiti verso altri","P"]
["02","05","07","Debiti tributari","020507_Debiti tributari","P"]
["02","05","08","Ratei/risconti passivi","020508_Ratei/risconti passivi","P"]
["02","05","09","Fondi imposte","020509_Fondi imposte","I"]
["02","05","99","PASSIVO CIRCOLANTE","020599_PASSIVO CIRCOLANTE"]
["02","99","01","CAPITALE CIRCOLANTE OPERATIVO","029901_CAPITALE CIRCOLANTE OPERATIVO"]
["03","01","01","Cassa","030101_Cassa","A"]
["03","01","11","Banca ","030111_Banca ","A"]
["03","01","21","Titoli ","030121_Titoli ","A"]
["03","01","99","LIQUIDITA'","030199_LIQUIDITA'"]
["04","99","99","CAPITALE INVESTITO","049999_CAPITALE INVESTITO"]
["11","01","01","Capitale sociale","110101_Capitale sociale","P"]
["11","01","02","Riserve","110102_Riserve","P"]
["11","01","03","Risultato del periodo","110103_Risultato del periodo","U"]
["11","01","99","PATRIMONIO NETTO",{"$f":"IF(A37=\"\",\"\",A37&B37&C37&\"_\"&D37)","v":"110199_PATRIMONIO NETTO"}]
["11","02","01","Debiti a breve verso banche","110201_Debiti a breve verso banche","X"]
["11","02","11","Debiti a breve verso altri finanziatori","110211_Debiti a breve verso altri finanziatori","P"]
["11","02","99","DEBITI FINANZIARI A BREVE","110299_DEBITI FINANZIARI A BREVE"]
["11","03","01","Debiti a medio termine verso banche","110301_Debiti a medio termine verso banche","P"]
["11","03","11","Debiti a medio termine verso altri finanziatori","110311_Debiti a medio termine verso altri finanziatori","P"]
["11","03","99","DEBITI FINANZIARI A MEDIO","110399_DEBITI FINANZIARI A MEDIO"]
["11","04","01","TFR","110401_TFR","P"]
["11","04","99","TOTALE TFR","110499_TOTALE TFR"]
["11","99","99","FONTI DI FINANZIAMENTO","119999_FONTI DI FINANZIAMENTO"]
[null,null,null,null,""]
[null,null,null,null,""]
[null,null,null,null,""]
[null,null,null,null,""]
[null,null,null,null,""]
[null,null,null,null,""]
[null,null,null,null,""]
[null,null,null,null,""]

{"sheet":"CE_STORICO","index":7,"n_rows":839,"n_cols":7,"rows_kept":839,"cut":false,"hidden":false,"merged":[[0,1,0,6]]}
[null,{"$f":"MENU!$C$5&\" - CONTI ECONOMICI STORICI\"","v":"XYZ SpA - CONTI ECONOMICI STORICI"}]
[]
[]
[null,null,{"$f":"MENU!$C$9","v":2003},{"$f":"IF(C4=\"\",\"\",IF(C4+1-$C$4>MENU!$C$7-1,\"\",CE_STORICO!C4+1))","v":2004},{"$f":"IF(D4=\"\",\"\",IF(D4+1-$C$4>MENU!$C$7-1,\"\",CE_STORICO!D4+1))","v":""},{"$f":"IF(E4=\"\",\"\",IF(E4+1-$C$4>MENU!$C$7-1,\"\",CE_STORICO!E4+1))","v":""},{"$f":"IF(F4=\"\",\"\",IF(F4+1-$C$4>MENU!$C$7-1,\"\",CE_STORICO!F4+1))","v":""}]
[{"$f":"IF(SCHEMA_CE!D5=\"\",\"\",SCHEMA_CE!E5)","v":"010101_Vendite prodotti"},{"$f":"IF(SCHEMA_CE!D5=\"\",\"\",SCHEMA_CE!D5)","v":"Vendite prodotti"}]
[{"$f":"IF(SCHEMA_CE!D6=\"\",\"\",SCHEMA_CE!E6)","v":"010111_Vendite servizi"},{"$f":"IF(SCHEMA_CE!D6=\"\",\"\",SCHEMA_CE!D6)","v":"Vendite servizi"}]
[{"$f":"IF(SCHEMA_CE!D7=\"\",\"\",SCHEMA_CE!E7)","v":"010199_TOTALE VENDITE"},{"$f":"IF(SCHEMA_CE!D7=\"\",\"\",SCHEMA_CE!D7)","v":"TOTALE VENDITE"},{"$f":"SUM(C5:C6)","v":0},{"$f":"SUM(D5:D6)","v":0}]
[]
[{"$f":"IF(SCHEMA_CE!D8=\"\",\"\",SCHEMA_CE!E8)","v":"020201_Magazzino iniziale"},{"$f":"IF(SCHEMA_CE!D8=\"\",\"\",SCHEMA_CE!D8)","v":"Magazzino iniziale"}]
[{"$f":"IF(SCHEMA_CE!D9=\"\",\"\",SCHEMA_CE!E9)","v":"020211_Acquisti materie prime"},{"$f":"IF(SCHEMA_CE!D9=\"\",\"\",SCHEMA_CE!D9)","v":"Acquisti materie prime"}]
[{"$f":"IF(SCHEMA_CE!D10=\"\",\"\",SCHEMA_CE!E10)","v":"020221_Magazzino finale"},{"$f":"IF(SCHEMA_CE!D10=\"\",\"\",SCHEMA_CE!D10)","v":"Magazzino finale"}]
[{"$f":"IF(SCHEMA_CE!D11=\"\",\"\",SCHEMA_CE!E11)","v":"020299_TOTALE CONSUMI"},{"$f":"IF(SCHEMA_CE!D11=\"\",\"\",SCHEMA_CE!D11)","v":"TOTALE CONSUMI"},{"$f":"SUM(C9:C11)","v":0},{"$f":"SUM(D9:D11)","v":0}]
[]
[{"$f":"IF(SCHEMA_CE!D12=\"\",\"\",SCHEMA_CE!E12)","v":"020301_Energia elettrica"},{"$f":"IF(SCHEMA_CE!D12=\"\",\"\",SCHEMA_CE!D12)","v":"Energia elettrica"}]
[{"$f":"IF(SCHEMA_CE!D13=\"\",\"\",SCHEMA_CE!E13)","v":"020311_Manutenzioni"},{"$f":"IF(SCHEMA_CE!D13=\"\",\"\",SCHEMA_CE!D13)","v":"Manutenzioni"}]
[{"$f":"IF(SCHEMA_CE!D14=\"\",\"\",SCHEMA_CE!E14)","v":"020321_Altri costi industriali"},{"$f":"IF(SCHEMA_CE!D14=\"\",\"\",SCHEMA_CE!D14)","v":"Altri costi industriali"}]
[{"$f":"IF(SCHEMA_CE!D15=\"\",\"\",SCHEMA_CE!E15)","v":"020331_Ammortamenti industriali"},{"$f":"IF(SCHEMA_CE!D15=\"\",\"\",SCHEMA_CE!D15)","v":"Ammortamenti industriali"}]
[{"$f":"IF(SCHEMA_CE!D16=\"\",\"\",SCHEMA_CE!E16)","v":"020399_COSTI INDUSTRIALI"},{"$f":"IF(SCHEMA_CE!D16=\"\",\"\",SCHEMA_CE!D16)","v":"COSTI INDUSTRIALI"},{"$f":"SUM(C14:C17)","v":0},{"$f":"SUM(D14:D17)","v":0}]
[]
[{"$f":"IF(SCHEMA_CE!D17=\"\",\"\",SCHEMA_CE!E17)","v":"029901_COSTO DEL VENDUTO"},{"$f":"IF(SCHEMA_CE!D17=\"\",\"\",SCHEMA_CE!D17)","v":"COSTO DEL VENDUTO"},{"$f":"+C12+C18","v":0},{"$f":"+D12+D18","v":0}]
[]
[{"$f":"IF(SCHEMA_CE!D18=\"\",\"\",SCHEMA_CE!E18)","v":"029999_MARGINE INDUSTRIALE"},{"$f":"IF(SCHEMA_CE!D18=\"\",\"\",SCHEMA_CE!D18)","v":"MARGINE INDUSTRIALE"},{"$f":"+C7+C12+C18","v":0},{"$f":"+D7+D12+D18","v":0}]
[]
[{"$f":"IF(SCHEMA_CE!D19=\"\",\"\",SCHEMA_CE!E19)","v":"030101_Provvigioni"},{"$f":"IF(SCHEMA_CE!D19=\"\",\"\",SCHEMA_CE!D19)","v":"Provvigioni"}]
[{"$f":"IF(SCHEMA_CE!D20=\"\",\"\",SCHEMA_CE!E20)","v":"030111_Promozioni/pubblicità"},{"$f":"IF(SCHEMA_CE!D20=\"\",\"\",SCHEMA_CE!D20)","v":"Promozioni/pubblicità"}]
[{"$f":"IF(SCHEMA_CE!D21=\"\",\"\",SCHEMA_CE!E21)","v":"030121_Altri costi commerciali"},{"$f":"IF(SCHEMA_CE!D21=\"\",\"\",SCHEMA_CE!D21)","v":"Altri costi commerciali"}]
[{"$f":"IF(SCHEMA_CE!D22=\"\",\"\",SCHEMA_CE!E22)","v":"030199_COSTI COMMERCIALI"},{"$f":"IF(SCHEMA_CE!D22=\"\",\"\",SCHEMA_CE!D22)","v":"COSTI COMMERCIALI"},{"$f":"SUM(C24:C26)","v":0},{"$f":"SUM(D24:D26)","v":0}]
[]
[{"$f":"IF(SCHEMA_CE!D23=\"\",\"\",SCHEMA_CE!E23)","v":"030201_Ammortamenti"},{"$f":"IF(SCHEMA_CE!D23=\"\",\"\",SCHEMA_CE!D23)","v":"Ammortamenti"}]
[{"$f":"IF(SCHEMA_CE!D24=\"\",\"\",SCHEMA_CE!E24)","v":"030211_Personale ammmistrazione/struttura"},{"$f":"IF(SCHEMA_CE!D24=\"\",\"\",SCHEMA_CE!D24)","v":"Personale ammmistrazione/struttura"}]
[{"$f":"IF(SCHEMA_CE!D25=\"\",\"\",SCHEMA_CE!E25)","v":"030221_Altri costi amministrativi"},{"$f":"IF(SCHEMA_CE!D25=\"\",\"\",SCHEMA_CE!D25)","v":"Altri costi amministrativi"}]
[{"$f":"IF(SCHEMA_CE!D26=\"\",\"\",SCHEMA_CE!E26)","v":"030299_COSTI AMMINISTRATIVI"},{"$f":"IF(SCHEMA_CE!D26=\"\",\"\",SCHEMA_CE!D26)","v":"COSTI AMMINISTRATIVI"},{"$f":"SUM(C29:C31)","v":0},{"$f":"SUM(D29:D31)","v":0}]
[]
[{"$f":"IF(SCHEMA_CE!D27=\"\",\"\",SCHEMA_CE!E27)","v":"039901_COSTI DI STRUTTURA"},{"$f":"IF(SCHEMA_CE!D27=\"\",\"\",SCHEMA_CE!D27)","v":"COSTI DI STRUTTURA"},{"$f":"+C27+C32","v":0},{"$f":"+D27+D32","v":0}]
[]
[{"$f":"IF(SCHEMA_CE!D28=\"\",\"\",SCHEMA_CE!E28)","v":"039999_REDDITO OPERATIVO"},{"$f":"IF(SCHEMA_CE!D28=\"\",\"\",SCHEMA_CE!D28)","v":"REDDITO OPERATIVO"},{"$f":"+C7+C12+C18+C27+C32","v":0},{"$f":"+D7+D12+D18+D27+D32","v":0}]
[]
[{"$f":"IF(SCHEMA_CE!D29=\"\",\"\",SCHEMA_CE!E29)","v":"040101_Proventi di natura extra operativa"},{"$f":"IF(SCHEMA_CE!D29=\"\",\"\",SCHEMA_CE!D29)","v":"Proventi di natura extra operativa"}]
[{"$f":"IF(SCHEMA_CE!D30=\"\",\"\",SCHEMA_CE!E30)","v":"040102_Oneri di natura extra operativa"},{"$f":"IF(SCHEMA_CE!D30=\"\",\"\",SCHEMA_CE!D30)","v":"Oneri di natura extra operativa"}]
[{"$f":"IF(SCHEMA_CE!D31=\"\",\"\",SCHEMA_CE!E31)","v":"040199_ALTRI PROVENTI / ONERI"},{"$f":"IF(SCHEMA_CE!D31=\"\",\"\",SCHEMA_CE!D31)","v":"ALTRI PROVENTI / ONERI"},{"$f":"SUM(C38:C39)","v":0},{"$f":"SUM(D38:D39)","v":0}]
[]
[{"$f":"IF(SCHEMA_CE!D32=\"\",\"\",SCHEMA_CE!E32)","v":"040201_Proventi finanziari"},{"$f":"IF(SCHEMA_CE!D32=\"\",\"\",SCHEMA_CE!D32)","v":"Proventi finanziari"}]
[{"$f":"IF(SCHEMA_CE!D33=\"\",\"\",SCHEMA_CE!E33)","v":"040211_Oneri finanziari"},{"$f":"IF(SCHEMA_CE!D33=\"\",\"\",SCHEMA_CE!D33)","v":"Oneri finanziari"}]
[{"$f":"IF(SCHEMA_CE!D34=\"\",\"\",SCHEMA_CE!E34)","v":"040221_Risultato finanziario a breve"},{"$f":"IF(SCHEMA_CE!D34=\"\",\"\",SCHEMA_CE!D34)","v":"Risultato finanziario a breve"}]
[{"$f":"IF(SCHEMA_CE!D35=\"\",\"\",SCHEMA_CE!E35)","v":"040299_PROVENTI / ONERI FINANZIARI"},{"$f":"IF(SCHEMA_CE!D35=\"\",\"\",SCHEMA_CE!D35)","v":"PROVENTI / ONERI FINANZIARI"},{"$f":"SUM(C42:C44)","v":0},{"$f":"SUM(D42:D44)","v":0}]
[]
[{"$f":"IF(SCHEMA_CE!D36=\"\",\"\",SCHEMA_CE!E36)","v":"049999_UTILE ANTE IMPOSTE"},{"$f":"IF(SCHEMA_CE!D36=\"\",\"\",SCHEMA_CE!D36)","v":"UTILE ANTE IMPOSTE"},{"$f":"+C7+C12+C18+C27+C32+C40+C45","v":0},{"$f":"+D7+D12+D18+D27+D32+D40+D45","v":0}]
[]
[{"$f":"IF(SCHEMA_CE!D37=\"\",\"\",SCHEMA_CE!E37)","v":"050101_Imposte"},{"$f":"IF(SCHEMA_CE!D37=\"\",\"\",SCHEMA_CE!D37)","v":"Imposte"}]
[{"$f":"IF(SCHEMA_CE!D38=\"\",\"\",SCHEMA_CE!E38)","v":"050199_IMPOSTE DELL'ESERCIZIO"},{"$f":"IF(SCHEMA_CE!D38=\"\",\"\",SCHEMA_CE!D38)","v":"IMPOSTE DELL'ESERCIZIO"},{"$f":"SUM(C49:C49)","v":0},{"$f":"SUM(D49:D49)","v":0}]
[]
[{"$f":"IF(SCHEMA_CE!D39=\"\",\"\",SCHEMA_CE!E39)","v":"069999_UTILE NETTO"},{"$f":"IF(SCHEMA_CE!D39=\"\",\"\",SCHEMA_CE!D39)","v":"UTILE NETTO"},{"$f":"+C7+C12+C18+C27+C32+C40+C45+C50","v":0},{"$f":"+D7+D12+D18+D27+D32+D40+D45+D50","v":0}]
[]
[{"$f":"IF(SCHEMA_CE!D40=\"\",\"\",SCHEMA_CE!E40)","v":""},{"$f":"IF(SCHEMA_CE!D40=\"\",\"\",SCHEMA_CE!D40)","v":""}]
[{"$f":"IF(SCHEMA_CE!D41=\"\",\"\",SCHEMA_CE!E41)","v":""},{"$f":"IF(SCHEMA_CE!D41=\"\",\"\",SCHEMA_CE!D41)","v":""}]
[{"$f":"IF(SCHEMA_CE!D42=\"\",\"\",SCHEMA_CE!E42)","v":""},{"$f":"IF(SCHEMA_CE!D42=\"\",\"\",SCHEMA_CE!D42)","v":""}]
[{"$f":"IF(SCHEMA_CE!D43=\"\",\"\",SCHEMA_CE!E43)","v":""},{"$f":"IF(SCHEMA_CE!D43=\"\",\"\",SCHEMA_CE!D43)","v":""}]
[{"$f":"IF(SCHEMA_CE!D44=\"\",\"\",SCHEMA_CE!E44)","v":""},{"$f":"IF(SCHEMA_CE!D44=\"\",\"\",SCHEMA_CE!D44)","v":""}]
[{"$f":"IF(SCHEMA_CE!D45=\"\",\"\",SCHEMA_CE!E45)","v":""},{"$f":"IF(SCHEMA_CE!D45=\"\",\"\",SCHEMA_CE!D45)","v":""}]
[{"$f":"IF(SCHEMA_CE!D46=\"\",\"\",SCHEMA_CE!E46)","v":""},{"$f":"IF(SCHEMA_CE!D46=\"\",\"\",SCHEMA_CE!D46)","v":""}]
[{"$f":"IF(SCHEMA_CE!D47=\"\",\"\",SCHEMA_CE!E47)","v":""},{"$f":"IF(SCHEMA_CE!D47=\"\",\"\",SCHEMA_CE!D47)","v":""}]
[{"$f":"IF(SCHEMA_CE!D48=\"\",\"\",SCHEMA_CE!E48)","v":""},{"$f":"IF(SCHEMA_CE!D48=\"\",\"\",SCHEMA_CE!D48)","v":""}]
[{"$f":"IF(SCHEMA_CE!D49=\"\",\"\",SCHEMA_CE!E49)","v":""},{"$f":"IF(SCHEMA_CE!D49=\"\",\"\",SCHEMA_CE!D49)","v":""}]
[{"$f":"IF(SCHEMA_CE!D50=\"\",\"\",SCHEMA_CE!E50)","v":""},{"$f":"IF(SCHEMA_CE!D50=\"\",\"\",SCHEMA_CE!D50)","v":""}]
[{"$f":"IF(SCHEMA_CE!D51=\"\",\"\",SCHEMA_CE!E51)","v":""},{"$f":"IF(SCHEMA_CE!D51=\"\",\"\",SCHEMA_CE!D51)","v":""}]
[{"$f":"IF(SCHEMA_CE!D52=\"\",\"\",SCHEMA_CE!E52)","v":""},{"$f":"IF(SCHEMA_CE!D52=\"\",\"\",SCHEMA_CE!D52)","v":""}]
[{"$f":"IF(SCHEMA_CE!D53=\"\",\"\",SCHEMA_CE!E53)","v":""},{"$f":"IF(SCHEMA_CE!D53=\"\",\"\",SCHEMA_CE!D53)","v":""}]
[{"$f":"IF(SCHEMA_CE!D54=\"\",\"\",SCHEMA_CE!E54)","v":""},{"$f":"IF(SCHEMA_CE!D54=\"\",\"\",SCHEMA_CE!D54)","v":""}]
[]
[]
[]
[]
[]
[]
[]
[]
[]
[]
[]
[]
[]
[]
[]
[]
[]
[]
[]
[]
[]
[]
[]
[]
[]
[]
[]
[]
[]
[]
[]
[]
[]
[]
[]
[]
[]
[]
[]
[]
[]
[]
[]
[]
[]
[]
[]
[]
[]
[]
[]
[]
[]
[]
[]
[]
[]
[]
[]
[]
[]
[]
[]
[]
[]
[]
[]
[]
[]
[]
[]
[]
[]
[]
[]
[]
[]
[]
[]
[]
[]
[]
[]
[]
[]
[]
[]
[]
[]
[]
[]
[]
[]
[]
[]
[]
[]
[]
[]
[]
[]
[]
[]
[]
[]
[]
[]
[]
[]
[]
[]
[]
[]
[]
[]
[]
[]
[]
[]
[]
[]
[]
[]
[]
[]
[]
[]
[]
[]
[]
[]
[]
[]
[]
[]
[]
[]
[]
[]
[]
[]
[]
[]
[]
[]
[]
[]
[]
[]
[]
[]
[]
[]
[]
[]
[]
[]
[]
[]
[]
[]
[]
[]
[]
[]
[]
[]
[]
[]
[]
[]
[]
[]
[]
[]
[]
[]
[]
[]
[]
[]
[]
[]
[]
[]
[]
[]
[]
[]
[]
[]
[]
[]
[]
[]
[]
[]
[]
[]
[]
[]
[]
[]
[]
[]
[]
[]
[]
[]
[]
[]
[]
[]
[]
[]
[]
[]
[]
[]
[]
[]
[]
[]
[]
[]
[]
[]
[]
[]
[]
[]
[]
[]
[]
[]
[]
[]
[]
[]
[]
[]
[]
[]
[]
[]
[]
[]
[]
[]
[]
[]
[]
[]
[]
[]
[]
[]
[]
[]
[]
[]
[]
[]
[]
[]
[]
[]
[]
[]
[]
[]
[]
[]
[]
[]
[]
[]
[]
[]
[]
[]
[]
[]
[]
[]
[]
[]
[]
[]
[]
[]
[]
[]
[]
[]
[]
[]
[]
[]
[]
[]
[]
[]
[]
[]
[]
[]
[]
[]
[]
[]
[]
[]
[]
[]
[]
[]
[]
[]
[]
[]
[]
[]
[]
[]
[]
[]
[]
[]
[]
[]
[]
[]
[]
[]
[]
[]
[]
[]
[]
[]
[]
[]
[]
[]
[]
[]
[]
[]
[]
[]
[]
[]
[]
[]
[]
[]
[]
[]
[]
[]
[]
[]
[]
[]
[]
[]
[]
[]
[]
[]
[]
[]
[]
[]
[]
[]
[]
[]
[]
[]
[]
[]
[]
[]
[]
[]
[]
[]
[]
[]
[]
[]
[]
[]
[]
[]
[]
[]
[]
[]
[]
[]
[]
[]
[]
[]
[]
[]
[]
[]
[]
[]
[]
[]
[]
[]
[]
[]
[]
[]
[]
[]
[]
[]
[]
[]
[]
[]
[]
[]
[]
[]
[]
[]
[]
[]
[]
[]
[]
[]
[]
[]
[]
[]
[]
[]
[]
[]
[]
[]
[]
[]
[]
[]
[]
[]
[]
[]
[]
[]
[]
[]
[]
[]
[]
[]
[]
[]
[]
[]
[]
[]
[]
[]
[]
[]
[]
[]
[]
[]
[]
[]
[]
[]
[]
[]
[]
[]
[]
[]
[]
[]
[]
[]
[]
[]
[]
[]
[]
[]
[]
[]
[]
[]
[]
[]
[]
[]
[]
[]
[]
[]
[]
[]
[]
[]
[]
[]
[]
[]
[]
[]
[]
[]
[]
[]
[]
[]
[]
[]
[]
[]
[]
[]
[]
[]
[]
[]
[]
[]
[]
[]
[]
[]
[]
[]
[]
[]
[]
[]
[]
[]
[]
[]
[]
[]
[]
[]
[]
[]
[]
[]
[]
[]
[]
[]
[]
[]
[]
[]
[]
[]
[]
[]
[]
[]
[]
[]
[]
[]
[]
[]
[]
[]
[]
[]
[]
[]
[]
[]
[]
[]
[]
[]
[]
[]
[]
[]
[]
[]
[]
[]
[]
[]
[]
[]
[]
[]
[]
[]
[]
[]
[]
[]
[]
[]
[]
[]
[]
[]
[]
[]
[]
[]
[]
[]
[]
[]
[]
[]
[]
[]
[]
[]
[]
[]
[]
[]
[]
[]
[]
[]
[]
[]
[]
[]
[]
[]
[]
[]
[]
[]
[]
[]
[]
[]
[]
[]
[]
[]
[]
[]
[]
[]
[]
[]
[]
[]
[]
[]
[]
[]
[]
[]
[]
[]
[]
[]
[]
[]
[]
[]
[]
[]
[]
[]
[]
[]
[]
[]
[]
[]
[]
[]
[]
[]
[]
[]
[]
[]
[]
[]
[]
[]
[]
[{"$f":"IF(SCHEMA_CE!D47=\"\",\"\",SCHEMA_CE!E47)","v":""}]
[{"$f":"IF(SCHEMA_CE!D48=\"\",\"\",SCHEMA_CE!E48)","v":""}]
[{"$f":"IF(SCHEMA_CE!D49=\"\",\"\",SCHEMA_CE!E49)","v":""}]
[{"$f":"IF(SCHEMA_CE!D50=\"\",\"\",SCHEMA_CE!E50)","v":""}]
[{"$f":"IF(SCHEMA_CE!D51=\"\",\"\",SCHEMA_CE!E51)","v":""}]
[{"$f":"IF(SCHEMA_CE!D52=\"\",\"\",SCHEMA_CE!E52)","v":""}]
[{"$f":"IF(SCHEMA_CE!D53=\"\",\"\",SCHEMA_CE!E53)","v":""}]
[{"$f":"IF(SCHEMA_CE!D54=\"\",\"\",SCHEMA_CE!E54)","v":""}]
[{"$f":"IF(SCHEMA_CE!D41=\"\",\"\",SCHEMA_CE!E41)","v":""}]
[{"$f":"IF(SCHEMA_CE!D42=\"\",\"\",SCHEMA_CE!E42)","v":""}]
[{"$f":"IF(SCHEMA_CE!D43=\"\",\"\",SCHEMA_CE!E43)","v":""}]
[{"$f":"IF(SCHEMA_CE!D44=\"\",\"\",SCHEMA_CE!E44)","v":""}]
[{"$f":"IF(SCHEMA_CE!D45=\"\",\"\",SCHEMA_CE!E45)","v":""}]
[{"$f":"IF(SCHEMA_CE!D46=\"\",\"\",SCHEMA_CE!E46)","v":""}]
[{"$f":"IF(SCHEMA_CE!D47=\"\",\"\",SCHEMA_CE!E47)","v":""}]
[{"$f":"IF(SCHEMA_CE!D48=\"\",\"\",SCHEMA_CE!E48)","v":""}]
[{"$f":"IF(SCHEMA_CE!D49=\"\",\"\",SCHEMA_CE!E49)","v":""}]
[{"$f":"IF(SCHEMA_CE!D50=\"\",\"\",SCHEMA_CE!E50)","v":""}]
[{"$f":"IF(SCHEMA_CE!D51=\"\",\"\",SCHEMA_CE!E51)","v":""}]
[{"$f":"IF(SCHEMA_CE!D52=\"\",\"\",SCHEMA_CE!E52)","v":""}]
[{"$f":"IF(SCHEMA_CE!D53=\"\",\"\",SCHEMA_CE!E53)","v":""}]
[{"$f":"IF(SCHEMA_CE!D54=\"\",\"\",SCHEMA_CE!E54)","v":""}]
[{"$f":"IF(SCHEMA_CE!D41=\"\",\"\",SCHEMA_CE!E41)","v":""}]
[{"$f":"IF(SCHEMA_CE!D42=\"\",\"\",SCHEMA_CE!E42)","v":""}]
[{"$f":"IF(SCHEMA_CE!D43=\"\",\"\",SCHEMA_CE!E43)","v":""}]
[{"$f":"IF(SCHEMA_CE!D44=\"\",\"\",SCHEMA_CE!E44)","v":""}]
[{"$f":"IF(SCHEMA_CE!D45=\"\",\"\",SCHEMA_CE!E45)","v":""}]
[{"$f":"IF(SCHEMA_CE!D46=\"\",\"\",SCHEMA_CE!E46)","v":""}]
[{"$f":"IF(SCHEMA_CE!D47=\"\",\"\",SCHEMA_CE!E47)","v":""}]
[{"$f":"IF(SCHEMA_CE!D48=\"\",\"\",SCHEMA_CE!E48)","v":""}]
[{"$f":"IF(SCHEMA_CE!D49=\"\",\"\",SCHEMA_CE!E49)","v":""}]
[{"$f":"IF(SCHEMA_CE!D50=\"\",\"\",SCHEMA_CE!E50)","v":""}]
[{"$f":"IF(SCHEMA_CE!D51=\"\",\"\",SCHEMA_CE!E51)","v":""}]
[{"$f":"IF(SCHEMA_CE!D52=\"\",\"\",SCHEMA_CE!E52)","v":""}]
[{"$f":"IF(SCHEMA_CE!D53=\"\",\"\",SCHEMA_CE!E53)","v":""}]
[{"$f":"IF(SCHEMA_CE!D54=\"\",\"\",SCHEMA_CE!E54)","v":""}]
[{"$f":"IF(SCHEMA_CE!D41=\"\",\"\",SCHEMA_CE!E41)","v":""}]
[{"$f":"IF(SCHEMA_CE!D42=\"\",\"\",SCHEMA_CE!E42)","v":""}]
[{"$f":"IF(SCHEMA_CE!D43=\"\",\"\",SCHEMA_CE!E43)","v":""}]
[{"$f":"IF(SCHEMA_CE!D44=\"\",\"\",SCHEMA_CE!E44)","v":""}]
[{"$f":"IF(SCHEMA_CE!D45=\"\",\"\",SCHEMA_CE!E45)","v":""}]
[{"$f":"IF(SCHEMA_CE!D46=\"\",\"\",SCHEMA_CE!E46)","v":""}]
[{"$f":"IF(SCHEMA_CE!D47=\"\",\"\",SCHEMA_CE!E47)","v":""}]
[{"$f":"IF(SCHEMA_CE!D48=\"\",\"\",SCHEMA_CE!E48)","v":""}]
[{"$f":"IF(SCHEMA_CE!D49=\"\",\"\",SCHEMA_CE!E49)","v":""}]
[{"$f":"IF(SCHEMA_CE!D50=\"\",\"\",SCHEMA_CE!E50)","v":""}]
[{"$f":"IF(SCHEMA_CE!D51=\"\",\"\",SCHEMA_CE!E51)","v":""}]
[{"$f":"IF(SCHEMA_CE!D52=\"\",\"\",SCHEMA_CE!E52)","v":""}]
[{"$f":"IF(SCHEMA_CE!D53=\"\",\"\",SCHEMA_CE!E53)","v":""}]
[{"$f":"IF(SCHEMA_CE!D54=\"\",\"\",SCHEMA_CE!E54)","v":""}]
[{"$f":"IF(SCHEMA_CE!D41=\"\",\"\",SCHEMA_CE!E41)","v":""}]
[{"$f":"IF(SCHEMA_CE!D42=\"\",\"\",SCHEMA_CE!E42)","v":""}]
[{"$f":"IF(SCHEMA_CE!D43=\"\",\"\",SCHEMA_CE!E43)","v":""}]
[{"$f":"IF(SCHEMA_CE!D44=\"\",\"\",SCHEMA_CE!E44)","v":""}]
[{"$f":"IF(SCHEMA_CE!D45=\"\",\"\",SCHEMA_CE!E45)","v":""}]
[{"$f":"IF(SCHEMA_CE!D46=\"\",\"\",SCHEMA_CE!E46)","v":""}]
[{"$f":"IF(SCHEMA_CE!D47=\"\",\"\",SCHEMA_CE!E47)","v":""}]
[{"$f":"IF(SCHEMA_CE!D48=\"\",\"\",SCHEMA_CE!E48)","v":""}]
[{"$f":"IF(SCHEMA_CE!D49=\"\",\"\",SCHEMA_CE!E49)","v":""}]
[{"$f":"IF(SCHEMA_CE!D50=\"\",\"\",SCHEMA_CE!E50)","v":""}]
[{"$f":"IF(SCHEMA_CE!D51=\"\",\"\",SCHEMA_CE!E51)","v":""}]
[{"$f":"IF(SCHEMA_CE!D52=\"\",\"\",SCHEMA_CE!E52)","v":""}]
[{"$f":"IF(SCHEMA_CE!D53=\"\",\"\",SCHEMA_CE!E53)","v":""}]
[{"$f":"IF(SCHEMA_CE!D54=\"\",\"\",SCHEMA_CE!E54)","v":""}]
[{"$f":"IF(SCHEMA_CE!D54=\"\",\"\",SCHEMA_CE!E54)","v":""}]

{"sheet":"SP_STORICO","index":8,"n_rows":542,"n_cols":31,"rows_kept":542,"cut":false,"hidden":false,"merged":[[0,1,0,6]]}
[null,{"$f":"MENU!$C$5&\" - STATI PATRIMONIALI STORICI\"","v":"XYZ SpA - STATI PATRIMONIALI STORICI"}]
[]
[null,"Quadratura",{"$f":"IF(C4=\"\",\"\",SUM(AA5:AA542))","v":0},{"$f":"IF(D4=\"\",\"\",SUM(AB5:AB542))","v":0},{"$f":"IF(E4=\"\",\"\",SUM(AC5:AC542))","v":""},{"$f":"IF(F4=\"\",\"\",SUM(AD5:AD542))","v":""},{"$f":"IF(G4=\"\",\"\",SUM(AE5:AE542))","v":""}]
[null,null,{"$f":"MENU!$C$9","v":2003},{"$f":"IF(C4=\"\",\"\",IF(C4+1-$C$4>MENU!$C$7-1,\"\",CE_STORICO!C4+1))","v":2004},{"$f":"IF(D4=\"\",\"\",IF(D4+1-$C$4>MENU!$C$7-1,\"\",CE_STORICO!D4+1))","v":""},{"$f":"IF(E4=\"\",\"\",IF(E4+1-$C$4>MENU!$C$7-1,\"\",CE_STORICO!E4+1))","v":""},{"$f":"IF(F4=\"\",\"\",IF(F4+1-$C$4>MENU!$C$7-1,\"\",CE_STORICO!F4+1))","v":""}]
[{"$f":"IF(SCHEMA_SP!D5=\"\",\"\",SCHEMA_SP!E5)","v":"010101_Concessioni, licenze, marchi"},{"$f":"IF(SCHEMA_SP!D5=\"\",\"\",SCHEMA_SP!D5)","v":"Concessioni, licenze, marchi"},null,null,null,null,null,null,null,null,null,null,null,null,null,null,null,null,null,null,null,null,null,null,null,null,{"$f":"IF(OR(MID($A5,3,2)=\"99\",MID($A5,5,2)=\"99\"),0,C5)","v":0},{"$f":"IF(OR(MID($A5,3,2)=\"99\",MID($A5,5,2)=\"99\"),0,D5)","v":0},{"$f":"IF(OR(MID($A5,3,2)=\"99\",MID($A5,5,2)=\"99\"),0,E5)","v":0},{"$f":"IF(OR(MID($A5,3,2)=\"99\",MID($A5,5,2)=\"99\"),0,F5)","v":0},{"$f":"IF(OR(MID($A5,3,2)=\"99\",MID($A5,5,2)=\"99\"),0,G5)","v":0}]
[{"$f":"IF(SCHEMA_SP!D6=\"\",\"\",SCHEMA_SP!E6)","v":"010111_Software"},{"$f":"IF(SCHEMA_SP!D6=\"\",\"\",SCHEMA_SP!D6)","v":"Software"},null,null,null,null,null,null,null,null,null,null,null,null,null,null,null,null,null,null,null,null,null,null,null,null,{"$f":"IF(OR(MID($A6,3,2)=\"99\",MID($A6,5,2)=\"99\"),0,C6)","v":0},0,0,0,{"$f":"IF(OR(MID($A6,3,2)=\"99\",MID($A6,5,2)=\"99\"),0,G6)","v":0}]
[{"$f":"IF(SCHEMA_SP!D7=\"\",\"\",SCHEMA_SP!E7)","v":"010199_IMMOBILIZZAZIONI IMMATERIALI"},{"$f":"IF(SCHEMA_SP!D7=\"\",\"\",SCHEMA_SP!D7)","v":"IMMOBILIZZAZIONI IMMATERIALI"},{"$f":"SUM(C5:C6)","v":0},{"$f":"SUM(D5:D6)","v":0},null,null,null,null,null,null,null,null,null,null,null,null,null,null,null,null,null,null,null,null,null,null,0,0,0,0,0]
[]
[{"$f":"IF(SCHEMA_SP!D8=\"\",\"\",SCHEMA_SP!E8)","v":"010201_Terreni e fabbricati"},{"$f":"IF(SCHEMA_SP!D8=\"\",\"\",SCHEMA_SP!D8)","v":"Terreni e fabbricati"}]
[{"$f":"IF(SCHEMA_SP!D9=\"\",\"\",SCHEMA_SP!E9)","v":"010211_Attrezzature e impianti"},{"$f":"IF(SCHEMA_SP!D9=\"\",\"\",SCHEMA_SP!D9)","v":"Attrezzature e impianti"}]
[{"$f":"IF(SCHEMA_SP!D10=\"\",\"\",SCHEMA_SP!E10)","v":"010221_Altri beni"},{"$f":"IF(SCHEMA_SP!D10=\"\",\"\",SCHEMA_SP!D10)","v":"Altri beni"}]
[{"$f":"IF(SCHEMA_SP!D11=\"\",\"\",SCHEMA_SP!E11)","v":"010299_IMMOBILIZZAZIONI MATERIALI"},{"$f":"IF(SCHEMA_SP!D11=\"\",\"\",SCHEMA_SP!D11)","v":"IMMOBILIZZAZIONI MATERIALI"},{"$f":"SUM(C9:C11)","v":0},{"$f":"SUM(D9:D11)","v":0}]
[]
[{"$f":"IF(SCHEMA_SP!D12=\"\",\"\",SCHEMA_SP!E12)","v":"010301_Partecipazioni"},{"$f":"IF(SCHEMA_SP!D12=\"\",\"\",SCHEMA_SP!D12)","v":"Partecipazioni"}]
[{"$f":"IF(SCHEMA_SP!D13=\"\",\"\",SCHEMA_SP!E13)","v":"010311_Crediti"},{"$f":"IF(SCHEMA_SP!D13=\"\",\"\",SCHEMA_SP!D13)","v":"Crediti"}]
[{"$f":"IF(SCHEMA_SP!D14=\"\",\"\",SCHEMA_SP!E14)","v":"010321_Altri"},{"$f":"IF(SCHEMA_SP!D14=\"\",\"\",SCHEMA_SP!D14)","v":"Altri"}]
[{"$f":"IF(SCHEMA_SP!D15=\"\",\"\",SCHEMA_SP!E15)","v":"010399_IMMOBILIZZAZIONI FINANZIARIE"},{"$f":"IF(SCHEMA_SP!D15=\"\",\"\",SCHEMA_SP!D15)","v":"IMMOBILIZZAZIONI FINANZIARIE"},{"$f":"SUM(C14:C16)","v":0},{"$f":"SUM(D14:D16)","v":0}]
[]
[{"$f":"IF(SCHEMA_SP!D16=\"\",\"\",SCHEMA_SP!E16)","v":"019901_IMMOBILIZZAZIONI"},{"$f":"IF(SCHEMA_SP!D16=\"\",\"\",SCHEMA_SP!D16)","v":"IMMOBILIZZAZIONI"},{"$f":"+C7+C12+C17","v":0},{"$f":"+D7+D12+D17","v":0}]
[]
[{"$f":"IF(SCHEMA_SP!D17=\"\",\"\",SCHEMA_SP!E17)","v":"020401_Magazzino"},{"$f":"IF(SCHEMA_SP!D17=\"\",\"\",SCHEMA_SP!D17)","v":"Magazzino"}]
[{"$f":"IF(SCHEMA_SP!D18=\"\",\"\",SCHEMA_SP!E18)","v":"020402_Crediti verso clienti"},{"$f":"IF(SCHEMA_SP!D18=\"\",\"\",SCHEMA_SP!D18)","v":"Crediti verso clienti"}]
[{"$f":"IF(SCHEMA_SP!D19=\"\",\"\",SCHEMA_SP!E19)","v":"020403_Altri crediti"},{"$f":"IF(SCHEMA_SP!D19=\"\",\"\",SCHEMA_SP!D19)","v":"Altri crediti"}]
[{"$f":"IF(SCHEMA_SP!D20=\"\",\"\",SCHEMA_SP!E20)","v":"020404_Ratei/risconti attivi"},{"$f":"IF(SCHEMA_SP!D20=\"\",\"\",SCHEMA_SP!D20)","v":"Ratei/risconti attivi"}]
[{"$f":"IF(SCHEMA_SP!D21=\"\",\"\",SCHEMA_SP!E21)","v":"020499_ATTIVO CIRCOLANTE"},{"$f":"IF(SCHEMA_SP!D21=\"\",\"\",SCHEMA_SP!D21)","v":"ATTIVO CIRCOLANTE"},{"$f":"SUM(C21:C24)","v":0},{"$f":"SUM(D21:D24)","v":0}]
[]
[{"$f":"IF(SCHEMA_SP!D22=\"\",\"\",SCHEMA_SP!E22)","v":"020505_Debiti verso fornitori"},{"$f":"IF(SCHEMA_SP!D22=\"\",\"\",SCHEMA_SP!D22)","v":"Debiti verso fornitori"}]
[{"$f":"IF(SCHEMA_SP!D23=\"\",\"\",SCHEMA_SP!E23)","v":"020506_Debiti verso altri"},{"$f":"IF(SCHEMA_SP!D23=\"\",\"\",SCHEMA_SP!D23)","v":"Debiti verso altri"}]
[{"$f":"IF(SCHEMA_SP!D24=\"\",\"\",SCHEMA_SP!E24)","v":"020507_Debiti tributari"},{"$f":"IF(SCHEMA_SP!D24=\"\",\"\",SCHEMA_SP!D24)","v":"Debiti tributari"}]
[{"$f":"IF(SCHEMA_SP!D25=\"\",\"\",SCHEMA_SP!E25)","v":"020508_Ratei/risconti passivi"},{"$f":"IF(SCHEMA_SP!D25=\"\",\"\",SCHEMA_SP!D25)","v":"Ratei/risconti passivi"}]
[{"$f":"IF(SCHEMA_SP!D26=\"\",\"\",SCHEMA_SP!E26)","v":"020509_Fondi imposte"},{"$f":"IF(SCHEMA_SP!D26=\"\",\"\",SCHEMA_SP!D26)","v":"Fondi imposte"}]
[{"$f":"IF(SCHEMA_SP!D27=\"\",\"\",SCHEMA_SP!E27)","v":"020599_PASSIVO CIRCOLANTE"},{"$f":"IF(SCHEMA_SP!D27=\"\",\"\",SCHEMA_SP!D27)","v":"PASSIVO CIRCOLANTE"},{"$f":"SUM(C27:C31)","v":0},{"$f":"SUM(D27:D31)","v":0}]
[]
[{"$f":"IF(SCHEMA_SP!D28=\"\",\"\",SCHEMA_SP!E28)","v":"029901_CAPITALE CIRCOLANTE OPERATIVO"},{"$f":"IF(SCHEMA_SP!D28=\"\",\"\",SCHEMA_SP!D28)","v":"CAPITALE CIRCOLANTE OPERATIVO"},{"$f":"+C25+C32","v":0},{"$f":"+D25+D32","v":0}]
[]
[{"$f":"IF(SCHEMA_SP!D29=\"\",\"\",SCHEMA_SP!E29)","v":"030101_Cassa"},{"$f":"IF(SCHEMA_SP!D29=\"\",\"\",SCHEMA_SP!D29)","v":"Cassa"}]
[{"$f":"IF(SCHEMA_SP!D30=\"\",\"\",SCHEMA_SP!E30)","v":"030111_Banca "},{"$f":"IF(SCHEMA_SP!D30=\"\",\"\",SCHEMA_SP!D30)","v":"Banca "}]
[{"$f":"IF(SCHEMA_SP!D31=\"\",\"\",SCHEMA_SP!E31)","v":"030121_Titoli "},{"$f":"IF(SCHEMA_SP!D31=\"\",\"\",SCHEMA_SP!D31)","v":"Titoli "}]
[{"$f":"IF(SCHEMA_SP!D32=\"\",\"\",SCHEMA_SP!E32)","v":"030199_LIQUIDITA'"},{"$f":"IF(SCHEMA_SP!D32=\"\",\"\",SCHEMA_SP!D32)","v":"LIQUIDITA'"},{"$f":"SUM(C36:C38)","v":0},{"$f":"SUM(D36:D38)","v":0}]
[]
[{"$f":"IF(SCHEMA_SP!D33=\"\",\"\",SCHEMA_SP!E33)","v":"049999_CAPITALE INVESTITO"},{"$f":"IF(SCHEMA_SP!D33=\"\",\"\",SCHEMA_SP!D33)","v":"CAPITALE INVESTITO"},{"$f":"+C7+C12+C17+C25+C32+C39","v":0},{"$f":"+D7+D12+D17+D25+D32+D39","v":0}]
[]
[{"$f":"IF(SCHEMA_SP!D34=\"\",\"\",SCHEMA_SP!E34)","v":"110101_Capitale sociale"},{"$f":"IF(SCHEMA_SP!D34=\"\",\"\",SCHEMA_SP!D34)","v":"Capitale sociale"}]
[{"$f":"IF(SCHEMA_SP!D35=\"\",\"\",SCHEMA_SP!E35)","v":"110102_Riserve"},{"$f":"IF(SCHEMA_SP!D35=\"\",\"\",SCHEMA_SP!D35)","v":"Riserve"}]
[{"$f":"IF(SCHEMA_SP!D36=\"\",\"\",SCHEMA_SP!E36)","v":"110103_Risultato del periodo"},{"$f":"IF(SCHEMA_SP!D36=\"\",\"\",SCHEMA_SP!D36)","v":"Risultato del periodo"}]
[{"$f":"IF(SCHEMA_SP!D37=\"\",\"\",SCHEMA_SP!E37)","v":"110199_PATRIMONIO NETTO"},{"$f":"IF(SCHEMA_SP!D37=\"\",\"\",SCHEMA_SP!D37)","v":"PATRIMONIO NETTO"},{"$f":"SUM(C43:C45)","v":0},{"$f":"SUM(D43:D45)","v":0}]
[]
[{"$f":"IF(SCHEMA_SP!D38=\"\",\"\",SCHEMA_SP!E38)","v":"110201_Debiti a breve verso banche"},{"$f":"IF(SCHEMA_SP!D38=\"\",\"\",SCHEMA_SP!D38)","v":"Debiti a breve verso banche"}]
[{"$f":"IF(SCHEMA_SP!D39=\"\",\"\",SCHEMA_SP!E39)","v":"110211_Debiti a breve verso altri finanziatori"},{"$f":"IF(SCHEMA_SP!D39=\"\",\"\",SCHEMA_SP!D39)","v":"Debiti a breve verso altri finanziatori"}]
[{"$f":"IF(SCHEMA_SP!D40=\"\",\"\",SCHEMA_SP!E40)","v":"110299_DEBITI FINANZIARI A BREVE"},{"$f":"IF(SCHEMA_SP!D40=\"\",\"\",SCHEMA_SP!D40)","v":"DEBITI FINANZIARI A BREVE"},{"$f":"SUM(C48:C49)","v":0},{"$f":"SUM(D48:D49)","v":0}]
[]
[{"$f":"IF(SCHEMA_SP!D41=\"\",\"\",SCHEMA_SP!E41)","v":"110301_Debiti a medio termine verso banche"},{"$f":"IF(SCHEMA_SP!D41=\"\",\"\",SCHEMA_SP!D41)","v":"Debiti a medio termine verso banche"}]
[{"$f":"IF(SCHEMA_SP!D42=\"\",\"\",SCHEMA_SP!E42)","v":"110311_Debiti a medio termine verso altri finanziatori"},{"$f":"IF(SCHEMA_SP!D42=\"\",\"\",SCHEMA_SP!D42)","v":"Debiti a medio termine verso altri finanziatori"}]
[{"$f":"IF(SCHEMA_SP!D43=\"\",\"\",SCHEMA_SP!E43)","v":"110399_DEBITI FINANZIARI A MEDIO"},{"$f":"IF(SCHEMA_SP!D43=\"\",\"\",SCHEMA_SP!D43)","v":"DEBITI FINANZIARI A MEDIO"},{"$f":"SUM(C52:C53)","v":0},{"$f":"SUM(D52:D53)","v":0}]
[]
[{"$f":"IF(SCHEMA_SP!D44=\"\",\"\",SCHEMA_SP!E44)","v":"110401_TFR"},{"$f":"IF(SCHEMA_SP!D44=\"\",\"\",SCHEMA_SP!D44)","v":"TFR"}]
[{"$f":"IF(SCHEMA_SP!D45=\"\",\"\",SCHEMA_SP!E45)","v":"110499_TOTALE TFR"},{"$f":"IF(SCHEMA_SP!D45=\"\",\"\",SCHEMA_SP!D45)","v":"TOTALE TFR"},{"$f":"SUM(C56:C56)","v":0},{"$f":"SUM(D56:D56)","v":0}]
[]
[{"$f":"IF(SCHEMA_SP!D46=\"\",\"\",SCHEMA_SP!E46)","v":"119999_FONTI DI FINANZIAMENTO"},{"$f":"IF(SCHEMA_SP!D46=\"\",\"\",SCHEMA_SP!D46)","v":"FONTI DI FINANZIAMENTO"},{"$f":"+C46+C50+C54+C57","v":0},{"$f":"+D46+D50+D54+D57","v":0}]
[]
[{"$f":"IF(SCHEMA_SP!D47=\"\",\"\",SCHEMA_SP!E47)","v":""},{"$f":"IF(SCHEMA_SP!D47=\"\",\"\",SCHEMA_SP!D47)","v":""}]
[{"$f":"IF(SCHEMA_SP!D48=\"\",\"\",SCHEMA_SP!E48)","v":""},{"$f":"IF(SCHEMA_SP!D48=\"\",\"\",SCHEMA_SP!D48)","v":""}]
[{"$f":"IF(SCHEMA_SP!D49=\"\",\"\",SCHEMA_SP!E49)","v":""},{"$f":"IF(SCHEMA_SP!D49=\"\",\"\",SCHEMA_SP!D49)","v":""}]
[{"$f":"IF(SCHEMA_SP!D50=\"\",\"\",SCHEMA_SP!E50)","v":""},{"$f":"IF(SCHEMA_SP!D50=\"\",\"\",SCHEMA_SP!D50)","v":""}]
[{"$f":"IF(SCHEMA_SP!D51=\"\",\"\",SCHEMA_SP!E51)","v":""},{"$f":"IF(SCHEMA_SP!D51=\"\",\"\",SCHEMA_SP!D51)","v":""}]
[{"$f":"IF(SCHEMA_SP!D52=\"\",\"\",SCHEMA_SP!E52)","v":""},{"$f":"IF(SCHEMA_SP!D52=\"\",\"\",SCHEMA_SP!D52)","v":""}]
[{"$f":"IF(SCHEMA_SP!D53=\"\",\"\",SCHEMA_SP!E53)","v":""},{"$f":"IF(SCHEMA_SP!D53=\"\",\"\",SCHEMA_SP!D53)","v":""}]
[{"$f":"IF(SCHEMA_SP!D54=\"\",\"\",SCHEMA_SP!E54)","v":""},{"$f":"IF(SCHEMA_SP!D54=\"\",\"\",SCHEMA_SP!D54)","v":""}]
[]
[]
[]
[]
[]
[]
[]
[]
[]
[]
[]
[]
[]
[]
[]
[]
[]
[]
[]
[]
[]
[]
[]
[]
[]
[]
[]
[]
[]
[]
[]
[]
[]
[]
[]
[]
[]
[]
[]
[]
[]
[]
[]
[]
[]
[]
[]
[]
[]
[]
[]
[]
[]
[]
[]
[]
[]
[]
[]
[]
[]
[]
[]
[]
[]
[]
[]
[]
[]
[]
[]
[]
[]
[]
[]
[]
[]
[]
[]
[]
[]
[]
[]
[]
[]
[]
[]
[]
[]
[]
[]
[]
[]
[]
[]
[]
[]
[]
[]
[]
[]
[]
[]
[]
[]
[]
[]
[]
[]
[]
[]
[]
[]
[]
[]
[]
[]
[]
[]
[]
[]
[]
[]
[]
[]
[null,null,null,null,null,null,null,null,null,null,null,null,null,null,null,null,null,null,null,null,null,null,null,null,null,null,0,0,0,0,0]
[]
[]
[]
[]
[]
[]
[]
[]
[]
[]
[]
[]
[]
[null,null,null,null,null,null,null,null,null,null,null,null,null,null,null,null,null,null,null,null,null,null,null,null,null,null,0,0,0,0,0]
[]
[]
[]
[]
[]
[]
[]
[]
[]
[]
[]
[]
[]
[null,null,null,null,null,null,null,null,null,null,null,null,null,null,null,null,null,null,null,null,null,null,null,null,null,null,0,0,0,0,0]
[]
[]
[]
[]
[]
[]
[]
[]
[]
[]
[]
[]
[]
[null,null,null,null,null,null,null,null,null,null,null,null,null,null,null,null,null,null,null,null,null,null,null,null,null,null,0,0,0,0,0]
[]
[]
[]
[]
[]
[]
[]
[]
[]
[]
[]
[]
[]
[null,null,null,null,null,null,null,null,null,null,null,null,null,null,null,null,null,null,null,null,null,null,null,null,null,null,0,0,0,0,0]
[]
[]
[]
[]
[null,null,null,null,null,null,null,null,null,null,null,null,null,null,null,null,null,null,null,null,null,null,null,null,null,null,0,0,0,0,0]
[]
[]
[]
[]
[]
[]
[]
[]
[null,null,null,null,null,null,null,null,null,null,null,null,null,null,null,null,null,null,null,null,null,null,null,null,null,null,0,0,0,0,0]
[]
[]
[]
[]
[null,null,null,null,null,null,null,null,null,null,null,null,null,null,null,null,null,null,null,null,null,null,null,null,null,null,0,0,0,0,0]
[]
[]
[]
[]
[]
[]
[]
[]
[null,null,null,null,null,null,null,null,null,null,null,null,null,null,null,null,null,null,null,null,null,null,null,null,null,null,0,0,0,0,0]
[]
[]
[]
[]
[null,null,null,null,null,null,null,null,null,null,null,null,null,null,null,null,null,null,null,null,null,null,null,null,null,null,0,0,0,0,0]
[]
[]
[]
[null,null,null,null,null,null,null,null,null,null,null,null,null,null,null,null,null,null,null,null,null,null,null,null,null,null,0,0,0,0,0]
[]
[]
[]
[]
[null,null,null,null,null,null,null,null,null,null,null,null,null,null,null,null,null,null,null,null,null,null,null,null,null,null,0,0,0,0,0]
[]
[]
[null,null,null,null,null,null,null,null,null,null,null,null,null,null,null,null,null,null,null,null,null,null,null,null,null,null,0,0,0,0,0]
[]
[null,null,null,null,null,null,null,null,null,null,null,null,null,null,null,null,null,null,null,null,null,null,null,null,null,null,0,0,0,0,0]
[]
[]
[]
[null,null,null,null,null,null,null,null,null,null,null,null,null,null,null,null,null,null,null,null,null,null,null,null,null,null,0,0,0,0,0]
[]
[]
[]
[]
[null,null,null,null,null,null,null,null,null,null,null,null,null,null,null,null,null,null,null,null,null,null,null,null,null,null,0,0,0,0,0]
[]
[]
[null,null,null,null,null,null,null,null,null,null,null,null,null,null,null,null,null,null,null,null,null,null,null,null,null,null,0,0,0,0,0]
[]
[null,null,null,null,null,null,null,null,null,null,null,null,null,null,null,null,null,null,null,null,null,null,null,null,null,null,0,0,0,0,0]
[]
[]
[null,null,null,null,null,null,null,null,null,null,null,null,null,null,null,null,null,null,null,null,null,null,null,null,null,null,0,0,0,0,0]
[null,null,null,null,null,null,null,null,null,null,null,null,null,null,null,null,null,null,null,null,null,null,null,null,null,null,0,0,0,0,0]
[]
[]
[]
[]
[null,null,null,null,null,null,null,null,null,null,null,null,null,null,null,null,null,null,null,null,null,null,null,null,null,null,0,0,0,0,0]
[]
[]
[null,null,null,null,null,null,null,null,null,null,null,null,null,null,null,null,null,null,null,null,null,null,null,null,null,null,0,0,0,0,0]
[]
[null,null,null,null,null,null,null,null,null,null,null,null,null,null,null,null,null,null,null,null,null,null,null,null,null,null,0,0,0,0,0]
[]
[]
[null,null,null,null,null,null,null,null,null,null,null,null,null,null,null,null,null,null,null,null,null,null,null,null,null,null,0,0,0,0,0]
[null,null,null,null,null,null,null,null,null,null,null,null,null,null,null,null,null,null,null,null,null,null,null,null,null,null,0,0,0,0,0]
[]
[]
[null,null,null,null,null,null,null,null,null,null,null,null,null,null,null,null,null,null,null,null,null,null,null,null,null,null,0,0,0,0,0]
[]
[null,null,null,null,null,null,null,null,null,null,null,null,null,null,null,null,null,null,null,null,null,null,null,null,null,null,0,0,0,0,0]
[]
[null,null,null,null,null,null,null,null,null,null,null,null,null,null,null,null,null,null,null,null,null,null,null,null,null,null,0,0,0,0,0]
[null,null,null,null,null,null,null,null,null,null,null,null,null,null,null,null,null,null,null,null,null,null,null,null,null,null,0,0,0,0,0]
[]
[null,null,null,null,null,null,null,null,null,null,null,null,null,null,null,null,null,null,null,null,null,null,null,null,null,null,0,0,0,0,0]
[]
[]
[null,null,null,null,null,null,null,null,null,null,null,null,null,null,null,null,null,null,null,null,null,null,null,null,null,null,0,0,0,0,0]
[null,null,null,null,null,null,null,null,null,null,null,null,null,null,null,null,null,null,null,null,null,null,null,null,null,null,0,0,0,0,0]
[null,null,null,null,null,null,null,null,null,null,null,null,null,null,null,null,null,null,null,null,null,null,null,null,null,null,0,0,0,0,0]
[]
[null,null,null,null,null,null,null,null,null,null,null,null,null,null,null,null,null,null,null,null,null,null,null,null,null,null,0,0,0,0,0]
[null,null,null,null,null,null,null,null,null,null,null,null,null,null,null,null,null,null,null,null,null,null,null,null,null,null,0,0,0,0,0]
[null,null,null,null,null,null,null,null,null,null,null,null,null,null,null,null,null,null,null,null,null,null,null,null,null,null,0,0,0,0,0]
[]
[null,null,null,null,null,null,null,null,null,null,null,null,null,null,null,null,null,null,null,null,null,null,null,null,null,null,0,0,0,0,0]
[null,null,null,null,null,null,null,null,null,null,null,null,null,null,null,null,null,null,null,null,null,null,null,null,null,null,0,0,0,0,0]
[]
[null,null,null,null,null,null,null,null,null,null,null,null,null,null,null,null,null,null,null,null,null,null,null,null,null,null,0,0,0,0,0]
[]
[null,null,null,null,null,null,null,null,null,null,null,null,null,null,null,null,null,null,null,null,null,null,null,null,null,null,0,0,0,0,0]
[null,null,null,null,null,null,null,null,null,null,null,null,null,null,null,null,null,null,null,null,null,null,null,null,null,null,0,0,0,0,0]
[null,null,null,null,null,null,null,null,null,null,null,null,null,null,null,null,null,null,null,null,null,null,null,null,null,null,0,0,0,0,0]
[null,null,null,null,null,null,null,null,null,null,null,null,null,null,null,null,null,null,null,null,null,null,null,null,null,null,0,0,0,0,0]
[null,null,null,null,null,null,null,null,null,null,null,null,null,null,null,null,null,null,null,null,null,null,null,null,null,null,0,0,0,0,0]
[null,null,null,null,null,null,null,null,null,null,null,null,null,null,null,null,null,null,null,null,null,null,null,null,null,null,0,0,0,0,0]
[null,null,null,null,null,null,null,null,null,null,null,null,null,null,null,null,null,null,null,null,null,null,null,null,null,null,0,0,0,0,0]
[null,null,null,null,null,null,null,null,null,null,null,null,null,null,null,null,null,null,null,null,null,null,null,null,null,null,0,0,0,0,0]
[null,null,null,null,null,null,null,null,null,null,null,null,null,null,null,null,null,null,null,null,null,null,null,null,null,null,0,0,0,0,0]
[null,null,null,null,null,null,null,null,null,null,null,null,null,null,null,null,null,null,null,null,null,null,null,null,null,null,0,0,0,0,0]
[null,null,null,null,null,null,null,null,null,null,null,null,null,null,null,null,null,null,null,null,null,null,null,null,null,null,0,0,0,0,0]
[null,null,null,null,null,null,null,null,null,null,null,null,null,null,null,null,null,null,null,null,null,null,null,null,null,null,0,0,0,0,0]
[null,null,null,null,null,null,null,null,null,null,null,null,null,null,null,null,null,null,null,null,null,null,null,null,null,null,0,0,0,0,0]
[null,null,null,null,null,null,null,null,null,null,null,null,null,null,null,null,null,null,null,null,null,null,null,null,null,null,0,0,0,0,0]
[null,null,null,null,null,null,null,null,null,null,null,null,null,null,null,null,null,null,null,null,null,null,null,null,null,null,0,0,0,0,0]
[null,null,null,null,null,null,null,null,null,null,null,null,null,null,null,null,null,null,null,null,null,null,null,null,null,null,0,0,0,0,0]
[null,null,null,null,null,null,null,null,null,null,null,null,null,null,null,null,null,null,null,null,null,null,null,null,null,null,0,0,0,0,0]
[null,null,null,null,null,null,null,null,null,null,null,null,null,null,null,null,null,null,null,null,null,null,null,null,null,null,0,0,0,0,0]
[null,null,null,null,null,null,null,null,null,null,null,null,null,null,null,null,null,null,null,null,null,null,null,null,null,null,0,0,0,0,0]
[null,null,null,null,null,null,null,null,null,null,null,null,null,null,null,null,null,null,null,null,null,null,null,null,null,null,0,0,0,0,0]
[null,null,null,null,null,null,null,null,null,null,null,null,null,null,null,null,null,null,null,null,null,null,null,null,null,null,0,0,0,0,0]
[null,null,null,null,null,null,null,null,null,null,null,null,null,null,null,null,null,null,null,null,null,null,null,null,null,null,0,0,0,0,0]
[null,null,null,null,null,null,null,null,null,null,null,null,null,null,null,null,null,null,null,null,null,null,null,null,null,null,0,0,0,{"$f":"IF(OR(MID($A377,3,2)=\"99\",MID($A377,5,2)=\"99\"),0,F377)","v":0},0]
[null,null,null,null,null,null,null,null,null,null,null,null,null,null,null,null,null,null,null,null,null,null,null,null,null,null,{"$f":"IF(OR(MID($A378,3,2)=\"99\",MID($A378,5,2)=\"99\"),0,C378)","v":0},0,0,0,{"$f":"IF(OR(MID($A378,3,2)=\"99\",MID($A378,5,2)=\"99\"),0,G378)","v":0}]
[null,null,null,null,null,null,null,null,null,null,null,null,null,null,null,null,null,null,null,null,null,null,null,null,null,null,0,0,0,0,0]
[null,null,null,null,null,null,null,null,null,null,null,null,null,null,null,null,null,null,null,null,null,null,null,null,null,null,0,0,0,0,0]
[null,null,null,null,null,null,null,null,null,null,null,null,null,null,null,null,null,null,null,null,null,null,null,null,null,null,0,0,0,0,0]
[null,null,null,null,null,null,null,null,null,null,null,null,null,null,null,null,null,null,null,null,null,null,null,null,null,null,0,0,0,0,0]
[null,null,null,null,null,null,null,null,null,null,null,null,null,null,null,null,null,null,null,null,null,null,null,null,null,null,0,0,0,0,0]
[null,null,null,null,null,null,null,null,null,null,null,null,null,null,null,null,null,null,null,null,null,null,null,null,null,null,0,0,0,0,0]
[null,null,null,null,null,null,null,null,null,null,null,null,null,null,null,null,null,null,null,null,null,null,null,null,null,null,0,0,0,0,0]
[null,null,null,null,null,null,null,null,null,null,null,null,null,null,null,null,null,null,null,null,null,null,null,null,null,null,0,0,0,0,0]
[null,null,null,null,null,null,null,null,null,null,null,null,null,null,null,null,null,null,null,null,null,null,null,null,null,null,0,0,0,0,0]
[null,null,null,null,null,null,null,null,null,null,null,null,null,null,null,null,null,null,null,null,null,null,null,null,null,null,0,0,0,0,0]
[null,null,null,null,null,null,null,null,null,null,null,null,null,null,null,null,null,null,null,null,null,null,null,null,null,null,0,0,0,0,0]
[null,null,null,null,null,null,null,null,null,null,null,null,null,null,null,null,null,null,null,null,null,null,null,null,null,null,0,0,0,0,0]
[null,null,null,null,null,null,null,null,null,null,null,null,null,null,null,null,null,null,null,null,null,null,null,null,null,null,0,0,0,0,0]
[null,null,null,null,null,null,null,null,null,null,null,null,null,null,null,null,null,null,null,null,null,null,null,null,null,null,0,0,0,0,0]
[null,null,null,null,null,null,null,null,null,null,null,null,null,null,null,null,null,null,null,null,null,null,null,null,null,null,0,0,0,0,0]
[null,null,null,null,null,null,null,null,null,null,null,null,null,null,null,null,null,null,null,null,null,null,null,null,null,null,0,0,0,0,0]
[null,null,null,null,null,null,null,null,null,null,null,null,null,null,null,null,null,null,null,null,null,null,null,null,null,null,0,0,0,0,0]
[null,null,null,null,null,null,null,null,null,null,null,null,null,null,null,null,null,null,null,null,null,null,null,null,null,null,0,0,0,0,0]
[null,null,null,null,null,null,null,null,null,null,null,null,null,null,null,null,null,null,null,null,null,null,null,null,null,null,0,0,0,0,0]
[null,null,null,null,null,null,null,null,null,null,null,null,null,null,null,null,null,null,null,null,null,null,null,null,null,null,0,0,0,0,0]
[null,null,null,null,null,null,null,null,null,null,null,null,null,null,null,null,null,null,null,null,null,null,null,null,null,null,0,0,0,0,0]
[null,null,null,null,null,null,null,null,null,null,null,null,null,null,null,null,null,null,null,null,null,null,null,null,null,null,0,0,0,0,0]
[null,null,null,null,null,null,null,null,null,null,null,null,null,null,null,null,null,null,null,null,null,null,null,null,null,null,0,0,0,0,0]
[null,null,null,null,null,null,null,null,null,null,null,null,null,null,null,null,null,null,null,null,null,null,null,null,null,null,0,0,0,0,0]
[null,null,null,null,null,null,null,null,null,null,null,null,null,null,null,null,null,null,null,null,null,null,null,null,null,null,0,0,0,0,0]
[null,null,null,null,null,null,null,null,null,null,null,null,null,null,null,null,null,null,null,null,null,null,null,null,null,null,0,0,0,0,0]
[null,null,null,null,null,null,null,null,null,null,null,null,null,null,null,null,null,null,null,null,null,null,null,null,null,null,0,0,0,0,0]
[null,null,null,null,null,null,null,null,null,null,null,null,null,null,null,null,null,null,null,null,null,null,null,null,null,null,0,0,0,0,0]
[null,null,null,null,null,null,null,null,null,null,null,null,null,null,null,null,null,null,null,null,null,null,null,null,null,null,0,0,0,0,0]
[null,null,null,null,null,null,null,null,null,null,null,null,null,null,null,null,null,null,null,null,null,null,null,null,null,null,0,0,0,0,0]
[null,null,null,null,null,null,null,null,null,null,null,null,null,null,null,null,null,null,null,null,null,null,null,null,null,null,0,0,0,0,0]
[null,null,null,null,null,null,null,null,null,null,null,null,null,null,null,null,null,null,null,null,null,null,null,null,null,null,0,0,0,0,0]
[null,null,null,null,null,null,null,null,null,null,null,null,null,null,null,null,null,null,null,null,null,null,null,null,null,null,0,0,0,0,0]
[null,null,null,null,null,null,null,null,null,null,null,null,null,null,null,null,null,null,null,null,null,null,null,null,null,null,0,0,0,0,0]
[null,null,null,null,null,null,null,null,null,null,null,null,null,null,null,null,null,null,null,null,null,null,null,null,null,null,0,0,0,0,0]
[null,null,null,null,null,null,null,null,null,null,null,null,null,null,null,null,null,null,null,null,null,null,null,null,null,null,0,0,0,0,0]
[null,null,null,null,null,null,null,null,null,null,null,null,null,null,null,null,null,null,null,null,null,null,null,null,null,null,0,0,0,0,0]
[null,null,null,null,null,null,null,null,null,null,null,null,null,null,null,null,null,null,null,null,null,null,null,null,null,null,0,0,0,0,0]
[null,null,null,null,null,null,null,null,null,null,null,null,null,null,null,null,null,null,null,null,null,null,null,null,null,null,0,0,0,0,0]
[null,null,null,null,null,null,null,null,null,null,null,null,null,null,null,null,null,null,null,null,null,null,null,null,null,null,0,0,0,0,0]
[null,null,null,null,null,null,null,null,null,null,null,null,null,null,null,null,null,null,null,null,null,null,null,null,null,null,0,0,0,0,0]
[null,null,null,null,null,null,null,null,null,null,null,null,null,null,null,null,null,null,null,null,null,null,null,null,null,null,0,0,0,0,0]
[null,null,null,null,null,null,null,null,null,null,null,null,null,null,null,null,null,null,null,null,null,null,null,null,null,null,0,0,0,0,0]
[null,null,null,null,null,null,null,null,null,null,null,null,null,null,null,null,null,null,null,null,null,null,null,null,null,null,0,0,0,0,0]
[null,null,null,null,null,null,null,null,null,null,null,null,null,null,null,null,null,null,null,null,null,null,null,null,null,null,0,0,0,0,0]
[null,null,null,null,null,null,null,null,null,null,null,null,null,null,null,null,null,null,null,null,null,null,null,null,null,null,0,0,0,0,0]
[null,null,null,null,null,null,null,null,null,null,null,null,null,null,null,null,null,null,null,null,null,null,null,null,null,null,0,0,0,0,0]
[null,null,null,null,null,null,null,null,null,null,null,null,null,null,null,null,null,null,null,null,null,null,null,null,null,null,0,0,0,0,0]
[null,null,null,null,null,null,null,null,null,null,null,null,null,null,null,null,null,null,null,null,null,null,null,null,null,null,0,0,0,0,0]
[null,null,null,null,null,null,null,null,null,null,null,null,null,null,null,null,null,null,null,null,null,null,null,null,null,null,0,0,0,0,0]
[null,null,null,null,null,null,null,null,null,null,null,null,null,null,null,null,null,null,null,null,null,null,null,null,null,null,0,0,0,0,0]
[null,null,null,null,null,null,null,null,null,null,null,null,null,null,null,null,null,null,null,null,null,null,null,null,null,null,0,0,0,0,0]
[null,null,null,null,null,null,null,null,null,null,null,null,null,null,null,null,null,null,null,null,null,null,null,null,null,null,0,0,0,0,0]
[null,null,null,null,null,null,null,null,null,null,null,null,null,null,null,null,null,null,null,null,null,null,null,null,null,null,0,0,0,0,0]
[null,null,null,null,null,null,null,null,null,null,null,null,null,null,null,null,null,null,null,null,null,null,null,null,null,null,0,0,0,0,0]
[null,null,null,null,null,null,null,null,null,null,null,null,null,null,null,null,null,null,null,null,null,null,null,null,null,null,0,0,0,0,0]
[null,null,null,null,null,null,null,null,null,null,null,null,null,null,null,null,null,null,null,null,null,null,null,null,null,null,0,0,0,0,0]
[null,null,null,null,null,null,null,null,null,null,null,null,null,null,null,null,null,null,null,null,null,null,null,null,null,null,0,0,0,0,0]
[null,null,null,null,null,null,null,null,null,null,null,null,null,null,null,null,null,null,null,null,null,null,null,null,null,null,0,0,0,0,0]
[null,null,null,null,null,null,null,null,null,null,null,null,null,null,null,null,null,null,null,null,null,null,null,null,null,null,0,0,0,0,0]
[null,null,null,null,null,null,null,null,null,null,null,null,null,null,null,null,null,null,null,null,null,null,null,null,null,null,0,0,0,0,0]
[null,null,null,null,null,null,null,null,null,null,null,null,null,null,null,null,null,null,null,null,null,null,null,null,null,null,0,0,0,0,0]
[null,null,null,null,null,null,null,null,null,null,null,null,null,null,null,null,null,null,null,null,null,null,null,null,null,null,0,0,0,{"$f":"IF(OR(MID($A441,3,2)=\"99\",MID($A441,5,2)=\"99\"),0,F441)","v":0},0]
[null,null,null,null,null,null,null,null,null,null,null,null,null,null,null,null,null,null,null,null,null,null,null,null,null,null,{"$f":"IF(OR(MID($A442,3,2)=\"99\",MID($A442,5,2)=\"99\"),0,C442)","v":0},0,0,0,{"$f":"IF(OR(MID($A442,3,2)=\"99\",MID($A442,5,2)=\"99\"),0,G442)","v":0}]
[null,null,null,null,null,null,null,null,null,null,null,null,null,null,null,null,null,null,null,null,null,null,null,null,null,null,0,0,0,0,0]
[null,null,null,null,null,null,null,null,null,null,null,null,null,null,null,null,null,null,null,null,null,null,null,null,null,null,0,0,0,0,0]
[null,null,null,null,null,null,null,null,null,null,null,null,null,null,null,null,null,null,null,null,null,null,null,null,null,null,0,0,0,0,0]
[null,null,null,null,null,null,null,null,null,null,null,null,null,null,null,null,null,null,null,null,null,null,null,null,null,null,0,0,0,0,0]
[null,null,null,null,null,null,null,null,null,null,null,null,null,null,null,null,null,null,null,null,null,null,null,null,null,null,0,0,0,0,0]
[null,null,null,null,null,null,null,null,null,null,null,null,null,null,null,null,null,null,null,null,null,null,null,null,null,null,0,0,0,0,0]
[null,null,null,null,null,null,null,null,null,null,null,null,null,null,null,null,null,null,null,null,null,null,null,null,null,null,0,0,0,0,0]
[null,null,null,null,null,null,null,null,null,null,null,null,null,null,null,null,null,null,null,null,null,null,null,null,null,null,0,0,0,0,0]
[null,null,null,null,null,null,null,null,null,null,null,null,null,null,null,null,null,null,null,null,null,null,null,null,null,null,0,0,0,0,0]
[null,null,null,null,null,null,null,null,null,null,null,null,null,null,null,null,null,null,null,null,null,null,null,null,null,null,0,0,0,0,0]
[null,null,null,null,null,null,null,null,null,null,null,null,null,null,null,null,null,null,null,null,null,null,null,null,null,null,0,0,0,0,0]
[null,null,null,null,null,null,null,null,null,null,null,null,null,null,null,null,null,null,null,null,null,null,null,null,null,null,0,0,0,0,0]
[null,null,null,null,null,null,null,null,null,null,null,null,null,null,null,null,null,null,null,null,null,null,null,null,null,null,0,0,0,0,0]
[null,null,null,null,null,null,null,null,null,null,null,null,null,null,null,null,null,null,null,null,null,null,null,null,null,null,0,0,0,0,0]
[null,null,null,null,null,null,null,null,null,null,null,null,null,null,null,null,null,null,null,null,null,null,null,null,null,null,0,0,0,0,0]
[null,null,null,null,null,null,null,null,null,null,null,null,null,null,null,null,null,null,null,null,null,null,null,null,null,null,0,0,0,0,0]
[null,null,null,null,null,null,null,null,null,null,null,null,null,null,null,null,null,null,null,null,null,null,null,null,null,null,0,0,0,0,0]
[null,null,null,null,null,null,null,null,null,null,null,null,null,null,null,null,null,null,null,null,null,null,null,null,null,null,0,0,0,0,0]
[null,null,null,null,null,null,null,null,null,null,null,null,null,null,null,null,null,null,null,null,null,null,null,null,null,null,0,0,0,0,0]
[null,null,null,null,null,null,null,null,null,null,null,null,null,null,null,null,null,null,null,null,null,null,null,null,null,null,0,0,0,0,0]
[null,null,null,null,null,null,null,null,null,null,null,null,null,null,null,null,null,null,null,null,null,null,null,null,null,null,0,0,0,0,0]
[null,null,null,null,null,null,null,null,null,null,null,null,null,null,null,null,null,null,null,null,null,null,null,null,null,null,0,0,0,0,0]
[null,null,null,null,null,null,null,null,null,null,null,null,null,null,null,null,null,null,null,null,null,null,null,null,null,null,0,0,0,0,0]
[null,null,null,null,null,null,null,null,null,null,null,null,null,null,null,null,null,null,null,null,null,null,null,null,null,null,0,0,0,0,0]
[null,null,null,null,null,null,null,null,null,null,null,null,null,null,null,null,null,null,null,null,null,null,null,null,null,null,0,0,0,0,0]
[null,null,null,null,null,null,null,null,null,null,null,null,null,null,null,null,null,null,null,null,null,null,null,null,null,null,0,0,0,0,0]
[null,null,null,null,null,null,null,null,null,null,null,null,null,null,null,null,null,null,null,null,null,null,null,null,null,null,0,0,0,0,0]
[null,null,null,null,null,null,null,null,null,null,null,null,null,null,null,null,null,null,null,null,null,null,null,null,null,null,0,0,0,0,0]
[null,null,null,null,null,null,null,null,null,null,null,null,null,null,null,null,null,null,null,null,null,null,null,null,null,null,0,0,0,0,0]
[null,null,null,null,null,null,null,null,null,null,null,null,null,null,null,null,null,null,null,null,null,null,null,null,null,null,0,0,0,0,0]
[null,null,null,null,null,null,null,null,null,null,null,null,null,null,null,null,null,null,null,null,null,null,null,null,null,null,0,0,0,0,0]
[null,null,null,null,null,null,null,null,null,null,null,null,null,null,null,null,null,null,null,null,null,null,null,null,null,null,0,0,0,0,0]
[null,null,null,null,null,null,null,null,null,null,null,null,null,null,null,null,null,null,null,null,null,null,null,null,null,null,0,0,0,0,0]
[null,null,null,null,null,null,null,null,null,null,null,null,null,null,null,null,null,null,null,null,null,null,null,null,null,null,0,0,0,0,0]
[null,null,null,null,null,null,null,null,null,null,null,null,null,null,null,null,null,null,null,null,null,null,null,null,null,null,0,0,0,0,0]
[null,null,null,null,null,null,null,null,null,null,null,null,null,null,null,null,null,null,null,null,null,null,null,null,null,null,0,0,0,0,0]
[null,null,null,null,null,null,null,null,null,null,null,null,null,null,null,null,null,null,null,null,null,null,null,null,null,null,0,0,0,0,0]
[null,null,null,null,null,null,null,null,null,null,null,null,null,null,null,null,null,null,null,null,null,null,null,null,null,null,0,0,0,0,0]
[null,null,null,null,null,null,null,null,null,null,null,null,null,null,null,null,null,null,null,null,null,null,null,null,null,null,0,0,0,0,0]
[null,null,null,null,null,null,null,null,null,null,null,null,null,null,null,null,null,null,null,null,null,null,null,null,null,null,0,0,0,0,0]
[null,null,null,null,null,null,null,null,null,null,null,null,null,null,null,null,null,null,null,null,null,null,null,null,null,null,0,0,0,0,0]
[null,null,null,null,null,null,null,null,null,null,null,null,null,null,null,null,null,null,null,null,null,null,null,null,null,null,0,0,0,0,0]
[null,null,null,null,null,null,null,null,null,null,null,null,null,null,null,null,null,null,null,null,null,null,null,null,null,null,0,0,0,0,0]
[null,null,null,null,null,null,null,null,null,null,null,null,null,null,null,null,null,null,null,null,null,null,null,null,null,null,0,0,0,0,0]
[null,null,null,null,null,null,null,null,null,null,null,null,null,null,null,null,null,null,null,null,null,null,null,null,null,null,0,0,0,0,0]
[null,null,null,null,null,null,null,null,null,null,null,null,null,null,null,null,null,null,null,null,null,null,null,null,null,null,0,0,0,0,0]
[null,null,null,null,null,null,null,null,null,null,null,null,null,null,null,null,null,null,null,null,null,null,null,null,null,null,0,0,0,0,0]
[null,null,null,null,null,null,null,null,null,null,null,null,null,null,null,null,null,null,null,null,null,null,null,null,null,null,0,0,0,0,0]
[null,null,null,null,null,null,null,null,null,null,null,null,null,null,null,null,null,null,null,null,null,null,null,null,null,null,0,0,0,0,0]
[null,null,null,null,null,null,null,null,null,null,null,null,null,null,null,null,null,null,null,null,null,null,null,null,null,null,0,0,0,0,0]
[null,null,null,null,null,null,null,null,null,null,null,null,null,null,null,null,null,null,null,null,null,null,null,null,null,null,0,0,0,0,0]
[null,null,null,null,null,null,null,null,null,null,null,null,null,null,null,null,null,null,null,null,null,null,null,null,null,null,0,0,0,0,0]
[null,null,null,null,null,null,null,null,null,null,null,null,null,null,null,null,null,null,null,null,null,null,null,null,null,null,0,0,0,0,0]
[null,null,null,null,null,null,null,null,null,null,null,null,null,null,null,null,null,null,null,null,null,null,null,null,null,null,0,0,0,0,0]
[null,null,null,null,null,null,null,null,null,null,null,null,null,null,null,null,null,null,null,null,null,null,null,null,null,null,0,0,0,0,0]
[null,null,null,null,null,null,null,null,null,null,null,null,null,null,null,null,null,null,null,null,null,null,null,null,null,null,0,0,0,0,0]
[null,null,null,null,null,null,null,null,null,null,null,null,null,null,null,null,null,null,null,null,null,null,null,null,null,null,0,0,0,0,0]
[null,null,null,null,null,null,null,null,null,null,null,null,null,null,null,null,null,null,null,null,null,null,null,null,null,null,0,0,0,0,0]
[null,null,null,null,null,null,null,null,null,null,null,null,null,null,null,null,null,null,null,null,null,null,null,null,null,null,0,0,0,0,0]
[null,null,null,null,null,null,null,null,null,null,null,null,null,null,null,null,null,null,null,null,null,null,null,null,null,null,0,0,0,0,0]
[null,null,null,null,null,null,null,null,null,null,null,null,null,null,null,null,null,null,null,null,null,null,null,null,null,null,0,0,0,0,0]
[null,null,null,null,null,null,null,null,null,null,null,null,null,null,null,null,null,null,null,null,null,null,null,null,null,null,0,0,0,0,0]
[null,null,null,null,null,null,null,null,null,null,null,null,null,null,null,null,null,null,null,null,null,null,null,null,null,null,0,0,0,{"$f":"IF(OR(MID($A505,3,2)=\"99\",MID($A505,5,2)=\"99\"),0,F505)","v":0},0]
[null,null,null,null,null,null,null,null,null,null,null,null,null,null,null,null,null,null,null,null,null,null,null,null,null,null,{"$f":"IF(OR(MID($A506,3,2)=\"99\",MID($A506,5,2)=\"99\"),0,C506)","v":0},0,0,0,0]
[null,null,null,null,null,null,null,null,null,null,null,null,null,null,null,null,null,null,null,null,null,null,null,null,null,null,0,0,0,0,0]
[null,null,null,null,null,null,null,null,null,null,null,null,null,null,null,null,null,null,null,null,null,null,null,null,null,null,0,0,0,0,0]
[null,null,null,null,null,null,null,null,null,null,null,null,null,null,null,null,null,null,null,null,null,null,null,null,null,null,0,0,0,0,0]
[null,null,null,null,null,null,null,null,null,null,null,null,null,null,null,null,null,null,null,null,null,null,null,null,null,null,0,0,0,0,0]
[null,null,null,null,null,null,null,null,null,null,null,null,null,null,null,null,null,null,null,null,null,null,null,null,null,null,0,0,0,0,0]
[null,null,null,null,null,null,null,null,null,null,null,null,null,null,null,null,null,null,null,null,null,null,null,null,null,null,0,0,0,0,0]
[null,null,null,null,null,null,null,null,null,null,null,null,null,null,null,null,null,null,null,null,null,null,null,null,null,null,0,0,0,0,0]
[null,null,null,null,null,null,null,null,null,null,null,null,null,null,null,null,null,null,null,null,null,null,null,null,null,null,0,0,0,0,0]
[null,null,null,null,null,null,null,null,null,null,null,null,null,null,null,null,null,null,null,null,null,null,null,null,null,null,0,0,0,0,0]
[null,null,null,null,null,null,null,null,null,null,null,null,null,null,null,null,null,null,null,null,null,null,null,null,null,null,0,0,0,0,0]
[null,null,null,null,null,null,null,null,null,null,null,null,null,null,null,null,null,null,null,null,null,null,null,null,null,null,0,0,0,0,0]
[null,null,null,null,null,null,null,null,null,null,null,null,null,null,null,null,null,null,null,null,null,null,null,null,null,null,0,0,0,0,0]
[null,null,null,null,null,null,null,null,null,null,null,null,null,null,null,null,null,null,null,null,null,null,null,null,null,null,0,0,0,0,0]
[null,null,null,null,null,null,null,null,null,null,null,null,null,null,null,null,null,null,null,null,null,null,null,null,null,null,0,0,0,0,0]
[null,null,null,null,null,null,null,null,null,null,null,null,null,null,null,null,null,null,null,null,null,null,null,null,null,null,0,0,0,0,0]
[null,null,null,null,null,null,null,null,null,null,null,null,null,null,null,null,null,null,null,null,null,null,null,null,null,null,0,0,0,0,0]
[null,null,null,null,null,null,null,null,null,null,null,null,null,null,null,null,null,null,null,null,null,null,null,null,null,null,0,0,0,0,0]
[null,null,null,null,null,null,null,null,null,null,null,null,null,null,null,null,null,null,null,null,null,null,null,null,null,null,0,0,0,0,0]
[null,null,null,null,null,null,null,null,null,null,null,null,null,null,null,null,null,null,null,null,null,null,null,null,null,null,0,0,0,0,0]
[null,null,null,null,null,null,null,null,null,null,null,null,null,null,null,null,null,null,null,null,null,null,null,null,null,null,0,0,0,0,0]
[null,null,null,null,null,null,null,null,null,null,null,null,null,null,null,null,null,null,null,null,null,null,null,null,null,null,0,0,0,0,0]
[null,null,null,null,null,null,null,null,null,null,null,null,null,null,null,null,null,null,null,null,null,null,null,null,null,null,0,0,0,0,0]
[null,null,null,null,null,null,null,null,null,null,null,null,null,null,null,null,null,null,null,null,null,null,null,null,null,null,0,0,0,0,0]
[null,null,null,null,null,null,null,null,null,null,null,null,null,null,null,null,null,null,null,null,null,null,null,null,null,null,0,0,0,0,0]
[null,null,null,null,null,null,null,null,null,null,null,null,null,null,null,null,null,null,null,null,null,null,null,null,null,null,0,0,0,0,0]
[null,null,null,null,null,null,null,null,null,null,null,null,null,null,null,null,null,null,null,null,null,null,null,null,null,null,0,0,0,0,0]
[null,null,null,null,null,null,null,null,null,null,null,null,null,null,null,null,null,null,null,null,null,null,null,null,null,null,0,0,0,0,0]
[null,null,null,null,null,null,null,null,null,null,null,null,null,null,null,null,null,null,null,null,null,null,null,null,null,null,0,0,0,0,0]
[null,null,null,null,null,null,null,null,null,null,null,null,null,null,null,null,null,null,null,null,null,null,null,null,null,null,0,0,0,0,0]
[null,null,null,null,null,null,null,null,null,null,null,null,null,null,null,null,null,null,null,null,null,null,null,null,null,null,0,0,0,0,0]
[null,null,null,null,null,null,null,null,null,null,null,null,null,null,null,null,null,null,null,null,null,null,null,null,null,null,0,0,0,0,0]
[null,null,null,null,null,null,null,null,null,null,null,null,null,null,null,null,null,null,null,null,null,null,null,null,null,null,0,0,0,0,0]
[null,null,null,null,null,null,null,null,null,null,null,null,null,null,null,null,null,null,null,null,null,null,null,null,null,null,0,0,0,0,0]
[null,null,null,null,null,null,null,null,null,null,null,null,null,null,null,null,null,null,null,null,null,null,null,null,null,null,0,0,0,0,0]
[null,null,null,null,null,null,null,null,null,null,null,null,null,null,null,null,null,null,null,null,null,null,null,null,null,null,0,0,0,0,0]
[null,null,null,null,null,null,null,null,null,null,null,null,null,null,null,null,null,null,null,null,null,null,null,null,null,null,0,0,0,0,0]

{"sheet":"Ricavi_Costi","index":9,"n_rows":109,"n_cols":23,"rows_kept":109,"cut":false,"hidden":false,"merged":[]}
[{"$f":"MENU!$C$5&\" - RICAVI / COSTI\"","v":"XYZ SpA - RICAVI / COSTI"}]
[]
[null,null,null,null,null,null,null,null,null,null,null,null,"VALORI ECO",null,null,null,null,null,"FLUSSI"]
[null,null,"Aliq. IVA","+/-","% Monetaria","Rif. Calcolo",{"$f":"MENU!C9+MENU!C7","v":2005},{"$f":"IF(G4=\"\",\"\",IF(G4+1-$G$4>MENU!$C$11-1,\"\",Ricavi_Costi!G4+1))","v":2006},{"$f":"IF(H4=\"\",\"\",IF(H4+1-$G$4>MENU!$C$11-1,\"\",Ricavi_Costi!H4+1))","v":2007},{"$f":"IF(I4=\"\",\"\",IF(I4+1-$G$4>MENU!$C$11-1,\"\",Ricavi_Costi!I4+1))","v":""},{"$f":"IF(J4=\"\",\"\",IF(J4+1-$G$4>MENU!$C$11-1,\"\",Ricavi_Costi!J4+1))","v":""},null,{"$f":"G4","v":2005},{"$f":"H4","v":2006},{"$f":"I4","v":2007},{"$f":"J4","v":""},{"$f":"K4","v":""},null,{"$f":"M4","v":2005},{"$f":"N4","v":2006},{"$f":"O4","v":2007},{"$f":"P4","v":""},{"$f":"Q4","v":""}]
["RICAVI"]
[null,"010101_Vendite prodotti",0.2,"+",1,null,14000,15500,16200,null,null,null,{"$f":"IF($B6=\"\",\"\",G6*IF($F6=\"\",1,IF(ISERROR(MATCH($F6,$B$6:$B$105,0)),0,INDIRECT(ADDRESS(5+MATCH($F6,$B$6:$B$105,0),COLUMN(M$4)))))*IF($F6=\"\",IF(VLOOKUP($B6,SCHEMA_CE!$E$5:$F$54,2,FALSE)=\"C\",-1,1),IF(OR(VLOOKUP($B6,SCHEMA_CE!$E$5:$F$54,2,FALSE)=\"C\",VLOOKUP($F6,SCHEMA_CE!$E$5:$F$54,2,FALSE)=\"C\"),-1,1)))","v":14000},{"$f":"IF($B6=\"\",\"\",H6*IF($F6=\"\",1,IF(ISERROR(MATCH($F6,$B$6:$B$105,0)),0,INDIRECT(ADDRESS(5+MATCH($F6,$B$6:$B$105,0),COLUMN(N$4)))))*IF($F6=\"\",IF(VLOOKUP($B6,SCHEMA_CE!$E$5:$F$54,2,FALSE)=\"C\",-1,1),IF(OR(VLOOKUP($B6,SCHEMA_CE!$E$5:$F$54,2,FALSE)=\"C\",VLOOKUP($F6,SCHEMA_CE!$E$5:$F$54,2,FALSE)=\"C\"),-1,1)))","v":15500},{"$f":"IF($B6=\"\",\"\",I6*IF($F6=\"\",1,IF(ISERROR(MATCH($F6,$B$6:$B$105,0)),0,INDIRECT(ADDRESS(5+MATCH($F6,$B$6:$B$105,0),COLUMN(O$4)))))*IF($F6=\"\",IF(VLOOKUP($B6,SCHEMA_CE!$E$5:$F$54,2,FALSE)=\"C\",-1,1),IF(OR(VLOOKUP($B6,SCHEMA_CE!$E$5:$F$54,2,FALSE)=\"C\",VLOOKUP($F6,SCHEMA_CE!$E$5:$F$54,2,FALSE)=\"C\"),-1,1)))","v":16200},{"$f":"IF($B6=\"\",\"\",J6*IF($F6=\"\",1,IF(ISERROR(MATCH($F6,$B$6:$B$105,0)),0,INDIRECT(ADDRESS(5+MATCH($F6,$B$6:$B$105,0),COLUMN(P$4)))))*IF($F6=\"\",IF(VLOOKUP($B6,SCHEMA_CE!$E$5:$F$54,2,FALSE)=\"C\",-1,1),IF(OR(VLOOKUP($B6,SCHEMA_CE!$E$5:$F$54,2,FALSE)=\"C\",VLOOKUP($F6,SCHEMA_CE!$E$5:$F$54,2,FALSE)=\"C\"),-1,1)))","v":0},{"$f":"IF($B6=\"\",\"\",K6*IF($F6=\"\",1,IF(ISERROR(MATCH($F6,$B$6:$B$105,0)),0,INDIRECT(ADDRESS(5+MATCH($F6,$B$6:$B$105,0),COLUMN(Q$4)))))*IF($F6=\"\",IF(VLOOKUP($B6,SCHEMA_CE!$E$5:$F$54,2,FALSE)=\"C\",-1,1),IF(OR(VLOOKUP($B6,SCHEMA_CE!$E$5:$F$54,2,FALSE)=\"C\",VLOOKUP($F6,SCHEMA_CE!$E$5:$F$54,2,FALSE)=\"C\"),-1,1)))","v":0},null,{"$f":"IF($B6=\"\",\"\",M6*$E6)","v":14000},{"$f":"IF($B6=\"\",\"\",N6*$E6)","v":15500},{"$f":"IF($B6=\"\",\"\",O6*$E6)","v":16200},{"$f":"IF($B6=\"\",\"\",P6*$E6)","v":0},{"$f":"IF($B6=\"\",\"\",Q6*$E6)","v":0}]
[null,"010111_Vendite servizi",0.2,"+",1,"010101_Vendite prodotti",0.15,0.15,0.15,null,null,null,{"$f":"IF($B7=\"\",\"\",G7*IF($F7=\"\",1,IF(ISERROR(MATCH($F7,$B$6:$B$105,0)),0,INDIRECT(ADDRESS(5+MATCH($F7,$B$6:$B$105,0),COLUMN(M$4)))))*IF($F7=\"\",IF(VLOOKUP($B7,SCHEMA_CE!$E$5:$F$54,2,FALSE)=\"C\",-1,1),IF(OR(VLOOKUP($B7,SCHEMA_CE!$E$5:$F$54,2,FALSE)=\"C\",VLOOKUP($F7,SCHEMA_CE!$E$5:$F$54,2,FALSE)=\"C\"),-1,1)))","v":2100},{"$f":"IF($B7=\"\",\"\",H7*IF($F7=\"\",1,IF(ISERROR(MATCH($F7,$B$6:$B$105,0)),0,INDIRECT(ADDRESS(5+MATCH($F7,$B$6:$B$105,0),COLUMN(N$4)))))*IF($F7=\"\",IF(VLOOKUP($B7,SCHEMA_CE!$E$5:$F$54,2,FALSE)=\"C\",-1,1),IF(OR(VLOOKUP($B7,SCHEMA_CE!$E$5:$F$54,2,FALSE)=\"C\",VLOOKUP($F7,SCHEMA_CE!$E$5:$F$54,2,FALSE)=\"C\"),-1,1)))","v":2325},{"$f":"IF($B7=\"\",\"\",I7*IF($F7=\"\",1,IF(ISERROR(MATCH($F7,$B$6:$B$105,0)),0,INDIRECT(ADDRESS(5+MATCH($F7,$B$6:$B$105,0),COLUMN(O$4)))))*IF($F7=\"\",IF(VLOOKUP($B7,SCHEMA_CE!$E$5:$F$54,2,FALSE)=\"C\",-1,1),IF(OR(VLOOKUP($B7,SCHEMA_CE!$E$5:$F$54,2,FALSE)=\"C\",VLOOKUP($F7,SCHEMA_CE!$E$5:$F$54,2,FALSE)=\"C\"),-1,1)))","v":2430},{"$f":"IF($B7=\"\",\"\",J7*IF($F7=\"\",1,IF(ISERROR(MATCH($F7,$B$6:$B$105,0)),0,INDIRECT(ADDRESS(5+MATCH($F7,$B$6:$B$105,0),COLUMN(P$4)))))*IF($F7=\"\",IF(VLOOKUP($B7,SCHEMA_CE!$E$5:$F$54,2,FALSE)=\"C\",-1,1),IF(OR(VLOOKUP($B7,SCHEMA_CE!$E$5:$F$54,2,FALSE)=\"C\",VLOOKUP($F7,SCHEMA_CE!$E$5:$F$54,2,FALSE)=\"C\"),-1,1)))","v":0},{"$f":"IF($B7=\"\",\"\",K7*IF($F7=\"\",1,IF(ISERROR(MATCH($F7,$B$6:$B$105,0)),0,INDIRECT(ADDRESS(5+MATCH($F7,$B$6:$B$105,0),COLUMN(Q$4)))))*IF($F7=\"\",IF(VLOOKUP($B7,SCHEMA_CE!$E$5:$F$54,2,FALSE)=\"C\",-1,1),IF(OR(VLOOKUP($B7,SCHEMA_CE!$E$5:$F$54,2,FALSE)=\"C\",VLOOKUP($F7,SCHEMA_CE!$E$5:$F$54,2,FALSE)=\"C\"),-1,1)))","v":0},null,{"$f":"IF($B7=\"\",\"\",M7*$E7)","v":2100},{"$f":"IF($B7=\"\",\"\",N7*$E7)","v":2325},{"$f":"IF($B7=\"\",\"\",O7*$E7)","v":2430},{"$f":"IF($B7=\"\",\"\",P7*$E7)","v":0},{"$f":"IF($B7=\"\",\"\",Q7*$E7)","v":0}]
[null,"040101_Proventi di natura extra operativa",0,"+",1,"010101_Vendite prodotti",0.05,0.05,0.05,null,null,null,{"$f":"IF($B8=\"\",\"\",G8*IF($F8=\"\",1,IF(ISERROR(MATCH($F8,$B$6:$B$105,0)),0,INDIRECT(ADDRESS(5+MATCH($F8,$B$6:$B$105,0),COLUMN(M$4)))))*IF($F8=\"\",IF(VLOOKUP($B8,SCHEMA_CE!$E$5:$F$54,2,FALSE)=\"C\",-1,1),IF(OR(VLOOKUP($B8,SCHEMA_CE!$E$5:$F$54,2,FALSE)=\"C\",VLOOKUP($F8,SCHEMA_CE!$E$5:$F$54,2,FALSE)=\"C\"),-1,1)))","v":700},{"$f":"IF($B8=\"\",\"\",H8*IF($F8=\"\",1,IF(ISERROR(MATCH($F8,$B$6:$B$105,0)),0,INDIRECT(ADDRESS(5+MATCH($F8,$B$6:$B$105,0),COLUMN(N$4)))))*IF($F8=\"\",IF(VLOOKUP($B8,SCHEMA_CE!$E$5:$F$54,2,FALSE)=\"C\",-1,1),IF(OR(VLOOKUP($B8,SCHEMA_CE!$E$5:$F$54,2,FALSE)=\"C\",VLOOKUP($F8,SCHEMA_CE!$E$5:$F$54,2,FALSE)=\"C\"),-1,1)))","v":775},{"$f":"IF($B8=\"\",\"\",I8*IF($F8=\"\",1,IF(ISERROR(MATCH($F8,$B$6:$B$105,0)),0,INDIRECT(ADDRESS(5+MATCH($F8,$B$6:$B$105,0),COLUMN(O$4)))))*IF($F8=\"\",IF(VLOOKUP($B8,SCHEMA_CE!$E$5:$F$54,2,FALSE)=\"C\",-1,1),IF(OR(VLOOKUP($B8,SCHEMA_CE!$E$5:$F$54,2,FALSE)=\"C\",VLOOKUP($F8,SCHEMA_CE!$E$5:$F$54,2,FALSE)=\"C\"),-1,1)))","v":810},{"$f":"IF($B8=\"\",\"\",J8*IF($F8=\"\",1,IF(ISERROR(MATCH($F8,$B$6:$B$105,0)),0,INDIRECT(ADDRESS(5+MATCH($F8,$B$6:$B$105,0),COLUMN(P$4)))))*IF($F8=\"\",IF(VLOOKUP($B8,SCHEMA_CE!$E$5:$F$54,2,FALSE)=\"C\",-1,1),IF(OR(VLOOKUP($B8,SCHEMA_CE!$E$5:$F$54,2,FALSE)=\"C\",VLOOKUP($F8,SCHEMA_CE!$E$5:$F$54,2,FALSE)=\"C\"),-1,1)))","v":0},{"$f":"IF($B8=\"\",\"\",K8*IF($F8=\"\",1,IF(ISERROR(MATCH($F8,$B$6:$B$105,0)),0,INDIRECT(ADDRESS(5+MATCH($F8,$B$6:$B$105,0),COLUMN(Q$4)))))*IF($F8=\"\",IF(VLOOKUP($B8,SCHEMA_CE!$E$5:$F$54,2,FALSE)=\"C\",-1,1),IF(OR(VLOOKUP($B8,SCHEMA_CE!$E$5:$F$54,2,FALSE)=\"C\",VLOOKUP($F8,SCHEMA_CE!$E$5:$F$54,2,FALSE)=\"C\"),-1,1)))","v":0},null,700,775,810,0,0]
[null,"040201_Proventi finanziari",0,"+",1,null,12,15,20,null,null,null,{"$f":"IF($B9=\"\",\"\",G9*IF($F9=\"\",1,IF(ISERROR(MATCH($F9,$B$6:$B$105,0)),0,INDIRECT(ADDRESS(5+MATCH($F9,$B$6:$B$105,0),COLUMN(M$4)))))*IF($F9=\"\",IF(VLOOKUP($B9,SCHEMA_CE!$E$5:$F$54,2,FALSE)=\"C\",-1,1),IF(OR(VLOOKUP($B9,SCHEMA_CE!$E$5:$F$54,2,FALSE)=\"C\",VLOOKUP($F9,SCHEMA_CE!$E$5:$F$54,2,FALSE)=\"C\"),-1,1)))","v":12},{"$f":"IF($B9=\"\",\"\",H9*IF($F9=\"\",1,IF(ISERROR(MATCH($F9,$B$6:$B$105,0)),0,INDIRECT(ADDRESS(5+MATCH($F9,$B$6:$B$105,0),COLUMN(N$4)))))*IF($F9=\"\",IF(VLOOKUP($B9,SCHEMA_CE!$E$5:$F$54,2,FALSE)=\"C\",-1,1),IF(OR(VLOOKUP($B9,SCHEMA_CE!$E$5:$F$54,2,FALSE)=\"C\",VLOOKUP($F9,SCHEMA_CE!$E$5:$F$54,2,FALSE)=\"C\"),-1,1)))","v":15},{"$f":"IF($B9=\"\",\"\",I9*IF($F9=\"\",1,IF(ISERROR(MATCH($F9,$B$6:$B$105,0)),0,INDIRECT(ADDRESS(5+MATCH($F9,$B$6:$B$105,0),COLUMN(O$4)))))*IF($F9=\"\",IF(VLOOKUP($B9,SCHEMA_CE!$E$5:$F$54,2,FALSE)=\"C\",-1,1),IF(OR(VLOOKUP($B9,SCHEMA_CE!$E$5:$F$54,2,FALSE)=\"C\",VLOOKUP($F9,SCHEMA_CE!$E$5:$F$54,2,FALSE)=\"C\"),-1,1)))","v":20},{"$f":"IF($B9=\"\",\"\",J9*IF($F9=\"\",1,IF(ISERROR(MATCH($F9,$B$6:$B$105,0)),0,INDIRECT(ADDRESS(5+MATCH($F9,$B$6:$B$105,0),COLUMN(P$4)))))*IF($F9=\"\",IF(VLOOKUP($B9,SCHEMA_CE!$E$5:$F$54,2,FALSE)=\"C\",-1,1),IF(OR(VLOOKUP($B9,SCHEMA_CE!$E$5:$F$54,2,FALSE)=\"C\",VLOOKUP($F9,SCHEMA_CE!$E$5:$F$54,2,FALSE)=\"C\"),-1,1)))","v":0},{"$f":"IF($B9=\"\",\"\",K9*IF($F9=\"\",1,IF(ISERROR(MATCH($F9,$B$6:$B$105,0)),0,INDIRECT(ADDRESS(5+MATCH($F9,$B$6:$B$105,0),COLUMN(Q$4)))))*IF($F9=\"\",IF(VLOOKUP($B9,SCHEMA_CE!$E$5:$F$54,2,FALSE)=\"C\",-1,1),IF(OR(VLOOKUP($B9,SCHEMA_CE!$E$5:$F$54,2,FALSE)=\"C\",VLOOKUP($F9,SCHEMA_CE!$E$5:$F$54,2,FALSE)=\"C\"),-1,1)))","v":0},null,12,15,20,0,0]
[null,"020221_Magazzino finale",null,null,null,"020201_Magazzino iniziale",1.1,1.1,1.1,null,null,null,{"$f":"IF($B10=\"\",\"\",G10*IF($F10=\"\",1,IF(ISERROR(MATCH($F10,$B$6:$B$105,0)),0,INDIRECT(ADDRESS(5+MATCH($F10,$B$6:$B$105,0),COLUMN(M$4)))))*IF($F10=\"\",IF(VLOOKUP($B10,SCHEMA_CE!$E$5:$F$54,2,FALSE)=\"C\",-1,1),IF(OR(VLOOKUP($B10,SCHEMA_CE!$E$5:$F$54,2,FALSE)=\"C\",VLOOKUP($F10,SCHEMA_CE!$E$5:$F$54,2,FALSE)=\"C\"),-1,1)))","v":770.00000000000011},{"$f":"IF($B10=\"\",\"\",H10*IF($F10=\"\",1,IF(ISERROR(MATCH($F10,$B$6:$B$105,0)),0,INDIRECT(ADDRESS(5+MATCH($F10,$B$6:$B$105,0),COLUMN(N$4)))))*IF($F10=\"\",IF(VLOOKUP($B10,SCHEMA_CE!$E$5:$F$54,2,FALSE)=\"C\",-1,1),IF(OR(VLOOKUP($B10,SCHEMA_CE!$E$5:$F$54,2,FALSE)=\"C\",VLOOKUP($F10,SCHEMA_CE!$E$5:$F$54,2,FALSE)=\"C\"),-1,1)))","v":880.00000000000011},{"$f":"IF($B10=\"\",\"\",I10*IF($F10=\"\",1,IF(ISERROR(MATCH($F10,$B$6:$B$105,0)),0,INDIRECT(ADDRESS(5+MATCH($F10,$B$6:$B$105,0),COLUMN(O$4)))))*IF($F10=\"\",IF(VLOOKUP($B10,SCHEMA_CE!$E$5:$F$54,2,FALSE)=\"C\",-1,1),IF(OR(VLOOKUP($B10,SCHEMA_CE!$E$5:$F$54,2,FALSE)=\"C\",VLOOKUP($F10,SCHEMA_CE!$E$5:$F$54,2,FALSE)=\"C\"),-1,1)))","v":990.00000000000011},{"$f":"IF($B10=\"\",\"\",J10*IF($F10=\"\",1,IF(ISERROR(MATCH($F10,$B$6:$B$105,0)),0,INDIRECT(ADDRESS(5+MATCH($F10,$B$6:$B$105,0),COLUMN(P$4)))))*IF($F10=\"\",IF(VLOOKUP($B10,SCHEMA_CE!$E$5:$F$54,2,FALSE)=\"C\",-1,1),IF(OR(VLOOKUP($B10,SCHEMA_CE!$E$5:$F$54,2,FALSE)=\"C\",VLOOKUP($F10,SCHEMA_CE!$E$5:$F$54,2,FALSE)=\"C\"),-1,1)))","v":0},{"$f":"IF($B10=\"\",\"\",K10*IF($F10=\"\",1,IF(ISERROR(MATCH($F10,$B$6:$B$105,0)),0,INDIRECT(ADDRESS(5+MATCH($F10,$B$6:$B$105,0),COLUMN(Q$4)))))*IF($F10=\"\",IF(VLOOKUP($B10,SCHEMA_CE!$E$5:$F$54,2,FALSE)=\"C\",-1,1),IF(OR(VLOOKUP($B10,SCHEMA_CE!$E$5:$F$54,2,FALSE)=\"C\",VLOOKUP($F10,SCHEMA_CE!$E$5:$F$54,2,FALSE)=\"C\"),-1,1)))","v":0},null,0,0,0,0,0]
[null,null,null,null,null,null,null,null,null,null,null,null,{"$f":"IF($B11=\"\",\"\",G11*IF($F11=\"\",1,IF(ISERROR(MATCH($F11,$B$6:$B$105,0)),0,INDIRECT(ADDRESS(5+MATCH($F11,$B$6:$B$105,0),COLUMN(M$4)))))*IF($F11=\"\",IF(VLOOKUP($B11,SCHEMA_CE!$E$5:$F$54,2,FALSE)=\"C\",-1,1),IF(OR(VLOOKUP($B11,SCHEMA_CE!$E$5:$F$54,2,FALSE)=\"C\",VLOOKUP($F11,SCHEMA_CE!$E$5:$F$54,2,FALSE)=\"C\"),-1,1)))","v":""},{"$f":"IF($B11=\"\",\"\",H11*IF($F11=\"\",1,IF(ISERROR(MATCH($F11,$B$6:$B$105,0)),0,INDIRECT(ADDRESS(5+MATCH($F11,$B$6:$B$105,0),COLUMN(N$4)))))*IF($F11=\"\",IF(VLOOKUP($B11,SCHEMA_CE!$E$5:$F$54,2,FALSE)=\"C\",-1,1),IF(OR(VLOOKUP($B11,SCHEMA_CE!$E$5:$F$54,2,FALSE)=\"C\",VLOOKUP($F11,SCHEMA_CE!$E$5:$F$54,2,FALSE)=\"C\"),-1,1)))","v":""},{"$f":"IF($B11=\"\",\"\",I11*IF($F11=\"\",1,IF(ISERROR(MATCH($F11,$B$6:$B$105,0)),0,INDIRECT(ADDRESS(5+MATCH($F11,$B$6:$B$105,0),COLUMN(O$4)))))*IF($F11=\"\",IF(VLOOKUP($B11,SCHEMA_CE!$E$5:$F$54,2,FALSE)=\"C\",-1,1),IF(OR(VLOOKUP($B11,SCHEMA_CE!$E$5:$F$54,2,FALSE)=\"C\",VLOOKUP($F11,SCHEMA_CE!$E$5:$F$54,2,FALSE)=\"C\"),-1,1)))","v":""},{"$f":"IF($B11=\"\",\"\",J11*IF($F11=\"\",1,IF(ISERROR(MATCH($F11,$B$6:$B$105,0)),0,INDIRECT(ADDRESS(5+MATCH($F11,$B$6:$B$105,0),COLUMN(P$4)))))*IF($F11=\"\",IF(VLOOKUP($B11,SCHEMA_CE!$E$5:$F$54,2,FALSE)=\"C\",-1,1),IF(OR(VLOOKUP($B11,SCHEMA_CE!$E$5:$F$54,2,FALSE)=\"C\",VLOOKUP($F11,SCHEMA_CE!$E$5:$F$54,2,FALSE)=\"C\"),-1,1)))","v":""},{"$f":"IF($B11=\"\",\"\",K11*IF($F11=\"\",1,IF(ISERROR(MATCH($F11,$B$6:$B$105,0)),0,INDIRECT(ADDRESS(5+MATCH($F11,$B$6:$B$105,0),COLUMN(Q$4)))))*IF($F11=\"\",IF(VLOOKUP($B11,SCHEMA_CE!$E$5:$F$54,2,FALSE)=\"C\",-1,1),IF(OR(VLOOKUP($B11,SCHEMA_CE!$E$5:$F$54,2,FALSE)=\"C\",VLOOKUP($F11,SCHEMA_CE!$E$5:$F$54,2,FALSE)=\"C\"),-1,1)))","v":""},null,"","","","",""]
[null,null,null,null,null,null,null,null,null,null,null,null,{"$f":"IF($B12=\"\",\"\",G12*IF($F12=\"\",1,IF(ISERROR(MATCH($F12,$B$6:$B$105,0)),0,INDIRECT(ADDRESS(5+MATCH($F12,$B$6:$B$105,0),COLUMN(M$4)))))*IF($F12=\"\",IF(VLOOKUP($B12,SCHEMA_CE!$E$5:$F$54,2,FALSE)=\"C\",-1,1),IF(OR(VLOOKUP($B12,SCHEMA_CE!$E$5:$F$54,2,FALSE)=\"C\",VLOOKUP($F12,SCHEMA_CE!$E$5:$F$54,2,FALSE)=\"C\"),-1,1)))","v":""},{"$f":"IF($B12=\"\",\"\",H12*IF($F12=\"\",1,IF(ISERROR(MATCH($F12,$B$6:$B$105,0)),0,INDIRECT(ADDRESS(5+MATCH($F12,$B$6:$B$105,0),COLUMN(N$4)))))*IF($F12=\"\",IF(VLOOKUP($B12,SCHEMA_CE!$E$5:$F$54,2,FALSE)=\"C\",-1,1),IF(OR(VLOOKUP($B12,SCHEMA_CE!$E$5:$F$54,2,FALSE)=\"C\",VLOOKUP($F12,SCHEMA_CE!$E$5:$F$54,2,FALSE)=\"C\"),-1,1)))","v":""},{"$f":"IF($B12=\"\",\"\",I12*IF($F12=\"\",1,IF(ISERROR(MATCH($F12,$B$6:$B$105,0)),0,INDIRECT(ADDRESS(5+MATCH($F12,$B$6:$B$105,0),COLUMN(O$4)))))*IF($F12=\"\",IF(VLOOKUP($B12,SCHEMA_CE!$E$5:$F$54,2,FALSE)=\"C\",-1,1),IF(OR(VLOOKUP($B12,SCHEMA_CE!$E$5:$F$54,2,FALSE)=\"C\",VLOOKUP($F12,SCHEMA_CE!$E$5:$F$54,2,FALSE)=\"C\"),-1,1)))","v":""},{"$f":"IF($B12=\"\",\"\",J12*IF($F12=\"\",1,IF(ISERROR(MATCH($F12,$B$6:$B$105,0)),0,INDIRECT(ADDRESS(5+MATCH($F12,$B$6:$B$105,0),COLUMN(P$4)))))*IF($F12=\"\",IF(VLOOKUP($B12,SCHEMA_CE!$E$5:$F$54,2,FALSE)=\"C\",-1,1),IF(OR(VLOOKUP($B12,SCHEMA_CE!$E$5:$F$54,2,FALSE)=\"C\",VLOOKUP($F12,SCHEMA_CE!$E$5:$F$54,2,FALSE)=\"C\"),-1,1)))","v":""},{"$f":"IF($B12=\"\",\"\",K12*IF($F12=\"\",1,IF(ISERROR(MATCH($F12,$B$6:$B$105,0)),0,INDIRECT(ADDRESS(5+MATCH($F12,$B$6:$B$105,0),COLUMN(Q$4)))))*IF($F12=\"\",IF(VLOOKUP($B12,SCHEMA_CE!$E$5:$F$54,2,FALSE)=\"C\",-1,1),IF(OR(VLOOKUP($B12,SCHEMA_CE!$E$5:$F$54,2,FALSE)=\"C\",VLOOKUP($F12,SCHEMA_CE!$E$5:$F$54,2,FALSE)=\"C\"),-1,1)))","v":""},null,"","","","",""]
[null,null,null,null,null,null,null,null,null,null,null,null,{"$f":"IF($B13=\"\",\"\",G13*IF($F13=\"\",1,IF(ISERROR(MATCH($F13,$B$6:$B$105,0)),0,INDIRECT(ADDRESS(5+MATCH($F13,$B$6:$B$105,0),COLUMN(M$4)))))*IF($F13=\"\",IF(VLOOKUP($B13,SCHEMA_CE!$E$5:$F$54,2,FALSE)=\"C\",-1,1),IF(OR(VLOOKUP($B13,SCHEMA_CE!$E$5:$F$54,2,FALSE)=\"C\",VLOOKUP($F13,SCHEMA_CE!$E$5:$F$54,2,FALSE)=\"C\"),-1,1)))","v":""},{"$f":"IF($B13=\"\",\"\",H13*IF($F13=\"\",1,IF(ISERROR(MATCH($F13,$B$6:$B$105,0)),0,INDIRECT(ADDRESS(5+MATCH($F13,$B$6:$B$105,0),COLUMN(N$4)))))*IF($F13=\"\",IF(VLOOKUP($B13,SCHEMA_CE!$E$5:$F$54,2,FALSE)=\"C\",-1,1),IF(OR(VLOOKUP($B13,SCHEMA_CE!$E$5:$F$54,2,FALSE)=\"C\",VLOOKUP($F13,SCHEMA_CE!$E$5:$F$54,2,FALSE)=\"C\"),-1,1)))","v":""},{"$f":"IF($B13=\"\",\"\",I13*IF($F13=\"\",1,IF(ISERROR(MATCH($F13,$B$6:$B$105,0)),0,INDIRECT(ADDRESS(5+MATCH($F13,$B$6:$B$105,0),COLUMN(O$4)))))*IF($F13=\"\",IF(VLOOKUP($B13,SCHEMA_CE!$E$5:$F$54,2,FALSE)=\"C\",-1,1),IF(OR(VLOOKUP($B13,SCHEMA_CE!$E$5:$F$54,2,FALSE)=\"C\",VLOOKUP($F13,SCHEMA_CE!$E$5:$F$54,2,FALSE)=\"C\"),-1,1)))","v":""},{"$f":"IF($B13=\"\",\"\",J13*IF($F13=\"\",1,IF(ISERROR(MATCH($F13,$B$6:$B$105,0)),0,INDIRECT(ADDRESS(5+MATCH($F13,$B$6:$B$105,0),COLUMN(P$4)))))*IF($F13=\"\",IF(VLOOKUP($B13,SCHEMA_CE!$E$5:$F$54,2,FALSE)=\"C\",-1,1),IF(OR(VLOOKUP($B13,SCHEMA_CE!$E$5:$F$54,2,FALSE)=\"C\",VLOOKUP($F13,SCHEMA_CE!$E$5:$F$54,2,FALSE)=\"C\"),-1,1)))","v":""},{"$f":"IF($B13=\"\",\"\",K13*IF($F13=\"\",1,IF(ISERROR(MATCH($F13,$B$6:$B$105,0)),0,INDIRECT(ADDRESS(5+MATCH($F13,$B$6:$B$105,0),COLUMN(Q$4)))))*IF($F13=\"\",IF(VLOOKUP($B13,SCHEMA_CE!$E$5:$F$54,2,FALSE)=\"C\",-1,1),IF(OR(VLOOKUP($B13,SCHEMA_CE!$E$5:$F$54,2,FALSE)=\"C\",VLOOKUP($F13,SCHEMA_CE!$E$5:$F$54,2,FALSE)=\"C\"),-1,1)))","v":""},null,"","","","",""]
[null,null,null,null,null,null,null,null,null,null,null,null,{"$f":"IF($B14=\"\",\"\",G14*IF($F14=\"\",1,IF(ISERROR(MATCH($F14,$B$6:$B$105,0)),0,INDIRECT(ADDRESS(5+MATCH($F14,$B$6:$B$105,0),COLUMN(M$4)))))*IF($F14=\"\",IF(VLOOKUP($B14,SCHEMA_CE!$E$5:$F$54,2,FALSE)=\"C\",-1,1),IF(OR(VLOOKUP($B14,SCHEMA_CE!$E$5:$F$54,2,FALSE)=\"C\",VLOOKUP($F14,SCHEMA_CE!$E$5:$F$54,2,FALSE)=\"C\"),-1,1)))","v":""},{"$f":"IF($B14=\"\",\"\",H14*IF($F14=\"\",1,IF(ISERROR(MATCH($F14,$B$6:$B$105,0)),0,INDIRECT(ADDRESS(5+MATCH($F14,$B$6:$B$105,0),COLUMN(N$4)))))*IF($F14=\"\",IF(VLOOKUP($B14,SCHEMA_CE!$E$5:$F$54,2,FALSE)=\"C\",-1,1),IF(OR(VLOOKUP($B14,SCHEMA_CE!$E$5:$F$54,2,FALSE)=\"C\",VLOOKUP($F14,SCHEMA_CE!$E$5:$F$54,2,FALSE)=\"C\"),-1,1)))","v":""},{"$f":"IF($B14=\"\",\"\",I14*IF($F14=\"\",1,IF(ISERROR(MATCH($F14,$B$6:$B$105,0)),0,INDIRECT(ADDRESS(5+MATCH($F14,$B$6:$B$105,0),COLUMN(O$4)))))*IF($F14=\"\",IF(VLOOKUP($B14,SCHEMA_CE!$E$5:$F$54,2,FALSE)=\"C\",-1,1),IF(OR(VLOOKUP($B14,SCHEMA_CE!$E$5:$F$54,2,FALSE)=\"C\",VLOOKUP($F14,SCHEMA_CE!$E$5:$F$54,2,FALSE)=\"C\"),-1,1)))","v":""},{"$f":"IF($B14=\"\",\"\",J14*IF($F14=\"\",1,IF(ISERROR(MATCH($F14,$B$6:$B$105,0)),0,INDIRECT(ADDRESS(5+MATCH($F14,$B$6:$B$105,0),COLUMN(P$4)))))*IF($F14=\"\",IF(VLOOKUP($B14,SCHEMA_CE!$E$5:$F$54,2,FALSE)=\"C\",-1,1),IF(OR(VLOOKUP($B14,SCHEMA_CE!$E$5:$F$54,2,FALSE)=\"C\",VLOOKUP($F14,SCHEMA_CE!$E$5:$F$54,2,FALSE)=\"C\"),-1,1)))","v":""},{"$f":"IF($B14=\"\",\"\",K14*IF($F14=\"\",1,IF(ISERROR(MATCH($F14,$B$6:$B$105,0)),0,INDIRECT(ADDRESS(5+MATCH($F14,$B$6:$B$105,0),COLUMN(Q$4)))))*IF($F14=\"\",IF(VLOOKUP($B14,SCHEMA_CE!$E$5:$F$54,2,FALSE)=\"C\",-1,1),IF(OR(VLOOKUP($B14,SCHEMA_CE!$E$5:$F$54,2,FALSE)=\"C\",VLOOKUP($F14,SCHEMA_CE!$E$5:$F$54,2,FALSE)=\"C\"),-1,1)))","v":""},null,"","","","",""]
[null,null,null,null,null,null,null,null,null,null,null,null,{"$f":"IF($B15=\"\",\"\",G15*IF($F15=\"\",1,IF(ISERROR(MATCH($F15,$B$6:$B$105,0)),0,INDIRECT(ADDRESS(5+MATCH($F15,$B$6:$B$105,0),COLUMN(M$4)))))*IF($F15=\"\",IF(VLOOKUP($B15,SCHEMA_CE!$E$5:$F$54,2,FALSE)=\"C\",-1,1),IF(OR(VLOOKUP($B15,SCHEMA_CE!$E$5:$F$54,2,FALSE)=\"C\",VLOOKUP($F15,SCHEMA_CE!$E$5:$F$54,2,FALSE)=\"C\"),-1,1)))","v":""},{"$f":"IF($B15=\"\",\"\",H15*IF($F15=\"\",1,IF(ISERROR(MATCH($F15,$B$6:$B$105,0)),0,INDIRECT(ADDRESS(5+MATCH($F15,$B$6:$B$105,0),COLUMN(N$4)))))*IF($F15=\"\",IF(VLOOKUP($B15,SCHEMA_CE!$E$5:$F$54,2,FALSE)=\"C\",-1,1),IF(OR(VLOOKUP($B15,SCHEMA_CE!$E$5:$F$54,2,FALSE)=\"C\",VLOOKUP($F15,SCHEMA_CE!$E$5:$F$54,2,FALSE)=\"C\"),-1,1)))","v":""},{"$f":"IF($B15=\"\",\"\",I15*IF($F15=\"\",1,IF(ISERROR(MATCH($F15,$B$6:$B$105,0)),0,INDIRECT(ADDRESS(5+MATCH($F15,$B$6:$B$105,0),COLUMN(O$4)))))*IF($F15=\"\",IF(VLOOKUP($B15,SCHEMA_CE!$E$5:$F$54,2,FALSE)=\"C\",-1,1),IF(OR(VLOOKUP($B15,SCHEMA_CE!$E$5:$F$54,2,FALSE)=\"C\",VLOOKUP($F15,SCHEMA_CE!$E$5:$F$54,2,FALSE)=\"C\"),-1,1)))","v":""},{"$f":"IF($B15=\"\",\"\",J15*IF($F15=\"\",1,IF(ISERROR(MATCH($F15,$B$6:$B$105,0)),0,INDIRECT(ADDRESS(5+MATCH($F15,$B$6:$B$105,0),COLUMN(P$4)))))*IF($F15=\"\",IF(VLOOKUP($B15,SCHEMA_CE!$E$5:$F$54,2,FALSE)=\"C\",-1,1),IF(OR(VLOOKUP($B15,SCHEMA_CE!$E$5:$F$54,2,FALSE)=\"C\",VLOOKUP($F15,SCHEMA_CE!$E$5:$F$54,2,FALSE)=\"C\"),-1,1)))","v":""},{"$f":"IF($B15=\"\",\"\",K15*IF($F15=\"\",1,IF(ISERROR(MATCH($F15,$B$6:$B$105,0)),0,INDIRECT(ADDRESS(5+MATCH($F15,$B$6:$B$105,0),COLUMN(Q$4)))))*IF($F15=\"\",IF(VLOOKUP($B15,SCHEMA_CE!$E$5:$F$54,2,FALSE)=\"C\",-1,1),IF(OR(VLOOKUP($B15,SCHEMA_CE!$E$5:$F$54,2,FALSE)=\"C\",VLOOKUP($F15,SCHEMA_CE!$E$5:$F$54,2,FALSE)=\"C\"),-1,1)))","v":""},null,"","","","",""]
[null,null,null,null,null,null,null,null,null,null,null,null,{"$f":"IF($B16=\"\",\"\",G16*IF($F16=\"\",1,IF(ISERROR(MATCH($F16,$B$6:$B$105,0)),0,INDIRECT(ADDRESS(5+MATCH($F16,$B$6:$B$105,0),COLUMN(M$4)))))*IF($F16=\"\",IF(VLOOKUP($B16,SCHEMA_CE!$E$5:$F$54,2,FALSE)=\"C\",-1,1),IF(OR(VLOOKUP($B16,SCHEMA_CE!$E$5:$F$54,2,FALSE)=\"C\",VLOOKUP($F16,SCHEMA_CE!$E$5:$F$54,2,FALSE)=\"C\"),-1,1)))","v":""},{"$f":"IF($B16=\"\",\"\",H16*IF($F16=\"\",1,IF(ISERROR(MATCH($F16,$B$6:$B$105,0)),0,INDIRECT(ADDRESS(5+MATCH($F16,$B$6:$B$105,0),COLUMN(N$4)))))*IF($F16=\"\",IF(VLOOKUP($B16,SCHEMA_CE!$E$5:$F$54,2,FALSE)=\"C\",-1,1),IF(OR(VLOOKUP($B16,SCHEMA_CE!$E$5:$F$54,2,FALSE)=\"C\",VLOOKUP($F16,SCHEMA_CE!$E$5:$F$54,2,FALSE)=\"C\"),-1,1)))","v":""},{"$f":"IF($B16=\"\",\"\",I16*IF($F16=\"\",1,IF(ISERROR(MATCH($F16,$B$6:$B$105,0)),0,INDIRECT(ADDRESS(5+MATCH($F16,$B$6:$B$105,0),COLUMN(O$4)))))*IF($F16=\"\",IF(VLOOKUP($B16,SCHEMA_CE!$E$5:$F$54,2,FALSE)=\"C\",-1,1),IF(OR(VLOOKUP($B16,SCHEMA_CE!$E$5:$F$54,2,FALSE)=\"C\",VLOOKUP($F16,SCHEMA_CE!$E$5:$F$54,2,FALSE)=\"C\"),-1,1)))","v":""},{"$f":"IF($B16=\"\",\"\",J16*IF($F16=\"\",1,IF(ISERROR(MATCH($F16,$B$6:$B$105,0)),0,INDIRECT(ADDRESS(5+MATCH($F16,$B$6:$B$105,0),COLUMN(P$4)))))*IF($F16=\"\",IF(VLOOKUP($B16,SCHEMA_CE!$E$5:$F$54,2,FALSE)=\"C\",-1,1),IF(OR(VLOOKUP($B16,SCHEMA_CE!$E$5:$F$54,2,FALSE)=\"C\",VLOOKUP($F16,SCHEMA_CE!$E$5:$F$54,2,FALSE)=\"C\"),-1,1)))","v":""},{"$f":"IF($B16=\"\",\"\",K16*IF($F16=\"\",1,IF(ISERROR(MATCH($F16,$B$6:$B$105,0)),0,INDIRECT(ADDRESS(5+MATCH($F16,$B$6:$B$105,0),COLUMN(Q$4)))))*IF($F16=\"\",IF(VLOOKUP($B16,SCHEMA_CE!$E$5:$F$54,2,FALSE)=\"C\",-1,1),IF(OR(VLOOKUP($B16,SCHEMA_CE!$E$5:$F$54,2,FALSE)=\"C\",VLOOKUP($F16,SCHEMA_CE!$E$5:$F$54,2,FALSE)=\"C\"),-1,1)))","v":""},null,"","","","",""]
[null,null,null,null,null,null,null,null,null,null,null,null,{"$f":"IF($B17=\"\",\"\",G17*IF($F17=\"\",1,IF(ISERROR(MATCH($F17,$B$6:$B$105,0)),0,INDIRECT(ADDRESS(5+MATCH($F17,$B$6:$B$105,0),COLUMN(M$4)))))*IF($F17=\"\",IF(VLOOKUP($B17,SCHEMA_CE!$E$5:$F$54,2,FALSE)=\"C\",-1,1),IF(OR(VLOOKUP($B17,SCHEMA_CE!$E$5:$F$54,2,FALSE)=\"C\",VLOOKUP($F17,SCHEMA_CE!$E$5:$F$54,2,FALSE)=\"C\"),-1,1)))","v":""},{"$f":"IF($B17=\"\",\"\",H17*IF($F17=\"\",1,IF(ISERROR(MATCH($F17,$B$6:$B$105,0)),0,INDIRECT(ADDRESS(5+MATCH($F17,$B$6:$B$105,0),COLUMN(N$4)))))*IF($F17=\"\",IF(VLOOKUP($B17,SCHEMA_CE!$E$5:$F$54,2,FALSE)=\"C\",-1,1),IF(OR(VLOOKUP($B17,SCHEMA_CE!$E$5:$F$54,2,FALSE)=\"C\",VLOOKUP($F17,SCHEMA_CE!$E$5:$F$54,2,FALSE)=\"C\"),-1,1)))","v":""},{"$f":"IF($B17=\"\",\"\",I17*IF($F17=\"\",1,IF(ISERROR(MATCH($F17,$B$6:$B$105,0)),0,INDIRECT(ADDRESS(5+MATCH($F17,$B$6:$B$105,0),COLUMN(O$4)))))*IF($F17=\"\",IF(VLOOKUP($B17,SCHEMA_CE!$E$5:$F$54,2,FALSE)=\"C\",-1,1),IF(OR(VLOOKUP($B17,SCHEMA_CE!$E$5:$F$54,2,FALSE)=\"C\",VLOOKUP($F17,SCHEMA_CE!$E$5:$F$54,2,FALSE)=\"C\"),-1,1)))","v":""},{"$f":"IF($B17=\"\",\"\",J17*IF($F17=\"\",1,IF(ISERROR(MATCH($F17,$B$6:$B$105,0)),0,INDIRECT(ADDRESS(5+MATCH($F17,$B$6:$B$105,0),COLUMN(P$4)))))*IF($F17=\"\",IF(VLOOKUP($B17,SCHEMA_CE!$E$5:$F$54,2,FALSE)=\"C\",-1,1),IF(OR(VLOOKUP($B17,SCHEMA_CE!$E$5:$F$54,2,FALSE)=\"C\",VLOOKUP($F17,SCHEMA_CE!$E$5:$F$54,2,FALSE)=\"C\"),-1,1)))","v":""},{"$f":"IF($B17=\"\",\"\",K17*IF($F17=\"\",1,IF(ISERROR(MATCH($F17,$B$6:$B$105,0)),0,INDIRECT(ADDRESS(5+MATCH($F17,$B$6:$B$105,0),COLUMN(Q$4)))))*IF($F17=\"\",IF(VLOOKUP($B17,SCHEMA_CE!$E$5:$F$54,2,FALSE)=\"C\",-1,1),IF(OR(VLOOKUP($B17,SCHEMA_CE!$E$5:$F$54,2,FALSE)=\"C\",VLOOKUP($F17,SCHEMA_CE!$E$5:$F$54,2,FALSE)=\"C\"),-1,1)))","v":""},null,"","","","",""]
[null,null,null,null,null,null,null,null,null,null,null,null,{"$f":"IF($B18=\"\",\"\",G18*IF($F18=\"\",1,IF(ISERROR(MATCH($F18,$B$6:$B$105,0)),0,INDIRECT(ADDRESS(5+MATCH($F18,$B$6:$B$105,0),COLUMN(M$4)))))*IF($F18=\"\",IF(VLOOKUP($B18,SCHEMA_CE!$E$5:$F$54,2,FALSE)=\"C\",-1,1),IF(OR(VLOOKUP($B18,SCHEMA_CE!$E$5:$F$54,2,FALSE)=\"C\",VLOOKUP($F18,SCHEMA_CE!$E$5:$F$54,2,FALSE)=\"C\"),-1,1)))","v":""},{"$f":"IF($B18=\"\",\"\",H18*IF($F18=\"\",1,IF(ISERROR(MATCH($F18,$B$6:$B$105,0)),0,INDIRECT(ADDRESS(5+MATCH($F18,$B$6:$B$105,0),COLUMN(N$4)))))*IF($F18=\"\",IF(VLOOKUP($B18,SCHEMA_CE!$E$5:$F$54,2,FALSE)=\"C\",-1,1),IF(OR(VLOOKUP($B18,SCHEMA_CE!$E$5:$F$54,2,FALSE)=\"C\",VLOOKUP($F18,SCHEMA_CE!$E$5:$F$54,2,FALSE)=\"C\"),-1,1)))","v":""},{"$f":"IF($B18=\"\",\"\",I18*IF($F18=\"\",1,IF(ISERROR(MATCH($F18,$B$6:$B$105,0)),0,INDIRECT(ADDRESS(5+MATCH($F18,$B$6:$B$105,0),COLUMN(O$4)))))*IF($F18=\"\",IF(VLOOKUP($B18,SCHEMA_CE!$E$5:$F$54,2,FALSE)=\"C\",-1,1),IF(OR(VLOOKUP($B18,SCHEMA_CE!$E$5:$F$54,2,FALSE)=\"C\",VLOOKUP($F18,SCHEMA_CE!$E$5:$F$54,2,FALSE)=\"C\"),-1,1)))","v":""},{"$f":"IF($B18=\"\",\"\",J18*IF($F18=\"\",1,IF(ISERROR(MATCH($F18,$B$6:$B$105,0)),0,INDIRECT(ADDRESS(5+MATCH($F18,$B$6:$B$105,0),COLUMN(P$4)))))*IF($F18=\"\",IF(VLOOKUP($B18,SCHEMA_CE!$E$5:$F$54,2,FALSE)=\"C\",-1,1),IF(OR(VLOOKUP($B18,SCHEMA_CE!$E$5:$F$54,2,FALSE)=\"C\",VLOOKUP($F18,SCHEMA_CE!$E$5:$F$54,2,FALSE)=\"C\"),-1,1)))","v":""},{"$f":"IF($B18=\"\",\"\",K18*IF($F18=\"\",1,IF(ISERROR(MATCH($F18,$B$6:$B$105,0)),0,INDIRECT(ADDRESS(5+MATCH($F18,$B$6:$B$105,0),COLUMN(Q$4)))))*IF($F18=\"\",IF(VLOOKUP($B18,SCHEMA_CE!$E$5:$F$54,2,FALSE)=\"C\",-1,1),IF(OR(VLOOKUP($B18,SCHEMA_CE!$E$5:$F$54,2,FALSE)=\"C\",VLOOKUP($F18,SCHEMA_CE!$E$5:$F$54,2,FALSE)=\"C\"),-1,1)))","v":""},null,"","","","",""]
[null,null,null,null,null,null,null,null,null,null,null,null,{"$f":"IF($B19=\"\",\"\",G19*IF($F19=\"\",1,IF(ISERROR(MATCH($F19,$B$6:$B$105,0)),0,INDIRECT(ADDRESS(5+MATCH($F19,$B$6:$B$105,0),COLUMN(M$4)))))*IF($F19=\"\",IF(VLOOKUP($B19,SCHEMA_CE!$E$5:$F$54,2,FALSE)=\"C\",-1,1),IF(OR(VLOOKUP($B19,SCHEMA_CE!$E$5:$F$54,2,FALSE)=\"C\",VLOOKUP($F19,SCHEMA_CE!$E$5:$F$54,2,FALSE)=\"C\"),-1,1)))","v":""},{"$f":"IF($B19=\"\",\"\",H19*IF($F19=\"\",1,IF(ISERROR(MATCH($F19,$B$6:$B$105,0)),0,INDIRECT(ADDRESS(5+MATCH($F19,$B$6:$B$105,0),COLUMN(N$4)))))*IF($F19=\"\",IF(VLOOKUP($B19,SCHEMA_CE!$E$5:$F$54,2,FALSE)=\"C\",-1,1),IF(OR(VLOOKUP($B19,SCHEMA_CE!$E$5:$F$54,2,FALSE)=\"C\",VLOOKUP($F19,SCHEMA_CE!$E$5:$F$54,2,FALSE)=\"C\"),-1,1)))","v":""},{"$f":"IF($B19=\"\",\"\",I19*IF($F19=\"\",1,IF(ISERROR(MATCH($F19,$B$6:$B$105,0)),0,INDIRECT(ADDRESS(5+MATCH($F19,$B$6:$B$105,0),COLUMN(O$4)))))*IF($F19=\"\",IF(VLOOKUP($B19,SCHEMA_CE!$E$5:$F$54,2,FALSE)=\"C\",-1,1),IF(OR(VLOOKUP($B19,SCHEMA_CE!$E$5:$F$54,2,FALSE)=\"C\",VLOOKUP($F19,SCHEMA_CE!$E$5:$F$54,2,FALSE)=\"C\"),-1,1)))","v":""},{"$f":"IF($B19=\"\",\"\",J19*IF($F19=\"\",1,IF(ISERROR(MATCH($F19,$B$6:$B$105,0)),0,INDIRECT(ADDRESS(5+MATCH($F19,$B$6:$B$105,0),COLUMN(P$4)))))*IF($F19=\"\",IF(VLOOKUP($B19,SCHEMA_CE!$E$5:$F$54,2,FALSE)=\"C\",-1,1),IF(OR(VLOOKUP($B19,SCHEMA_CE!$E$5:$F$54,2,FALSE)=\"C\",VLOOKUP($F19,SCHEMA_CE!$E$5:$F$54,2,FALSE)=\"C\"),-1,1)))","v":""},{"$f":"IF($B19=\"\",\"\",K19*IF($F19=\"\",1,IF(ISERROR(MATCH($F19,$B$6:$B$105,0)),0,INDIRECT(ADDRESS(5+MATCH($F19,$B$6:$B$105,0),COLUMN(Q$4)))))*IF($F19=\"\",IF(VLOOKUP($B19,SCHEMA_CE!$E$5:$F$54,2,FALSE)=\"C\",-1,1),IF(OR(VLOOKUP($B19,SCHEMA_CE!$E$5:$F$54,2,FALSE)=\"C\",VLOOKUP($F19,SCHEMA_CE!$E$5:$F$54,2,FALSE)=\"C\"),-1,1)))","v":""},null,"","","","",""]
[null,null,null,null,null,null,null,null,null,null,null,null,{"$f":"IF($B20=\"\",\"\",G20*IF($F20=\"\",1,IF(ISERROR(MATCH($F20,$B$6:$B$105,0)),0,INDIRECT(ADDRESS(5+MATCH($F20,$B$6:$B$105,0),COLUMN(M$4)))))*IF($F20=\"\",IF(VLOOKUP($B20,SCHEMA_CE!$E$5:$F$54,2,FALSE)=\"C\",-1,1),IF(OR(VLOOKUP($B20,SCHEMA_CE!$E$5:$F$54,2,FALSE)=\"C\",VLOOKUP($F20,SCHEMA_CE!$E$5:$F$54,2,FALSE)=\"C\"),-1,1)))","v":""},{"$f":"IF($B20=\"\",\"\",H20*IF($F20=\"\",1,IF(ISERROR(MATCH($F20,$B$6:$B$105,0)),0,INDIRECT(ADDRESS(5+MATCH($F20,$B$6:$B$105,0),COLUMN(N$4)))))*IF($F20=\"\",IF(VLOOKUP($B20,SCHEMA_CE!$E$5:$F$54,2,FALSE)=\"C\",-1,1),IF(OR(VLOOKUP($B20,SCHEMA_CE!$E$5:$F$54,2,FALSE)=\"C\",VLOOKUP($F20,SCHEMA_CE!$E$5:$F$54,2,FALSE)=\"C\"),-1,1)))","v":""},{"$f":"IF($B20=\"\",\"\",I20*IF($F20=\"\",1,IF(ISERROR(MATCH($F20,$B$6:$B$105,0)),0,INDIRECT(ADDRESS(5+MATCH($F20,$B$6:$B$105,0),COLUMN(O$4)))))*IF($F20=\"\",IF(VLOOKUP($B20,SCHEMA_CE!$E$5:$F$54,2,FALSE)=\"C\",-1,1),IF(OR(VLOOKUP($B20,SCHEMA_CE!$E$5:$F$54,2,FALSE)=\"C\",VLOOKUP($F20,SCHEMA_CE!$E$5:$F$54,2,FALSE)=\"C\"),-1,1)))","v":""},{"$f":"IF($B20=\"\",\"\",J20*IF($F20=\"\",1,IF(ISERROR(MATCH($F20,$B$6:$B$105,0)),0,INDIRECT(ADDRESS(5+MATCH($F20,$B$6:$B$105,0),COLUMN(P$4)))))*IF($F20=\"\",IF(VLOOKUP($B20,SCHEMA_CE!$E$5:$F$54,2,FALSE)=\"C\",-1,1),IF(OR(VLOOKUP($B20,SCHEMA_CE!$E$5:$F$54,2,FALSE)=\"C\",VLOOKUP($F20,SCHEMA_CE!$E$5:$F$54,2,FALSE)=\"C\"),-1,1)))","v":""},{"$f":"IF($B20=\"\",\"\",K20*IF($F20=\"\",1,IF(ISERROR(MATCH($F20,$B$6:$B$105,0)),0,INDIRECT(ADDRESS(5+MATCH($F20,$B$6:$B$105,0),COLUMN(Q$4)))))*IF($F20=\"\",IF(VLOOKUP($B20,SCHEMA_CE!$E$5:$F$54,2,FALSE)=\"C\",-1,1),IF(OR(VLOOKUP($B20,SCHEMA_CE!$E$5:$F$54,2,FALSE)=\"C\",VLOOKUP($F20,SCHEMA_CE!$E$5:$F$54,2,FALSE)=\"C\"),-1,1)))","v":""},null,"","","","",""]
[null,null,null,null,null,null,null,null,null,null,null,null,{"$f":"IF($B21=\"\",\"\",G21*IF($F21=\"\",1,IF(ISERROR(MATCH($F21,$B$6:$B$105,0)),0,INDIRECT(ADDRESS(5+MATCH($F21,$B$6:$B$105,0),COLUMN(M$4)))))*IF($F21=\"\",IF(VLOOKUP($B21,SCHEMA_CE!$E$5:$F$54,2,FALSE)=\"C\",-1,1),IF(OR(VLOOKUP($B21,SCHEMA_CE!$E$5:$F$54,2,FALSE)=\"C\",VLOOKUP($F21,SCHEMA_CE!$E$5:$F$54,2,FALSE)=\"C\"),-1,1)))","v":""},{"$f":"IF($B21=\"\",\"\",H21*IF($F21=\"\",1,IF(ISERROR(MATCH($F21,$B$6:$B$105,0)),0,INDIRECT(ADDRESS(5+MATCH($F21,$B$6:$B$105,0),COLUMN(N$4)))))*IF($F21=\"\",IF(VLOOKUP($B21,SCHEMA_CE!$E$5:$F$54,2,FALSE)=\"C\",-1,1),IF(OR(VLOOKUP($B21,SCHEMA_CE!$E$5:$F$54,2,FALSE)=\"C\",VLOOKUP($F21,SCHEMA_CE!$E$5:$F$54,2,FALSE)=\"C\"),-1,1)))","v":""},{"$f":"IF($B21=\"\",\"\",I21*IF($F21=\"\",1,IF(ISERROR(MATCH($F21,$B$6:$B$105,0)),0,INDIRECT(ADDRESS(5+MATCH($F21,$B$6:$B$105,0),COLUMN(O$4)))))*IF($F21=\"\",IF(VLOOKUP($B21,SCHEMA_CE!$E$5:$F$54,2,FALSE)=\"C\",-1,1),IF(OR(VLOOKUP($B21,SCHEMA_CE!$E$5:$F$54,2,FALSE)=\"C\",VLOOKUP($F21,SCHEMA_CE!$E$5:$F$54,2,FALSE)=\"C\"),-1,1)))","v":""},{"$f":"IF($B21=\"\",\"\",J21*IF($F21=\"\",1,IF(ISERROR(MATCH($F21,$B$6:$B$105,0)),0,INDIRECT(ADDRESS(5+MATCH($F21,$B$6:$B$105,0),COLUMN(P$4)))))*IF($F21=\"\",IF(VLOOKUP($B21,SCHEMA_CE!$E$5:$F$54,2,FALSE)=\"C\",-1,1),IF(OR(VLOOKUP($B21,SCHEMA_CE!$E$5:$F$54,2,FALSE)=\"C\",VLOOKUP($F21,SCHEMA_CE!$E$5:$F$54,2,FALSE)=\"C\"),-1,1)))","v":""},{"$f":"IF($B21=\"\",\"\",K21*IF($F21=\"\",1,IF(ISERROR(MATCH($F21,$B$6:$B$105,0)),0,INDIRECT(ADDRESS(5+MATCH($F21,$B$6:$B$105,0),COLUMN(Q$4)))))*IF($F21=\"\",IF(VLOOKUP($B21,SCHEMA_CE!$E$5:$F$54,2,FALSE)=\"C\",-1,1),IF(OR(VLOOKUP($B21,SCHEMA_CE!$E$5:$F$54,2,FALSE)=\"C\",VLOOKUP($F21,SCHEMA_CE!$E$5:$F$54,2,FALSE)=\"C\"),-1,1)))","v":""},null,"","","","",""]
[null,null,null,null,null,null,null,null,null,null,null,null,{"$f":"IF($B22=\"\",\"\",G22*IF($F22=\"\",1,IF(ISERROR(MATCH($F22,$B$6:$B$105,0)),0,INDIRECT(ADDRESS(5+MATCH($F22,$B$6:$B$105,0),COLUMN(M$4)))))*IF($F22=\"\",IF(VLOOKUP($B22,SCHEMA_CE!$E$5:$F$54,2,FALSE)=\"C\",-1,1),IF(OR(VLOOKUP($B22,SCHEMA_CE!$E$5:$F$54,2,FALSE)=\"C\",VLOOKUP($F22,SCHEMA_CE!$E$5:$F$54,2,FALSE)=\"C\"),-1,1)))","v":""},{"$f":"IF($B22=\"\",\"\",H22*IF($F22=\"\",1,IF(ISERROR(MATCH($F22,$B$6:$B$105,0)),0,INDIRECT(ADDRESS(5+MATCH($F22,$B$6:$B$105,0),COLUMN(N$4)))))*IF($F22=\"\",IF(VLOOKUP($B22,SCHEMA_CE!$E$5:$F$54,2,FALSE)=\"C\",-1,1),IF(OR(VLOOKUP($B22,SCHEMA_CE!$E$5:$F$54,2,FALSE)=\"C\",VLOOKUP($F22,SCHEMA_CE!$E$5:$F$54,2,FALSE)=\"C\"),-1,1)))","v":""},{"$f":"IF($B22=\"\",\"\",I22*IF($F22=\"\",1,IF(ISERROR(MATCH($F22,$B$6:$B$105,0)),0,INDIRECT(ADDRESS(5+MATCH($F22,$B$6:$B$105,0),COLUMN(O$4)))))*IF($F22=\"\",IF(VLOOKUP($B22,SCHEMA_CE!$E$5:$F$54,2,FALSE)=\"C\",-1,1),IF(OR(VLOOKUP($B22,SCHEMA_CE!$E$5:$F$54,2,FALSE)=\"C\",VLOOKUP($F22,SCHEMA_CE!$E$5:$F$54,2,FALSE)=\"C\"),-1,1)))","v":""},{"$f":"IF($B22=\"\",\"\",J22*IF($F22=\"\",1,IF(ISERROR(MATCH($F22,$B$6:$B$105,0)),0,INDIRECT(ADDRESS(5+MATCH($F22,$B$6:$B$105,0),COLUMN(P$4)))))*IF($F22=\"\",IF(VLOOKUP($B22,SCHEMA_CE!$E$5:$F$54,2,FALSE)=\"C\",-1,1),IF(OR(VLOOKUP($B22,SCHEMA_CE!$E$5:$F$54,2,FALSE)=\"C\",VLOOKUP($F22,SCHEMA_CE!$E$5:$F$54,2,FALSE)=\"C\"),-1,1)))","v":""},{"$f":"IF($B22=\"\",\"\",K22*IF($F22=\"\",1,IF(ISERROR(MATCH($F22,$B$6:$B$105,0)),0,INDIRECT(ADDRESS(5+MATCH($F22,$B$6:$B$105,0),COLUMN(Q$4)))))*IF($F22=\"\",IF(VLOOKUP($B22,SCHEMA_CE!$E$5:$F$54,2,FALSE)=\"C\",-1,1),IF(OR(VLOOKUP($B22,SCHEMA_CE!$E$5:$F$54,2,FALSE)=\"C\",VLOOKUP($F22,SCHEMA_CE!$E$5:$F$54,2,FALSE)=\"C\"),-1,1)))","v":""},null,"","","","",""]
[null,null,null,null,null,null,null,null,null,null,null,null,{"$f":"IF($B23=\"\",\"\",G23*IF($F23=\"\",1,IF(ISERROR(MATCH($F23,$B$6:$B$105,0)),0,INDIRECT(ADDRESS(5+MATCH($F23,$B$6:$B$105,0),COLUMN(M$4)))))*IF($F23=\"\",IF(VLOOKUP($B23,SCHEMA_CE!$E$5:$F$54,2,FALSE)=\"C\",-1,1),IF(OR(VLOOKUP($B23,SCHEMA_CE!$E$5:$F$54,2,FALSE)=\"C\",VLOOKUP($F23,SCHEMA_CE!$E$5:$F$54,2,FALSE)=\"C\"),-1,1)))","v":""},{"$f":"IF($B23=\"\",\"\",H23*IF($F23=\"\",1,IF(ISERROR(MATCH($F23,$B$6:$B$105,0)),0,INDIRECT(ADDRESS(5+MATCH($F23,$B$6:$B$105,0),COLUMN(N$4)))))*IF($F23=\"\",IF(VLOOKUP($B23,SCHEMA_CE!$E$5:$F$54,2,FALSE)=\"C\",-1,1),IF(OR(VLOOKUP($B23,SCHEMA_CE!$E$5:$F$54,2,FALSE)=\"C\",VLOOKUP($F23,SCHEMA_CE!$E$5:$F$54,2,FALSE)=\"C\"),-1,1)))","v":""},{"$f":"IF($B23=\"\",\"\",I23*IF($F23=\"\",1,IF(ISERROR(MATCH($F23,$B$6:$B$105,0)),0,INDIRECT(ADDRESS(5+MATCH($F23,$B$6:$B$105,0),COLUMN(O$4)))))*IF($F23=\"\",IF(VLOOKUP($B23,SCHEMA_CE!$E$5:$F$54,2,FALSE)=\"C\",-1,1),IF(OR(VLOOKUP($B23,SCHEMA_CE!$E$5:$F$54,2,FALSE)=\"C\",VLOOKUP($F23,SCHEMA_CE!$E$5:$F$54,2,FALSE)=\"C\"),-1,1)))","v":""},{"$f":"IF($B23=\"\",\"\",J23*IF($F23=\"\",1,IF(ISERROR(MATCH($F23,$B$6:$B$105,0)),0,INDIRECT(ADDRESS(5+MATCH($F23,$B$6:$B$105,0),COLUMN(P$4)))))*IF($F23=\"\",IF(VLOOKUP($B23,SCHEMA_CE!$E$5:$F$54,2,FALSE)=\"C\",-1,1),IF(OR(VLOOKUP($B23,SCHEMA_CE!$E$5:$F$54,2,FALSE)=\"C\",VLOOKUP($F23,SCHEMA_CE!$E$5:$F$54,2,FALSE)=\"C\"),-1,1)))","v":""},{"$f":"IF($B23=\"\",\"\",K23*IF($F23=\"\",1,IF(ISERROR(MATCH($F23,$B$6:$B$105,0)),0,INDIRECT(ADDRESS(5+MATCH($F23,$B$6:$B$105,0),COLUMN(Q$4)))))*IF($F23=\"\",IF(VLOOKUP($B23,SCHEMA_CE!$E$5:$F$54,2,FALSE)=\"C\",-1,1),IF(OR(VLOOKUP($B23,SCHEMA_CE!$E$5:$F$54,2,FALSE)=\"C\",VLOOKUP($F23,SCHEMA_CE!$E$5:$F$54,2,FALSE)=\"C\"),-1,1)))","v":""},null,"","","","",""]
[null,null,null,null,null,null,null,null,null,null,null,null,{"$f":"IF($B24=\"\",\"\",G24*IF($F24=\"\",1,IF(ISERROR(MATCH($F24,$B$6:$B$105,0)),0,INDIRECT(ADDRESS(5+MATCH($F24,$B$6:$B$105,0),COLUMN(M$4)))))*IF($F24=\"\",IF(VLOOKUP($B24,SCHEMA_CE!$E$5:$F$54,2,FALSE)=\"C\",-1,1),IF(OR(VLOOKUP($B24,SCHEMA_CE!$E$5:$F$54,2,FALSE)=\"C\",VLOOKUP($F24,SCHEMA_CE!$E$5:$F$54,2,FALSE)=\"C\"),-1,1)))","v":""},{"$f":"IF($B24=\"\",\"\",H24*IF($F24=\"\",1,IF(ISERROR(MATCH($F24,$B$6:$B$105,0)),0,INDIRECT(ADDRESS(5+MATCH($F24,$B$6:$B$105,0),COLUMN(N$4)))))*IF($F24=\"\",IF(VLOOKUP($B24,SCHEMA_CE!$E$5:$F$54,2,FALSE)=\"C\",-1,1),IF(OR(VLOOKUP($B24,SCHEMA_CE!$E$5:$F$54,2,FALSE)=\"C\",VLOOKUP($F24,SCHEMA_CE!$E$5:$F$54,2,FALSE)=\"C\"),-1,1)))","v":""},{"$f":"IF($B24=\"\",\"\",I24*IF($F24=\"\",1,IF(ISERROR(MATCH($F24,$B$6:$B$105,0)),0,INDIRECT(ADDRESS(5+MATCH($F24,$B$6:$B$105,0),COLUMN(O$4)))))*IF($F24=\"\",IF(VLOOKUP($B24,SCHEMA_CE!$E$5:$F$54,2,FALSE)=\"C\",-1,1),IF(OR(VLOOKUP($B24,SCHEMA_CE!$E$5:$F$54,2,FALSE)=\"C\",VLOOKUP($F24,SCHEMA_CE!$E$5:$F$54,2,FALSE)=\"C\"),-1,1)))","v":""},{"$f":"IF($B24=\"\",\"\",J24*IF($F24=\"\",1,IF(ISERROR(MATCH($F24,$B$6:$B$105,0)),0,INDIRECT(ADDRESS(5+MATCH($F24,$B$6:$B$105,0),COLUMN(P$4)))))*IF($F24=\"\",IF(VLOOKUP($B24,SCHEMA_CE!$E$5:$F$54,2,FALSE)=\"C\",-1,1),IF(OR(VLOOKUP($B24,SCHEMA_CE!$E$5:$F$54,2,FALSE)=\"C\",VLOOKUP($F24,SCHEMA_CE!$E$5:$F$54,2,FALSE)=\"C\"),-1,1)))","v":""},{"$f":"IF($B24=\"\",\"\",K24*IF($F24=\"\",1,IF(ISERROR(MATCH($F24,$B$6:$B$105,0)),0,INDIRECT(ADDRESS(5+MATCH($F24,$B$6:$B$105,0),COLUMN(Q$4)))))*IF($F24=\"\",IF(VLOOKUP($B24,SCHEMA_CE!$E$5:$F$54,2,FALSE)=\"C\",-1,1),IF(OR(VLOOKUP($B24,SCHEMA_CE!$E$5:$F$54,2,FALSE)=\"C\",VLOOKUP($F24,SCHEMA_CE!$E$5:$F$54,2,FALSE)=\"C\"),-1,1)))","v":""},null,"","","","",""]
[null,null,null,null,null,null,null,null,null,null,null,null,{"$f":"IF($B25=\"\",\"\",G25*IF($F25=\"\",1,IF(ISERROR(MATCH($F25,$B$6:$B$105,0)),0,INDIRECT(ADDRESS(5+MATCH($F25,$B$6:$B$105,0),COLUMN(M$4)))))*IF($F25=\"\",IF(VLOOKUP($B25,SCHEMA_CE!$E$5:$F$54,2,FALSE)=\"C\",-1,1),IF(OR(VLOOKUP($B25,SCHEMA_CE!$E$5:$F$54,2,FALSE)=\"C\",VLOOKUP($F25,SCHEMA_CE!$E$5:$F$54,2,FALSE)=\"C\"),-1,1)))","v":""},{"$f":"IF($B25=\"\",\"\",H25*IF($F25=\"\",1,IF(ISERROR(MATCH($F25,$B$6:$B$105,0)),0,INDIRECT(ADDRESS(5+MATCH($F25,$B$6:$B$105,0),COLUMN(N$4)))))*IF($F25=\"\",IF(VLOOKUP($B25,SCHEMA_CE!$E$5:$F$54,2,FALSE)=\"C\",-1,1),IF(OR(VLOOKUP($B25,SCHEMA_CE!$E$5:$F$54,2,FALSE)=\"C\",VLOOKUP($F25,SCHEMA_CE!$E$5:$F$54,2,FALSE)=\"C\"),-1,1)))","v":""},{"$f":"IF($B25=\"\",\"\",I25*IF($F25=\"\",1,IF(ISERROR(MATCH($F25,$B$6:$B$105,0)),0,INDIRECT(ADDRESS(5+MATCH($F25,$B$6:$B$105,0),COLUMN(O$4)))))*IF($F25=\"\",IF(VLOOKUP($B25,SCHEMA_CE!$E$5:$F$54,2,FALSE)=\"C\",-1,1),IF(OR(VLOOKUP($B25,SCHEMA_CE!$E$5:$F$54,2,FALSE)=\"C\",VLOOKUP($F25,SCHEMA_CE!$E$5:$F$54,2,FALSE)=\"C\"),-1,1)))","v":""},{"$f":"IF($B25=\"\",\"\",J25*IF($F25=\"\",1,IF(ISERROR(MATCH($F25,$B$6:$B$105,0)),0,INDIRECT(ADDRESS(5+MATCH($F25,$B$6:$B$105,0),COLUMN(P$4)))))*IF($F25=\"\",IF(VLOOKUP($B25,SCHEMA_CE!$E$5:$F$54,2,FALSE)=\"C\",-1,1),IF(OR(VLOOKUP($B25,SCHEMA_CE!$E$5:$F$54,2,FALSE)=\"C\",VLOOKUP($F25,SCHEMA_CE!$E$5:$F$54,2,FALSE)=\"C\"),-1,1)))","v":""},{"$f":"IF($B25=\"\",\"\",K25*IF($F25=\"\",1,IF(ISERROR(MATCH($F25,$B$6:$B$105,0)),0,INDIRECT(ADDRESS(5+MATCH($F25,$B$6:$B$105,0),COLUMN(Q$4)))))*IF($F25=\"\",IF(VLOOKUP($B25,SCHEMA_CE!$E$5:$F$54,2,FALSE)=\"C\",-1,1),IF(OR(VLOOKUP($B25,SCHEMA_CE!$E$5:$F$54,2,FALSE)=\"C\",VLOOKUP($F25,SCHEMA_CE!$E$5:$F$54,2,FALSE)=\"C\"),-1,1)))","v":""},null,"","","","",""]
[null,null,null,null,null,null,null,null,null,null,null,null,{"$f":"IF($B26=\"\",\"\",G26*IF($F26=\"\",1,IF(ISERROR(MATCH($F26,$B$6:$B$105,0)),0,INDIRECT(ADDRESS(5+MATCH($F26,$B$6:$B$105,0),COLUMN(M$4)))))*IF($F26=\"\",IF(VLOOKUP($B26,SCHEMA_CE!$E$5:$F$54,2,FALSE)=\"C\",-1,1),IF(OR(VLOOKUP($B26,SCHEMA_CE!$E$5:$F$54,2,FALSE)=\"C\",VLOOKUP($F26,SCHEMA_CE!$E$5:$F$54,2,FALSE)=\"C\"),-1,1)))","v":""},{"$f":"IF($B26=\"\",\"\",H26*IF($F26=\"\",1,IF(ISERROR(MATCH($F26,$B$6:$B$105,0)),0,INDIRECT(ADDRESS(5+MATCH($F26,$B$6:$B$105,0),COLUMN(N$4)))))*IF($F26=\"\",IF(VLOOKUP($B26,SCHEMA_CE!$E$5:$F$54,2,FALSE)=\"C\",-1,1),IF(OR(VLOOKUP($B26,SCHEMA_CE!$E$5:$F$54,2,FALSE)=\"C\",VLOOKUP($F26,SCHEMA_CE!$E$5:$F$54,2,FALSE)=\"C\"),-1,1)))","v":""},{"$f":"IF($B26=\"\",\"\",I26*IF($F26=\"\",1,IF(ISERROR(MATCH($F26,$B$6:$B$105,0)),0,INDIRECT(ADDRESS(5+MATCH($F26,$B$6:$B$105,0),COLUMN(O$4)))))*IF($F26=\"\",IF(VLOOKUP($B26,SCHEMA_CE!$E$5:$F$54,2,FALSE)=\"C\",-1,1),IF(OR(VLOOKUP($B26,SCHEMA_CE!$E$5:$F$54,2,FALSE)=\"C\",VLOOKUP($F26,SCHEMA_CE!$E$5:$F$54,2,FALSE)=\"C\"),-1,1)))","v":""},{"$f":"IF($B26=\"\",\"\",J26*IF($F26=\"\",1,IF(ISERROR(MATCH($F26,$B$6:$B$105,0)),0,INDIRECT(ADDRESS(5+MATCH($F26,$B$6:$B$105,0),COLUMN(P$4)))))*IF($F26=\"\",IF(VLOOKUP($B26,SCHEMA_CE!$E$5:$F$54,2,FALSE)=\"C\",-1,1),IF(OR(VLOOKUP($B26,SCHEMA_CE!$E$5:$F$54,2,FALSE)=\"C\",VLOOKUP($F26,SCHEMA_CE!$E$5:$F$54,2,FALSE)=\"C\"),-1,1)))","v":""},{"$f":"IF($B26=\"\",\"\",K26*IF($F26=\"\",1,IF(ISERROR(MATCH($F26,$B$6:$B$105,0)),0,INDIRECT(ADDRESS(5+MATCH($F26,$B$6:$B$105,0),COLUMN(Q$4)))))*IF($F26=\"\",IF(VLOOKUP($B26,SCHEMA_CE!$E$5:$F$54,2,FALSE)=\"C\",-1,1),IF(OR(VLOOKUP($B26,SCHEMA_CE!$E$5:$F$54,2,FALSE)=\"C\",VLOOKUP($F26,SCHEMA_CE!$E$5:$F$54,2,FALSE)=\"C\"),-1,1)))","v":""},null,"","","","",""]
[null,null,null,null,null,null,null,null,null,null,null,null,{"$f":"IF($B27=\"\",\"\",G27*IF($F27=\"\",1,IF(ISERROR(MATCH($F27,$B$6:$B$105,0)),0,INDIRECT(ADDRESS(5+MATCH($F27,$B$6:$B$105,0),COLUMN(M$4)))))*IF($F27=\"\",IF(VLOOKUP($B27,SCHEMA_CE!$E$5:$F$54,2,FALSE)=\"C\",-1,1),IF(OR(VLOOKUP($B27,SCHEMA_CE!$E$5:$F$54,2,FALSE)=\"C\",VLOOKUP($F27,SCHEMA_CE!$E$5:$F$54,2,FALSE)=\"C\"),-1,1)))","v":""},{"$f":"IF($B27=\"\",\"\",H27*IF($F27=\"\",1,IF(ISERROR(MATCH($F27,$B$6:$B$105,0)),0,INDIRECT(ADDRESS(5+MATCH($F27,$B$6:$B$105,0),COLUMN(N$4)))))*IF($F27=\"\",IF(VLOOKUP($B27,SCHEMA_CE!$E$5:$F$54,2,FALSE)=\"C\",-1,1),IF(OR(VLOOKUP($B27,SCHEMA_CE!$E$5:$F$54,2,FALSE)=\"C\",VLOOKUP($F27,SCHEMA_CE!$E$5:$F$54,2,FALSE)=\"C\"),-1,1)))","v":""},{"$f":"IF($B27=\"\",\"\",I27*IF($F27=\"\",1,IF(ISERROR(MATCH($F27,$B$6:$B$105,0)),0,INDIRECT(ADDRESS(5+MATCH($F27,$B$6:$B$105,0),COLUMN(O$4)))))*IF($F27=\"\",IF(VLOOKUP($B27,SCHEMA_CE!$E$5:$F$54,2,FALSE)=\"C\",-1,1),IF(OR(VLOOKUP($B27,SCHEMA_CE!$E$5:$F$54,2,FALSE)=\"C\",VLOOKUP($F27,SCHEMA_CE!$E$5:$F$54,2,FALSE)=\"C\"),-1,1)))","v":""},{"$f":"IF($B27=\"\",\"\",J27*IF($F27=\"\",1,IF(ISERROR(MATCH($F27,$B$6:$B$105,0)),0,INDIRECT(ADDRESS(5+MATCH($F27,$B$6:$B$105,0),COLUMN(P$4)))))*IF($F27=\"\",IF(VLOOKUP($B27,SCHEMA_CE!$E$5:$F$54,2,FALSE)=\"C\",-1,1),IF(OR(VLOOKUP($B27,SCHEMA_CE!$E$5:$F$54,2,FALSE)=\"C\",VLOOKUP($F27,SCHEMA_CE!$E$5:$F$54,2,FALSE)=\"C\"),-1,1)))","v":""},{"$f":"IF($B27=\"\",\"\",K27*IF($F27=\"\",1,IF(ISERROR(MATCH($F27,$B$6:$B$105,0)),0,INDIRECT(ADDRESS(5+MATCH($F27,$B$6:$B$105,0),COLUMN(Q$4)))))*IF($F27=\"\",IF(VLOOKUP($B27,SCHEMA_CE!$E$5:$F$54,2,FALSE)=\"C\",-1,1),IF(OR(VLOOKUP($B27,SCHEMA_CE!$E$5:$F$54,2,FALSE)=\"C\",VLOOKUP($F27,SCHEMA_CE!$E$5:$F$54,2,FALSE)=\"C\"),-1,1)))","v":""},null,"","","","",""]
[null,null,null,null,null,null,null,null,null,null,null,null,{"$f":"IF($B28=\"\",\"\",G28*IF($F28=\"\",1,IF(ISERROR(MATCH($F28,$B$6:$B$105,0)),0,INDIRECT(ADDRESS(5+MATCH($F28,$B$6:$B$105,0),COLUMN(M$4)))))*IF($F28=\"\",IF(VLOOKUP($B28,SCHEMA_CE!$E$5:$F$54,2,FALSE)=\"C\",-1,1),IF(OR(VLOOKUP($B28,SCHEMA_CE!$E$5:$F$54,2,FALSE)=\"C\",VLOOKUP($F28,SCHEMA_CE!$E$5:$F$54,2,FALSE)=\"C\"),-1,1)))","v":""},{"$f":"IF($B28=\"\",\"\",H28*IF($F28=\"\",1,IF(ISERROR(MATCH($F28,$B$6:$B$105,0)),0,INDIRECT(ADDRESS(5+MATCH($F28,$B$6:$B$105,0),COLUMN(N$4)))))*IF($F28=\"\",IF(VLOOKUP($B28,SCHEMA_CE!$E$5:$F$54,2,FALSE)=\"C\",-1,1),IF(OR(VLOOKUP($B28,SCHEMA_CE!$E$5:$F$54,2,FALSE)=\"C\",VLOOKUP($F28,SCHEMA_CE!$E$5:$F$54,2,FALSE)=\"C\"),-1,1)))","v":""},{"$f":"IF($B28=\"\",\"\",I28*IF($F28=\"\",1,IF(ISERROR(MATCH($F28,$B$6:$B$105,0)),0,INDIRECT(ADDRESS(5+MATCH($F28,$B$6:$B$105,0),COLUMN(O$4)))))*IF($F28=\"\",IF(VLOOKUP($B28,SCHEMA_CE!$E$5:$F$54,2,FALSE)=\"C\",-1,1),IF(OR(VLOOKUP($B28,SCHEMA_CE!$E$5:$F$54,2,FALSE)=\"C\",VLOOKUP($F28,SCHEMA_CE!$E$5:$F$54,2,FALSE)=\"C\"),-1,1)))","v":""},{"$f":"IF($B28=\"\",\"\",J28*IF($F28=\"\",1,IF(ISERROR(MATCH($F28,$B$6:$B$105,0)),0,INDIRECT(ADDRESS(5+MATCH($F28,$B$6:$B$105,0),COLUMN(P$4)))))*IF($F28=\"\",IF(VLOOKUP($B28,SCHEMA_CE!$E$5:$F$54,2,FALSE)=\"C\",-1,1),IF(OR(VLOOKUP($B28,SCHEMA_CE!$E$5:$F$54,2,FALSE)=\"C\",VLOOKUP($F28,SCHEMA_CE!$E$5:$F$54,2,FALSE)=\"C\"),-1,1)))","v":""},{"$f":"IF($B28=\"\",\"\",K28*IF($F28=\"\",1,IF(ISERROR(MATCH($F28,$B$6:$B$105,0)),0,INDIRECT(ADDRESS(5+MATCH($F28,$B$6:$B$105,0),COLUMN(Q$4)))))*IF($F28=\"\",IF(VLOOKUP($B28,SCHEMA_CE!$E$5:$F$54,2,FALSE)=\"C\",-1,1),IF(OR(VLOOKUP($B28,SCHEMA_CE!$E$5:$F$54,2,FALSE)=\"C\",VLOOKUP($F28,SCHEMA_CE!$E$5:$F$54,2,FALSE)=\"C\"),-1,1)))","v":""},null,"","","","",""]
[null,null,null,null,null,null,null,null,null,null,null,null,{"$f":"IF($B29=\"\",\"\",G29*IF($F29=\"\",1,IF(ISERROR(MATCH($F29,$B$6:$B$105,0)),0,INDIRECT(ADDRESS(5+MATCH($F29,$B$6:$B$105,0),COLUMN(M$4)))))*IF($F29=\"\",IF(VLOOKUP($B29,SCHEMA_CE!$E$5:$F$54,2,FALSE)=\"C\",-1,1),IF(OR(VLOOKUP($B29,SCHEMA_CE!$E$5:$F$54,2,FALSE)=\"C\",VLOOKUP($F29,SCHEMA_CE!$E$5:$F$54,2,FALSE)=\"C\"),-1,1)))","v":""},{"$f":"IF($B29=\"\",\"\",H29*IF($F29=\"\",1,IF(ISERROR(MATCH($F29,$B$6:$B$105,0)),0,INDIRECT(ADDRESS(5+MATCH($F29,$B$6:$B$105,0),COLUMN(N$4)))))*IF($F29=\"\",IF(VLOOKUP($B29,SCHEMA_CE!$E$5:$F$54,2,FALSE)=\"C\",-1,1),IF(OR(VLOOKUP($B29,SCHEMA_CE!$E$5:$F$54,2,FALSE)=\"C\",VLOOKUP($F29,SCHEMA_CE!$E$5:$F$54,2,FALSE)=\"C\"),-1,1)))","v":""},{"$f":"IF($B29=\"\",\"\",I29*IF($F29=\"\",1,IF(ISERROR(MATCH($F29,$B$6:$B$105,0)),0,INDIRECT(ADDRESS(5+MATCH($F29,$B$6:$B$105,0),COLUMN(O$4)))))*IF($F29=\"\",IF(VLOOKUP($B29,SCHEMA_CE!$E$5:$F$54,2,FALSE)=\"C\",-1,1),IF(OR(VLOOKUP($B29,SCHEMA_CE!$E$5:$F$54,2,FALSE)=\"C\",VLOOKUP($F29,SCHEMA_CE!$E$5:$F$54,2,FALSE)=\"C\"),-1,1)))","v":""},{"$f":"IF($B29=\"\",\"\",J29*IF($F29=\"\",1,IF(ISERROR(MATCH($F29,$B$6:$B$105,0)),0,INDIRECT(ADDRESS(5+MATCH($F29,$B$6:$B$105,0),COLUMN(P$4)))))*IF($F29=\"\",IF(VLOOKUP($B29,SCHEMA_CE!$E$5:$F$54,2,FALSE)=\"C\",-1,1),IF(OR(VLOOKUP($B29,SCHEMA_CE!$E$5:$F$54,2,FALSE)=\"C\",VLOOKUP($F29,SCHEMA_CE!$E$5:$F$54,2,FALSE)=\"C\"),-1,1)))","v":""},{"$f":"IF($B29=\"\",\"\",K29*IF($F29=\"\",1,IF(ISERROR(MATCH($F29,$B$6:$B$105,0)),0,INDIRECT(ADDRESS(5+MATCH($F29,$B$6:$B$105,0),COLUMN(Q$4)))))*IF($F29=\"\",IF(VLOOKUP($B29,SCHEMA_CE!$E$5:$F$54,2,FALSE)=\"C\",-1,1),IF(OR(VLOOKUP($B29,SCHEMA_CE!$E$5:$F$54,2,FALSE)=\"C\",VLOOKUP($F29,SCHEMA_CE!$E$5:$F$54,2,FALSE)=\"C\"),-1,1)))","v":""},null,"","","","",""]
[null,null,null,null,null,null,null,null,null,null,null,null,{"$f":"IF($B30=\"\",\"\",G30*IF($F30=\"\",1,IF(ISERROR(MATCH($F30,$B$6:$B$105,0)),0,INDIRECT(ADDRESS(5+MATCH($F30,$B$6:$B$105,0),COLUMN(M$4)))))*IF($F30=\"\",IF(VLOOKUP($B30,SCHEMA_CE!$E$5:$F$54,2,FALSE)=\"C\",-1,1),IF(OR(VLOOKUP($B30,SCHEMA_CE!$E$5:$F$54,2,FALSE)=\"C\",VLOOKUP($F30,SCHEMA_CE!$E$5:$F$54,2,FALSE)=\"C\"),-1,1)))","v":""},{"$f":"IF($B30=\"\",\"\",H30*IF($F30=\"\",1,IF(ISERROR(MATCH($F30,$B$6:$B$105,0)),0,INDIRECT(ADDRESS(5+MATCH($F30,$B$6:$B$105,0),COLUMN(N$4)))))*IF($F30=\"\",IF(VLOOKUP($B30,SCHEMA_CE!$E$5:$F$54,2,FALSE)=\"C\",-1,1),IF(OR(VLOOKUP($B30,SCHEMA_CE!$E$5:$F$54,2,FALSE)=\"C\",VLOOKUP($F30,SCHEMA_CE!$E$5:$F$54,2,FALSE)=\"C\"),-1,1)))","v":""},{"$f":"IF($B30=\"\",\"\",I30*IF($F30=\"\",1,IF(ISERROR(MATCH($F30,$B$6:$B$105,0)),0,INDIRECT(ADDRESS(5+MATCH($F30,$B$6:$B$105,0),COLUMN(O$4)))))*IF($F30=\"\",IF(VLOOKUP($B30,SCHEMA_CE!$E$5:$F$54,2,FALSE)=\"C\",-1,1),IF(OR(VLOOKUP($B30,SCHEMA_CE!$E$5:$F$54,2,FALSE)=\"C\",VLOOKUP($F30,SCHEMA_CE!$E$5:$F$54,2,FALSE)=\"C\"),-1,1)))","v":""},{"$f":"IF($B30=\"\",\"\",J30*IF($F30=\"\",1,IF(ISERROR(MATCH($F30,$B$6:$B$105,0)),0,INDIRECT(ADDRESS(5+MATCH($F30,$B$6:$B$105,0),COLUMN(P$4)))))*IF($F30=\"\",IF(VLOOKUP($B30,SCHEMA_CE!$E$5:$F$54,2,FALSE)=\"C\",-1,1),IF(OR(VLOOKUP($B30,SCHEMA_CE!$E$5:$F$54,2,FALSE)=\"C\",VLOOKUP($F30,SCHEMA_CE!$E$5:$F$54,2,FALSE)=\"C\"),-1,1)))","v":""},{"$f":"IF($B30=\"\",\"\",K30*IF($F30=\"\",1,IF(ISERROR(MATCH($F30,$B$6:$B$105,0)),0,INDIRECT(ADDRESS(5+MATCH($F30,$B$6:$B$105,0),COLUMN(Q$4)))))*IF($F30=\"\",IF(VLOOKUP($B30,SCHEMA_CE!$E$5:$F$54,2,FALSE)=\"C\",-1,1),IF(OR(VLOOKUP($B30,SCHEMA_CE!$E$5:$F$54,2,FALSE)=\"C\",VLOOKUP($F30,SCHEMA_CE!$E$5:$F$54,2,FALSE)=\"C\"),-1,1)))","v":""},null,"","","","",""]
[null,null,null,null,null,null,null,null,null,null,null,null,{"$f":"IF($B31=\"\",\"\",G31*IF($F31=\"\",1,IF(ISERROR(MATCH($F31,$B$6:$B$105,0)),0,INDIRECT(ADDRESS(5+MATCH($F31,$B$6:$B$105,0),COLUMN(M$4)))))*IF($F31=\"\",IF(VLOOKUP($B31,SCHEMA_CE!$E$5:$F$54,2,FALSE)=\"C\",-1,1),IF(OR(VLOOKUP($B31,SCHEMA_CE!$E$5:$F$54,2,FALSE)=\"C\",VLOOKUP($F31,SCHEMA_CE!$E$5:$F$54,2,FALSE)=\"C\"),-1,1)))","v":""},{"$f":"IF($B31=\"\",\"\",H31*IF($F31=\"\",1,IF(ISERROR(MATCH($F31,$B$6:$B$105,0)),0,INDIRECT(ADDRESS(5+MATCH($F31,$B$6:$B$105,0),COLUMN(N$4)))))*IF($F31=\"\",IF(VLOOKUP($B31,SCHEMA_CE!$E$5:$F$54,2,FALSE)=\"C\",-1,1),IF(OR(VLOOKUP($B31,SCHEMA_CE!$E$5:$F$54,2,FALSE)=\"C\",VLOOKUP($F31,SCHEMA_CE!$E$5:$F$54,2,FALSE)=\"C\"),-1,1)))","v":""},{"$f":"IF($B31=\"\",\"\",I31*IF($F31=\"\",1,IF(ISERROR(MATCH($F31,$B$6:$B$105,0)),0,INDIRECT(ADDRESS(5+MATCH($F31,$B$6:$B$105,0),COLUMN(O$4)))))*IF($F31=\"\",IF(VLOOKUP($B31,SCHEMA_CE!$E$5:$F$54,2,FALSE)=\"C\",-1,1),IF(OR(VLOOKUP($B31,SCHEMA_CE!$E$5:$F$54,2,FALSE)=\"C\",VLOOKUP($F31,SCHEMA_CE!$E$5:$F$54,2,FALSE)=\"C\"),-1,1)))","v":""},{"$f":"IF($B31=\"\",\"\",J31*IF($F31=\"\",1,IF(ISERROR(MATCH($F31,$B$6:$B$105,0)),0,INDIRECT(ADDRESS(5+MATCH($F31,$B$6:$B$105,0),COLUMN(P$4)))))*IF($F31=\"\",IF(VLOOKUP($B31,SCHEMA_CE!$E$5:$F$54,2,FALSE)=\"C\",-1,1),IF(OR(VLOOKUP($B31,SCHEMA_CE!$E$5:$F$54,2,FALSE)=\"C\",VLOOKUP($F31,SCHEMA_CE!$E$5:$F$54,2,FALSE)=\"C\"),-1,1)))","v":""},{"$f":"IF($B31=\"\",\"\",K31*IF($F31=\"\",1,IF(ISERROR(MATCH($F31,$B$6:$B$105,0)),0,INDIRECT(ADDRESS(5+MATCH($F31,$B$6:$B$105,0),COLUMN(Q$4)))))*IF($F31=\"\",IF(VLOOKUP($B31,SCHEMA_CE!$E$5:$F$54,2,FALSE)=\"C\",-1,1),IF(OR(VLOOKUP($B31,SCHEMA_CE!$E$5:$F$54,2,FALSE)=\"C\",VLOOKUP($F31,SCHEMA_CE!$E$5:$F$54,2,FALSE)=\"C\"),-1,1)))","v":""},null,"","","","",""]
[null,null,null,null,null,null,null,null,null,null,null,null,{"$f":"IF($B32=\"\",\"\",G32*IF($F32=\"\",1,IF(ISERROR(MATCH($F32,$B$6:$B$105,0)),0,INDIRECT(ADDRESS(5+MATCH($F32,$B$6:$B$105,0),COLUMN(M$4)))))*IF($F32=\"\",IF(VLOOKUP($B32,SCHEMA_CE!$E$5:$F$54,2,FALSE)=\"C\",-1,1),IF(OR(VLOOKUP($B32,SCHEMA_CE!$E$5:$F$54,2,FALSE)=\"C\",VLOOKUP($F32,SCHEMA_CE!$E$5:$F$54,2,FALSE)=\"C\"),-1,1)))","v":""},{"$f":"IF($B32=\"\",\"\",H32*IF($F32=\"\",1,IF(ISERROR(MATCH($F32,$B$6:$B$105,0)),0,INDIRECT(ADDRESS(5+MATCH($F32,$B$6:$B$105,0),COLUMN(N$4)))))*IF($F32=\"\",IF(VLOOKUP($B32,SCHEMA_CE!$E$5:$F$54,2,FALSE)=\"C\",-1,1),IF(OR(VLOOKUP($B32,SCHEMA_CE!$E$5:$F$54,2,FALSE)=\"C\",VLOOKUP($F32,SCHEMA_CE!$E$5:$F$54,2,FALSE)=\"C\"),-1,1)))","v":""},{"$f":"IF($B32=\"\",\"\",I32*IF($F32=\"\",1,IF(ISERROR(MATCH($F32,$B$6:$B$105,0)),0,INDIRECT(ADDRESS(5+MATCH($F32,$B$6:$B$105,0),COLUMN(O$4)))))*IF($F32=\"\",IF(VLOOKUP($B32,SCHEMA_CE!$E$5:$F$54,2,FALSE)=\"C\",-1,1),IF(OR(VLOOKUP($B32,SCHEMA_CE!$E$5:$F$54,2,FALSE)=\"C\",VLOOKUP($F32,SCHEMA_CE!$E$5:$F$54,2,FALSE)=\"C\"),-1,1)))","v":""},{"$f":"IF($B32=\"\",\"\",J32*IF($F32=\"\",1,IF(ISERROR(MATCH($F32,$B$6:$B$105,0)),0,INDIRECT(ADDRESS(5+MATCH($F32,$B$6:$B$105,0),COLUMN(P$4)))))*IF($F32=\"\",IF(VLOOKUP($B32,SCHEMA_CE!$E$5:$F$54,2,FALSE)=\"C\",-1,1),IF(OR(VLOOKUP($B32,SCHEMA_CE!$E$5:$F$54,2,FALSE)=\"C\",VLOOKUP($F32,SCHEMA_CE!$E$5:$F$54,2,FALSE)=\"C\"),-1,1)))","v":""},{"$f":"IF($B32=\"\",\"\",K32*IF($F32=\"\",1,IF(ISERROR(MATCH($F32,$B$6:$B$105,0)),0,INDIRECT(ADDRESS(5+MATCH($F32,$B$6:$B$105,0),COLUMN(Q$4)))))*IF($F32=\"\",IF(VLOOKUP($B32,SCHEMA_CE!$E$5:$F$54,2,FALSE)=\"C\",-1,1),IF(OR(VLOOKUP($B32,SCHEMA_CE!$E$5:$F$54,2,FALSE)=\"C\",VLOOKUP($F32,SCHEMA_CE!$E$5:$F$54,2,FALSE)=\"C\"),-1,1)))","v":""},null,"","","","",""]
[null,null,null,null,null,null,null,null,null,null,null,null,{"$f":"IF($B33=\"\",\"\",G33*IF($F33=\"\",1,IF(ISERROR(MATCH($F33,$B$6:$B$105,0)),0,INDIRECT(ADDRESS(5+MATCH($F33,$B$6:$B$105,0),COLUMN(M$4)))))*IF($F33=\"\",IF(VLOOKUP($B33,SCHEMA_CE!$E$5:$F$54,2,FALSE)=\"C\",-1,1),IF(OR(VLOOKUP($B33,SCHEMA_CE!$E$5:$F$54,2,FALSE)=\"C\",VLOOKUP($F33,SCHEMA_CE!$E$5:$F$54,2,FALSE)=\"C\"),-1,1)))","v":""},{"$f":"IF($B33=\"\",\"\",H33*IF($F33=\"\",1,IF(ISERROR(MATCH($F33,$B$6:$B$105,0)),0,INDIRECT(ADDRESS(5+MATCH($F33,$B$6:$B$105,0),COLUMN(N$4)))))*IF($F33=\"\",IF(VLOOKUP($B33,SCHEMA_CE!$E$5:$F$54,2,FALSE)=\"C\",-1,1),IF(OR(VLOOKUP($B33,SCHEMA_CE!$E$5:$F$54,2,FALSE)=\"C\",VLOOKUP($F33,SCHEMA_CE!$E$5:$F$54,2,FALSE)=\"C\"),-1,1)))","v":""},{"$f":"IF($B33=\"\",\"\",I33*IF($F33=\"\",1,IF(ISERROR(MATCH($F33,$B$6:$B$105,0)),0,INDIRECT(ADDRESS(5+MATCH($F33,$B$6:$B$105,0),COLUMN(O$4)))))*IF($F33=\"\",IF(VLOOKUP($B33,SCHEMA_CE!$E$5:$F$54,2,FALSE)=\"C\",-1,1),IF(OR(VLOOKUP($B33,SCHEMA_CE!$E$5:$F$54,2,FALSE)=\"C\",VLOOKUP($F33,SCHEMA_CE!$E$5:$F$54,2,FALSE)=\"C\"),-1,1)))","v":""},{"$f":"IF($B33=\"\",\"\",J33*IF($F33=\"\",1,IF(ISERROR(MATCH($F33,$B$6:$B$105,0)),0,INDIRECT(ADDRESS(5+MATCH($F33,$B$6:$B$105,0),COLUMN(P$4)))))*IF($F33=\"\",IF(VLOOKUP($B33,SCHEMA_CE!$E$5:$F$54,2,FALSE)=\"C\",-1,1),IF(OR(VLOOKUP($B33,SCHEMA_CE!$E$5:$F$54,2,FALSE)=\"C\",VLOOKUP($F33,SCHEMA_CE!$E$5:$F$54,2,FALSE)=\"C\"),-1,1)))","v":""},{"$f":"IF($B33=\"\",\"\",K33*IF($F33=\"\",1,IF(ISERROR(MATCH($F33,$B$6:$B$105,0)),0,INDIRECT(ADDRESS(5+MATCH($F33,$B$6:$B$105,0),COLUMN(Q$4)))))*IF($F33=\"\",IF(VLOOKUP($B33,SCHEMA_CE!$E$5:$F$54,2,FALSE)=\"C\",-1,1),IF(OR(VLOOKUP($B33,SCHEMA_CE!$E$5:$F$54,2,FALSE)=\"C\",VLOOKUP($F33,SCHEMA_CE!$E$5:$F$54,2,FALSE)=\"C\"),-1,1)))","v":""},null,"","","","",""]
[null,null,null,null,null,null,null,null,null,null,null,null,{"$f":"IF($B34=\"\",\"\",G34*IF($F34=\"\",1,IF(ISERROR(MATCH($F34,$B$6:$B$105,0)),0,INDIRECT(ADDRESS(5+MATCH($F34,$B$6:$B$105,0),COLUMN(M$4)))))*IF($F34=\"\",IF(VLOOKUP($B34,SCHEMA_CE!$E$5:$F$54,2,FALSE)=\"C\",-1,1),IF(OR(VLOOKUP($B34,SCHEMA_CE!$E$5:$F$54,2,FALSE)=\"C\",VLOOKUP($F34,SCHEMA_CE!$E$5:$F$54,2,FALSE)=\"C\"),-1,1)))","v":""},{"$f":"IF($B34=\"\",\"\",H34*IF($F34=\"\",1,IF(ISERROR(MATCH($F34,$B$6:$B$105,0)),0,INDIRECT(ADDRESS(5+MATCH($F34,$B$6:$B$105,0),COLUMN(N$4)))))*IF($F34=\"\",IF(VLOOKUP($B34,SCHEMA_CE!$E$5:$F$54,2,FALSE)=\"C\",-1,1),IF(OR(VLOOKUP($B34,SCHEMA_CE!$E$5:$F$54,2,FALSE)=\"C\",VLOOKUP($F34,SCHEMA_CE!$E$5:$F$54,2,FALSE)=\"C\"),-1,1)))","v":""},{"$f":"IF($B34=\"\",\"\",I34*IF($F34=\"\",1,IF(ISERROR(MATCH($F34,$B$6:$B$105,0)),0,INDIRECT(ADDRESS(5+MATCH($F34,$B$6:$B$105,0),COLUMN(O$4)))))*IF($F34=\"\",IF(VLOOKUP($B34,SCHEMA_CE!$E$5:$F$54,2,FALSE)=\"C\",-1,1),IF(OR(VLOOKUP($B34,SCHEMA_CE!$E$5:$F$54,2,FALSE)=\"C\",VLOOKUP($F34,SCHEMA_CE!$E$5:$F$54,2,FALSE)=\"C\"),-1,1)))","v":""},{"$f":"IF($B34=\"\",\"\",J34*IF($F34=\"\",1,IF(ISERROR(MATCH($F34,$B$6:$B$105,0)),0,INDIRECT(ADDRESS(5+MATCH($F34,$B$6:$B$105,0),COLUMN(P$4)))))*IF($F34=\"\",IF(VLOOKUP($B34,SCHEMA_CE!$E$5:$F$54,2,FALSE)=\"C\",-1,1),IF(OR(VLOOKUP($B34,SCHEMA_CE!$E$5:$F$54,2,FALSE)=\"C\",VLOOKUP($F34,SCHEMA_CE!$E$5:$F$54,2,FALSE)=\"C\"),-1,1)))","v":""},{"$f":"IF($B34=\"\",\"\",K34*IF($F34=\"\",1,IF(ISERROR(MATCH($F34,$B$6:$B$105,0)),0,INDIRECT(ADDRESS(5+MATCH($F34,$B$6:$B$105,0),COLUMN(Q$4)))))*IF($F34=\"\",IF(VLOOKUP($B34,SCHEMA_CE!$E$5:$F$54,2,FALSE)=\"C\",-1,1),IF(OR(VLOOKUP($B34,SCHEMA_CE!$E$5:$F$54,2,FALSE)=\"C\",VLOOKUP($F34,SCHEMA_CE!$E$5:$F$54,2,FALSE)=\"C\"),-1,1)))","v":""},null,"","","","",""]
[null,null,null,null,null,null,null,null,null,null,null,null,{"$f":"IF($B35=\"\",\"\",G35*IF($F35=\"\",1,IF(ISERROR(MATCH($F35,$B$6:$B$105,0)),0,INDIRECT(ADDRESS(5+MATCH($F35,$B$6:$B$105,0),COLUMN(M$4)))))*IF($F35=\"\",IF(VLOOKUP($B35,SCHEMA_CE!$E$5:$F$54,2,FALSE)=\"C\",-1,1),IF(OR(VLOOKUP($B35,SCHEMA_CE!$E$5:$F$54,2,FALSE)=\"C\",VLOOKUP($F35,SCHEMA_CE!$E$5:$F$54,2,FALSE)=\"C\"),-1,1)))","v":""},{"$f":"IF($B35=\"\",\"\",H35*IF($F35=\"\",1,IF(ISERROR(MATCH($F35,$B$6:$B$105,0)),0,INDIRECT(ADDRESS(5+MATCH($F35,$B$6:$B$105,0),COLUMN(N$4)))))*IF($F35=\"\",IF(VLOOKUP($B35,SCHEMA_CE!$E$5:$F$54,2,FALSE)=\"C\",-1,1),IF(OR(VLOOKUP($B35,SCHEMA_CE!$E$5:$F$54,2,FALSE)=\"C\",VLOOKUP($F35,SCHEMA_CE!$E$5:$F$54,2,FALSE)=\"C\"),-1,1)))","v":""},{"$f":"IF($B35=\"\",\"\",I35*IF($F35=\"\",1,IF(ISERROR(MATCH($F35,$B$6:$B$105,0)),0,INDIRECT(ADDRESS(5+MATCH($F35,$B$6:$B$105,0),COLUMN(O$4)))))*IF($F35=\"\",IF(VLOOKUP($B35,SCHEMA_CE!$E$5:$F$54,2,FALSE)=\"C\",-1,1),IF(OR(VLOOKUP($B35,SCHEMA_CE!$E$5:$F$54,2,FALSE)=\"C\",VLOOKUP($F35,SCHEMA_CE!$E$5:$F$54,2,FALSE)=\"C\"),-1,1)))","v":""},{"$f":"IF($B35=\"\",\"\",J35*IF($F35=\"\",1,IF(ISERROR(MATCH($F35,$B$6:$B$105,0)),0,INDIRECT(ADDRESS(5+MATCH($F35,$B$6:$B$105,0),COLUMN(P$4)))))*IF($F35=\"\",IF(VLOOKUP($B35,SCHEMA_CE!$E$5:$F$54,2,FALSE)=\"C\",-1,1),IF(OR(VLOOKUP($B35,SCHEMA_CE!$E$5:$F$54,2,FALSE)=\"C\",VLOOKUP($F35,SCHEMA_CE!$E$5:$F$54,2,FALSE)=\"C\"),-1,1)))","v":""},{"$f":"IF($B35=\"\",\"\",K35*IF($F35=\"\",1,IF(ISERROR(MATCH($F35,$B$6:$B$105,0)),0,INDIRECT(ADDRESS(5+MATCH($F35,$B$6:$B$105,0),COLUMN(Q$4)))))*IF($F35=\"\",IF(VLOOKUP($B35,SCHEMA_CE!$E$5:$F$54,2,FALSE)=\"C\",-1,1),IF(OR(VLOOKUP($B35,SCHEMA_CE!$E$5:$F$54,2,FALSE)=\"C\",VLOOKUP($F35,SCHEMA_CE!$E$5:$F$54,2,FALSE)=\"C\"),-1,1)))","v":""},null,"","","","",""]
[null,null,null,null,null,null,null,null,null,null,null,null,{"$f":"IF($B36=\"\",\"\",G36*IF($F36=\"\",1,IF(ISERROR(MATCH($F36,$B$6:$B$105,0)),0,INDIRECT(ADDRESS(5+MATCH($F36,$B$6:$B$105,0),COLUMN(M$4)))))*IF($F36=\"\",IF(VLOOKUP($B36,SCHEMA_CE!$E$5:$F$54,2,FALSE)=\"C\",-1,1),IF(OR(VLOOKUP($B36,SCHEMA_CE!$E$5:$F$54,2,FALSE)=\"C\",VLOOKUP($F36,SCHEMA_CE!$E$5:$F$54,2,FALSE)=\"C\"),-1,1)))","v":""},{"$f":"IF($B36=\"\",\"\",H36*IF($F36=\"\",1,IF(ISERROR(MATCH($F36,$B$6:$B$105,0)),0,INDIRECT(ADDRESS(5+MATCH($F36,$B$6:$B$105,0),COLUMN(N$4)))))*IF($F36=\"\",IF(VLOOKUP($B36,SCHEMA_CE!$E$5:$F$54,2,FALSE)=\"C\",-1,1),IF(OR(VLOOKUP($B36,SCHEMA_CE!$E$5:$F$54,2,FALSE)=\"C\",VLOOKUP($F36,SCHEMA_CE!$E$5:$F$54,2,FALSE)=\"C\"),-1,1)))","v":""},{"$f":"IF($B36=\"\",\"\",I36*IF($F36=\"\",1,IF(ISERROR(MATCH($F36,$B$6:$B$105,0)),0,INDIRECT(ADDRESS(5+MATCH($F36,$B$6:$B$105,0),COLUMN(O$4)))))*IF($F36=\"\",IF(VLOOKUP($B36,SCHEMA_CE!$E$5:$F$54,2,FALSE)=\"C\",-1,1),IF(OR(VLOOKUP($B36,SCHEMA_CE!$E$5:$F$54,2,FALSE)=\"C\",VLOOKUP($F36,SCHEMA_CE!$E$5:$F$54,2,FALSE)=\"C\"),-1,1)))","v":""},{"$f":"IF($B36=\"\",\"\",J36*IF($F36=\"\",1,IF(ISERROR(MATCH($F36,$B$6:$B$105,0)),0,INDIRECT(ADDRESS(5+MATCH($F36,$B$6:$B$105,0),COLUMN(P$4)))))*IF($F36=\"\",IF(VLOOKUP($B36,SCHEMA_CE!$E$5:$F$54,2,FALSE)=\"C\",-1,1),IF(OR(VLOOKUP($B36,SCHEMA_CE!$E$5:$F$54,2,FALSE)=\"C\",VLOOKUP($F36,SCHEMA_CE!$E$5:$F$54,2,FALSE)=\"C\"),-1,1)))","v":""},{"$f":"IF($B36=\"\",\"\",K36*IF($F36=\"\",1,IF(ISERROR(MATCH($F36,$B$6:$B$105,0)),0,INDIRECT(ADDRESS(5+MATCH($F36,$B$6:$B$105,0),COLUMN(Q$4)))))*IF($F36=\"\",IF(VLOOKUP($B36,SCHEMA_CE!$E$5:$F$54,2,FALSE)=\"C\",-1,1),IF(OR(VLOOKUP($B36,SCHEMA_CE!$E$5:$F$54,2,FALSE)=\"C\",VLOOKUP($F36,SCHEMA_CE!$E$5:$F$54,2,FALSE)=\"C\"),-1,1)))","v":""},null,"","","","",""]
[null,null,null,null,null,null,null,null,null,null,null,null,{"$f":"IF($B37=\"\",\"\",G37*IF($F37=\"\",1,IF(ISERROR(MATCH($F37,$B$6:$B$105,0)),0,INDIRECT(ADDRESS(5+MATCH($F37,$B$6:$B$105,0),COLUMN(M$4)))))*IF($F37=\"\",IF(VLOOKUP($B37,SCHEMA_CE!$E$5:$F$54,2,FALSE)=\"C\",-1,1),IF(OR(VLOOKUP($B37,SCHEMA_CE!$E$5:$F$54,2,FALSE)=\"C\",VLOOKUP($F37,SCHEMA_CE!$E$5:$F$54,2,FALSE)=\"C\"),-1,1)))","v":""},{"$f":"IF($B37=\"\",\"\",H37*IF($F37=\"\",1,IF(ISERROR(MATCH($F37,$B$6:$B$105,0)),0,INDIRECT(ADDRESS(5+MATCH($F37,$B$6:$B$105,0),COLUMN(N$4)))))*IF($F37=\"\",IF(VLOOKUP($B37,SCHEMA_CE!$E$5:$F$54,2,FALSE)=\"C\",-1,1),IF(OR(VLOOKUP($B37,SCHEMA_CE!$E$5:$F$54,2,FALSE)=\"C\",VLOOKUP($F37,SCHEMA_CE!$E$5:$F$54,2,FALSE)=\"C\"),-1,1)))","v":""},{"$f":"IF($B37=\"\",\"\",I37*IF($F37=\"\",1,IF(ISERROR(MATCH($F37,$B$6:$B$105,0)),0,INDIRECT(ADDRESS(5+MATCH($F37,$B$6:$B$105,0),COLUMN(O$4)))))*IF($F37=\"\",IF(VLOOKUP($B37,SCHEMA_CE!$E$5:$F$54,2,FALSE)=\"C\",-1,1),IF(OR(VLOOKUP($B37,SCHEMA_CE!$E$5:$F$54,2,FALSE)=\"C\",VLOOKUP($F37,SCHEMA_CE!$E$5:$F$54,2,FALSE)=\"C\"),-1,1)))","v":""},{"$f":"IF($B37=\"\",\"\",J37*IF($F37=\"\",1,IF(ISERROR(MATCH($F37,$B$6:$B$105,0)),0,INDIRECT(ADDRESS(5+MATCH($F37,$B$6:$B$105,0),COLUMN(P$4)))))*IF($F37=\"\",IF(VLOOKUP($B37,SCHEMA_CE!$E$5:$F$54,2,FALSE)=\"C\",-1,1),IF(OR(VLOOKUP($B37,SCHEMA_CE!$E$5:$F$54,2,FALSE)=\"C\",VLOOKUP($F37,SCHEMA_CE!$E$5:$F$54,2,FALSE)=\"C\"),-1,1)))","v":""},{"$f":"IF($B37=\"\",\"\",K37*IF($F37=\"\",1,IF(ISERROR(MATCH($F37,$B$6:$B$105,0)),0,INDIRECT(ADDRESS(5+MATCH($F37,$B$6:$B$105,0),COLUMN(Q$4)))))*IF($F37=\"\",IF(VLOOKUP($B37,SCHEMA_CE!$E$5:$F$54,2,FALSE)=\"C\",-1,1),IF(OR(VLOOKUP($B37,SCHEMA_CE!$E$5:$F$54,2,FALSE)=\"C\",VLOOKUP($F37,SCHEMA_CE!$E$5:$F$54,2,FALSE)=\"C\"),-1,1)))","v":""},null,"","","","",""]
[null,null,null,null,null,null,null,null,null,null,null,null,{"$f":"IF($B38=\"\",\"\",G38*IF($F38=\"\",1,IF(ISERROR(MATCH($F38,$B$6:$B$105,0)),0,INDIRECT(ADDRESS(5+MATCH($F38,$B$6:$B$105,0),COLUMN(M$4)))))*IF($F38=\"\",IF(VLOOKUP($B38,SCHEMA_CE!$E$5:$F$54,2,FALSE)=\"C\",-1,1),IF(OR(VLOOKUP($B38,SCHEMA_CE!$E$5:$F$54,2,FALSE)=\"C\",VLOOKUP($F38,SCHEMA_CE!$E$5:$F$54,2,FALSE)=\"C\"),-1,1)))","v":""},{"$f":"IF($B38=\"\",\"\",H38*IF($F38=\"\",1,IF(ISERROR(MATCH($F38,$B$6:$B$105,0)),0,INDIRECT(ADDRESS(5+MATCH($F38,$B$6:$B$105,0),COLUMN(N$4)))))*IF($F38=\"\",IF(VLOOKUP($B38,SCHEMA_CE!$E$5:$F$54,2,FALSE)=\"C\",-1,1),IF(OR(VLOOKUP($B38,SCHEMA_CE!$E$5:$F$54,2,FALSE)=\"C\",VLOOKUP($F38,SCHEMA_CE!$E$5:$F$54,2,FALSE)=\"C\"),-1,1)))","v":""},{"$f":"IF($B38=\"\",\"\",I38*IF($F38=\"\",1,IF(ISERROR(MATCH($F38,$B$6:$B$105,0)),0,INDIRECT(ADDRESS(5+MATCH($F38,$B$6:$B$105,0),COLUMN(O$4)))))*IF($F38=\"\",IF(VLOOKUP($B38,SCHEMA_CE!$E$5:$F$54,2,FALSE)=\"C\",-1,1),IF(OR(VLOOKUP($B38,SCHEMA_CE!$E$5:$F$54,2,FALSE)=\"C\",VLOOKUP($F38,SCHEMA_CE!$E$5:$F$54,2,FALSE)=\"C\"),-1,1)))","v":""},{"$f":"IF($B38=\"\",\"\",J38*IF($F38=\"\",1,IF(ISERROR(MATCH($F38,$B$6:$B$105,0)),0,INDIRECT(ADDRESS(5+MATCH($F38,$B$6:$B$105,0),COLUMN(P$4)))))*IF($F38=\"\",IF(VLOOKUP($B38,SCHEMA_CE!$E$5:$F$54,2,FALSE)=\"C\",-1,1),IF(OR(VLOOKUP($B38,SCHEMA_CE!$E$5:$F$54,2,FALSE)=\"C\",VLOOKUP($F38,SCHEMA_CE!$E$5:$F$54,2,FALSE)=\"C\"),-1,1)))","v":""},{"$f":"IF($B38=\"\",\"\",K38*IF($F38=\"\",1,IF(ISERROR(MATCH($F38,$B$6:$B$105,0)),0,INDIRECT(ADDRESS(5+MATCH($F38,$B$6:$B$105,0),COLUMN(Q$4)))))*IF($F38=\"\",IF(VLOOKUP($B38,SCHEMA_CE!$E$5:$F$54,2,FALSE)=\"C\",-1,1),IF(OR(VLOOKUP($B38,SCHEMA_CE!$E$5:$F$54,2,FALSE)=\"C\",VLOOKUP($F38,SCHEMA_CE!$E$5:$F$54,2,FALSE)=\"C\"),-1,1)))","v":""},null,"","","","",""]
[null,null,null,null,null,null,null,null,null,null,null,null,{"$f":"IF($B39=\"\",\"\",G39*IF($F39=\"\",1,IF(ISERROR(MATCH($F39,$B$6:$B$105,0)),0,INDIRECT(ADDRESS(5+MATCH($F39,$B$6:$B$105,0),COLUMN(M$4)))))*IF($F39=\"\",IF(VLOOKUP($B39,SCHEMA_CE!$E$5:$F$54,2,FALSE)=\"C\",-1,1),IF(OR(VLOOKUP($B39,SCHEMA_CE!$E$5:$F$54,2,FALSE)=\"C\",VLOOKUP($F39,SCHEMA_CE!$E$5:$F$54,2,FALSE)=\"C\"),-1,1)))","v":""},{"$f":"IF($B39=\"\",\"\",H39*IF($F39=\"\",1,IF(ISERROR(MATCH($F39,$B$6:$B$105,0)),0,INDIRECT(ADDRESS(5+MATCH($F39,$B$6:$B$105,0),COLUMN(N$4)))))*IF($F39=\"\",IF(VLOOKUP($B39,SCHEMA_CE!$E$5:$F$54,2,FALSE)=\"C\",-1,1),IF(OR(VLOOKUP($B39,SCHEMA_CE!$E$5:$F$54,2,FALSE)=\"C\",VLOOKUP($F39,SCHEMA_CE!$E$5:$F$54,2,FALSE)=\"C\"),-1,1)))","v":""},{"$f":"IF($B39=\"\",\"\",I39*IF($F39=\"\",1,IF(ISERROR(MATCH($F39,$B$6:$B$105,0)),0,INDIRECT(ADDRESS(5+MATCH($F39,$B$6:$B$105,0),COLUMN(O$4)))))*IF($F39=\"\",IF(VLOOKUP($B39,SCHEMA_CE!$E$5:$F$54,2,FALSE)=\"C\",-1,1),IF(OR(VLOOKUP($B39,SCHEMA_CE!$E$5:$F$54,2,FALSE)=\"C\",VLOOKUP($F39,SCHEMA_CE!$E$5:$F$54,2,FALSE)=\"C\"),-1,1)))","v":""},{"$f":"IF($B39=\"\",\"\",J39*IF($F39=\"\",1,IF(ISERROR(MATCH($F39,$B$6:$B$105,0)),0,INDIRECT(ADDRESS(5+MATCH($F39,$B$6:$B$105,0),COLUMN(P$4)))))*IF($F39=\"\",IF(VLOOKUP($B39,SCHEMA_CE!$E$5:$F$54,2,FALSE)=\"C\",-1,1),IF(OR(VLOOKUP($B39,SCHEMA_CE!$E$5:$F$54,2,FALSE)=\"C\",VLOOKUP($F39,SCHEMA_CE!$E$5:$F$54,2,FALSE)=\"C\"),-1,1)))","v":""},{"$f":"IF($B39=\"\",\"\",K39*IF($F39=\"\",1,IF(ISERROR(MATCH($F39,$B$6:$B$105,0)),0,INDIRECT(ADDRESS(5+MATCH($F39,$B$6:$B$105,0),COLUMN(Q$4)))))*IF($F39=\"\",IF(VLOOKUP($B39,SCHEMA_CE!$E$5:$F$54,2,FALSE)=\"C\",-1,1),IF(OR(VLOOKUP($B39,SCHEMA_CE!$E$5:$F$54,2,FALSE)=\"C\",VLOOKUP($F39,SCHEMA_CE!$E$5:$F$54,2,FALSE)=\"C\"),-1,1)))","v":""},null,"","","","",""]
[null,null,null,null,null,null,null,null,null,null,null,null,{"$f":"IF($B40=\"\",\"\",G40*IF($F40=\"\",1,IF(ISERROR(MATCH($F40,$B$6:$B$105,0)),0,INDIRECT(ADDRESS(5+MATCH($F40,$B$6:$B$105,0),COLUMN(M$4)))))*IF($F40=\"\",IF(VLOOKUP($B40,SCHEMA_CE!$E$5:$F$54,2,FALSE)=\"C\",-1,1),IF(OR(VLOOKUP($B40,SCHEMA_CE!$E$5:$F$54,2,FALSE)=\"C\",VLOOKUP($F40,SCHEMA_CE!$E$5:$F$54,2,FALSE)=\"C\"),-1,1)))","v":""},{"$f":"IF($B40=\"\",\"\",H40*IF($F40=\"\",1,IF(ISERROR(MATCH($F40,$B$6:$B$105,0)),0,INDIRECT(ADDRESS(5+MATCH($F40,$B$6:$B$105,0),COLUMN(N$4)))))*IF($F40=\"\",IF(VLOOKUP($B40,SCHEMA_CE!$E$5:$F$54,2,FALSE)=\"C\",-1,1),IF(OR(VLOOKUP($B40,SCHEMA_CE!$E$5:$F$54,2,FALSE)=\"C\",VLOOKUP($F40,SCHEMA_CE!$E$5:$F$54,2,FALSE)=\"C\"),-1,1)))","v":""},{"$f":"IF($B40=\"\",\"\",I40*IF($F40=\"\",1,IF(ISERROR(MATCH($F40,$B$6:$B$105,0)),0,INDIRECT(ADDRESS(5+MATCH($F40,$B$6:$B$105,0),COLUMN(O$4)))))*IF($F40=\"\",IF(VLOOKUP($B40,SCHEMA_CE!$E$5:$F$54,2,FALSE)=\"C\",-1,1),IF(OR(VLOOKUP($B40,SCHEMA_CE!$E$5:$F$54,2,FALSE)=\"C\",VLOOKUP($F40,SCHEMA_CE!$E$5:$F$54,2,FALSE)=\"C\"),-1,1)))","v":""},{"$f":"IF($B40=\"\",\"\",J40*IF($F40=\"\",1,IF(ISERROR(MATCH($F40,$B$6:$B$105,0)),0,INDIRECT(ADDRESS(5+MATCH($F40,$B$6:$B$105,0),COLUMN(P$4)))))*IF($F40=\"\",IF(VLOOKUP($B40,SCHEMA_CE!$E$5:$F$54,2,FALSE)=\"C\",-1,1),IF(OR(VLOOKUP($B40,SCHEMA_CE!$E$5:$F$54,2,FALSE)=\"C\",VLOOKUP($F40,SCHEMA_CE!$E$5:$F$54,2,FALSE)=\"C\"),-1,1)))","v":""},{"$f":"IF($B40=\"\",\"\",K40*IF($F40=\"\",1,IF(ISERROR(MATCH($F40,$B$6:$B$105,0)),0,INDIRECT(ADDRESS(5+MATCH($F40,$B$6:$B$105,0),COLUMN(Q$4)))))*IF($F40=\"\",IF(VLOOKUP($B40,SCHEMA_CE!$E$5:$F$54,2,FALSE)=\"C\",-1,1),IF(OR(VLOOKUP($B40,SCHEMA_CE!$E$5:$F$54,2,FALSE)=\"C\",VLOOKUP($F40,SCHEMA_CE!$E$5:$F$54,2,FALSE)=\"C\"),-1,1)))","v":""},null,"","","","",""]
[null,null,null,null,null,null,null,null,null,null,null,null,{"$f":"IF($B41=\"\",\"\",G41*IF($F41=\"\",1,IF(ISERROR(MATCH($F41,$B$6:$B$105,0)),0,INDIRECT(ADDRESS(5+MATCH($F41,$B$6:$B$105,0),COLUMN(M$4)))))*IF($F41=\"\",IF(VLOOKUP($B41,SCHEMA_CE!$E$5:$F$54,2,FALSE)=\"C\",-1,1),IF(OR(VLOOKUP($B41,SCHEMA_CE!$E$5:$F$54,2,FALSE)=\"C\",VLOOKUP($F41,SCHEMA_CE!$E$5:$F$54,2,FALSE)=\"C\"),-1,1)))","v":""},{"$f":"IF($B41=\"\",\"\",H41*IF($F41=\"\",1,IF(ISERROR(MATCH($F41,$B$6:$B$105,0)),0,INDIRECT(ADDRESS(5+MATCH($F41,$B$6:$B$105,0),COLUMN(N$4)))))*IF($F41=\"\",IF(VLOOKUP($B41,SCHEMA_CE!$E$5:$F$54,2,FALSE)=\"C\",-1,1),IF(OR(VLOOKUP($B41,SCHEMA_CE!$E$5:$F$54,2,FALSE)=\"C\",VLOOKUP($F41,SCHEMA_CE!$E$5:$F$54,2,FALSE)=\"C\"),-1,1)))","v":""},{"$f":"IF($B41=\"\",\"\",I41*IF($F41=\"\",1,IF(ISERROR(MATCH($F41,$B$6:$B$105,0)),0,INDIRECT(ADDRESS(5+MATCH($F41,$B$6:$B$105,0),COLUMN(O$4)))))*IF($F41=\"\",IF(VLOOKUP($B41,SCHEMA_CE!$E$5:$F$54,2,FALSE)=\"C\",-1,1),IF(OR(VLOOKUP($B41,SCHEMA_CE!$E$5:$F$54,2,FALSE)=\"C\",VLOOKUP($F41,SCHEMA_CE!$E$5:$F$54,2,FALSE)=\"C\"),-1,1)))","v":""},{"$f":"IF($B41=\"\",\"\",J41*IF($F41=\"\",1,IF(ISERROR(MATCH($F41,$B$6:$B$105,0)),0,INDIRECT(ADDRESS(5+MATCH($F41,$B$6:$B$105,0),COLUMN(P$4)))))*IF($F41=\"\",IF(VLOOKUP($B41,SCHEMA_CE!$E$5:$F$54,2,FALSE)=\"C\",-1,1),IF(OR(VLOOKUP($B41,SCHEMA_CE!$E$5:$F$54,2,FALSE)=\"C\",VLOOKUP($F41,SCHEMA_CE!$E$5:$F$54,2,FALSE)=\"C\"),-1,1)))","v":""},{"$f":"IF($B41=\"\",\"\",K41*IF($F41=\"\",1,IF(ISERROR(MATCH($F41,$B$6:$B$105,0)),0,INDIRECT(ADDRESS(5+MATCH($F41,$B$6:$B$105,0),COLUMN(Q$4)))))*IF($F41=\"\",IF(VLOOKUP($B41,SCHEMA_CE!$E$5:$F$54,2,FALSE)=\"C\",-1,1),IF(OR(VLOOKUP($B41,SCHEMA_CE!$E$5:$F$54,2,FALSE)=\"C\",VLOOKUP($F41,SCHEMA_CE!$E$5:$F$54,2,FALSE)=\"C\"),-1,1)))","v":""},null,"","","","",""]
[null,null,null,null,null,null,null,null,null,null,null,null,{"$f":"IF($B42=\"\",\"\",G42*IF($F42=\"\",1,IF(ISERROR(MATCH($F42,$B$6:$B$105,0)),0,INDIRECT(ADDRESS(5+MATCH($F42,$B$6:$B$105,0),COLUMN(M$4)))))*IF($F42=\"\",IF(VLOOKUP($B42,SCHEMA_CE!$E$5:$F$54,2,FALSE)=\"C\",-1,1),IF(OR(VLOOKUP($B42,SCHEMA_CE!$E$5:$F$54,2,FALSE)=\"C\",VLOOKUP($F42,SCHEMA_CE!$E$5:$F$54,2,FALSE)=\"C\"),-1,1)))","v":""},{"$f":"IF($B42=\"\",\"\",H42*IF($F42=\"\",1,IF(ISERROR(MATCH($F42,$B$6:$B$105,0)),0,INDIRECT(ADDRESS(5+MATCH($F42,$B$6:$B$105,0),COLUMN(N$4)))))*IF($F42=\"\",IF(VLOOKUP($B42,SCHEMA_CE!$E$5:$F$54,2,FALSE)=\"C\",-1,1),IF(OR(VLOOKUP($B42,SCHEMA_CE!$E$5:$F$54,2,FALSE)=\"C\",VLOOKUP($F42,SCHEMA_CE!$E$5:$F$54,2,FALSE)=\"C\"),-1,1)))","v":""},{"$f":"IF($B42=\"\",\"\",I42*IF($F42=\"\",1,IF(ISERROR(MATCH($F42,$B$6:$B$105,0)),0,INDIRECT(ADDRESS(5+MATCH($F42,$B$6:$B$105,0),COLUMN(O$4)))))*IF($F42=\"\",IF(VLOOKUP($B42,SCHEMA_CE!$E$5:$F$54,2,FALSE)=\"C\",-1,1),IF(OR(VLOOKUP($B42,SCHEMA_CE!$E$5:$F$54,2,FALSE)=\"C\",VLOOKUP($F42,SCHEMA_CE!$E$5:$F$54,2,FALSE)=\"C\"),-1,1)))","v":""},{"$f":"IF($B42=\"\",\"\",J42*IF($F42=\"\",1,IF(ISERROR(MATCH($F42,$B$6:$B$105,0)),0,INDIRECT(ADDRESS(5+MATCH($F42,$B$6:$B$105,0),COLUMN(P$4)))))*IF($F42=\"\",IF(VLOOKUP($B42,SCHEMA_CE!$E$5:$F$54,2,FALSE)=\"C\",-1,1),IF(OR(VLOOKUP($B42,SCHEMA_CE!$E$5:$F$54,2,FALSE)=\"C\",VLOOKUP($F42,SCHEMA_CE!$E$5:$F$54,2,FALSE)=\"C\"),-1,1)))","v":""},{"$f":"IF($B42=\"\",\"\",K42*IF($F42=\"\",1,IF(ISERROR(MATCH($F42,$B$6:$B$105,0)),0,INDIRECT(ADDRESS(5+MATCH($F42,$B$6:$B$105,0),COLUMN(Q$4)))))*IF($F42=\"\",IF(VLOOKUP($B42,SCHEMA_CE!$E$5:$F$54,2,FALSE)=\"C\",-1,1),IF(OR(VLOOKUP($B42,SCHEMA_CE!$E$5:$F$54,2,FALSE)=\"C\",VLOOKUP($F42,SCHEMA_CE!$E$5:$F$54,2,FALSE)=\"C\"),-1,1)))","v":""},null,"","","","",""]
[null,null,null,null,null,null,null,null,null,null,null,null,{"$f":"IF($B43=\"\",\"\",G43*IF($F43=\"\",1,IF(ISERROR(MATCH($F43,$B$6:$B$105,0)),0,INDIRECT(ADDRESS(5+MATCH($F43,$B$6:$B$105,0),COLUMN(M$4)))))*IF($F43=\"\",IF(VLOOKUP($B43,SCHEMA_CE!$E$5:$F$54,2,FALSE)=\"C\",-1,1),IF(OR(VLOOKUP($B43,SCHEMA_CE!$E$5:$F$54,2,FALSE)=\"C\",VLOOKUP($F43,SCHEMA_CE!$E$5:$F$54,2,FALSE)=\"C\"),-1,1)))","v":""},{"$f":"IF($B43=\"\",\"\",H43*IF($F43=\"\",1,IF(ISERROR(MATCH($F43,$B$6:$B$105,0)),0,INDIRECT(ADDRESS(5+MATCH($F43,$B$6:$B$105,0),COLUMN(N$4)))))*IF($F43=\"\",IF(VLOOKUP($B43,SCHEMA_CE!$E$5:$F$54,2,FALSE)=\"C\",-1,1),IF(OR(VLOOKUP($B43,SCHEMA_CE!$E$5:$F$54,2,FALSE)=\"C\",VLOOKUP($F43,SCHEMA_CE!$E$5:$F$54,2,FALSE)=\"C\"),-1,1)))","v":""},{"$f":"IF($B43=\"\",\"\",I43*IF($F43=\"\",1,IF(ISERROR(MATCH($F43,$B$6:$B$105,0)),0,INDIRECT(ADDRESS(5+MATCH($F43,$B$6:$B$105,0),COLUMN(O$4)))))*IF($F43=\"\",IF(VLOOKUP($B43,SCHEMA_CE!$E$5:$F$54,2,FALSE)=\"C\",-1,1),IF(OR(VLOOKUP($B43,SCHEMA_CE!$E$5:$F$54,2,FALSE)=\"C\",VLOOKUP($F43,SCHEMA_CE!$E$5:$F$54,2,FALSE)=\"C\"),-1,1)))","v":""},{"$f":"IF($B43=\"\",\"\",J43*IF($F43=\"\",1,IF(ISERROR(MATCH($F43,$B$6:$B$105,0)),0,INDIRECT(ADDRESS(5+MATCH($F43,$B$6:$B$105,0),COLUMN(P$4)))))*IF($F43=\"\",IF(VLOOKUP($B43,SCHEMA_CE!$E$5:$F$54,2,FALSE)=\"C\",-1,1),IF(OR(VLOOKUP($B43,SCHEMA_CE!$E$5:$F$54,2,FALSE)=\"C\",VLOOKUP($F43,SCHEMA_CE!$E$5:$F$54,2,FALSE)=\"C\"),-1,1)))","v":""},{"$f":"IF($B43=\"\",\"\",K43*IF($F43=\"\",1,IF(ISERROR(MATCH($F43,$B$6:$B$105,0)),0,INDIRECT(ADDRESS(5+MATCH($F43,$B$6:$B$105,0),COLUMN(Q$4)))))*IF($F43=\"\",IF(VLOOKUP($B43,SCHEMA_CE!$E$5:$F$54,2,FALSE)=\"C\",-1,1),IF(OR(VLOOKUP($B43,SCHEMA_CE!$E$5:$F$54,2,FALSE)=\"C\",VLOOKUP($F43,SCHEMA_CE!$E$5:$F$54,2,FALSE)=\"C\"),-1,1)))","v":""},null,"","","","",""]
[null,null,null,null,null,null,null,null,null,null,null,null,{"$f":"IF($B44=\"\",\"\",G44*IF($F44=\"\",1,IF(ISERROR(MATCH($F44,$B$6:$B$105,0)),0,INDIRECT(ADDRESS(5+MATCH($F44,$B$6:$B$105,0),COLUMN(M$4)))))*IF($F44=\"\",IF(VLOOKUP($B44,SCHEMA_CE!$E$5:$F$54,2,FALSE)=\"C\",-1,1),IF(OR(VLOOKUP($B44,SCHEMA_CE!$E$5:$F$54,2,FALSE)=\"C\",VLOOKUP($F44,SCHEMA_CE!$E$5:$F$54,2,FALSE)=\"C\"),-1,1)))","v":""},{"$f":"IF($B44=\"\",\"\",H44*IF($F44=\"\",1,IF(ISERROR(MATCH($F44,$B$6:$B$105,0)),0,INDIRECT(ADDRESS(5+MATCH($F44,$B$6:$B$105,0),COLUMN(N$4)))))*IF($F44=\"\",IF(VLOOKUP($B44,SCHEMA_CE!$E$5:$F$54,2,FALSE)=\"C\",-1,1),IF(OR(VLOOKUP($B44,SCHEMA_CE!$E$5:$F$54,2,FALSE)=\"C\",VLOOKUP($F44,SCHEMA_CE!$E$5:$F$54,2,FALSE)=\"C\"),-1,1)))","v":""},{"$f":"IF($B44=\"\",\"\",I44*IF($F44=\"\",1,IF(ISERROR(MATCH($F44,$B$6:$B$105,0)),0,INDIRECT(ADDRESS(5+MATCH($F44,$B$6:$B$105,0),COLUMN(O$4)))))*IF($F44=\"\",IF(VLOOKUP($B44,SCHEMA_CE!$E$5:$F$54,2,FALSE)=\"C\",-1,1),IF(OR(VLOOKUP($B44,SCHEMA_CE!$E$5:$F$54,2,FALSE)=\"C\",VLOOKUP($F44,SCHEMA_CE!$E$5:$F$54,2,FALSE)=\"C\"),-1,1)))","v":""},{"$f":"IF($B44=\"\",\"\",J44*IF($F44=\"\",1,IF(ISERROR(MATCH($F44,$B$6:$B$105,0)),0,INDIRECT(ADDRESS(5+MATCH($F44,$B$6:$B$105,0),COLUMN(P$4)))))*IF($F44=\"\",IF(VLOOKUP($B44,SCHEMA_CE!$E$5:$F$54,2,FALSE)=\"C\",-1,1),IF(OR(VLOOKUP($B44,SCHEMA_CE!$E$5:$F$54,2,FALSE)=\"C\",VLOOKUP($F44,SCHEMA_CE!$E$5:$F$54,2,FALSE)=\"C\"),-1,1)))","v":""},{"$f":"IF($B44=\"\",\"\",K44*IF($F44=\"\",1,IF(ISERROR(MATCH($F44,$B$6:$B$105,0)),0,INDIRECT(ADDRESS(5+MATCH($F44,$B$6:$B$105,0),COLUMN(Q$4)))))*IF($F44=\"\",IF(VLOOKUP($B44,SCHEMA_CE!$E$5:$F$54,2,FALSE)=\"C\",-1,1),IF(OR(VLOOKUP($B44,SCHEMA_CE!$E$5:$F$54,2,FALSE)=\"C\",VLOOKUP($F44,SCHEMA_CE!$E$5:$F$54,2,FALSE)=\"C\"),-1,1)))","v":""},null,"","","","",""]
[null,null,null,null,null,null,null,null,null,null,null,null,{"$f":"IF($B45=\"\",\"\",G45*IF($F45=\"\",1,IF(ISERROR(MATCH($F45,$B$6:$B$105,0)),0,INDIRECT(ADDRESS(5+MATCH($F45,$B$6:$B$105,0),COLUMN(M$4)))))*IF($F45=\"\",IF(VLOOKUP($B45,SCHEMA_CE!$E$5:$F$54,2,FALSE)=\"C\",-1,1),IF(OR(VLOOKUP($B45,SCHEMA_CE!$E$5:$F$54,2,FALSE)=\"C\",VLOOKUP($F45,SCHEMA_CE!$E$5:$F$54,2,FALSE)=\"C\"),-1,1)))","v":""},{"$f":"IF($B45=\"\",\"\",H45*IF($F45=\"\",1,IF(ISERROR(MATCH($F45,$B$6:$B$105,0)),0,INDIRECT(ADDRESS(5+MATCH($F45,$B$6:$B$105,0),COLUMN(N$4)))))*IF($F45=\"\",IF(VLOOKUP($B45,SCHEMA_CE!$E$5:$F$54,2,FALSE)=\"C\",-1,1),IF(OR(VLOOKUP($B45,SCHEMA_CE!$E$5:$F$54,2,FALSE)=\"C\",VLOOKUP($F45,SCHEMA_CE!$E$5:$F$54,2,FALSE)=\"C\"),-1,1)))","v":""},{"$f":"IF($B45=\"\",\"\",I45*IF($F45=\"\",1,IF(ISERROR(MATCH($F45,$B$6:$B$105,0)),0,INDIRECT(ADDRESS(5+MATCH($F45,$B$6:$B$105,0),COLUMN(O$4)))))*IF($F45=\"\",IF(VLOOKUP($B45,SCHEMA_CE!$E$5:$F$54,2,FALSE)=\"C\",-1,1),IF(OR(VLOOKUP($B45,SCHEMA_CE!$E$5:$F$54,2,FALSE)=\"C\",VLOOKUP($F45,SCHEMA_CE!$E$5:$F$54,2,FALSE)=\"C\"),-1,1)))","v":""},{"$f":"IF($B45=\"\",\"\",J45*IF($F45=\"\",1,IF(ISERROR(MATCH($F45,$B$6:$B$105,0)),0,INDIRECT(ADDRESS(5+MATCH($F45,$B$6:$B$105,0),COLUMN(P$4)))))*IF($F45=\"\",IF(VLOOKUP($B45,SCHEMA_CE!$E$5:$F$54,2,FALSE)=\"C\",-1,1),IF(OR(VLOOKUP($B45,SCHEMA_CE!$E$5:$F$54,2,FALSE)=\"C\",VLOOKUP($F45,SCHEMA_CE!$E$5:$F$54,2,FALSE)=\"C\"),-1,1)))","v":""},{"$f":"IF($B45=\"\",\"\",K45*IF($F45=\"\",1,IF(ISERROR(MATCH($F45,$B$6:$B$105,0)),0,INDIRECT(ADDRESS(5+MATCH($F45,$B$6:$B$105,0),COLUMN(Q$4)))))*IF($F45=\"\",IF(VLOOKUP($B45,SCHEMA_CE!$E$5:$F$54,2,FALSE)=\"C\",-1,1),IF(OR(VLOOKUP($B45,SCHEMA_CE!$E$5:$F$54,2,FALSE)=\"C\",VLOOKUP($F45,SCHEMA_CE!$E$5:$F$54,2,FALSE)=\"C\"),-1,1)))","v":""},null,"","","","",""]
[null,null,null,null,null,null,null,null,null,null,null,null,{"$f":"IF($B46=\"\",\"\",G46*IF($F46=\"\",1,IF(ISERROR(MATCH($F46,$B$6:$B$105,0)),0,INDIRECT(ADDRESS(5+MATCH($F46,$B$6:$B$105,0),COLUMN(M$4)))))*IF($F46=\"\",IF(VLOOKUP($B46,SCHEMA_CE!$E$5:$F$54,2,FALSE)=\"C\",-1,1),IF(OR(VLOOKUP($B46,SCHEMA_CE!$E$5:$F$54,2,FALSE)=\"C\",VLOOKUP($F46,SCHEMA_CE!$E$5:$F$54,2,FALSE)=\"C\"),-1,1)))","v":""},{"$f":"IF($B46=\"\",\"\",H46*IF($F46=\"\",1,IF(ISERROR(MATCH($F46,$B$6:$B$105,0)),0,INDIRECT(ADDRESS(5+MATCH($F46,$B$6:$B$105,0),COLUMN(N$4)))))*IF($F46=\"\",IF(VLOOKUP($B46,SCHEMA_CE!$E$5:$F$54,2,FALSE)=\"C\",-1,1),IF(OR(VLOOKUP($B46,SCHEMA_CE!$E$5:$F$54,2,FALSE)=\"C\",VLOOKUP($F46,SCHEMA_CE!$E$5:$F$54,2,FALSE)=\"C\"),-1,1)))","v":""},{"$f":"IF($B46=\"\",\"\",I46*IF($F46=\"\",1,IF(ISERROR(MATCH($F46,$B$6:$B$105,0)),0,INDIRECT(ADDRESS(5+MATCH($F46,$B$6:$B$105,0),COLUMN(O$4)))))*IF($F46=\"\",IF(VLOOKUP($B46,SCHEMA_CE!$E$5:$F$54,2,FALSE)=\"C\",-1,1),IF(OR(VLOOKUP($B46,SCHEMA_CE!$E$5:$F$54,2,FALSE)=\"C\",VLOOKUP($F46,SCHEMA_CE!$E$5:$F$54,2,FALSE)=\"C\"),-1,1)))","v":""},{"$f":"IF($B46=\"\",\"\",J46*IF($F46=\"\",1,IF(ISERROR(MATCH($F46,$B$6:$B$105,0)),0,INDIRECT(ADDRESS(5+MATCH($F46,$B$6:$B$105,0),COLUMN(P$4)))))*IF($F46=\"\",IF(VLOOKUP($B46,SCHEMA_CE!$E$5:$F$54,2,FALSE)=\"C\",-1,1),IF(OR(VLOOKUP($B46,SCHEMA_CE!$E$5:$F$54,2,FALSE)=\"C\",VLOOKUP($F46,SCHEMA_CE!$E$5:$F$54,2,FALSE)=\"C\"),-1,1)))","v":""},{"$f":"IF($B46=\"\",\"\",K46*IF($F46=\"\",1,IF(ISERROR(MATCH($F46,$B$6:$B$105,0)),0,INDIRECT(ADDRESS(5+MATCH($F46,$B$6:$B$105,0),COLUMN(Q$4)))))*IF($F46=\"\",IF(VLOOKUP($B46,SCHEMA_CE!$E$5:$F$54,2,FALSE)=\"C\",-1,1),IF(OR(VLOOKUP($B46,SCHEMA_CE!$E$5:$F$54,2,FALSE)=\"C\",VLOOKUP($F46,SCHEMA_CE!$E$5:$F$54,2,FALSE)=\"C\"),-1,1)))","v":""},null,"","","","",""]
[null,null,null,null,null,null,null,null,null,null,null,null,{"$f":"IF($B47=\"\",\"\",G47*IF($F47=\"\",1,IF(ISERROR(MATCH($F47,$B$6:$B$105,0)),0,INDIRECT(ADDRESS(5+MATCH($F47,$B$6:$B$105,0),COLUMN(M$4)))))*IF($F47=\"\",IF(VLOOKUP($B47,SCHEMA_CE!$E$5:$F$54,2,FALSE)=\"C\",-1,1),IF(OR(VLOOKUP($B47,SCHEMA_CE!$E$5:$F$54,2,FALSE)=\"C\",VLOOKUP($F47,SCHEMA_CE!$E$5:$F$54,2,FALSE)=\"C\"),-1,1)))","v":""},{"$f":"IF($B47=\"\",\"\",H47*IF($F47=\"\",1,IF(ISERROR(MATCH($F47,$B$6:$B$105,0)),0,INDIRECT(ADDRESS(5+MATCH($F47,$B$6:$B$105,0),COLUMN(N$4)))))*IF($F47=\"\",IF(VLOOKUP($B47,SCHEMA_CE!$E$5:$F$54,2,FALSE)=\"C\",-1,1),IF(OR(VLOOKUP($B47,SCHEMA_CE!$E$5:$F$54,2,FALSE)=\"C\",VLOOKUP($F47,SCHEMA_CE!$E$5:$F$54,2,FALSE)=\"C\"),-1,1)))","v":""},{"$f":"IF($B47=\"\",\"\",I47*IF($F47=\"\",1,IF(ISERROR(MATCH($F47,$B$6:$B$105,0)),0,INDIRECT(ADDRESS(5+MATCH($F47,$B$6:$B$105,0),COLUMN(O$4)))))*IF($F47=\"\",IF(VLOOKUP($B47,SCHEMA_CE!$E$5:$F$54,2,FALSE)=\"C\",-1,1),IF(OR(VLOOKUP($B47,SCHEMA_CE!$E$5:$F$54,2,FALSE)=\"C\",VLOOKUP($F47,SCHEMA_CE!$E$5:$F$54,2,FALSE)=\"C\"),-1,1)))","v":""},{"$f":"IF($B47=\"\",\"\",J47*IF($F47=\"\",1,IF(ISERROR(MATCH($F47,$B$6:$B$105,0)),0,INDIRECT(ADDRESS(5+MATCH($F47,$B$6:$B$105,0),COLUMN(P$4)))))*IF($F47=\"\",IF(VLOOKUP($B47,SCHEMA_CE!$E$5:$F$54,2,FALSE)=\"C\",-1,1),IF(OR(VLOOKUP($B47,SCHEMA_CE!$E$5:$F$54,2,FALSE)=\"C\",VLOOKUP($F47,SCHEMA_CE!$E$5:$F$54,2,FALSE)=\"C\"),-1,1)))","v":""},{"$f":"IF($B47=\"\",\"\",K47*IF($F47=\"\",1,IF(ISERROR(MATCH($F47,$B$6:$B$105,0)),0,INDIRECT(ADDRESS(5+MATCH($F47,$B$6:$B$105,0),COLUMN(Q$4)))))*IF($F47=\"\",IF(VLOOKUP($B47,SCHEMA_CE!$E$5:$F$54,2,FALSE)=\"C\",-1,1),IF(OR(VLOOKUP($B47,SCHEMA_CE!$E$5:$F$54,2,FALSE)=\"C\",VLOOKUP($F47,SCHEMA_CE!$E$5:$F$54,2,FALSE)=\"C\"),-1,1)))","v":""},null,"","","","",""]
[null,null,null,null,null,null,null,null,null,null,null,null,{"$f":"IF($B48=\"\",\"\",G48*IF($F48=\"\",1,IF(ISERROR(MATCH($F48,$B$6:$B$105,0)),0,INDIRECT(ADDRESS(5+MATCH($F48,$B$6:$B$105,0),COLUMN(M$4)))))*IF($F48=\"\",IF(VLOOKUP($B48,SCHEMA_CE!$E$5:$F$54,2,FALSE)=\"C\",-1,1),IF(OR(VLOOKUP($B48,SCHEMA_CE!$E$5:$F$54,2,FALSE)=\"C\",VLOOKUP($F48,SCHEMA_CE!$E$5:$F$54,2,FALSE)=\"C\"),-1,1)))","v":""},{"$f":"IF($B48=\"\",\"\",H48*IF($F48=\"\",1,IF(ISERROR(MATCH($F48,$B$6:$B$105,0)),0,INDIRECT(ADDRESS(5+MATCH($F48,$B$6:$B$105,0),COLUMN(N$4)))))*IF($F48=\"\",IF(VLOOKUP($B48,SCHEMA_CE!$E$5:$F$54,2,FALSE)=\"C\",-1,1),IF(OR(VLOOKUP($B48,SCHEMA_CE!$E$5:$F$54,2,FALSE)=\"C\",VLOOKUP($F48,SCHEMA_CE!$E$5:$F$54,2,FALSE)=\"C\"),-1,1)))","v":""},{"$f":"IF($B48=\"\",\"\",I48*IF($F48=\"\",1,IF(ISERROR(MATCH($F48,$B$6:$B$105,0)),0,INDIRECT(ADDRESS(5+MATCH($F48,$B$6:$B$105,0),COLUMN(O$4)))))*IF($F48=\"\",IF(VLOOKUP($B48,SCHEMA_CE!$E$5:$F$54,2,FALSE)=\"C\",-1,1),IF(OR(VLOOKUP($B48,SCHEMA_CE!$E$5:$F$54,2,FALSE)=\"C\",VLOOKUP($F48,SCHEMA_CE!$E$5:$F$54,2,FALSE)=\"C\"),-1,1)))","v":""},{"$f":"IF($B48=\"\",\"\",J48*IF($F48=\"\",1,IF(ISERROR(MATCH($F48,$B$6:$B$105,0)),0,INDIRECT(ADDRESS(5+MATCH($F48,$B$6:$B$105,0),COLUMN(P$4)))))*IF($F48=\"\",IF(VLOOKUP($B48,SCHEMA_CE!$E$5:$F$54,2,FALSE)=\"C\",-1,1),IF(OR(VLOOKUP($B48,SCHEMA_CE!$E$5:$F$54,2,FALSE)=\"C\",VLOOKUP($F48,SCHEMA_CE!$E$5:$F$54,2,FALSE)=\"C\"),-1,1)))","v":""},{"$f":"IF($B48=\"\",\"\",K48*IF($F48=\"\",1,IF(ISERROR(MATCH($F48,$B$6:$B$105,0)),0,INDIRECT(ADDRESS(5+MATCH($F48,$B$6:$B$105,0),COLUMN(Q$4)))))*IF($F48=\"\",IF(VLOOKUP($B48,SCHEMA_CE!$E$5:$F$54,2,FALSE)=\"C\",-1,1),IF(OR(VLOOKUP($B48,SCHEMA_CE!$E$5:$F$54,2,FALSE)=\"C\",VLOOKUP($F48,SCHEMA_CE!$E$5:$F$54,2,FALSE)=\"C\"),-1,1)))","v":""},null,"","","","",""]
[null,null,null,null,null,null,null,null,null,null,null,null,{"$f":"IF($B49=\"\",\"\",G49*IF($F49=\"\",1,IF(ISERROR(MATCH($F49,$B$6:$B$105,0)),0,INDIRECT(ADDRESS(5+MATCH($F49,$B$6:$B$105,0),COLUMN(M$4)))))*IF($F49=\"\",IF(VLOOKUP($B49,SCHEMA_CE!$E$5:$F$54,2,FALSE)=\"C\",-1,1),IF(OR(VLOOKUP($B49,SCHEMA_CE!$E$5:$F$54,2,FALSE)=\"C\",VLOOKUP($F49,SCHEMA_CE!$E$5:$F$54,2,FALSE)=\"C\"),-1,1)))","v":""},{"$f":"IF($B49=\"\",\"\",H49*IF($F49=\"\",1,IF(ISERROR(MATCH($F49,$B$6:$B$105,0)),0,INDIRECT(ADDRESS(5+MATCH($F49,$B$6:$B$105,0),COLUMN(N$4)))))*IF($F49=\"\",IF(VLOOKUP($B49,SCHEMA_CE!$E$5:$F$54,2,FALSE)=\"C\",-1,1),IF(OR(VLOOKUP($B49,SCHEMA_CE!$E$5:$F$54,2,FALSE)=\"C\",VLOOKUP($F49,SCHEMA_CE!$E$5:$F$54,2,FALSE)=\"C\"),-1,1)))","v":""},{"$f":"IF($B49=\"\",\"\",I49*IF($F49=\"\",1,IF(ISERROR(MATCH($F49,$B$6:$B$105,0)),0,INDIRECT(ADDRESS(5+MATCH($F49,$B$6:$B$105,0),COLUMN(O$4)))))*IF($F49=\"\",IF(VLOOKUP($B49,SCHEMA_CE!$E$5:$F$54,2,FALSE)=\"C\",-1,1),IF(OR(VLOOKUP($B49,SCHEMA_CE!$E$5:$F$54,2,FALSE)=\"C\",VLOOKUP($F49,SCHEMA_CE!$E$5:$F$54,2,FALSE)=\"C\"),-1,1)))","v":""},{"$f":"IF($B49=\"\",\"\",J49*IF($F49=\"\",1,IF(ISERROR(MATCH($F49,$B$6:$B$105,0)),0,INDIRECT(ADDRESS(5+MATCH($F49,$B$6:$B$105,0),COLUMN(P$4)))))*IF($F49=\"\",IF(VLOOKUP($B49,SCHEMA_CE!$E$5:$F$54,2,FALSE)=\"C\",-1,1),IF(OR(VLOOKUP($B49,SCHEMA_CE!$E$5:$F$54,2,FALSE)=\"C\",VLOOKUP($F49,SCHEMA_CE!$E$5:$F$54,2,FALSE)=\"C\"),-1,1)))","v":""},{"$f":"IF($B49=\"\",\"\",K49*IF($F49=\"\",1,IF(ISERROR(MATCH($F49,$B$6:$B$105,0)),0,INDIRECT(ADDRESS(5+MATCH($F49,$B$6:$B$105,0),COLUMN(Q$4)))))*IF($F49=\"\",IF(VLOOKUP($B49,SCHEMA_CE!$E$5:$F$54,2,FALSE)=\"C\",-1,1),IF(OR(VLOOKUP($B49,SCHEMA_CE!$E$5:$F$54,2,FALSE)=\"C\",VLOOKUP($F49,SCHEMA_CE!$E$5:$F$54,2,FALSE)=\"C\"),-1,1)))","v":""},null,"","","","",""]
[null,null,null,null,null,null,null,null,null,null,null,null,{"$f":"IF($B50=\"\",\"\",G50*IF($F50=\"\",1,IF(ISERROR(MATCH($F50,$B$6:$B$105,0)),0,INDIRECT(ADDRESS(5+MATCH($F50,$B$6:$B$105,0),COLUMN(M$4)))))*IF($F50=\"\",IF(VLOOKUP($B50,SCHEMA_CE!$E$5:$F$54,2,FALSE)=\"C\",-1,1),IF(OR(VLOOKUP($B50,SCHEMA_CE!$E$5:$F$54,2,FALSE)=\"C\",VLOOKUP($F50,SCHEMA_CE!$E$5:$F$54,2,FALSE)=\"C\"),-1,1)))","v":""},{"$f":"IF($B50=\"\",\"\",H50*IF($F50=\"\",1,IF(ISERROR(MATCH($F50,$B$6:$B$105,0)),0,INDIRECT(ADDRESS(5+MATCH($F50,$B$6:$B$105,0),COLUMN(N$4)))))*IF($F50=\"\",IF(VLOOKUP($B50,SCHEMA_CE!$E$5:$F$54,2,FALSE)=\"C\",-1,1),IF(OR(VLOOKUP($B50,SCHEMA_CE!$E$5:$F$54,2,FALSE)=\"C\",VLOOKUP($F50,SCHEMA_CE!$E$5:$F$54,2,FALSE)=\"C\"),-1,1)))","v":""},{"$f":"IF($B50=\"\",\"\",I50*IF($F50=\"\",1,IF(ISERROR(MATCH($F50,$B$6:$B$105,0)),0,INDIRECT(ADDRESS(5+MATCH($F50,$B$6:$B$105,0),COLUMN(O$4)))))*IF($F50=\"\",IF(VLOOKUP($B50,SCHEMA_CE!$E$5:$F$54,2,FALSE)=\"C\",-1,1),IF(OR(VLOOKUP($B50,SCHEMA_CE!$E$5:$F$54,2,FALSE)=\"C\",VLOOKUP($F50,SCHEMA_CE!$E$5:$F$54,2,FALSE)=\"C\"),-1,1)))","v":""},{"$f":"IF($B50=\"\",\"\",J50*IF($F50=\"\",1,IF(ISERROR(MATCH($F50,$B$6:$B$105,0)),0,INDIRECT(ADDRESS(5+MATCH($F50,$B$6:$B$105,0),COLUMN(P$4)))))*IF($F50=\"\",IF(VLOOKUP($B50,SCHEMA_CE!$E$5:$F$54,2,FALSE)=\"C\",-1,1),IF(OR(VLOOKUP($B50,SCHEMA_CE!$E$5:$F$54,2,FALSE)=\"C\",VLOOKUP($F50,SCHEMA_CE!$E$5:$F$54,2,FALSE)=\"C\"),-1,1)))","v":""},{"$f":"IF($B50=\"\",\"\",K50*IF($F50=\"\",1,IF(ISERROR(MATCH($F50,$B$6:$B$105,0)),0,INDIRECT(ADDRESS(5+MATCH($F50,$B$6:$B$105,0),COLUMN(Q$4)))))*IF($F50=\"\",IF(VLOOKUP($B50,SCHEMA_CE!$E$5:$F$54,2,FALSE)=\"C\",-1,1),IF(OR(VLOOKUP($B50,SCHEMA_CE!$E$5:$F$54,2,FALSE)=\"C\",VLOOKUP($F50,SCHEMA_CE!$E$5:$F$54,2,FALSE)=\"C\"),-1,1)))","v":""},null,"","","","",""]
[null,null,null,null,null,null,null,null,null,null,null,null,{"$f":"IF($B51=\"\",\"\",G51*IF($F51=\"\",1,IF(ISERROR(MATCH($F51,$B$6:$B$105,0)),0,INDIRECT(ADDRESS(5+MATCH($F51,$B$6:$B$105,0),COLUMN(M$4)))))*IF($F51=\"\",IF(VLOOKUP($B51,SCHEMA_CE!$E$5:$F$54,2,FALSE)=\"C\",-1,1),IF(OR(VLOOKUP($B51,SCHEMA_CE!$E$5:$F$54,2,FALSE)=\"C\",VLOOKUP($F51,SCHEMA_CE!$E$5:$F$54,2,FALSE)=\"C\"),-1,1)))","v":""},{"$f":"IF($B51=\"\",\"\",H51*IF($F51=\"\",1,IF(ISERROR(MATCH($F51,$B$6:$B$105,0)),0,INDIRECT(ADDRESS(5+MATCH($F51,$B$6:$B$105,0),COLUMN(N$4)))))*IF($F51=\"\",IF(VLOOKUP($B51,SCHEMA_CE!$E$5:$F$54,2,FALSE)=\"C\",-1,1),IF(OR(VLOOKUP($B51,SCHEMA_CE!$E$5:$F$54,2,FALSE)=\"C\",VLOOKUP($F51,SCHEMA_CE!$E$5:$F$54,2,FALSE)=\"C\"),-1,1)))","v":""},{"$f":"IF($B51=\"\",\"\",I51*IF($F51=\"\",1,IF(ISERROR(MATCH($F51,$B$6:$B$105,0)),0,INDIRECT(ADDRESS(5+MATCH($F51,$B$6:$B$105,0),COLUMN(O$4)))))*IF($F51=\"\",IF(VLOOKUP($B51,SCHEMA_CE!$E$5:$F$54,2,FALSE)=\"C\",-1,1),IF(OR(VLOOKUP($B51,SCHEMA_CE!$E$5:$F$54,2,FALSE)=\"C\",VLOOKUP($F51,SCHEMA_CE!$E$5:$F$54,2,FALSE)=\"C\"),-1,1)))","v":""},{"$f":"IF($B51=\"\",\"\",J51*IF($F51=\"\",1,IF(ISERROR(MATCH($F51,$B$6:$B$105,0)),0,INDIRECT(ADDRESS(5+MATCH($F51,$B$6:$B$105,0),COLUMN(P$4)))))*IF($F51=\"\",IF(VLOOKUP($B51,SCHEMA_CE!$E$5:$F$54,2,FALSE)=\"C\",-1,1),IF(OR(VLOOKUP($B51,SCHEMA_CE!$E$5:$F$54,2,FALSE)=\"C\",VLOOKUP($F51,SCHEMA_CE!$E$5:$F$54,2,FALSE)=\"C\"),-1,1)))","v":""},{"$f":"IF($B51=\"\",\"\",K51*IF($F51=\"\",1,IF(ISERROR(MATCH($F51,$B$6:$B$105,0)),0,INDIRECT(ADDRESS(5+MATCH($F51,$B$6:$B$105,0),COLUMN(Q$4)))))*IF($F51=\"\",IF(VLOOKUP($B51,SCHEMA_CE!$E$5:$F$54,2,FALSE)=\"C\",-1,1),IF(OR(VLOOKUP($B51,SCHEMA_CE!$E$5:$F$54,2,FALSE)=\"C\",VLOOKUP($F51,SCHEMA_CE!$E$5:$F$54,2,FALSE)=\"C\"),-1,1)))","v":""},null,"","","","",""]
[null,null,null,null,null,null,null,null,null,null,null,null,{"$f":"IF($B52=\"\",\"\",G52*IF($F52=\"\",1,IF(ISERROR(MATCH($F52,$B$6:$B$105,0)),0,INDIRECT(ADDRESS(5+MATCH($F52,$B$6:$B$105,0),COLUMN(M$4)))))*IF($F52=\"\",IF(VLOOKUP($B52,SCHEMA_CE!$E$5:$F$54,2,FALSE)=\"C\",-1,1),IF(OR(VLOOKUP($B52,SCHEMA_CE!$E$5:$F$54,2,FALSE)=\"C\",VLOOKUP($F52,SCHEMA_CE!$E$5:$F$54,2,FALSE)=\"C\"),-1,1)))","v":""},{"$f":"IF($B52=\"\",\"\",H52*IF($F52=\"\",1,IF(ISERROR(MATCH($F52,$B$6:$B$105,0)),0,INDIRECT(ADDRESS(5+MATCH($F52,$B$6:$B$105,0),COLUMN(N$4)))))*IF($F52=\"\",IF(VLOOKUP($B52,SCHEMA_CE!$E$5:$F$54,2,FALSE)=\"C\",-1,1),IF(OR(VLOOKUP($B52,SCHEMA_CE!$E$5:$F$54,2,FALSE)=\"C\",VLOOKUP($F52,SCHEMA_CE!$E$5:$F$54,2,FALSE)=\"C\"),-1,1)))","v":""},{"$f":"IF($B52=\"\",\"\",I52*IF($F52=\"\",1,IF(ISERROR(MATCH($F52,$B$6:$B$105,0)),0,INDIRECT(ADDRESS(5+MATCH($F52,$B$6:$B$105,0),COLUMN(O$4)))))*IF($F52=\"\",IF(VLOOKUP($B52,SCHEMA_CE!$E$5:$F$54,2,FALSE)=\"C\",-1,1),IF(OR(VLOOKUP($B52,SCHEMA_CE!$E$5:$F$54,2,FALSE)=\"C\",VLOOKUP($F52,SCHEMA_CE!$E$5:$F$54,2,FALSE)=\"C\"),-1,1)))","v":""},{"$f":"IF($B52=\"\",\"\",J52*IF($F52=\"\",1,IF(ISERROR(MATCH($F52,$B$6:$B$105,0)),0,INDIRECT(ADDRESS(5+MATCH($F52,$B$6:$B$105,0),COLUMN(P$4)))))*IF($F52=\"\",IF(VLOOKUP($B52,SCHEMA_CE!$E$5:$F$54,2,FALSE)=\"C\",-1,1),IF(OR(VLOOKUP($B52,SCHEMA_CE!$E$5:$F$54,2,FALSE)=\"C\",VLOOKUP($F52,SCHEMA_CE!$E$5:$F$54,2,FALSE)=\"C\"),-1,1)))","v":""},{"$f":"IF($B52=\"\",\"\",K52*IF($F52=\"\",1,IF(ISERROR(MATCH($F52,$B$6:$B$105,0)),0,INDIRECT(ADDRESS(5+MATCH($F52,$B$6:$B$105,0),COLUMN(Q$4)))))*IF($F52=\"\",IF(VLOOKUP($B52,SCHEMA_CE!$E$5:$F$54,2,FALSE)=\"C\",-1,1),IF(OR(VLOOKUP($B52,SCHEMA_CE!$E$5:$F$54,2,FALSE)=\"C\",VLOOKUP($F52,SCHEMA_CE!$E$5:$F$54,2,FALSE)=\"C\"),-1,1)))","v":""},null,"","","","",""]
[null,null,null,null,null,null,null,null,null,null,null,null,{"$f":"IF($B53=\"\",\"\",G53*IF($F53=\"\",1,IF(ISERROR(MATCH($F53,$B$6:$B$105,0)),0,INDIRECT(ADDRESS(5+MATCH($F53,$B$6:$B$105,0),COLUMN(M$4)))))*IF($F53=\"\",IF(VLOOKUP($B53,SCHEMA_CE!$E$5:$F$54,2,FALSE)=\"C\",-1,1),IF(OR(VLOOKUP($B53,SCHEMA_CE!$E$5:$F$54,2,FALSE)=\"C\",VLOOKUP($F53,SCHEMA_CE!$E$5:$F$54,2,FALSE)=\"C\"),-1,1)))","v":""},{"$f":"IF($B53=\"\",\"\",H53*IF($F53=\"\",1,IF(ISERROR(MATCH($F53,$B$6:$B$105,0)),0,INDIRECT(ADDRESS(5+MATCH($F53,$B$6:$B$105,0),COLUMN(N$4)))))*IF($F53=\"\",IF(VLOOKUP($B53,SCHEMA_CE!$E$5:$F$54,2,FALSE)=\"C\",-1,1),IF(OR(VLOOKUP($B53,SCHEMA_CE!$E$5:$F$54,2,FALSE)=\"C\",VLOOKUP($F53,SCHEMA_CE!$E$5:$F$54,2,FALSE)=\"C\"),-1,1)))","v":""},{"$f":"IF($B53=\"\",\"\",I53*IF($F53=\"\",1,IF(ISERROR(MATCH($F53,$B$6:$B$105,0)),0,INDIRECT(ADDRESS(5+MATCH($F53,$B$6:$B$105,0),COLUMN(O$4)))))*IF($F53=\"\",IF(VLOOKUP($B53,SCHEMA_CE!$E$5:$F$54,2,FALSE)=\"C\",-1,1),IF(OR(VLOOKUP($B53,SCHEMA_CE!$E$5:$F$54,2,FALSE)=\"C\",VLOOKUP($F53,SCHEMA_CE!$E$5:$F$54,2,FALSE)=\"C\"),-1,1)))","v":""},{"$f":"IF($B53=\"\",\"\",J53*IF($F53=\"\",1,IF(ISERROR(MATCH($F53,$B$6:$B$105,0)),0,INDIRECT(ADDRESS(5+MATCH($F53,$B$6:$B$105,0),COLUMN(P$4)))))*IF($F53=\"\",IF(VLOOKUP($B53,SCHEMA_CE!$E$5:$F$54,2,FALSE)=\"C\",-1,1),IF(OR(VLOOKUP($B53,SCHEMA_CE!$E$5:$F$54,2,FALSE)=\"C\",VLOOKUP($F53,SCHEMA_CE!$E$5:$F$54,2,FALSE)=\"C\"),-1,1)))","v":""},{"$f":"IF($B53=\"\",\"\",K53*IF($F53=\"\",1,IF(ISERROR(MATCH($F53,$B$6:$B$105,0)),0,INDIRECT(ADDRESS(5+MATCH($F53,$B$6:$B$105,0),COLUMN(Q$4)))))*IF($F53=\"\",IF(VLOOKUP($B53,SCHEMA_CE!$E$5:$F$54,2,FALSE)=\"C\",-1,1),IF(OR(VLOOKUP($B53,SCHEMA_CE!$E$5:$F$54,2,FALSE)=\"C\",VLOOKUP($F53,SCHEMA_CE!$E$5:$F$54,2,FALSE)=\"C\"),-1,1)))","v":""},null,"","","","",""]
[null,null,null,null,null,null,null,null,null,null,null,null,{"$f":"IF($B54=\"\",\"\",G54*IF($F54=\"\",1,IF(ISERROR(MATCH($F54,$B$6:$B$105,0)),0,INDIRECT(ADDRESS(5+MATCH($F54,$B$6:$B$105,0),COLUMN(M$4)))))*IF($F54=\"\",IF(VLOOKUP($B54,SCHEMA_CE!$E$5:$F$54,2,FALSE)=\"C\",-1,1),IF(OR(VLOOKUP($B54,SCHEMA_CE!$E$5:$F$54,2,FALSE)=\"C\",VLOOKUP($F54,SCHEMA_CE!$E$5:$F$54,2,FALSE)=\"C\"),-1,1)))","v":""},{"$f":"IF($B54=\"\",\"\",H54*IF($F54=\"\",1,IF(ISERROR(MATCH($F54,$B$6:$B$105,0)),0,INDIRECT(ADDRESS(5+MATCH($F54,$B$6:$B$105,0),COLUMN(N$4)))))*IF($F54=\"\",IF(VLOOKUP($B54,SCHEMA_CE!$E$5:$F$54,2,FALSE)=\"C\",-1,1),IF(OR(VLOOKUP($B54,SCHEMA_CE!$E$5:$F$54,2,FALSE)=\"C\",VLOOKUP($F54,SCHEMA_CE!$E$5:$F$54,2,FALSE)=\"C\"),-1,1)))","v":""},{"$f":"IF($B54=\"\",\"\",I54*IF($F54=\"\",1,IF(ISERROR(MATCH($F54,$B$6:$B$105,0)),0,INDIRECT(ADDRESS(5+MATCH($F54,$B$6:$B$105,0),COLUMN(O$4)))))*IF($F54=\"\",IF(VLOOKUP($B54,SCHEMA_CE!$E$5:$F$54,2,FALSE)=\"C\",-1,1),IF(OR(VLOOKUP($B54,SCHEMA_CE!$E$5:$F$54,2,FALSE)=\"C\",VLOOKUP($F54,SCHEMA_CE!$E$5:$F$54,2,FALSE)=\"C\"),-1,1)))","v":""},{"$f":"IF($B54=\"\",\"\",J54*IF($F54=\"\",1,IF(ISERROR(MATCH($F54,$B$6:$B$105,0)),0,INDIRECT(ADDRESS(5+MATCH($F54,$B$6:$B$105,0),COLUMN(P$4)))))*IF($F54=\"\",IF(VLOOKUP($B54,SCHEMA_CE!$E$5:$F$54,2,FALSE)=\"C\",-1,1),IF(OR(VLOOKUP($B54,SCHEMA_CE!$E$5:$F$54,2,FALSE)=\"C\",VLOOKUP($F54,SCHEMA_CE!$E$5:$F$54,2,FALSE)=\"C\"),-1,1)))","v":""},{"$f":"IF($B54=\"\",\"\",K54*IF($F54=\"\",1,IF(ISERROR(MATCH($F54,$B$6:$B$105,0)),0,INDIRECT(ADDRESS(5+MATCH($F54,$B$6:$B$105,0),COLUMN(Q$4)))))*IF($F54=\"\",IF(VLOOKUP($B54,SCHEMA_CE!$E$5:$F$54,2,FALSE)=\"C\",-1,1),IF(OR(VLOOKUP($B54,SCHEMA_CE!$E$5:$F$54,2,FALSE)=\"C\",VLOOKUP($F54,SCHEMA_CE!$E$5:$F$54,2,FALSE)=\"C\"),-1,1)))","v":""},null,"","","","",""]
[null,null,null,null,null,null,null,null,null,null,null,null,{"$f":"IF($B55=\"\",\"\",G55*IF($F55=\"\",1,IF(ISERROR(MATCH($F55,$B$6:$B$105,0)),0,INDIRECT(ADDRESS(5+MATCH($F55,$B$6:$B$105,0),COLUMN(M$4)))))*IF($F55=\"\",IF(VLOOKUP($B55,SCHEMA_CE!$E$5:$F$54,2,FALSE)=\"C\",-1,1),IF(OR(VLOOKUP($B55,SCHEMA_CE!$E$5:$F$54,2,FALSE)=\"C\",VLOOKUP($F55,SCHEMA_CE!$E$5:$F$54,2,FALSE)=\"C\"),-1,1)))","v":""},{"$f":"IF($B55=\"\",\"\",H55*IF($F55=\"\",1,IF(ISERROR(MATCH($F55,$B$6:$B$105,0)),0,INDIRECT(ADDRESS(5+MATCH($F55,$B$6:$B$105,0),COLUMN(N$4)))))*IF($F55=\"\",IF(VLOOKUP($B55,SCHEMA_CE!$E$5:$F$54,2,FALSE)=\"C\",-1,1),IF(OR(VLOOKUP($B55,SCHEMA_CE!$E$5:$F$54,2,FALSE)=\"C\",VLOOKUP($F55,SCHEMA_CE!$E$5:$F$54,2,FALSE)=\"C\"),-1,1)))","v":""},{"$f":"IF($B55=\"\",\"\",I55*IF($F55=\"\",1,IF(ISERROR(MATCH($F55,$B$6:$B$105,0)),0,INDIRECT(ADDRESS(5+MATCH($F55,$B$6:$B$105,0),COLUMN(O$4)))))*IF($F55=\"\",IF(VLOOKUP($B55,SCHEMA_CE!$E$5:$F$54,2,FALSE)=\"C\",-1,1),IF(OR(VLOOKUP($B55,SCHEMA_CE!$E$5:$F$54,2,FALSE)=\"C\",VLOOKUP($F55,SCHEMA_CE!$E$5:$F$54,2,FALSE)=\"C\"),-1,1)))","v":""},{"$f":"IF($B55=\"\",\"\",J55*IF($F55=\"\",1,IF(ISERROR(MATCH($F55,$B$6:$B$105,0)),0,INDIRECT(ADDRESS(5+MATCH($F55,$B$6:$B$105,0),COLUMN(P$4)))))*IF($F55=\"\",IF(VLOOKUP($B55,SCHEMA_CE!$E$5:$F$54,2,FALSE)=\"C\",-1,1),IF(OR(VLOOKUP($B55,SCHEMA_CE!$E$5:$F$54,2,FALSE)=\"C\",VLOOKUP($F55,SCHEMA_CE!$E$5:$F$54,2,FALSE)=\"C\"),-1,1)))","v":""},{"$f":"IF($B55=\"\",\"\",K55*IF($F55=\"\",1,IF(ISERROR(MATCH($F55,$B$6:$B$105,0)),0,INDIRECT(ADDRESS(5+MATCH($F55,$B$6:$B$105,0),COLUMN(Q$4)))))*IF($F55=\"\",IF(VLOOKUP($B55,SCHEMA_CE!$E$5:$F$54,2,FALSE)=\"C\",-1,1),IF(OR(VLOOKUP($B55,SCHEMA_CE!$E$5:$F$54,2,FALSE)=\"C\",VLOOKUP($F55,SCHEMA_CE!$E$5:$F$54,2,FALSE)=\"C\"),-1,1)))","v":""},null,"","","","",""]
["COSTI",null,null,null,null,null,null,null,null,null,null,null,null,null,null,null,null,null,"","","","",""]
[null,"020201_Magazzino iniziale",null,"-",1,null,700,800,900,null,null,null,{"$f":"IF($B57=\"\",\"\",G57*IF($F57=\"\",1,IF(ISERROR(MATCH($F57,$B$6:$B$105,0)),0,INDIRECT(ADDRESS(5+MATCH($F57,$B$6:$B$105,0),COLUMN(M$4)))))*IF($F57=\"\",IF(VLOOKUP($B57,SCHEMA_CE!$E$5:$F$54,2,FALSE)=\"C\",-1,1),IF(OR(VLOOKUP($B57,SCHEMA_CE!$E$5:$F$54,2,FALSE)=\"C\",VLOOKUP($F57,SCHEMA_CE!$E$5:$F$54,2,FALSE)=\"C\"),-1,1)))","v":-700},{"$f":"IF($B57=\"\",\"\",H57*IF($F57=\"\",1,IF(ISERROR(MATCH($F57,$B$6:$B$105,0)),0,INDIRECT(ADDRESS(5+MATCH($F57,$B$6:$B$105,0),COLUMN(N$4)))))*IF($F57=\"\",IF(VLOOKUP($B57,SCHEMA_CE!$E$5:$F$54,2,FALSE)=\"C\",-1,1),IF(OR(VLOOKUP($B57,SCHEMA_CE!$E$5:$F$54,2,FALSE)=\"C\",VLOOKUP($F57,SCHEMA_CE!$E$5:$F$54,2,FALSE)=\"C\"),-1,1)))","v":-800},{"$f":"IF($B57=\"\",\"\",I57*IF($F57=\"\",1,IF(ISERROR(MATCH($F57,$B$6:$B$105,0)),0,INDIRECT(ADDRESS(5+MATCH($F57,$B$6:$B$105,0),COLUMN(O$4)))))*IF($F57=\"\",IF(VLOOKUP($B57,SCHEMA_CE!$E$5:$F$54,2,FALSE)=\"C\",-1,1),IF(OR(VLOOKUP($B57,SCHEMA_CE!$E$5:$F$54,2,FALSE)=\"C\",VLOOKUP($F57,SCHEMA_CE!$E$5:$F$54,2,FALSE)=\"C\"),-1,1)))","v":-900},{"$f":"IF($B57=\"\",\"\",J57*IF($F57=\"\",1,IF(ISERROR(MATCH($F57,$B$6:$B$105,0)),0,INDIRECT(ADDRESS(5+MATCH($F57,$B$6:$B$105,0),COLUMN(P$4)))))*IF($F57=\"\",IF(VLOOKUP($B57,SCHEMA_CE!$E$5:$F$54,2,FALSE)=\"C\",-1,1),IF(OR(VLOOKUP($B57,SCHEMA_CE!$E$5:$F$54,2,FALSE)=\"C\",VLOOKUP($F57,SCHEMA_CE!$E$5:$F$54,2,FALSE)=\"C\"),-1,1)))","v":0},{"$f":"IF($B57=\"\",\"\",K57*IF($F57=\"\",1,IF(ISERROR(MATCH($F57,$B$6:$B$105,0)),0,INDIRECT(ADDRESS(5+MATCH($F57,$B$6:$B$105,0),COLUMN(Q$4)))))*IF($F57=\"\",IF(VLOOKUP($B57,SCHEMA_CE!$E$5:$F$54,2,FALSE)=\"C\",-1,1),IF(OR(VLOOKUP($B57,SCHEMA_CE!$E$5:$F$54,2,FALSE)=\"C\",VLOOKUP($F57,SCHEMA_CE!$E$5:$F$54,2,FALSE)=\"C\"),-1,1)))","v":0},null,-700,-800,-900,0,0]
[null,"020211_Acquisti materie prime",0.2,"+",1,"010101_Vendite prodotti",0.4,0.4,0.4,null,null,null,{"$f":"IF($B58=\"\",\"\",G58*IF($F58=\"\",1,IF(ISERROR(MATCH($F58,$B$6:$B$105,0)),0,INDIRECT(ADDRESS(5+MATCH($F58,$B$6:$B$105,0),COLUMN(M$4)))))*IF($F58=\"\",IF(VLOOKUP($B58,SCHEMA_CE!$E$5:$F$54,2,FALSE)=\"C\",-1,1),IF(OR(VLOOKUP($B58,SCHEMA_CE!$E$5:$F$54,2,FALSE)=\"C\",VLOOKUP($F58,SCHEMA_CE!$E$5:$F$54,2,FALSE)=\"C\"),-1,1)))","v":-5600},{"$f":"IF($B58=\"\",\"\",H58*IF($F58=\"\",1,IF(ISERROR(MATCH($F58,$B$6:$B$105,0)),0,INDIRECT(ADDRESS(5+MATCH($F58,$B$6:$B$105,0),COLUMN(N$4)))))*IF($F58=\"\",IF(VLOOKUP($B58,SCHEMA_CE!$E$5:$F$54,2,FALSE)=\"C\",-1,1),IF(OR(VLOOKUP($B58,SCHEMA_CE!$E$5:$F$54,2,FALSE)=\"C\",VLOOKUP($F58,SCHEMA_CE!$E$5:$F$54,2,FALSE)=\"C\"),-1,1)))","v":-6200},{"$f":"IF($B58=\"\",\"\",I58*IF($F58=\"\",1,IF(ISERROR(MATCH($F58,$B$6:$B$105,0)),0,INDIRECT(ADDRESS(5+MATCH($F58,$B$6:$B$105,0),COLUMN(O$4)))))*IF($F58=\"\",IF(VLOOKUP($B58,SCHEMA_CE!$E$5:$F$54,2,FALSE)=\"C\",-1,1),IF(OR(VLOOKUP($B58,SCHEMA_CE!$E$5:$F$54,2,FALSE)=\"C\",VLOOKUP($F58,SCHEMA_CE!$E$5:$F$54,2,FALSE)=\"C\"),-1,1)))","v":-6480},{"$f":"IF($B58=\"\",\"\",J58*IF($F58=\"\",1,IF(ISERROR(MATCH($F58,$B$6:$B$105,0)),0,INDIRECT(ADDRESS(5+MATCH($F58,$B$6:$B$105,0),COLUMN(P$4)))))*IF($F58=\"\",IF(VLOOKUP($B58,SCHEMA_CE!$E$5:$F$54,2,FALSE)=\"C\",-1,1),IF(OR(VLOOKUP($B58,SCHEMA_CE!$E$5:$F$54,2,FALSE)=\"C\",VLOOKUP($F58,SCHEMA_CE!$E$5:$F$54,2,FALSE)=\"C\"),-1,1)))","v":0},{"$f":"IF($B58=\"\",\"\",K58*IF($F58=\"\",1,IF(ISERROR(MATCH($F58,$B$6:$B$105,0)),0,INDIRECT(ADDRESS(5+MATCH($F58,$B$6:$B$105,0),COLUMN(Q$4)))))*IF($F58=\"\",IF(VLOOKUP($B58,SCHEMA_CE!$E$5:$F$54,2,FALSE)=\"C\",-1,1),IF(OR(VLOOKUP($B58,SCHEMA_CE!$E$5:$F$54,2,FALSE)=\"C\",VLOOKUP($F58,SCHEMA_CE!$E$5:$F$54,2,FALSE)=\"C\"),-1,1)))","v":0},null,-5600,-6200,-6480,0,0]
[null,"020301_Energia elettrica",null,"+",1,"010101_Vendite prodotti",0.1,0.1,0.1,null,null,null,{"$f":"IF($B59=\"\",\"\",G59*IF($F59=\"\",1,IF(ISERROR(MATCH($F59,$B$6:$B$105,0)),0,INDIRECT(ADDRESS(5+MATCH($F59,$B$6:$B$105,0),COLUMN(M$4)))))*IF($F59=\"\",IF(VLOOKUP($B59,SCHEMA_CE!$E$5:$F$54,2,FALSE)=\"C\",-1,1),IF(OR(VLOOKUP($B59,SCHEMA_CE!$E$5:$F$54,2,FALSE)=\"C\",VLOOKUP($F59,SCHEMA_CE!$E$5:$F$54,2,FALSE)=\"C\"),-1,1)))","v":-1400},{"$f":"IF($B59=\"\",\"\",H59*IF($F59=\"\",1,IF(ISERROR(MATCH($F59,$B$6:$B$105,0)),0,INDIRECT(ADDRESS(5+MATCH($F59,$B$6:$B$105,0),COLUMN(N$4)))))*IF($F59=\"\",IF(VLOOKUP($B59,SCHEMA_CE!$E$5:$F$54,2,FALSE)=\"C\",-1,1),IF(OR(VLOOKUP($B59,SCHEMA_CE!$E$5:$F$54,2,FALSE)=\"C\",VLOOKUP($F59,SCHEMA_CE!$E$5:$F$54,2,FALSE)=\"C\"),-1,1)))","v":-1550},{"$f":"IF($B59=\"\",\"\",I59*IF($F59=\"\",1,IF(ISERROR(MATCH($F59,$B$6:$B$105,0)),0,INDIRECT(ADDRESS(5+MATCH($F59,$B$6:$B$105,0),COLUMN(O$4)))))*IF($F59=\"\",IF(VLOOKUP($B59,SCHEMA_CE!$E$5:$F$54,2,FALSE)=\"C\",-1,1),IF(OR(VLOOKUP($B59,SCHEMA_CE!$E$5:$F$54,2,FALSE)=\"C\",VLOOKUP($F59,SCHEMA_CE!$E$5:$F$54,2,FALSE)=\"C\"),-1,1)))","v":-1620},{"$f":"IF($B59=\"\",\"\",J59*IF($F59=\"\",1,IF(ISERROR(MATCH($F59,$B$6:$B$105,0)),0,INDIRECT(ADDRESS(5+MATCH($F59,$B$6:$B$105,0),COLUMN(P$4)))))*IF($F59=\"\",IF(VLOOKUP($B59,SCHEMA_CE!$E$5:$F$54,2,FALSE)=\"C\",-1,1),IF(OR(VLOOKUP($B59,SCHEMA_CE!$E$5:$F$54,2,FALSE)=\"C\",VLOOKUP($F59,SCHEMA_CE!$E$5:$F$54,2,FALSE)=\"C\"),-1,1)))","v":0},{"$f":"IF($B59=\"\",\"\",K59*IF($F59=\"\",1,IF(ISERROR(MATCH($F59,$B$6:$B$105,0)),0,INDIRECT(ADDRESS(5+MATCH($F59,$B$6:$B$105,0),COLUMN(Q$4)))))*IF($F59=\"\",IF(VLOOKUP($B59,SCHEMA_CE!$E$5:$F$54,2,FALSE)=\"C\",-1,1),IF(OR(VLOOKUP($B59,SCHEMA_CE!$E$5:$F$54,2,FALSE)=\"C\",VLOOKUP($F59,SCHEMA_CE!$E$5:$F$54,2,FALSE)=\"C\"),-1,1)))","v":0},null,-1400,-1550,-1620,0,0]
[null,"020311_Manutenzioni",null,"+",1,null,15,25,40,null,null,null,{"$f":"IF($B60=\"\",\"\",G60*IF($F60=\"\",1,IF(ISERROR(MATCH($F60,$B$6:$B$105,0)),0,INDIRECT(ADDRESS(5+MATCH($F60,$B$6:$B$105,0),COLUMN(M$4)))))*IF($F60=\"\",IF(VLOOKUP($B60,SCHEMA_CE!$E$5:$F$54,2,FALSE)=\"C\",-1,1),IF(OR(VLOOKUP($B60,SCHEMA_CE!$E$5:$F$54,2,FALSE)=\"C\",VLOOKUP($F60,SCHEMA_CE!$E$5:$F$54,2,FALSE)=\"C\"),-1,1)))","v":-15},{"$f":"IF($B60=\"\",\"\",H60*IF($F60=\"\",1,IF(ISERROR(MATCH($F60,$B$6:$B$105,0)),0,INDIRECT(ADDRESS(5+MATCH($F60,$B$6:$B$105,0),COLUMN(N$4)))))*IF($F60=\"\",IF(VLOOKUP($B60,SCHEMA_CE!$E$5:$F$54,2,FALSE)=\"C\",-1,1),IF(OR(VLOOKUP($B60,SCHEMA_CE!$E$5:$F$54,2,FALSE)=\"C\",VLOOKUP($F60,SCHEMA_CE!$E$5:$F$54,2,FALSE)=\"C\"),-1,1)))","v":-25},{"$f":"IF($B60=\"\",\"\",I60*IF($F60=\"\",1,IF(ISERROR(MATCH($F60,$B$6:$B$105,0)),0,INDIRECT(ADDRESS(5+MATCH($F60,$B$6:$B$105,0),COLUMN(O$4)))))*IF($F60=\"\",IF(VLOOKUP($B60,SCHEMA_CE!$E$5:$F$54,2,FALSE)=\"C\",-1,1),IF(OR(VLOOKUP($B60,SCHEMA_CE!$E$5:$F$54,2,FALSE)=\"C\",VLOOKUP($F60,SCHEMA_CE!$E$5:$F$54,2,FALSE)=\"C\"),-1,1)))","v":-40},{"$f":"IF($B60=\"\",\"\",J60*IF($F60=\"\",1,IF(ISERROR(MATCH($F60,$B$6:$B$105,0)),0,INDIRECT(ADDRESS(5+MATCH($F60,$B$6:$B$105,0),COLUMN(P$4)))))*IF($F60=\"\",IF(VLOOKUP($B60,SCHEMA_CE!$E$5:$F$54,2,FALSE)=\"C\",-1,1),IF(OR(VLOOKUP($B60,SCHEMA_CE!$E$5:$F$54,2,FALSE)=\"C\",VLOOKUP($F60,SCHEMA_CE!$E$5:$F$54,2,FALSE)=\"C\"),-1,1)))","v":0},{"$f":"IF($B60=\"\",\"\",K60*IF($F60=\"\",1,IF(ISERROR(MATCH($F60,$B$6:$B$105,0)),0,INDIRECT(ADDRESS(5+MATCH($F60,$B$6:$B$105,0),COLUMN(Q$4)))))*IF($F60=\"\",IF(VLOOKUP($B60,SCHEMA_CE!$E$5:$F$54,2,FALSE)=\"C\",-1,1),IF(OR(VLOOKUP($B60,SCHEMA_CE!$E$5:$F$54,2,FALSE)=\"C\",VLOOKUP($F60,SCHEMA_CE!$E$5:$F$54,2,FALSE)=\"C\"),-1,1)))","v":0},null,-15,-25,-40,0,0]
[null,"020321_Altri costi industriali",0.2,"+",1,"010101_Vendite prodotti",0.1,0.1,0.1,null,null,null,{"$f":"IF($B61=\"\",\"\",G61*IF($F61=\"\",1,IF(ISERROR(MATCH($F61,$B$6:$B$105,0)),0,INDIRECT(ADDRESS(5+MATCH($F61,$B$6:$B$105,0),COLUMN(M$4)))))*IF($F61=\"\",IF(VLOOKUP($B61,SCHEMA_CE!$E$5:$F$54,2,FALSE)=\"C\",-1,1),IF(OR(VLOOKUP($B61,SCHEMA_CE!$E$5:$F$54,2,FALSE)=\"C\",VLOOKUP($F61,SCHEMA_CE!$E$5:$F$54,2,FALSE)=\"C\"),-1,1)))","v":-1400},{"$f":"IF($B61=\"\",\"\",H61*IF($F61=\"\",1,IF(ISERROR(MATCH($F61,$B$6:$B$105,0)),0,INDIRECT(ADDRESS(5+MATCH($F61,$B$6:$B$105,0),COLUMN(N$4)))))*IF($F61=\"\",IF(VLOOKUP($B61,SCHEMA_CE!$E$5:$F$54,2,FALSE)=\"C\",-1,1),IF(OR(VLOOKUP($B61,SCHEMA_CE!$E$5:$F$54,2,FALSE)=\"C\",VLOOKUP($F61,SCHEMA_CE!$E$5:$F$54,2,FALSE)=\"C\"),-1,1)))","v":-1550},{"$f":"IF($B61=\"\",\"\",I61*IF($F61=\"\",1,IF(ISERROR(MATCH($F61,$B$6:$B$105,0)),0,INDIRECT(ADDRESS(5+MATCH($F61,$B$6:$B$105,0),COLUMN(O$4)))))*IF($F61=\"\",IF(VLOOKUP($B61,SCHEMA_CE!$E$5:$F$54,2,FALSE)=\"C\",-1,1),IF(OR(VLOOKUP($B61,SCHEMA_CE!$E$5:$F$54,2,FALSE)=\"C\",VLOOKUP($F61,SCHEMA_CE!$E$5:$F$54,2,FALSE)=\"C\"),-1,1)))","v":-1620},{"$f":"IF($B61=\"\",\"\",J61*IF($F61=\"\",1,IF(ISERROR(MATCH($F61,$B$6:$B$105,0)),0,INDIRECT(ADDRESS(5+MATCH($F61,$B$6:$B$105,0),COLUMN(P$4)))))*IF($F61=\"\",IF(VLOOKUP($B61,SCHEMA_CE!$E$5:$F$54,2,FALSE)=\"C\",-1,1),IF(OR(VLOOKUP($B61,SCHEMA_CE!$E$5:$F$54,2,FALSE)=\"C\",VLOOKUP($F61,SCHEMA_CE!$E$5:$F$54,2,FALSE)=\"C\"),-1,1)))","v":0},{"$f":"IF($B61=\"\",\"\",K61*IF($F61=\"\",1,IF(ISERROR(MATCH($F61,$B$6:$B$105,0)),0,INDIRECT(ADDRESS(5+MATCH($F61,$B$6:$B$105,0),COLUMN(Q$4)))))*IF($F61=\"\",IF(VLOOKUP($B61,SCHEMA_CE!$E$5:$F$54,2,FALSE)=\"C\",-1,1),IF(OR(VLOOKUP($B61,SCHEMA_CE!$E$5:$F$54,2,FALSE)=\"C\",VLOOKUP($F61,SCHEMA_CE!$E$5:$F$54,2,FALSE)=\"C\"),-1,1)))","v":0},null,-1400,-1550,-1620,0,0]
[null,"020331_Ammortamenti industriali",null,"+",1,null,150,300,450,null,null,null,{"$f":"IF($B62=\"\",\"\",G62*IF($F62=\"\",1,IF(ISERROR(MATCH($F62,$B$6:$B$105,0)),0,INDIRECT(ADDRESS(5+MATCH($F62,$B$6:$B$105,0),COLUMN(M$4)))))*IF($F62=\"\",IF(VLOOKUP($B62,SCHEMA_CE!$E$5:$F$54,2,FALSE)=\"C\",-1,1),IF(OR(VLOOKUP($B62,SCHEMA_CE!$E$5:$F$54,2,FALSE)=\"C\",VLOOKUP($F62,SCHEMA_CE!$E$5:$F$54,2,FALSE)=\"C\"),-1,1)))","v":-150},{"$f":"IF($B62=\"\",\"\",H62*IF($F62=\"\",1,IF(ISERROR(MATCH($F62,$B$6:$B$105,0)),0,INDIRECT(ADDRESS(5+MATCH($F62,$B$6:$B$105,0),COLUMN(N$4)))))*IF($F62=\"\",IF(VLOOKUP($B62,SCHEMA_CE!$E$5:$F$54,2,FALSE)=\"C\",-1,1),IF(OR(VLOOKUP($B62,SCHEMA_CE!$E$5:$F$54,2,FALSE)=\"C\",VLOOKUP($F62,SCHEMA_CE!$E$5:$F$54,2,FALSE)=\"C\"),-1,1)))","v":-300},{"$f":"IF($B62=\"\",\"\",I62*IF($F62=\"\",1,IF(ISERROR(MATCH($F62,$B$6:$B$105,0)),0,INDIRECT(ADDRESS(5+MATCH($F62,$B$6:$B$105,0),COLUMN(O$4)))))*IF($F62=\"\",IF(VLOOKUP($B62,SCHEMA_CE!$E$5:$F$54,2,FALSE)=\"C\",-1,1),IF(OR(VLOOKUP($B62,SCHEMA_CE!$E$5:$F$54,2,FALSE)=\"C\",VLOOKUP($F62,SCHEMA_CE!$E$5:$F$54,2,FALSE)=\"C\"),-1,1)))","v":-450},{"$f":"IF($B62=\"\",\"\",J62*IF($F62=\"\",1,IF(ISERROR(MATCH($F62,$B$6:$B$105,0)),0,INDIRECT(ADDRESS(5+MATCH($F62,$B$6:$B$105,0),COLUMN(P$4)))))*IF($F62=\"\",IF(VLOOKUP($B62,SCHEMA_CE!$E$5:$F$54,2,FALSE)=\"C\",-1,1),IF(OR(VLOOKUP($B62,SCHEMA_CE!$E$5:$F$54,2,FALSE)=\"C\",VLOOKUP($F62,SCHEMA_CE!$E$5:$F$54,2,FALSE)=\"C\"),-1,1)))","v":0},{"$f":"IF($B62=\"\",\"\",K62*IF($F62=\"\",1,IF(ISERROR(MATCH($F62,$B$6:$B$105,0)),0,INDIRECT(ADDRESS(5+MATCH($F62,$B$6:$B$105,0),COLUMN(Q$4)))))*IF($F62=\"\",IF(VLOOKUP($B62,SCHEMA_CE!$E$5:$F$54,2,FALSE)=\"C\",-1,1),IF(OR(VLOOKUP($B62,SCHEMA_CE!$E$5:$F$54,2,FALSE)=\"C\",VLOOKUP($F62,SCHEMA_CE!$E$5:$F$54,2,FALSE)=\"C\"),-1,1)))","v":0},null,-150,-300,-450,0,0]
[null,"030101_Provvigioni",0.2,"+",1,"010101_Vendite prodotti",5.0000000000000001E-3,5.0000000000000001E-3,5.0000000000000001E-3,null,null,null,{"$f":"IF($B63=\"\",\"\",G63*IF($F63=\"\",1,IF(ISERROR(MATCH($F63,$B$6:$B$105,0)),0,INDIRECT(ADDRESS(5+MATCH($F63,$B$6:$B$105,0),COLUMN(M$4)))))*IF($F63=\"\",IF(VLOOKUP($B63,SCHEMA_CE!$E$5:$F$54,2,FALSE)=\"C\",-1,1),IF(OR(VLOOKUP($B63,SCHEMA_CE!$E$5:$F$54,2,FALSE)=\"C\",VLOOKUP($F63,SCHEMA_CE!$E$5:$F$54,2,FALSE)=\"C\"),-1,1)))","v":-70},{"$f":"IF($B63=\"\",\"\",H63*IF($F63=\"\",1,IF(ISERROR(MATCH($F63,$B$6:$B$105,0)),0,INDIRECT(ADDRESS(5+MATCH($F63,$B$6:$B$105,0),COLUMN(N$4)))))*IF($F63=\"\",IF(VLOOKUP($B63,SCHEMA_CE!$E$5:$F$54,2,FALSE)=\"C\",-1,1),IF(OR(VLOOKUP($B63,SCHEMA_CE!$E$5:$F$54,2,FALSE)=\"C\",VLOOKUP($F63,SCHEMA_CE!$E$5:$F$54,2,FALSE)=\"C\"),-1,1)))","v":-77.5},{"$f":"IF($B63=\"\",\"\",I63*IF($F63=\"\",1,IF(ISERROR(MATCH($F63,$B$6:$B$105,0)),0,INDIRECT(ADDRESS(5+MATCH($F63,$B$6:$B$105,0),COLUMN(O$4)))))*IF($F63=\"\",IF(VLOOKUP($B63,SCHEMA_CE!$E$5:$F$54,2,FALSE)=\"C\",-1,1),IF(OR(VLOOKUP($B63,SCHEMA_CE!$E$5:$F$54,2,FALSE)=\"C\",VLOOKUP($F63,SCHEMA_CE!$E$5:$F$54,2,FALSE)=\"C\"),-1,1)))","v":-81},{"$f":"IF($B63=\"\",\"\",J63*IF($F63=\"\",1,IF(ISERROR(MATCH($F63,$B$6:$B$105,0)),0,INDIRECT(ADDRESS(5+MATCH($F63,$B$6:$B$105,0),COLUMN(P$4)))))*IF($F63=\"\",IF(VLOOKUP($B63,SCHEMA_CE!$E$5:$F$54,2,FALSE)=\"C\",-1,1),IF(OR(VLOOKUP($B63,SCHEMA_CE!$E$5:$F$54,2,FALSE)=\"C\",VLOOKUP($F63,SCHEMA_CE!$E$5:$F$54,2,FALSE)=\"C\"),-1,1)))","v":0},{"$f":"IF($B63=\"\",\"\",K63*IF($F63=\"\",1,IF(ISERROR(MATCH($F63,$B$6:$B$105,0)),0,INDIRECT(ADDRESS(5+MATCH($F63,$B$6:$B$105,0),COLUMN(Q$4)))))*IF($F63=\"\",IF(VLOOKUP($B63,SCHEMA_CE!$E$5:$F$54,2,FALSE)=\"C\",-1,1),IF(OR(VLOOKUP($B63,SCHEMA_CE!$E$5:$F$54,2,FALSE)=\"C\",VLOOKUP($F63,SCHEMA_CE!$E$5:$F$54,2,FALSE)=\"C\"),-1,1)))","v":0},null,-70,-77.5,-81,0,0]
[null,"030111_Promozioni/pubblicità",0.2,"+",1,"010101_Vendite prodotti",0.05,0.05,0.05,null,null,null,{"$f":"IF($B64=\"\",\"\",G64*IF($F64=\"\",1,IF(ISERROR(MATCH($F64,$B$6:$B$105,0)),0,INDIRECT(ADDRESS(5+MATCH($F64,$B$6:$B$105,0),COLUMN(M$4)))))*IF($F64=\"\",IF(VLOOKUP($B64,SCHEMA_CE!$E$5:$F$54,2,FALSE)=\"C\",-1,1),IF(OR(VLOOKUP($B64,SCHEMA_CE!$E$5:$F$54,2,FALSE)=\"C\",VLOOKUP($F64,SCHEMA_CE!$E$5:$F$54,2,FALSE)=\"C\"),-1,1)))","v":-700},{"$f":"IF($B64=\"\",\"\",H64*IF($F64=\"\",1,IF(ISERROR(MATCH($F64,$B$6:$B$105,0)),0,INDIRECT(ADDRESS(5+MATCH($F64,$B$6:$B$105,0),COLUMN(N$4)))))*IF($F64=\"\",IF(VLOOKUP($B64,SCHEMA_CE!$E$5:$F$54,2,FALSE)=\"C\",-1,1),IF(OR(VLOOKUP($B64,SCHEMA_CE!$E$5:$F$54,2,FALSE)=\"C\",VLOOKUP($F64,SCHEMA_CE!$E$5:$F$54,2,FALSE)=\"C\"),-1,1)))","v":-775},{"$f":"IF($B64=\"\",\"\",I64*IF($F64=\"\",1,IF(ISERROR(MATCH($F64,$B$6:$B$105,0)),0,INDIRECT(ADDRESS(5+MATCH($F64,$B$6:$B$105,0),COLUMN(O$4)))))*IF($F64=\"\",IF(VLOOKUP($B64,SCHEMA_CE!$E$5:$F$54,2,FALSE)=\"C\",-1,1),IF(OR(VLOOKUP($B64,SCHEMA_CE!$E$5:$F$54,2,FALSE)=\"C\",VLOOKUP($F64,SCHEMA_CE!$E$5:$F$54,2,FALSE)=\"C\"),-1,1)))","v":-810},{"$f":"IF($B64=\"\",\"\",J64*IF($F64=\"\",1,IF(ISERROR(MATCH($F64,$B$6:$B$105,0)),0,INDIRECT(ADDRESS(5+MATCH($F64,$B$6:$B$105,0),COLUMN(P$4)))))*IF($F64=\"\",IF(VLOOKUP($B64,SCHEMA_CE!$E$5:$F$54,2,FALSE)=\"C\",-1,1),IF(OR(VLOOKUP($B64,SCHEMA_CE!$E$5:$F$54,2,FALSE)=\"C\",VLOOKUP($F64,SCHEMA_CE!$E$5:$F$54,2,FALSE)=\"C\"),-1,1)))","v":0},{"$f":"IF($B64=\"\",\"\",K64*IF($F64=\"\",1,IF(ISERROR(MATCH($F64,$B$6:$B$105,0)),0,INDIRECT(ADDRESS(5+MATCH($F64,$B$6:$B$105,0),COLUMN(Q$4)))))*IF($F64=\"\",IF(VLOOKUP($B64,SCHEMA_CE!$E$5:$F$54,2,FALSE)=\"C\",-1,1),IF(OR(VLOOKUP($B64,SCHEMA_CE!$E$5:$F$54,2,FALSE)=\"C\",VLOOKUP($F64,SCHEMA_CE!$E$5:$F$54,2,FALSE)=\"C\"),-1,1)))","v":0},null,-700,-775,-810,0,0]
[null,"030121_Altri costi commerciali",0.2,"+",1,"010101_Vendite prodotti",0.03,0.03,0.03,null,null,null,{"$f":"IF($B65=\"\",\"\",G65*IF($F65=\"\",1,IF(ISERROR(MATCH($F65,$B$6:$B$105,0)),0,INDIRECT(ADDRESS(5+MATCH($F65,$B$6:$B$105,0),COLUMN(M$4)))))*IF($F65=\"\",IF(VLOOKUP($B65,SCHEMA_CE!$E$5:$F$54,2,FALSE)=\"C\",-1,1),IF(OR(VLOOKUP($B65,SCHEMA_CE!$E$5:$F$54,2,FALSE)=\"C\",VLOOKUP($F65,SCHEMA_CE!$E$5:$F$54,2,FALSE)=\"C\"),-1,1)))","v":-420},{"$f":"IF($B65=\"\",\"\",H65*IF($F65=\"\",1,IF(ISERROR(MATCH($F65,$B$6:$B$105,0)),0,INDIRECT(ADDRESS(5+MATCH($F65,$B$6:$B$105,0),COLUMN(N$4)))))*IF($F65=\"\",IF(VLOOKUP($B65,SCHEMA_CE!$E$5:$F$54,2,FALSE)=\"C\",-1,1),IF(OR(VLOOKUP($B65,SCHEMA_CE!$E$5:$F$54,2,FALSE)=\"C\",VLOOKUP($F65,SCHEMA_CE!$E$5:$F$54,2,FALSE)=\"C\"),-1,1)))","v":-465},{"$f":"IF($B65=\"\",\"\",I65*IF($F65=\"\",1,IF(ISERROR(MATCH($F65,$B$6:$B$105,0)),0,INDIRECT(ADDRESS(5+MATCH($F65,$B$6:$B$105,0),COLUMN(O$4)))))*IF($F65=\"\",IF(VLOOKUP($B65,SCHEMA_CE!$E$5:$F$54,2,FALSE)=\"C\",-1,1),IF(OR(VLOOKUP($B65,SCHEMA_CE!$E$5:$F$54,2,FALSE)=\"C\",VLOOKUP($F65,SCHEMA_CE!$E$5:$F$54,2,FALSE)=\"C\"),-1,1)))","v":-486},{"$f":"IF($B65=\"\",\"\",J65*IF($F65=\"\",1,IF(ISERROR(MATCH($F65,$B$6:$B$105,0)),0,INDIRECT(ADDRESS(5+MATCH($F65,$B$6:$B$105,0),COLUMN(P$4)))))*IF($F65=\"\",IF(VLOOKUP($B65,SCHEMA_CE!$E$5:$F$54,2,FALSE)=\"C\",-1,1),IF(OR(VLOOKUP($B65,SCHEMA_CE!$E$5:$F$54,2,FALSE)=\"C\",VLOOKUP($F65,SCHEMA_CE!$E$5:$F$54,2,FALSE)=\"C\"),-1,1)))","v":0},{"$f":"IF($B65=\"\",\"\",K65*IF($F65=\"\",1,IF(ISERROR(MATCH($F65,$B$6:$B$105,0)),0,INDIRECT(ADDRESS(5+MATCH($F65,$B$6:$B$105,0),COLUMN(Q$4)))))*IF($F65=\"\",IF(VLOOKUP($B65,SCHEMA_CE!$E$5:$F$54,2,FALSE)=\"C\",-1,1),IF(OR(VLOOKUP($B65,SCHEMA_CE!$E$5:$F$54,2,FALSE)=\"C\",VLOOKUP($F65,SCHEMA_CE!$E$5:$F$54,2,FALSE)=\"C\"),-1,1)))","v":0},null,-420,-465,-486,0,0]
[null,"030201_Ammortamenti",null,"+",1,null,200,400,600,null,null,null,{"$f":"IF($B66=\"\",\"\",G66*IF($F66=\"\",1,IF(ISERROR(MATCH($F66,$B$6:$B$105,0)),0,INDIRECT(ADDRESS(5+MATCH($F66,$B$6:$B$105,0),COLUMN(M$4)))))*IF($F66=\"\",IF(VLOOKUP($B66,SCHEMA_CE!$E$5:$F$54,2,FALSE)=\"C\",-1,1),IF(OR(VLOOKUP($B66,SCHEMA_CE!$E$5:$F$54,2,FALSE)=\"C\",VLOOKUP($F66,SCHEMA_CE!$E$5:$F$54,2,FALSE)=\"C\"),-1,1)))","v":-200},{"$f":"IF($B66=\"\",\"\",H66*IF($F66=\"\",1,IF(ISERROR(MATCH($F66,$B$6:$B$105,0)),0,INDIRECT(ADDRESS(5+MATCH($F66,$B$6:$B$105,0),COLUMN(N$4)))))*IF($F66=\"\",IF(VLOOKUP($B66,SCHEMA_CE!$E$5:$F$54,2,FALSE)=\"C\",-1,1),IF(OR(VLOOKUP($B66,SCHEMA_CE!$E$5:$F$54,2,FALSE)=\"C\",VLOOKUP($F66,SCHEMA_CE!$E$5:$F$54,2,FALSE)=\"C\"),-1,1)))","v":-400},{"$f":"IF($B66=\"\",\"\",I66*IF($F66=\"\",1,IF(ISERROR(MATCH($F66,$B$6:$B$105,0)),0,INDIRECT(ADDRESS(5+MATCH($F66,$B$6:$B$105,0),COLUMN(O$4)))))*IF($F66=\"\",IF(VLOOKUP($B66,SCHEMA_CE!$E$5:$F$54,2,FALSE)=\"C\",-1,1),IF(OR(VLOOKUP($B66,SCHEMA_CE!$E$5:$F$54,2,FALSE)=\"C\",VLOOKUP($F66,SCHEMA_CE!$E$5:$F$54,2,FALSE)=\"C\"),-1,1)))","v":-600},{"$f":"IF($B66=\"\",\"\",J66*IF($F66=\"\",1,IF(ISERROR(MATCH($F66,$B$6:$B$105,0)),0,INDIRECT(ADDRESS(5+MATCH($F66,$B$6:$B$105,0),COLUMN(P$4)))))*IF($F66=\"\",IF(VLOOKUP($B66,SCHEMA_CE!$E$5:$F$54,2,FALSE)=\"C\",-1,1),IF(OR(VLOOKUP($B66,SCHEMA_CE!$E$5:$F$54,2,FALSE)=\"C\",VLOOKUP($F66,SCHEMA_CE!$E$5:$F$54,2,FALSE)=\"C\"),-1,1)))","v":0},{"$f":"IF($B66=\"\",\"\",K66*IF($F66=\"\",1,IF(ISERROR(MATCH($F66,$B$6:$B$105,0)),0,INDIRECT(ADDRESS(5+MATCH($F66,$B$6:$B$105,0),COLUMN(Q$4)))))*IF($F66=\"\",IF(VLOOKUP($B66,SCHEMA_CE!$E$5:$F$54,2,FALSE)=\"C\",-1,1),IF(OR(VLOOKUP($B66,SCHEMA_CE!$E$5:$F$54,2,FALSE)=\"C\",VLOOKUP($F66,SCHEMA_CE!$E$5:$F$54,2,FALSE)=\"C\"),-1,1)))","v":0},null,-200,-400,-600,0,0]
[null,"030211_Personale ammmistrazione/struttura",null,"+",1,null,550,600,800,null,null,null,{"$f":"IF($B67=\"\",\"\",G67*IF($F67=\"\",1,IF(ISERROR(MATCH($F67,$B$6:$B$105,0)),0,INDIRECT(ADDRESS(5+MATCH($F67,$B$6:$B$105,0),COLUMN(M$4)))))*IF($F67=\"\",IF(VLOOKUP($B67,SCHEMA_CE!$E$5:$F$54,2,FALSE)=\"C\",-1,1),IF(OR(VLOOKUP($B67,SCHEMA_CE!$E$5:$F$54,2,FALSE)=\"C\",VLOOKUP($F67,SCHEMA_CE!$E$5:$F$54,2,FALSE)=\"C\"),-1,1)))","v":-550},{"$f":"IF($B67=\"\",\"\",H67*IF($F67=\"\",1,IF(ISERROR(MATCH($F67,$B$6:$B$105,0)),0,INDIRECT(ADDRESS(5+MATCH($F67,$B$6:$B$105,0),COLUMN(N$4)))))*IF($F67=\"\",IF(VLOOKUP($B67,SCHEMA_CE!$E$5:$F$54,2,FALSE)=\"C\",-1,1),IF(OR(VLOOKUP($B67,SCHEMA_CE!$E$5:$F$54,2,FALSE)=\"C\",VLOOKUP($F67,SCHEMA_CE!$E$5:$F$54,2,FALSE)=\"C\"),-1,1)))","v":-600},{"$f":"IF($B67=\"\",\"\",I67*IF($F67=\"\",1,IF(ISERROR(MATCH($F67,$B$6:$B$105,0)),0,INDIRECT(ADDRESS(5+MATCH($F67,$B$6:$B$105,0),COLUMN(O$4)))))*IF($F67=\"\",IF(VLOOKUP($B67,SCHEMA_CE!$E$5:$F$54,2,FALSE)=\"C\",-1,1),IF(OR(VLOOKUP($B67,SCHEMA_CE!$E$5:$F$54,2,FALSE)=\"C\",VLOOKUP($F67,SCHEMA_CE!$E$5:$F$54,2,FALSE)=\"C\"),-1,1)))","v":-800},{"$f":"IF($B67=\"\",\"\",J67*IF($F67=\"\",1,IF(ISERROR(MATCH($F67,$B$6:$B$105,0)),0,INDIRECT(ADDRESS(5+MATCH($F67,$B$6:$B$105,0),COLUMN(P$4)))))*IF($F67=\"\",IF(VLOOKUP($B67,SCHEMA_CE!$E$5:$F$54,2,FALSE)=\"C\",-1,1),IF(OR(VLOOKUP($B67,SCHEMA_CE!$E$5:$F$54,2,FALSE)=\"C\",VLOOKUP($F67,SCHEMA_CE!$E$5:$F$54,2,FALSE)=\"C\"),-1,1)))","v":0},{"$f":"IF($B67=\"\",\"\",K67*IF($F67=\"\",1,IF(ISERROR(MATCH($F67,$B$6:$B$105,0)),0,INDIRECT(ADDRESS(5+MATCH($F67,$B$6:$B$105,0),COLUMN(Q$4)))))*IF($F67=\"\",IF(VLOOKUP($B67,SCHEMA_CE!$E$5:$F$54,2,FALSE)=\"C\",-1,1),IF(OR(VLOOKUP($B67,SCHEMA_CE!$E$5:$F$54,2,FALSE)=\"C\",VLOOKUP($F67,SCHEMA_CE!$E$5:$F$54,2,FALSE)=\"C\"),-1,1)))","v":0},null,-550,-600,-800,0,0]
[null,"030221_Altri costi amministrativi",0.2,"+",1,null,1000,1250,1100,null,null,null,{"$f":"IF($B68=\"\",\"\",G68*IF($F68=\"\",1,IF(ISERROR(MATCH($F68,$B$6:$B$105,0)),0,INDIRECT(ADDRESS(5+MATCH($F68,$B$6:$B$105,0),COLUMN(M$4)))))*IF($F68=\"\",IF(VLOOKUP($B68,SCHEMA_CE!$E$5:$F$54,2,FALSE)=\"C\",-1,1),IF(OR(VLOOKUP($B68,SCHEMA_CE!$E$5:$F$54,2,FALSE)=\"C\",VLOOKUP($F68,SCHEMA_CE!$E$5:$F$54,2,FALSE)=\"C\"),-1,1)))","v":-1000},{"$f":"IF($B68=\"\",\"\",H68*IF($F68=\"\",1,IF(ISERROR(MATCH($F68,$B$6:$B$105,0)),0,INDIRECT(ADDRESS(5+MATCH($F68,$B$6:$B$105,0),COLUMN(N$4)))))*IF($F68=\"\",IF(VLOOKUP($B68,SCHEMA_CE!$E$5:$F$54,2,FALSE)=\"C\",-1,1),IF(OR(VLOOKUP($B68,SCHEMA_CE!$E$5:$F$54,2,FALSE)=\"C\",VLOOKUP($F68,SCHEMA_CE!$E$5:$F$54,2,FALSE)=\"C\"),-1,1)))","v":-1250},{"$f":"IF($B68=\"\",\"\",I68*IF($F68=\"\",1,IF(ISERROR(MATCH($F68,$B$6:$B$105,0)),0,INDIRECT(ADDRESS(5+MATCH($F68,$B$6:$B$105,0),COLUMN(O$4)))))*IF($F68=\"\",IF(VLOOKUP($B68,SCHEMA_CE!$E$5:$F$54,2,FALSE)=\"C\",-1,1),IF(OR(VLOOKUP($B68,SCHEMA_CE!$E$5:$F$54,2,FALSE)=\"C\",VLOOKUP($F68,SCHEMA_CE!$E$5:$F$54,2,FALSE)=\"C\"),-1,1)))","v":-1100},{"$f":"IF($B68=\"\",\"\",J68*IF($F68=\"\",1,IF(ISERROR(MATCH($F68,$B$6:$B$105,0)),0,INDIRECT(ADDRESS(5+MATCH($F68,$B$6:$B$105,0),COLUMN(P$4)))))*IF($F68=\"\",IF(VLOOKUP($B68,SCHEMA_CE!$E$5:$F$54,2,FALSE)=\"C\",-1,1),IF(OR(VLOOKUP($B68,SCHEMA_CE!$E$5:$F$54,2,FALSE)=\"C\",VLOOKUP($F68,SCHEMA_CE!$E$5:$F$54,2,FALSE)=\"C\"),-1,1)))","v":0},{"$f":"IF($B68=\"\",\"\",K68*IF($F68=\"\",1,IF(ISERROR(MATCH($F68,$B$6:$B$105,0)),0,INDIRECT(ADDRESS(5+MATCH($F68,$B$6:$B$105,0),COLUMN(Q$4)))))*IF($F68=\"\",IF(VLOOKUP($B68,SCHEMA_CE!$E$5:$F$54,2,FALSE)=\"C\",-1,1),IF(OR(VLOOKUP($B68,SCHEMA_CE!$E$5:$F$54,2,FALSE)=\"C\",VLOOKUP($F68,SCHEMA_CE!$E$5:$F$54,2,FALSE)=\"C\"),-1,1)))","v":0},null,-1000,-1250,-1100,0,0]
[null,"040102_Oneri di natura extra operativa",null,"+",1,"040101_Proventi di natura extra operativa",0.01,0.01,0.01,null,null,null,{"$f":"IF($B69=\"\",\"\",G69*IF($F69=\"\",1,IF(ISERROR(MATCH($F69,$B$6:$B$105,0)),0,INDIRECT(ADDRESS(5+MATCH($F69,$B$6:$B$105,0),COLUMN(M$4)))))*IF($F69=\"\",IF(VLOOKUP($B69,SCHEMA_CE!$E$5:$F$54,2,FALSE)=\"C\",-1,1),IF(OR(VLOOKUP($B69,SCHEMA_CE!$E$5:$F$54,2,FALSE)=\"C\",VLOOKUP($F69,SCHEMA_CE!$E$5:$F$54,2,FALSE)=\"C\"),-1,1)))","v":-7},{"$f":"IF($B69=\"\",\"\",H69*IF($F69=\"\",1,IF(ISERROR(MATCH($F69,$B$6:$B$105,0)),0,INDIRECT(ADDRESS(5+MATCH($F69,$B$6:$B$105,0),COLUMN(N$4)))))*IF($F69=\"\",IF(VLOOKUP($B69,SCHEMA_CE!$E$5:$F$54,2,FALSE)=\"C\",-1,1),IF(OR(VLOOKUP($B69,SCHEMA_CE!$E$5:$F$54,2,FALSE)=\"C\",VLOOKUP($F69,SCHEMA_CE!$E$5:$F$54,2,FALSE)=\"C\"),-1,1)))","v":-7.75},{"$f":"IF($B69=\"\",\"\",I69*IF($F69=\"\",1,IF(ISERROR(MATCH($F69,$B$6:$B$105,0)),0,INDIRECT(ADDRESS(5+MATCH($F69,$B$6:$B$105,0),COLUMN(O$4)))))*IF($F69=\"\",IF(VLOOKUP($B69,SCHEMA_CE!$E$5:$F$54,2,FALSE)=\"C\",-1,1),IF(OR(VLOOKUP($B69,SCHEMA_CE!$E$5:$F$54,2,FALSE)=\"C\",VLOOKUP($F69,SCHEMA_CE!$E$5:$F$54,2,FALSE)=\"C\"),-1,1)))","v":-8.1},{"$f":"IF($B69=\"\",\"\",J69*IF($F69=\"\",1,IF(ISERROR(MATCH($F69,$B$6:$B$105,0)),0,INDIRECT(ADDRESS(5+MATCH($F69,$B$6:$B$105,0),COLUMN(P$4)))))*IF($F69=\"\",IF(VLOOKUP($B69,SCHEMA_CE!$E$5:$F$54,2,FALSE)=\"C\",-1,1),IF(OR(VLOOKUP($B69,SCHEMA_CE!$E$5:$F$54,2,FALSE)=\"C\",VLOOKUP($F69,SCHEMA_CE!$E$5:$F$54,2,FALSE)=\"C\"),-1,1)))","v":0},{"$f":"IF($B69=\"\",\"\",K69*IF($F69=\"\",1,IF(ISERROR(MATCH($F69,$B$6:$B$105,0)),0,INDIRECT(ADDRESS(5+MATCH($F69,$B$6:$B$105,0),COLUMN(Q$4)))))*IF($F69=\"\",IF(VLOOKUP($B69,SCHEMA_CE!$E$5:$F$54,2,FALSE)=\"C\",-1,1),IF(OR(VLOOKUP($B69,SCHEMA_CE!$E$5:$F$54,2,FALSE)=\"C\",VLOOKUP($F69,SCHEMA_CE!$E$5:$F$54,2,FALSE)=\"C\"),-1,1)))","v":0},null,-7,-7.75,-8.1,0,0]
[null,"040211_Oneri finanziari",null,"+",1,null,20,15,40,null,null,null,{"$f":"IF($B70=\"\",\"\",G70*IF($F70=\"\",1,IF(ISERROR(MATCH($F70,$B$6:$B$105,0)),0,INDIRECT(ADDRESS(5+MATCH($F70,$B$6:$B$105,0),COLUMN(M$4)))))*IF($F70=\"\",IF(VLOOKUP($B70,SCHEMA_CE!$E$5:$F$54,2,FALSE)=\"C\",-1,1),IF(OR(VLOOKUP($B70,SCHEMA_CE!$E$5:$F$54,2,FALSE)=\"C\",VLOOKUP($F70,SCHEMA_CE!$E$5:$F$54,2,FALSE)=\"C\"),-1,1)))","v":-20},{"$f":"IF($B70=\"\",\"\",H70*IF($F70=\"\",1,IF(ISERROR(MATCH($F70,$B$6:$B$105,0)),0,INDIRECT(ADDRESS(5+MATCH($F70,$B$6:$B$105,0),COLUMN(N$4)))))*IF($F70=\"\",IF(VLOOKUP($B70,SCHEMA_CE!$E$5:$F$54,2,FALSE)=\"C\",-1,1),IF(OR(VLOOKUP($B70,SCHEMA_CE!$E$5:$F$54,2,FALSE)=\"C\",VLOOKUP($F70,SCHEMA_CE!$E$5:$F$54,2,FALSE)=\"C\"),-1,1)))","v":-15},{"$f":"IF($B70=\"\",\"\",I70*IF($F70=\"\",1,IF(ISERROR(MATCH($F70,$B$6:$B$105,0)),0,INDIRECT(ADDRESS(5+MATCH($F70,$B$6:$B$105,0),COLUMN(O$4)))))*IF($F70=\"\",IF(VLOOKUP($B70,SCHEMA_CE!$E$5:$F$54,2,FALSE)=\"C\",-1,1),IF(OR(VLOOKUP($B70,SCHEMA_CE!$E$5:$F$54,2,FALSE)=\"C\",VLOOKUP($F70,SCHEMA_CE!$E$5:$F$54,2,FALSE)=\"C\"),-1,1)))","v":-40},{"$f":"IF($B70=\"\",\"\",J70*IF($F70=\"\",1,IF(ISERROR(MATCH($F70,$B$6:$B$105,0)),0,INDIRECT(ADDRESS(5+MATCH($F70,$B$6:$B$105,0),COLUMN(P$4)))))*IF($F70=\"\",IF(VLOOKUP($B70,SCHEMA_CE!$E$5:$F$54,2,FALSE)=\"C\",-1,1),IF(OR(VLOOKUP($B70,SCHEMA_CE!$E$5:$F$54,2,FALSE)=\"C\",VLOOKUP($F70,SCHEMA_CE!$E$5:$F$54,2,FALSE)=\"C\"),-1,1)))","v":0},{"$f":"IF($B70=\"\",\"\",K70*IF($F70=\"\",1,IF(ISERROR(MATCH($F70,$B$6:$B$105,0)),0,INDIRECT(ADDRESS(5+MATCH($F70,$B$6:$B$105,0),COLUMN(Q$4)))))*IF($F70=\"\",IF(VLOOKUP($B70,SCHEMA_CE!$E$5:$F$54,2,FALSE)=\"C\",-1,1),IF(OR(VLOOKUP($B70,SCHEMA_CE!$E$5:$F$54,2,FALSE)=\"C\",VLOOKUP($F70,SCHEMA_CE!$E$5:$F$54,2,FALSE)=\"C\"),-1,1)))","v":0},null,-20,-15,-40,0,0]
[null,null,null,null,null,null,null,null,null,null,null,null,{"$f":"IF($B71=\"\",\"\",G71*IF($F71=\"\",1,IF(ISERROR(MATCH($F71,$B$6:$B$105,0)),0,INDIRECT(ADDRESS(5+MATCH($F71,$B$6:$B$105,0),COLUMN(M$4)))))*IF($F71=\"\",IF(VLOOKUP($B71,SCHEMA_CE!$E$5:$F$54,2,FALSE)=\"C\",-1,1),IF(OR(VLOOKUP($B71,SCHEMA_CE!$E$5:$F$54,2,FALSE)=\"C\",VLOOKUP($F71,SCHEMA_CE!$E$5:$F$54,2,FALSE)=\"C\"),-1,1)))","v":""},{"$f":"IF($B71=\"\",\"\",H71*IF($F71=\"\",1,IF(ISERROR(MATCH($F71,$B$6:$B$105,0)),0,INDIRECT(ADDRESS(5+MATCH($F71,$B$6:$B$105,0),COLUMN(N$4)))))*IF($F71=\"\",IF(VLOOKUP($B71,SCHEMA_CE!$E$5:$F$54,2,FALSE)=\"C\",-1,1),IF(OR(VLOOKUP($B71,SCHEMA_CE!$E$5:$F$54,2,FALSE)=\"C\",VLOOKUP($F71,SCHEMA_CE!$E$5:$F$54,2,FALSE)=\"C\"),-1,1)))","v":""},{"$f":"IF($B71=\"\",\"\",I71*IF($F71=\"\",1,IF(ISERROR(MATCH($F71,$B$6:$B$105,0)),0,INDIRECT(ADDRESS(5+MATCH($F71,$B$6:$B$105,0),COLUMN(O$4)))))*IF($F71=\"\",IF(VLOOKUP($B71,SCHEMA_CE!$E$5:$F$54,2,FALSE)=\"C\",-1,1),IF(OR(VLOOKUP($B71,SCHEMA_CE!$E$5:$F$54,2,FALSE)=\"C\",VLOOKUP($F71,SCHEMA_CE!$E$5:$F$54,2,FALSE)=\"C\"),-1,1)))","v":""},{"$f":"IF($B71=\"\",\"\",J71*IF($F71=\"\",1,IF(ISERROR(MATCH($F71,$B$6:$B$105,0)),0,INDIRECT(ADDRESS(5+MATCH($F71,$B$6:$B$105,0),COLUMN(P$4)))))*IF($F71=\"\",IF(VLOOKUP($B71,SCHEMA_CE!$E$5:$F$54,2,FALSE)=\"C\",-1,1),IF(OR(VLOOKUP($B71,SCHEMA_CE!$E$5:$F$54,2,FALSE)=\"C\",VLOOKUP($F71,SCHEMA_CE!$E$5:$F$54,2,FALSE)=\"C\"),-1,1)))","v":""},{"$f":"IF($B71=\"\",\"\",K71*IF($F71=\"\",1,IF(ISERROR(MATCH($F71,$B$6:$B$105,0)),0,INDIRECT(ADDRESS(5+MATCH($F71,$B$6:$B$105,0),COLUMN(Q$4)))))*IF($F71=\"\",IF(VLOOKUP($B71,SCHEMA_CE!$E$5:$F$54,2,FALSE)=\"C\",-1,1),IF(OR(VLOOKUP($B71,SCHEMA_CE!$E$5:$F$54,2,FALSE)=\"C\",VLOOKUP($F71,SCHEMA_CE!$E$5:$F$54,2,FALSE)=\"C\"),-1,1)))","v":""},null,{"$f":"IF($B71=\"\",\"\",M71*$E71)","v":""},{"$f":"IF($B71=\"\",\"\",N71*$E71)","v":""},{"$f":"IF($B71=\"\",\"\",O71*$E71)","v":""},{"$f":"IF($B71=\"\",\"\",P71*$E71)","v":""},{"$f":"IF($B71=\"\",\"\",Q71*$E71)","v":""}]
[null,null,null,null,null,null,null,null,null,null,null,null,{"$f":"IF($B72=\"\",\"\",G72*IF($F72=\"\",1,IF(ISERROR(MATCH($F72,$B$6:$B$105,0)),0,INDIRECT(ADDRESS(5+MATCH($F72,$B$6:$B$105,0),COLUMN(M$4)))))*IF($F72=\"\",IF(VLOOKUP($B72,SCHEMA_CE!$E$5:$F$54,2,FALSE)=\"C\",-1,1),IF(OR(VLOOKUP($B72,SCHEMA_CE!$E$5:$F$54,2,FALSE)=\"C\",VLOOKUP($F72,SCHEMA_CE!$E$5:$F$54,2,FALSE)=\"C\"),-1,1)))","v":""},{"$f":"IF($B72=\"\",\"\",H72*IF($F72=\"\",1,IF(ISERROR(MATCH($F72,$B$6:$B$105,0)),0,INDIRECT(ADDRESS(5+MATCH($F72,$B$6:$B$105,0),COLUMN(N$4)))))*IF($F72=\"\",IF(VLOOKUP($B72,SCHEMA_CE!$E$5:$F$54,2,FALSE)=\"C\",-1,1),IF(OR(VLOOKUP($B72,SCHEMA_CE!$E$5:$F$54,2,FALSE)=\"C\",VLOOKUP($F72,SCHEMA_CE!$E$5:$F$54,2,FALSE)=\"C\"),-1,1)))","v":""},{"$f":"IF($B72=\"\",\"\",I72*IF($F72=\"\",1,IF(ISERROR(MATCH($F72,$B$6:$B$105,0)),0,INDIRECT(ADDRESS(5+MATCH($F72,$B$6:$B$105,0),COLUMN(O$4)))))*IF($F72=\"\",IF(VLOOKUP($B72,SCHEMA_CE!$E$5:$F$54,2,FALSE)=\"C\",-1,1),IF(OR(VLOOKUP($B72,SCHEMA_CE!$E$5:$F$54,2,FALSE)=\"C\",VLOOKUP($F72,SCHEMA_CE!$E$5:$F$54,2,FALSE)=\"C\"),-1,1)))","v":""},{"$f":"IF($B72=\"\",\"\",J72*IF($F72=\"\",1,IF(ISERROR(MATCH($F72,$B$6:$B$105,0)),0,INDIRECT(ADDRESS(5+MATCH($F72,$B$6:$B$105,0),COLUMN(P$4)))))*IF($F72=\"\",IF(VLOOKUP($B72,SCHEMA_CE!$E$5:$F$54,2,FALSE)=\"C\",-1,1),IF(OR(VLOOKUP($B72,SCHEMA_CE!$E$5:$F$54,2,FALSE)=\"C\",VLOOKUP($F72,SCHEMA_CE!$E$5:$F$54,2,FALSE)=\"C\"),-1,1)))","v":""},{"$f":"IF($B72=\"\",\"\",K72*IF($F72=\"\",1,IF(ISERROR(MATCH($F72,$B$6:$B$105,0)),0,INDIRECT(ADDRESS(5+MATCH($F72,$B$6:$B$105,0),COLUMN(Q$4)))))*IF($F72=\"\",IF(VLOOKUP($B72,SCHEMA_CE!$E$5:$F$54,2,FALSE)=\"C\",-1,1),IF(OR(VLOOKUP($B72,SCHEMA_CE!$E$5:$F$54,2,FALSE)=\"C\",VLOOKUP($F72,SCHEMA_CE!$E$5:$F$54,2,FALSE)=\"C\"),-1,1)))","v":""},null,"","","","",""]
[null,null,null,null,null,null,null,null,null,null,null,null,{"$f":"IF($B73=\"\",\"\",G73*IF($F73=\"\",1,IF(ISERROR(MATCH($F73,$B$6:$B$105,0)),0,INDIRECT(ADDRESS(5+MATCH($F73,$B$6:$B$105,0),COLUMN(M$4)))))*IF($F73=\"\",IF(VLOOKUP($B73,SCHEMA_CE!$E$5:$F$54,2,FALSE)=\"C\",-1,1),IF(OR(VLOOKUP($B73,SCHEMA_CE!$E$5:$F$54,2,FALSE)=\"C\",VLOOKUP($F73,SCHEMA_CE!$E$5:$F$54,2,FALSE)=\"C\"),-1,1)))","v":""},{"$f":"IF($B73=\"\",\"\",H73*IF($F73=\"\",1,IF(ISERROR(MATCH($F73,$B$6:$B$105,0)),0,INDIRECT(ADDRESS(5+MATCH($F73,$B$6:$B$105,0),COLUMN(N$4)))))*IF($F73=\"\",IF(VLOOKUP($B73,SCHEMA_CE!$E$5:$F$54,2,FALSE)=\"C\",-1,1),IF(OR(VLOOKUP($B73,SCHEMA_CE!$E$5:$F$54,2,FALSE)=\"C\",VLOOKUP($F73,SCHEMA_CE!$E$5:$F$54,2,FALSE)=\"C\"),-1,1)))","v":""},{"$f":"IF($B73=\"\",\"\",I73*IF($F73=\"\",1,IF(ISERROR(MATCH($F73,$B$6:$B$105,0)),0,INDIRECT(ADDRESS(5+MATCH($F73,$B$6:$B$105,0),COLUMN(O$4)))))*IF($F73=\"\",IF(VLOOKUP($B73,SCHEMA_CE!$E$5:$F$54,2,FALSE)=\"C\",-1,1),IF(OR(VLOOKUP($B73,SCHEMA_CE!$E$5:$F$54,2,FALSE)=\"C\",VLOOKUP($F73,SCHEMA_CE!$E$5:$F$54,2,FALSE)=\"C\"),-1,1)))","v":""},{"$f":"IF($B73=\"\",\"\",J73*IF($F73=\"\",1,IF(ISERROR(MATCH($F73,$B$6:$B$105,0)),0,INDIRECT(ADDRESS(5+MATCH($F73,$B$6:$B$105,0),COLUMN(P$4)))))*IF($F73=\"\",IF(VLOOKUP($B73,SCHEMA_CE!$E$5:$F$54,2,FALSE)=\"C\",-1,1),IF(OR(VLOOKUP($B73,SCHEMA_CE!$E$5:$F$54,2,FALSE)=\"C\",VLOOKUP($F73,SCHEMA_CE!$E$5:$F$54,2,FALSE)=\"C\"),-1,1)))","v":""},{"$f":"IF($B73=\"\",\"\",K73*IF($F73=\"\",1,IF(ISERROR(MATCH($F73,$B$6:$B$105,0)),0,INDIRECT(ADDRESS(5+MATCH($F73,$B$6:$B$105,0),COLUMN(Q$4)))))*IF($F73=\"\",IF(VLOOKUP($B73,SCHEMA_CE!$E$5:$F$54,2,FALSE)=\"C\",-1,1),IF(OR(VLOOKUP($B73,SCHEMA_CE!$E$5:$F$54,2,FALSE)=\"C\",VLOOKUP($F73,SCHEMA_CE!$E$5:$F$54,2,FALSE)=\"C\"),-1,1)))","v":""},null,"","","","",""]
[null,null,null,null,null,null,null,null,null,null,null,null,{"$f":"IF($B74=\"\",\"\",G74*IF($F74=\"\",1,IF(ISERROR(MATCH($F74,$B$6:$B$105,0)),0,INDIRECT(ADDRESS(5+MATCH($F74,$B$6:$B$105,0),COLUMN(M$4)))))*IF($F74=\"\",IF(VLOOKUP($B74,SCHEMA_CE!$E$5:$F$54,2,FALSE)=\"C\",-1,1),IF(OR(VLOOKUP($B74,SCHEMA_CE!$E$5:$F$54,2,FALSE)=\"C\",VLOOKUP($F74,SCHEMA_CE!$E$5:$F$54,2,FALSE)=\"C\"),-1,1)))","v":""},{"$f":"IF($B74=\"\",\"\",H74*IF($F74=\"\",1,IF(ISERROR(MATCH($F74,$B$6:$B$105,0)),0,INDIRECT(ADDRESS(5+MATCH($F74,$B$6:$B$105,0),COLUMN(N$4)))))*IF($F74=\"\",IF(VLOOKUP($B74,SCHEMA_CE!$E$5:$F$54,2,FALSE)=\"C\",-1,1),IF(OR(VLOOKUP($B74,SCHEMA_CE!$E$5:$F$54,2,FALSE)=\"C\",VLOOKUP($F74,SCHEMA_CE!$E$5:$F$54,2,FALSE)=\"C\"),-1,1)))","v":""},{"$f":"IF($B74=\"\",\"\",I74*IF($F74=\"\",1,IF(ISERROR(MATCH($F74,$B$6:$B$105,0)),0,INDIRECT(ADDRESS(5+MATCH($F74,$B$6:$B$105,0),COLUMN(O$4)))))*IF($F74=\"\",IF(VLOOKUP($B74,SCHEMA_CE!$E$5:$F$54,2,FALSE)=\"C\",-1,1),IF(OR(VLOOKUP($B74,SCHEMA_CE!$E$5:$F$54,2,FALSE)=\"C\",VLOOKUP($F74,SCHEMA_CE!$E$5:$F$54,2,FALSE)=\"C\"),-1,1)))","v":""},{"$f":"IF($B74=\"\",\"\",J74*IF($F74=\"\",1,IF(ISERROR(MATCH($F74,$B$6:$B$105,0)),0,INDIRECT(ADDRESS(5+MATCH($F74,$B$6:$B$105,0),COLUMN(P$4)))))*IF($F74=\"\",IF(VLOOKUP($B74,SCHEMA_CE!$E$5:$F$54,2,FALSE)=\"C\",-1,1),IF(OR(VLOOKUP($B74,SCHEMA_CE!$E$5:$F$54,2,FALSE)=\"C\",VLOOKUP($F74,SCHEMA_CE!$E$5:$F$54,2,FALSE)=\"C\"),-1,1)))","v":""},{"$f":"IF($B74=\"\",\"\",K74*IF($F74=\"\",1,IF(ISERROR(MATCH($F74,$B$6:$B$105,0)),0,INDIRECT(ADDRESS(5+MATCH($F74,$B$6:$B$105,0),COLUMN(Q$4)))))*IF($F74=\"\",IF(VLOOKUP($B74,SCHEMA_CE!$E$5:$F$54,2,FALSE)=\"C\",-1,1),IF(OR(VLOOKUP($B74,SCHEMA_CE!$E$5:$F$54,2,FALSE)=\"C\",VLOOKUP($F74,SCHEMA_CE!$E$5:$F$54,2,FALSE)=\"C\"),-1,1)))","v":""},null,"","","","",""]
[null,null,null,null,null,null,null,null,null,null,null,null,{"$f":"IF($B75=\"\",\"\",G75*IF($F75=\"\",1,IF(ISERROR(MATCH($F75,$B$6:$B$105,0)),0,INDIRECT(ADDRESS(5+MATCH($F75,$B$6:$B$105,0),COLUMN(M$4)))))*IF($F75=\"\",IF(VLOOKUP($B75,SCHEMA_CE!$E$5:$F$54,2,FALSE)=\"C\",-1,1),IF(OR(VLOOKUP($B75,SCHEMA_CE!$E$5:$F$54,2,FALSE)=\"C\",VLOOKUP($F75,SCHEMA_CE!$E$5:$F$54,2,FALSE)=\"C\"),-1,1)))","v":""},{"$f":"IF($B75=\"\",\"\",H75*IF($F75=\"\",1,IF(ISERROR(MATCH($F75,$B$6:$B$105,0)),0,INDIRECT(ADDRESS(5+MATCH($F75,$B$6:$B$105,0),COLUMN(N$4)))))*IF($F75=\"\",IF(VLOOKUP($B75,SCHEMA_CE!$E$5:$F$54,2,FALSE)=\"C\",-1,1),IF(OR(VLOOKUP($B75,SCHEMA_CE!$E$5:$F$54,2,FALSE)=\"C\",VLOOKUP($F75,SCHEMA_CE!$E$5:$F$54,2,FALSE)=\"C\"),-1,1)))","v":""},{"$f":"IF($B75=\"\",\"\",I75*IF($F75=\"\",1,IF(ISERROR(MATCH($F75,$B$6:$B$105,0)),0,INDIRECT(ADDRESS(5+MATCH($F75,$B$6:$B$105,0),COLUMN(O$4)))))*IF($F75=\"\",IF(VLOOKUP($B75,SCHEMA_CE!$E$5:$F$54,2,FALSE)=\"C\",-1,1),IF(OR(VLOOKUP($B75,SCHEMA_CE!$E$5:$F$54,2,FALSE)=\"C\",VLOOKUP($F75,SCHEMA_CE!$E$5:$F$54,2,FALSE)=\"C\"),-1,1)))","v":""},{"$f":"IF($B75=\"\",\"\",J75*IF($F75=\"\",1,IF(ISERROR(MATCH($F75,$B$6:$B$105,0)),0,INDIRECT(ADDRESS(5+MATCH($F75,$B$6:$B$105,0),COLUMN(P$4)))))*IF($F75=\"\",IF(VLOOKUP($B75,SCHEMA_CE!$E$5:$F$54,2,FALSE)=\"C\",-1,1),IF(OR(VLOOKUP($B75,SCHEMA_CE!$E$5:$F$54,2,FALSE)=\"C\",VLOOKUP($F75,SCHEMA_CE!$E$5:$F$54,2,FALSE)=\"C\"),-1,1)))","v":""},{"$f":"IF($B75=\"\",\"\",K75*IF($F75=\"\",1,IF(ISERROR(MATCH($F75,$B$6:$B$105,0)),0,INDIRECT(ADDRESS(5+MATCH($F75,$B$6:$B$105,0),COLUMN(Q$4)))))*IF($F75=\"\",IF(VLOOKUP($B75,SCHEMA_CE!$E$5:$F$54,2,FALSE)=\"C\",-1,1),IF(OR(VLOOKUP($B75,SCHEMA_CE!$E$5:$F$54,2,FALSE)=\"C\",VLOOKUP($F75,SCHEMA_CE!$E$5:$F$54,2,FALSE)=\"C\"),-1,1)))","v":""},null,"","","","",""]
[null,null,null,null,null,null,null,null,null,null,null,null,{"$f":"IF($B76=\"\",\"\",G76*IF($F76=\"\",1,IF(ISERROR(MATCH($F76,$B$6:$B$105,0)),0,INDIRECT(ADDRESS(5+MATCH($F76,$B$6:$B$105,0),COLUMN(M$4)))))*IF($F76=\"\",IF(VLOOKUP($B76,SCHEMA_CE!$E$5:$F$54,2,FALSE)=\"C\",-1,1),IF(OR(VLOOKUP($B76,SCHEMA_CE!$E$5:$F$54,2,FALSE)=\"C\",VLOOKUP($F76,SCHEMA_CE!$E$5:$F$54,2,FALSE)=\"C\"),-1,1)))","v":""},{"$f":"IF($B76=\"\",\"\",H76*IF($F76=\"\",1,IF(ISERROR(MATCH($F76,$B$6:$B$105,0)),0,INDIRECT(ADDRESS(5+MATCH($F76,$B$6:$B$105,0),COLUMN(N$4)))))*IF($F76=\"\",IF(VLOOKUP($B76,SCHEMA_CE!$E$5:$F$54,2,FALSE)=\"C\",-1,1),IF(OR(VLOOKUP($B76,SCHEMA_CE!$E$5:$F$54,2,FALSE)=\"C\",VLOOKUP($F76,SCHEMA_CE!$E$5:$F$54,2,FALSE)=\"C\"),-1,1)))","v":""},{"$f":"IF($B76=\"\",\"\",I76*IF($F76=\"\",1,IF(ISERROR(MATCH($F76,$B$6:$B$105,0)),0,INDIRECT(ADDRESS(5+MATCH($F76,$B$6:$B$105,0),COLUMN(O$4)))))*IF($F76=\"\",IF(VLOOKUP($B76,SCHEMA_CE!$E$5:$F$54,2,FALSE)=\"C\",-1,1),IF(OR(VLOOKUP($B76,SCHEMA_CE!$E$5:$F$54,2,FALSE)=\"C\",VLOOKUP($F76,SCHEMA_CE!$E$5:$F$54,2,FALSE)=\"C\"),-1,1)))","v":""},{"$f":"IF($B76=\"\",\"\",J76*IF($F76=\"\",1,IF(ISERROR(MATCH($F76,$B$6:$B$105,0)),0,INDIRECT(ADDRESS(5+MATCH($F76,$B$6:$B$105,0),COLUMN(P$4)))))*IF($F76=\"\",IF(VLOOKUP($B76,SCHEMA_CE!$E$5:$F$54,2,FALSE)=\"C\",-1,1),IF(OR(VLOOKUP($B76,SCHEMA_CE!$E$5:$F$54,2,FALSE)=\"C\",VLOOKUP($F76,SCHEMA_CE!$E$5:$F$54,2,FALSE)=\"C\"),-1,1)))","v":""},{"$f":"IF($B76=\"\",\"\",K76*IF($F76=\"\",1,IF(ISERROR(MATCH($F76,$B$6:$B$105,0)),0,INDIRECT(ADDRESS(5+MATCH($F76,$B$6:$B$105,0),COLUMN(Q$4)))))*IF($F76=\"\",IF(VLOOKUP($B76,SCHEMA_CE!$E$5:$F$54,2,FALSE)=\"C\",-1,1),IF(OR(VLOOKUP($B76,SCHEMA_CE!$E$5:$F$54,2,FALSE)=\"C\",VLOOKUP($F76,SCHEMA_CE!$E$5:$F$54,2,FALSE)=\"C\"),-1,1)))","v":""},null,"","","","",""]
[null,null,null,null,null,null,null,null,null,null,null,null,{"$f":"IF($B77=\"\",\"\",G77*IF($F77=\"\",1,IF(ISERROR(MATCH($F77,$B$6:$B$105,0)),0,INDIRECT(ADDRESS(5+MATCH($F77,$B$6:$B$105,0),COLUMN(M$4)))))*IF($F77=\"\",IF(VLOOKUP($B77,SCHEMA_CE!$E$5:$F$54,2,FALSE)=\"C\",-1,1),IF(OR(VLOOKUP($B77,SCHEMA_CE!$E$5:$F$54,2,FALSE)=\"C\",VLOOKUP($F77,SCHEMA_CE!$E$5:$F$54,2,FALSE)=\"C\"),-1,1)))","v":""},{"$f":"IF($B77=\"\",\"\",H77*IF($F77=\"\",1,IF(ISERROR(MATCH($F77,$B$6:$B$105,0)),0,INDIRECT(ADDRESS(5+MATCH($F77,$B$6:$B$105,0),COLUMN(N$4)))))*IF($F77=\"\",IF(VLOOKUP($B77,SCHEMA_CE!$E$5:$F$54,2,FALSE)=\"C\",-1,1),IF(OR(VLOOKUP($B77,SCHEMA_CE!$E$5:$F$54,2,FALSE)=\"C\",VLOOKUP($F77,SCHEMA_CE!$E$5:$F$54,2,FALSE)=\"C\"),-1,1)))","v":""},{"$f":"IF($B77=\"\",\"\",I77*IF($F77=\"\",1,IF(ISERROR(MATCH($F77,$B$6:$B$105,0)),0,INDIRECT(ADDRESS(5+MATCH($F77,$B$6:$B$105,0),COLUMN(O$4)))))*IF($F77=\"\",IF(VLOOKUP($B77,SCHEMA_CE!$E$5:$F$54,2,FALSE)=\"C\",-1,1),IF(OR(VLOOKUP($B77,SCHEMA_CE!$E$5:$F$54,2,FALSE)=\"C\",VLOOKUP($F77,SCHEMA_CE!$E$5:$F$54,2,FALSE)=\"C\"),-1,1)))","v":""},{"$f":"IF($B77=\"\",\"\",J77*IF($F77=\"\",1,IF(ISERROR(MATCH($F77,$B$6:$B$105,0)),0,INDIRECT(ADDRESS(5+MATCH($F77,$B$6:$B$105,0),COLUMN(P$4)))))*IF($F77=\"\",IF(VLOOKUP($B77,SCHEMA_CE!$E$5:$F$54,2,FALSE)=\"C\",-1,1),IF(OR(VLOOKUP($B77,SCHEMA_CE!$E$5:$F$54,2,FALSE)=\"C\",VLOOKUP($F77,SCHEMA_CE!$E$5:$F$54,2,FALSE)=\"C\"),-1,1)))","v":""},{"$f":"IF($B77=\"\",\"\",K77*IF($F77=\"\",1,IF(ISERROR(MATCH($F77,$B$6:$B$105,0)),0,INDIRECT(ADDRESS(5+MATCH($F77,$B$6:$B$105,0),COLUMN(Q$4)))))*IF($F77=\"\",IF(VLOOKUP($B77,SCHEMA_CE!$E$5:$F$54,2,FALSE)=\"C\",-1,1),IF(OR(VLOOKUP($B77,SCHEMA_CE!$E$5:$F$54,2,FALSE)=\"C\",VLOOKUP($F77,SCHEMA_CE!$E$5:$F$54,2,FALSE)=\"C\"),-1,1)))","v":""},null,"","","","",""]
[null,null,null,null,null,null,null,null,null,null,null,null,{"$f":"IF($B78=\"\",\"\",G78*IF($F78=\"\",1,IF(ISERROR(MATCH($F78,$B$6:$B$105,0)),0,INDIRECT(ADDRESS(5+MATCH($F78,$B$6:$B$105,0),COLUMN(M$4)))))*IF($F78=\"\",IF(VLOOKUP($B78,SCHEMA_CE!$E$5:$F$54,2,FALSE)=\"C\",-1,1),IF(OR(VLOOKUP($B78,SCHEMA_CE!$E$5:$F$54,2,FALSE)=\"C\",VLOOKUP($F78,SCHEMA_CE!$E$5:$F$54,2,FALSE)=\"C\"),-1,1)))","v":""},{"$f":"IF($B78=\"\",\"\",H78*IF($F78=\"\",1,IF(ISERROR(MATCH($F78,$B$6:$B$105,0)),0,INDIRECT(ADDRESS(5+MATCH($F78,$B$6:$B$105,0),COLUMN(N$4)))))*IF($F78=\"\",IF(VLOOKUP($B78,SCHEMA_CE!$E$5:$F$54,2,FALSE)=\"C\",-1,1),IF(OR(VLOOKUP($B78,SCHEMA_CE!$E$5:$F$54,2,FALSE)=\"C\",VLOOKUP($F78,SCHEMA_CE!$E$5:$F$54,2,FALSE)=\"C\"),-1,1)))","v":""},{"$f":"IF($B78=\"\",\"\",I78*IF($F78=\"\",1,IF(ISERROR(MATCH($F78,$B$6:$B$105,0)),0,INDIRECT(ADDRESS(5+MATCH($F78,$B$6:$B$105,0),COLUMN(O$4)))))*IF($F78=\"\",IF(VLOOKUP($B78,SCHEMA_CE!$E$5:$F$54,2,FALSE)=\"C\",-1,1),IF(OR(VLOOKUP($B78,SCHEMA_CE!$E$5:$F$54,2,FALSE)=\"C\",VLOOKUP($F78,SCHEMA_CE!$E$5:$F$54,2,FALSE)=\"C\"),-1,1)))","v":""},{"$f":"IF($B78=\"\",\"\",J78*IF($F78=\"\",1,IF(ISERROR(MATCH($F78,$B$6:$B$105,0)),0,INDIRECT(ADDRESS(5+MATCH($F78,$B$6:$B$105,0),COLUMN(P$4)))))*IF($F78=\"\",IF(VLOOKUP($B78,SCHEMA_CE!$E$5:$F$54,2,FALSE)=\"C\",-1,1),IF(OR(VLOOKUP($B78,SCHEMA_CE!$E$5:$F$54,2,FALSE)=\"C\",VLOOKUP($F78,SCHEMA_CE!$E$5:$F$54,2,FALSE)=\"C\"),-1,1)))","v":""},{"$f":"IF($B78=\"\",\"\",K78*IF($F78=\"\",1,IF(ISERROR(MATCH($F78,$B$6:$B$105,0)),0,INDIRECT(ADDRESS(5+MATCH($F78,$B$6:$B$105,0),COLUMN(Q$4)))))*IF($F78=\"\",IF(VLOOKUP($B78,SCHEMA_CE!$E$5:$F$54,2,FALSE)=\"C\",-1,1),IF(OR(VLOOKUP($B78,SCHEMA_CE!$E$5:$F$54,2,FALSE)=\"C\",VLOOKUP($F78,SCHEMA_CE!$E$5:$F$54,2,FALSE)=\"C\"),-1,1)))","v":""},null,"","","","",""]
[null,null,null,null,null,null,null,null,null,null,null,null,{"$f":"IF($B79=\"\",\"\",G79*IF($F79=\"\",1,IF(ISERROR(MATCH($F79,$B$6:$B$105,0)),0,INDIRECT(ADDRESS(5+MATCH($F79,$B$6:$B$105,0),COLUMN(M$4)))))*IF($F79=\"\",IF(VLOOKUP($B79,SCHEMA_CE!$E$5:$F$54,2,FALSE)=\"C\",-1,1),IF(OR(VLOOKUP($B79,SCHEMA_CE!$E$5:$F$54,2,FALSE)=\"C\",VLOOKUP($F79,SCHEMA_CE!$E$5:$F$54,2,FALSE)=\"C\"),-1,1)))","v":""},{"$f":"IF($B79=\"\",\"\",H79*IF($F79=\"\",1,IF(ISERROR(MATCH($F79,$B$6:$B$105,0)),0,INDIRECT(ADDRESS(5+MATCH($F79,$B$6:$B$105,0),COLUMN(N$4)))))*IF($F79=\"\",IF(VLOOKUP($B79,SCHEMA_CE!$E$5:$F$54,2,FALSE)=\"C\",-1,1),IF(OR(VLOOKUP($B79,SCHEMA_CE!$E$5:$F$54,2,FALSE)=\"C\",VLOOKUP($F79,SCHEMA_CE!$E$5:$F$54,2,FALSE)=\"C\"),-1,1)))","v":""},{"$f":"IF($B79=\"\",\"\",I79*IF($F79=\"\",1,IF(ISERROR(MATCH($F79,$B$6:$B$105,0)),0,INDIRECT(ADDRESS(5+MATCH($F79,$B$6:$B$105,0),COLUMN(O$4)))))*IF($F79=\"\",IF(VLOOKUP($B79,SCHEMA_CE!$E$5:$F$54,2,FALSE)=\"C\",-1,1),IF(OR(VLOOKUP($B79,SCHEMA_CE!$E$5:$F$54,2,FALSE)=\"C\",VLOOKUP($F79,SCHEMA_CE!$E$5:$F$54,2,FALSE)=\"C\"),-1,1)))","v":""},{"$f":"IF($B79=\"\",\"\",J79*IF($F79=\"\",1,IF(ISERROR(MATCH($F79,$B$6:$B$105,0)),0,INDIRECT(ADDRESS(5+MATCH($F79,$B$6:$B$105,0),COLUMN(P$4)))))*IF($F79=\"\",IF(VLOOKUP($B79,SCHEMA_CE!$E$5:$F$54,2,FALSE)=\"C\",-1,1),IF(OR(VLOOKUP($B79,SCHEMA_CE!$E$5:$F$54,2,FALSE)=\"C\",VLOOKUP($F79,SCHEMA_CE!$E$5:$F$54,2,FALSE)=\"C\"),-1,1)))","v":""},{"$f":"IF($B79=\"\",\"\",K79*IF($F79=\"\",1,IF(ISERROR(MATCH($F79,$B$6:$B$105,0)),0,INDIRECT(ADDRESS(5+MATCH($F79,$B$6:$B$105,0),COLUMN(Q$4)))))*IF($F79=\"\",IF(VLOOKUP($B79,SCHEMA_CE!$E$5:$F$54,2,FALSE)=\"C\",-1,1),IF(OR(VLOOKUP($B79,SCHEMA_CE!$E$5:$F$54,2,FALSE)=\"C\",VLOOKUP($F79,SCHEMA_CE!$E$5:$F$54,2,FALSE)=\"C\"),-1,1)))","v":""},null,"","","","",""]
[null,null,null,null,null,null,null,null,null,null,null,null,{"$f":"IF($B80=\"\",\"\",G80*IF($F80=\"\",1,IF(ISERROR(MATCH($F80,$B$6:$B$105,0)),0,INDIRECT(ADDRESS(5+MATCH($F80,$B$6:$B$105,0),COLUMN(M$4)))))*IF($F80=\"\",IF(VLOOKUP($B80,SCHEMA_CE!$E$5:$F$54,2,FALSE)=\"C\",-1,1),IF(OR(VLOOKUP($B80,SCHEMA_CE!$E$5:$F$54,2,FALSE)=\"C\",VLOOKUP($F80,SCHEMA_CE!$E$5:$F$54,2,FALSE)=\"C\"),-1,1)))","v":""},{"$f":"IF($B80=\"\",\"\",H80*IF($F80=\"\",1,IF(ISERROR(MATCH($F80,$B$6:$B$105,0)),0,INDIRECT(ADDRESS(5+MATCH($F80,$B$6:$B$105,0),COLUMN(N$4)))))*IF($F80=\"\",IF(VLOOKUP($B80,SCHEMA_CE!$E$5:$F$54,2,FALSE)=\"C\",-1,1),IF(OR(VLOOKUP($B80,SCHEMA_CE!$E$5:$F$54,2,FALSE)=\"C\",VLOOKUP($F80,SCHEMA_CE!$E$5:$F$54,2,FALSE)=\"C\"),-1,1)))","v":""},{"$f":"IF($B80=\"\",\"\",I80*IF($F80=\"\",1,IF(ISERROR(MATCH($F80,$B$6:$B$105,0)),0,INDIRECT(ADDRESS(5+MATCH($F80,$B$6:$B$105,0),COLUMN(O$4)))))*IF($F80=\"\",IF(VLOOKUP($B80,SCHEMA_CE!$E$5:$F$54,2,FALSE)=\"C\",-1,1),IF(OR(VLOOKUP($B80,SCHEMA_CE!$E$5:$F$54,2,FALSE)=\"C\",VLOOKUP($F80,SCHEMA_CE!$E$5:$F$54,2,FALSE)=\"C\"),-1,1)))","v":""},{"$f":"IF($B80=\"\",\"\",J80*IF($F80=\"\",1,IF(ISERROR(MATCH($F80,$B$6:$B$105,0)),0,INDIRECT(ADDRESS(5+MATCH($F80,$B$6:$B$105,0),COLUMN(P$4)))))*IF($F80=\"\",IF(VLOOKUP($B80,SCHEMA_CE!$E$5:$F$54,2,FALSE)=\"C\",-1,1),IF(OR(VLOOKUP($B80,SCHEMA_CE!$E$5:$F$54,2,FALSE)=\"C\",VLOOKUP($F80,SCHEMA_CE!$E$5:$F$54,2,FALSE)=\"C\"),-1,1)))","v":""},{"$f":"IF($B80=\"\",\"\",K80*IF($F80=\"\",1,IF(ISERROR(MATCH($F80,$B$6:$B$105,0)),0,INDIRECT(ADDRESS(5+MATCH($F80,$B$6:$B$105,0),COLUMN(Q$4)))))*IF($F80=\"\",IF(VLOOKUP($B80,SCHEMA_CE!$E$5:$F$54,2,FALSE)=\"C\",-1,1),IF(OR(VLOOKUP($B80,SCHEMA_CE!$E$5:$F$54,2,FALSE)=\"C\",VLOOKUP($F80,SCHEMA_CE!$E$5:$F$54,2,FALSE)=\"C\"),-1,1)))","v":""},null,"","","","",""]
[null,null,null,null,null,null,null,null,null,null,null,null,{"$f":"IF($B81=\"\",\"\",G81*IF($F81=\"\",1,IF(ISERROR(MATCH($F81,$B$6:$B$105,0)),0,INDIRECT(ADDRESS(5+MATCH($F81,$B$6:$B$105,0),COLUMN(M$4)))))*IF($F81=\"\",IF(VLOOKUP($B81,SCHEMA_CE!$E$5:$F$54,2,FALSE)=\"C\",-1,1),IF(OR(VLOOKUP($B81,SCHEMA_CE!$E$5:$F$54,2,FALSE)=\"C\",VLOOKUP($F81,SCHEMA_CE!$E$5:$F$54,2,FALSE)=\"C\"),-1,1)))","v":""},{"$f":"IF($B81=\"\",\"\",H81*IF($F81=\"\",1,IF(ISERROR(MATCH($F81,$B$6:$B$105,0)),0,INDIRECT(ADDRESS(5+MATCH($F81,$B$6:$B$105,0),COLUMN(N$4)))))*IF($F81=\"\",IF(VLOOKUP($B81,SCHEMA_CE!$E$5:$F$54,2,FALSE)=\"C\",-1,1),IF(OR(VLOOKUP($B81,SCHEMA_CE!$E$5:$F$54,2,FALSE)=\"C\",VLOOKUP($F81,SCHEMA_CE!$E$5:$F$54,2,FALSE)=\"C\"),-1,1)))","v":""},{"$f":"IF($B81=\"\",\"\",I81*IF($F81=\"\",1,IF(ISERROR(MATCH($F81,$B$6:$B$105,0)),0,INDIRECT(ADDRESS(5+MATCH($F81,$B$6:$B$105,0),COLUMN(O$4)))))*IF($F81=\"\",IF(VLOOKUP($B81,SCHEMA_CE!$E$5:$F$54,2,FALSE)=\"C\",-1,1),IF(OR(VLOOKUP($B81,SCHEMA_CE!$E$5:$F$54,2,FALSE)=\"C\",VLOOKUP($F81,SCHEMA_CE!$E$5:$F$54,2,FALSE)=\"C\"),-1,1)))","v":""},{"$f":"IF($B81=\"\",\"\",J81*IF($F81=\"\",1,IF(ISERROR(MATCH($F81,$B$6:$B$105,0)),0,INDIRECT(ADDRESS(5+MATCH($F81,$B$6:$B$105,0),COLUMN(P$4)))))*IF($F81=\"\",IF(VLOOKUP($B81,SCHEMA_CE!$E$5:$F$54,2,FALSE)=\"C\",-1,1),IF(OR(VLOOKUP($B81,SCHEMA_CE!$E$5:$F$54,2,FALSE)=\"C\",VLOOKUP($F81,SCHEMA_CE!$E$5:$F$54,2,FALSE)=\"C\"),-1,1)))","v":""},{"$f":"IF($B81=\"\",\"\",K81*IF($F81=\"\",1,IF(ISERROR(MATCH($F81,$B$6:$B$105,0)),0,INDIRECT(ADDRESS(5+MATCH($F81,$B$6:$B$105,0),COLUMN(Q$4)))))*IF($F81=\"\",IF(VLOOKUP($B81,SCHEMA_CE!$E$5:$F$54,2,FALSE)=\"C\",-1,1),IF(OR(VLOOKUP($B81,SCHEMA_CE!$E$5:$F$54,2,FALSE)=\"C\",VLOOKUP($F81,SCHEMA_CE!$E$5:$F$54,2,FALSE)=\"C\"),-1,1)))","v":""},null,"","","","",""]
[null,null,null,null,null,null,null,null,null,null,null,null,{"$f":"IF($B82=\"\",\"\",G82*IF($F82=\"\",1,IF(ISERROR(MATCH($F82,$B$6:$B$105,0)),0,INDIRECT(ADDRESS(5+MATCH($F82,$B$6:$B$105,0),COLUMN(M$4)))))*IF($F82=\"\",IF(VLOOKUP($B82,SCHEMA_CE!$E$5:$F$54,2,FALSE)=\"C\",-1,1),IF(OR(VLOOKUP($B82,SCHEMA_CE!$E$5:$F$54,2,FALSE)=\"C\",VLOOKUP($F82,SCHEMA_CE!$E$5:$F$54,2,FALSE)=\"C\"),-1,1)))","v":""},{"$f":"IF($B82=\"\",\"\",H82*IF($F82=\"\",1,IF(ISERROR(MATCH($F82,$B$6:$B$105,0)),0,INDIRECT(ADDRESS(5+MATCH($F82,$B$6:$B$105,0),COLUMN(N$4)))))*IF($F82=\"\",IF(VLOOKUP($B82,SCHEMA_CE!$E$5:$F$54,2,FALSE)=\"C\",-1,1),IF(OR(VLOOKUP($B82,SCHEMA_CE!$E$5:$F$54,2,FALSE)=\"C\",VLOOKUP($F82,SCHEMA_CE!$E$5:$F$54,2,FALSE)=\"C\"),-1,1)))","v":""},{"$f":"IF($B82=\"\",\"\",I82*IF($F82=\"\",1,IF(ISERROR(MATCH($F82,$B$6:$B$105,0)),0,INDIRECT(ADDRESS(5+MATCH($F82,$B$6:$B$105,0),COLUMN(O$4)))))*IF($F82=\"\",IF(VLOOKUP($B82,SCHEMA_CE!$E$5:$F$54,2,FALSE)=\"C\",-1,1),IF(OR(VLOOKUP($B82,SCHEMA_CE!$E$5:$F$54,2,FALSE)=\"C\",VLOOKUP($F82,SCHEMA_CE!$E$5:$F$54,2,FALSE)=\"C\"),-1,1)))","v":""},{"$f":"IF($B82=\"\",\"\",J82*IF($F82=\"\",1,IF(ISERROR(MATCH($F82,$B$6:$B$105,0)),0,INDIRECT(ADDRESS(5+MATCH($F82,$B$6:$B$105,0),COLUMN(P$4)))))*IF($F82=\"\",IF(VLOOKUP($B82,SCHEMA_CE!$E$5:$F$54,2,FALSE)=\"C\",-1,1),IF(OR(VLOOKUP($B82,SCHEMA_CE!$E$5:$F$54,2,FALSE)=\"C\",VLOOKUP($F82,SCHEMA_CE!$E$5:$F$54,2,FALSE)=\"C\"),-1,1)))","v":""},{"$f":"IF($B82=\"\",\"\",K82*IF($F82=\"\",1,IF(ISERROR(MATCH($F82,$B$6:$B$105,0)),0,INDIRECT(ADDRESS(5+MATCH($F82,$B$6:$B$105,0),COLUMN(Q$4)))))*IF($F82=\"\",IF(VLOOKUP($B82,SCHEMA_CE!$E$5:$F$54,2,FALSE)=\"C\",-1,1),IF(OR(VLOOKUP($B82,SCHEMA_CE!$E$5:$F$54,2,FALSE)=\"C\",VLOOKUP($F82,SCHEMA_CE!$E$5:$F$54,2,FALSE)=\"C\"),-1,1)))","v":""},null,"","","","",""]
[null,null,null,null,null,null,null,null,null,null,null,null,{"$f":"IF($B83=\"\",\"\",G83*IF($F83=\"\",1,IF(ISERROR(MATCH($F83,$B$6:$B$105,0)),0,INDIRECT(ADDRESS(5+MATCH($F83,$B$6:$B$105,0),COLUMN(M$4)))))*IF($F83=\"\",IF(VLOOKUP($B83,SCHEMA_CE!$E$5:$F$54,2,FALSE)=\"C\",-1,1),IF(OR(VLOOKUP($B83,SCHEMA_CE!$E$5:$F$54,2,FALSE)=\"C\",VLOOKUP($F83,SCHEMA_CE!$E$5:$F$54,2,FALSE)=\"C\"),-1,1)))","v":""},{"$f":"IF($B83=\"\",\"\",H83*IF($F83=\"\",1,IF(ISERROR(MATCH($F83,$B$6:$B$105,0)),0,INDIRECT(ADDRESS(5+MATCH($F83,$B$6:$B$105,0),COLUMN(N$4)))))*IF($F83=\"\",IF(VLOOKUP($B83,SCHEMA_CE!$E$5:$F$54,2,FALSE)=\"C\",-1,1),IF(OR(VLOOKUP($B83,SCHEMA_CE!$E$5:$F$54,2,FALSE)=\"C\",VLOOKUP($F83,SCHEMA_CE!$E$5:$F$54,2,FALSE)=\"C\"),-1,1)))","v":""},{"$f":"IF($B83=\"\",\"\",I83*IF($F83=\"\",1,IF(ISERROR(MATCH($F83,$B$6:$B$105,0)),0,INDIRECT(ADDRESS(5+MATCH($F83,$B$6:$B$105,0),COLUMN(O$4)))))*IF($F83=\"\",IF(VLOOKUP($B83,SCHEMA_CE!$E$5:$F$54,2,FALSE)=\"C\",-1,1),IF(OR(VLOOKUP($B83,SCHEMA_CE!$E$5:$F$54,2,FALSE)=\"C\",VLOOKUP($F83,SCHEMA_CE!$E$5:$F$54,2,FALSE)=\"C\"),-1,1)))","v":""},{"$f":"IF($B83=\"\",\"\",J83*IF($F83=\"\",1,IF(ISERROR(MATCH($F83,$B$6:$B$105,0)),0,INDIRECT(ADDRESS(5+MATCH($F83,$B$6:$B$105,0),COLUMN(P$4)))))*IF($F83=\"\",IF(VLOOKUP($B83,SCHEMA_CE!$E$5:$F$54,2,FALSE)=\"C\",-1,1),IF(OR(VLOOKUP($B83,SCHEMA_CE!$E$5:$F$54,2,FALSE)=\"C\",VLOOKUP($F83,SCHEMA_CE!$E$5:$F$54,2,FALSE)=\"C\"),-1,1)))","v":""},{"$f":"IF($B83=\"\",\"\",K83*IF($F83=\"\",1,IF(ISERROR(MATCH($F83,$B$6:$B$105,0)),0,INDIRECT(ADDRESS(5+MATCH($F83,$B$6:$B$105,0),COLUMN(Q$4)))))*IF($F83=\"\",IF(VLOOKUP($B83,SCHEMA_CE!$E$5:$F$54,2,FALSE)=\"C\",-1,1),IF(OR(VLOOKUP($B83,SCHEMA_CE!$E$5:$F$54,2,FALSE)=\"C\",VLOOKUP($F83,SCHEMA_CE!$E$5:$F$54,2,FALSE)=\"C\"),-1,1)))","v":""},null,"","","","",""]
[null,null,null,null,null,null,null,null,null,null,null,null,{"$f":"IF($B84=\"\",\"\",G84*IF($F84=\"\",1,IF(ISERROR(MATCH($F84,$B$6:$B$105,0)),0,INDIRECT(ADDRESS(5+MATCH($F84,$B$6:$B$105,0),COLUMN(M$4)))))*IF($F84=\"\",IF(VLOOKUP($B84,SCHEMA_CE!$E$5:$F$54,2,FALSE)=\"C\",-1,1),IF(OR(VLOOKUP($B84,SCHEMA_CE!$E$5:$F$54,2,FALSE)=\"C\",VLOOKUP($F84,SCHEMA_CE!$E$5:$F$54,2,FALSE)=\"C\"),-1,1)))","v":""},{"$f":"IF($B84=\"\",\"\",H84*IF($F84=\"\",1,IF(ISERROR(MATCH($F84,$B$6:$B$105,0)),0,INDIRECT(ADDRESS(5+MATCH($F84,$B$6:$B$105,0),COLUMN(N$4)))))*IF($F84=\"\",IF(VLOOKUP($B84,SCHEMA_CE!$E$5:$F$54,2,FALSE)=\"C\",-1,1),IF(OR(VLOOKUP($B84,SCHEMA_CE!$E$5:$F$54,2,FALSE)=\"C\",VLOOKUP($F84,SCHEMA_CE!$E$5:$F$54,2,FALSE)=\"C\"),-1,1)))","v":""},{"$f":"IF($B84=\"\",\"\",I84*IF($F84=\"\",1,IF(ISERROR(MATCH($F84,$B$6:$B$105,0)),0,INDIRECT(ADDRESS(5+MATCH($F84,$B$6:$B$105,0),COLUMN(O$4)))))*IF($F84=\"\",IF(VLOOKUP($B84,SCHEMA_CE!$E$5:$F$54,2,FALSE)=\"C\",-1,1),IF(OR(VLOOKUP($B84,SCHEMA_CE!$E$5:$F$54,2,FALSE)=\"C\",VLOOKUP($F84,SCHEMA_CE!$E$5:$F$54,2,FALSE)=\"C\"),-1,1)))","v":""},{"$f":"IF($B84=\"\",\"\",J84*IF($F84=\"\",1,IF(ISERROR(MATCH($F84,$B$6:$B$105,0)),0,INDIRECT(ADDRESS(5+MATCH($F84,$B$6:$B$105,0),COLUMN(P$4)))))*IF($F84=\"\",IF(VLOOKUP($B84,SCHEMA_CE!$E$5:$F$54,2,FALSE)=\"C\",-1,1),IF(OR(VLOOKUP($B84,SCHEMA_CE!$E$5:$F$54,2,FALSE)=\"C\",VLOOKUP($F84,SCHEMA_CE!$E$5:$F$54,2,FALSE)=\"C\"),-1,1)))","v":""},{"$f":"IF($B84=\"\",\"\",K84*IF($F84=\"\",1,IF(ISERROR(MATCH($F84,$B$6:$B$105,0)),0,INDIRECT(ADDRESS(5+MATCH($F84,$B$6:$B$105,0),COLUMN(Q$4)))))*IF($F84=\"\",IF(VLOOKUP($B84,SCHEMA_CE!$E$5:$F$54,2,FALSE)=\"C\",-1,1),IF(OR(VLOOKUP($B84,SCHEMA_CE!$E$5:$F$54,2,FALSE)=\"C\",VLOOKUP($F84,SCHEMA_CE!$E$5:$F$54,2,FALSE)=\"C\"),-1,1)))","v":""},null,"","","","",""]
[null,null,null,null,null,null,null,null,null,null,null,null,{"$f":"IF($B85=\"\",\"\",G85*IF($F85=\"\",1,IF(ISERROR(MATCH($F85,$B$6:$B$105,0)),0,INDIRECT(ADDRESS(5+MATCH($F85,$B$6:$B$105,0),COLUMN(M$4)))))*IF($F85=\"\",IF(VLOOKUP($B85,SCHEMA_CE!$E$5:$F$54,2,FALSE)=\"C\",-1,1),IF(OR(VLOOKUP($B85,SCHEMA_CE!$E$5:$F$54,2,FALSE)=\"C\",VLOOKUP($F85,SCHEMA_CE!$E$5:$F$54,2,FALSE)=\"C\"),-1,1)))","v":""},{"$f":"IF($B85=\"\",\"\",H85*IF($F85=\"\",1,IF(ISERROR(MATCH($F85,$B$6:$B$105,0)),0,INDIRECT(ADDRESS(5+MATCH($F85,$B$6:$B$105,0),COLUMN(N$4)))))*IF($F85=\"\",IF(VLOOKUP($B85,SCHEMA_CE!$E$5:$F$54,2,FALSE)=\"C\",-1,1),IF(OR(VLOOKUP($B85,SCHEMA_CE!$E$5:$F$54,2,FALSE)=\"C\",VLOOKUP($F85,SCHEMA_CE!$E$5:$F$54,2,FALSE)=\"C\"),-1,1)))","v":""},{"$f":"IF($B85=\"\",\"\",I85*IF($F85=\"\",1,IF(ISERROR(MATCH($F85,$B$6:$B$105,0)),0,INDIRECT(ADDRESS(5+MATCH($F85,$B$6:$B$105,0),COLUMN(O$4)))))*IF($F85=\"\",IF(VLOOKUP($B85,SCHEMA_CE!$E$5:$F$54,2,FALSE)=\"C\",-1,1),IF(OR(VLOOKUP($B85,SCHEMA_CE!$E$5:$F$54,2,FALSE)=\"C\",VLOOKUP($F85,SCHEMA_CE!$E$5:$F$54,2,FALSE)=\"C\"),-1,1)))","v":""},{"$f":"IF($B85=\"\",\"\",J85*IF($F85=\"\",1,IF(ISERROR(MATCH($F85,$B$6:$B$105,0)),0,INDIRECT(ADDRESS(5+MATCH($F85,$B$6:$B$105,0),COLUMN(P$4)))))*IF($F85=\"\",IF(VLOOKUP($B85,SCHEMA_CE!$E$5:$F$54,2,FALSE)=\"C\",-1,1),IF(OR(VLOOKUP($B85,SCHEMA_CE!$E$5:$F$54,2,FALSE)=\"C\",VLOOKUP($F85,SCHEMA_CE!$E$5:$F$54,2,FALSE)=\"C\"),-1,1)))","v":""},{"$f":"IF($B85=\"\",\"\",K85*IF($F85=\"\",1,IF(ISERROR(MATCH($F85,$B$6:$B$105,0)),0,INDIRECT(ADDRESS(5+MATCH($F85,$B$6:$B$105,0),COLUMN(Q$4)))))*IF($F85=\"\",IF(VLOOKUP($B85,SCHEMA_CE!$E$5:$F$54,2,FALSE)=\"C\",-1,1),IF(OR(VLOOKUP($B85,SCHEMA_CE!$E$5:$F$54,2,FALSE)=\"C\",VLOOKUP($F85,SCHEMA_CE!$E$5:$F$54,2,FALSE)=\"C\"),-1,1)))","v":""},null,"","","","",""]
[null,null,null,null,null,null,null,null,null,null,null,null,{"$f":"IF($B86=\"\",\"\",G86*IF($F86=\"\",1,IF(ISERROR(MATCH($F86,$B$6:$B$105,0)),0,INDIRECT(ADDRESS(5+MATCH($F86,$B$6:$B$105,0),COLUMN(M$4)))))*IF($F86=\"\",IF(VLOOKUP($B86,SCHEMA_CE!$E$5:$F$54,2,FALSE)=\"C\",-1,1),IF(OR(VLOOKUP($B86,SCHEMA_CE!$E$5:$F$54,2,FALSE)=\"C\",VLOOKUP($F86,SCHEMA_CE!$E$5:$F$54,2,FALSE)=\"C\"),-1,1)))","v":""},{"$f":"IF($B86=\"\",\"\",H86*IF($F86=\"\",1,IF(ISERROR(MATCH($F86,$B$6:$B$105,0)),0,INDIRECT(ADDRESS(5+MATCH($F86,$B$6:$B$105,0),COLUMN(N$4)))))*IF($F86=\"\",IF(VLOOKUP($B86,SCHEMA_CE!$E$5:$F$54,2,FALSE)=\"C\",-1,1),IF(OR(VLOOKUP($B86,SCHEMA_CE!$E$5:$F$54,2,FALSE)=\"C\",VLOOKUP($F86,SCHEMA_CE!$E$5:$F$54,2,FALSE)=\"C\"),-1,1)))","v":""},{"$f":"IF($B86=\"\",\"\",I86*IF($F86=\"\",1,IF(ISERROR(MATCH($F86,$B$6:$B$105,0)),0,INDIRECT(ADDRESS(5+MATCH($F86,$B$6:$B$105,0),COLUMN(O$4)))))*IF($F86=\"\",IF(VLOOKUP($B86,SCHEMA_CE!$E$5:$F$54,2,FALSE)=\"C\",-1,1),IF(OR(VLOOKUP($B86,SCHEMA_CE!$E$5:$F$54,2,FALSE)=\"C\",VLOOKUP($F86,SCHEMA_CE!$E$5:$F$54,2,FALSE)=\"C\"),-1,1)))","v":""},{"$f":"IF($B86=\"\",\"\",J86*IF($F86=\"\",1,IF(ISERROR(MATCH($F86,$B$6:$B$105,0)),0,INDIRECT(ADDRESS(5+MATCH($F86,$B$6:$B$105,0),COLUMN(P$4)))))*IF($F86=\"\",IF(VLOOKUP($B86,SCHEMA_CE!$E$5:$F$54,2,FALSE)=\"C\",-1,1),IF(OR(VLOOKUP($B86,SCHEMA_CE!$E$5:$F$54,2,FALSE)=\"C\",VLOOKUP($F86,SCHEMA_CE!$E$5:$F$54,2,FALSE)=\"C\"),-1,1)))","v":""},{"$f":"IF($B86=\"\",\"\",K86*IF($F86=\"\",1,IF(ISERROR(MATCH($F86,$B$6:$B$105,0)),0,INDIRECT(ADDRESS(5+MATCH($F86,$B$6:$B$105,0),COLUMN(Q$4)))))*IF($F86=\"\",IF(VLOOKUP($B86,SCHEMA_CE!$E$5:$F$54,2,FALSE)=\"C\",-1,1),IF(OR(VLOOKUP($B86,SCHEMA_CE!$E$5:$F$54,2,FALSE)=\"C\",VLOOKUP($F86,SCHEMA_CE!$E$5:$F$54,2,FALSE)=\"C\"),-1,1)))","v":""},null,"","","","",""]
[null,null,null,null,null,null,null,null,null,null,null,null,{"$f":"IF($B87=\"\",\"\",G87*IF($F87=\"\",1,IF(ISERROR(MATCH($F87,$B$6:$B$105,0)),0,INDIRECT(ADDRESS(5+MATCH($F87,$B$6:$B$105,0),COLUMN(M$4)))))*IF($F87=\"\",IF(VLOOKUP($B87,SCHEMA_CE!$E$5:$F$54,2,FALSE)=\"C\",-1,1),IF(OR(VLOOKUP($B87,SCHEMA_CE!$E$5:$F$54,2,FALSE)=\"C\",VLOOKUP($F87,SCHEMA_CE!$E$5:$F$54,2,FALSE)=\"C\"),-1,1)))","v":""},{"$f":"IF($B87=\"\",\"\",H87*IF($F87=\"\",1,IF(ISERROR(MATCH($F87,$B$6:$B$105,0)),0,INDIRECT(ADDRESS(5+MATCH($F87,$B$6:$B$105,0),COLUMN(N$4)))))*IF($F87=\"\",IF(VLOOKUP($B87,SCHEMA_CE!$E$5:$F$54,2,FALSE)=\"C\",-1,1),IF(OR(VLOOKUP($B87,SCHEMA_CE!$E$5:$F$54,2,FALSE)=\"C\",VLOOKUP($F87,SCHEMA_CE!$E$5:$F$54,2,FALSE)=\"C\"),-1,1)))","v":""},{"$f":"IF($B87=\"\",\"\",I87*IF($F87=\"\",1,IF(ISERROR(MATCH($F87,$B$6:$B$105,0)),0,INDIRECT(ADDRESS(5+MATCH($F87,$B$6:$B$105,0),COLUMN(O$4)))))*IF($F87=\"\",IF(VLOOKUP($B87,SCHEMA_CE!$E$5:$F$54,2,FALSE)=\"C\",-1,1),IF(OR(VLOOKUP($B87,SCHEMA_CE!$E$5:$F$54,2,FALSE)=\"C\",VLOOKUP($F87,SCHEMA_CE!$E$5:$F$54,2,FALSE)=\"C\"),-1,1)))","v":""},{"$f":"IF($B87=\"\",\"\",J87*IF($F87=\"\",1,IF(ISERROR(MATCH($F87,$B$6:$B$105,0)),0,INDIRECT(ADDRESS(5+MATCH($F87,$B$6:$B$105,0),COLUMN(P$4)))))*IF($F87=\"\",IF(VLOOKUP($B87,SCHEMA_CE!$E$5:$F$54,2,FALSE)=\"C\",-1,1),IF(OR(VLOOKUP($B87,SCHEMA_CE!$E$5:$F$54,2,FALSE)=\"C\",VLOOKUP($F87,SCHEMA_CE!$E$5:$F$54,2,FALSE)=\"C\"),-1,1)))","v":""},{"$f":"IF($B87=\"\",\"\",K87*IF($F87=\"\",1,IF(ISERROR(MATCH($F87,$B$6:$B$105,0)),0,INDIRECT(ADDRESS(5+MATCH($F87,$B$6:$B$105,0),COLUMN(Q$4)))))*IF($F87=\"\",IF(VLOOKUP($B87,SCHEMA_CE!$E$5:$F$54,2,FALSE)=\"C\",-1,1),IF(OR(VLOOKUP($B87,SCHEMA_CE!$E$5:$F$54,2,FALSE)=\"C\",VLOOKUP($F87,SCHEMA_CE!$E$5:$F$54,2,FALSE)=\"C\"),-1,1)))","v":""},null,"","","","",""]
[null,null,null,null,null,null,null,null,null,null,null,null,{"$f":"IF($B88=\"\",\"\",G88*IF($F88=\"\",1,IF(ISERROR(MATCH($F88,$B$6:$B$105,0)),0,INDIRECT(ADDRESS(5+MATCH($F88,$B$6:$B$105,0),COLUMN(M$4)))))*IF($F88=\"\",IF(VLOOKUP($B88,SCHEMA_CE!$E$5:$F$54,2,FALSE)=\"C\",-1,1),IF(OR(VLOOKUP($B88,SCHEMA_CE!$E$5:$F$54,2,FALSE)=\"C\",VLOOKUP($F88,SCHEMA_CE!$E$5:$F$54,2,FALSE)=\"C\"),-1,1)))","v":""},{"$f":"IF($B88=\"\",\"\",H88*IF($F88=\"\",1,IF(ISERROR(MATCH($F88,$B$6:$B$105,0)),0,INDIRECT(ADDRESS(5+MATCH($F88,$B$6:$B$105,0),COLUMN(N$4)))))*IF($F88=\"\",IF(VLOOKUP($B88,SCHEMA_CE!$E$5:$F$54,2,FALSE)=\"C\",-1,1),IF(OR(VLOOKUP($B88,SCHEMA_CE!$E$5:$F$54,2,FALSE)=\"C\",VLOOKUP($F88,SCHEMA_CE!$E$5:$F$54,2,FALSE)=\"C\"),-1,1)))","v":""},{"$f":"IF($B88=\"\",\"\",I88*IF($F88=\"\",1,IF(ISERROR(MATCH($F88,$B$6:$B$105,0)),0,INDIRECT(ADDRESS(5+MATCH($F88,$B$6:$B$105,0),COLUMN(O$4)))))*IF($F88=\"\",IF(VLOOKUP($B88,SCHEMA_CE!$E$5:$F$54,2,FALSE)=\"C\",-1,1),IF(OR(VLOOKUP($B88,SCHEMA_CE!$E$5:$F$54,2,FALSE)=\"C\",VLOOKUP($F88,SCHEMA_CE!$E$5:$F$54,2,FALSE)=\"C\"),-1,1)))","v":""},{"$f":"IF($B88=\"\",\"\",J88*IF($F88=\"\",1,IF(ISERROR(MATCH($F88,$B$6:$B$105,0)),0,INDIRECT(ADDRESS(5+MATCH($F88,$B$6:$B$105,0),COLUMN(P$4)))))*IF($F88=\"\",IF(VLOOKUP($B88,SCHEMA_CE!$E$5:$F$54,2,FALSE)=\"C\",-1,1),IF(OR(VLOOKUP($B88,SCHEMA_CE!$E$5:$F$54,2,FALSE)=\"C\",VLOOKUP($F88,SCHEMA_CE!$E$5:$F$54,2,FALSE)=\"C\"),-1,1)))","v":""},{"$f":"IF($B88=\"\",\"\",K88*IF($F88=\"\",1,IF(ISERROR(MATCH($F88,$B$6:$B$105,0)),0,INDIRECT(ADDRESS(5+MATCH($F88,$B$6:$B$105,0),COLUMN(Q$4)))))*IF($F88=\"\",IF(VLOOKUP($B88,SCHEMA_CE!$E$5:$F$54,2,FALSE)=\"C\",-1,1),IF(OR(VLOOKUP($B88,SCHEMA_CE!$E$5:$F$54,2,FALSE)=\"C\",VLOOKUP($F88,SCHEMA_CE!$E$5:$F$54,2,FALSE)=\"C\"),-1,1)))","v":""},null,"","","","",""]
[null,null,null,null,null,null,null,null,null,null,null,null,{"$f":"IF($B89=\"\",\"\",G89*IF($F89=\"\",1,IF(ISERROR(MATCH($F89,$B$6:$B$105,0)),0,INDIRECT(ADDRESS(5+MATCH($F89,$B$6:$B$105,0),COLUMN(M$4)))))*IF($F89=\"\",IF(VLOOKUP($B89,SCHEMA_CE!$E$5:$F$54,2,FALSE)=\"C\",-1,1),IF(OR(VLOOKUP($B89,SCHEMA_CE!$E$5:$F$54,2,FALSE)=\"C\",VLOOKUP($F89,SCHEMA_CE!$E$5:$F$54,2,FALSE)=\"C\"),-1,1)))","v":""},{"$f":"IF($B89=\"\",\"\",H89*IF($F89=\"\",1,IF(ISERROR(MATCH($F89,$B$6:$B$105,0)),0,INDIRECT(ADDRESS(5+MATCH($F89,$B$6:$B$105,0),COLUMN(N$4)))))*IF($F89=\"\",IF(VLOOKUP($B89,SCHEMA_CE!$E$5:$F$54,2,FALSE)=\"C\",-1,1),IF(OR(VLOOKUP($B89,SCHEMA_CE!$E$5:$F$54,2,FALSE)=\"C\",VLOOKUP($F89,SCHEMA_CE!$E$5:$F$54,2,FALSE)=\"C\"),-1,1)))","v":""},{"$f":"IF($B89=\"\",\"\",I89*IF($F89=\"\",1,IF(ISERROR(MATCH($F89,$B$6:$B$105,0)),0,INDIRECT(ADDRESS(5+MATCH($F89,$B$6:$B$105,0),COLUMN(O$4)))))*IF($F89=\"\",IF(VLOOKUP($B89,SCHEMA_CE!$E$5:$F$54,2,FALSE)=\"C\",-1,1),IF(OR(VLOOKUP($B89,SCHEMA_CE!$E$5:$F$54,2,FALSE)=\"C\",VLOOKUP($F89,SCHEMA_CE!$E$5:$F$54,2,FALSE)=\"C\"),-1,1)))","v":""},{"$f":"IF($B89=\"\",\"\",J89*IF($F89=\"\",1,IF(ISERROR(MATCH($F89,$B$6:$B$105,0)),0,INDIRECT(ADDRESS(5+MATCH($F89,$B$6:$B$105,0),COLUMN(P$4)))))*IF($F89=\"\",IF(VLOOKUP($B89,SCHEMA_CE!$E$5:$F$54,2,FALSE)=\"C\",-1,1),IF(OR(VLOOKUP($B89,SCHEMA_CE!$E$5:$F$54,2,FALSE)=\"C\",VLOOKUP($F89,SCHEMA_CE!$E$5:$F$54,2,FALSE)=\"C\"),-1,1)))","v":""},{"$f":"IF($B89=\"\",\"\",K89*IF($F89=\"\",1,IF(ISERROR(MATCH($F89,$B$6:$B$105,0)),0,INDIRECT(ADDRESS(5+MATCH($F89,$B$6:$B$105,0),COLUMN(Q$4)))))*IF($F89=\"\",IF(VLOOKUP($B89,SCHEMA_CE!$E$5:$F$54,2,FALSE)=\"C\",-1,1),IF(OR(VLOOKUP($B89,SCHEMA_CE!$E$5:$F$54,2,FALSE)=\"C\",VLOOKUP($F89,SCHEMA_CE!$E$5:$F$54,2,FALSE)=\"C\"),-1,1)))","v":""},null,"","","","",""]
[null,null,null,null,null,null,null,null,null,null,null,null,{"$f":"IF($B90=\"\",\"\",G90*IF($F90=\"\",1,IF(ISERROR(MATCH($F90,$B$6:$B$105,0)),0,INDIRECT(ADDRESS(5+MATCH($F90,$B$6:$B$105,0),COLUMN(M$4)))))*IF($F90=\"\",IF(VLOOKUP($B90,SCHEMA_CE!$E$5:$F$54,2,FALSE)=\"C\",-1,1),IF(OR(VLOOKUP($B90,SCHEMA_CE!$E$5:$F$54,2,FALSE)=\"C\",VLOOKUP($F90,SCHEMA_CE!$E$5:$F$54,2,FALSE)=\"C\"),-1,1)))","v":""},{"$f":"IF($B90=\"\",\"\",H90*IF($F90=\"\",1,IF(ISERROR(MATCH($F90,$B$6:$B$105,0)),0,INDIRECT(ADDRESS(5+MATCH($F90,$B$6:$B$105,0),COLUMN(N$4)))))*IF($F90=\"\",IF(VLOOKUP($B90,SCHEMA_CE!$E$5:$F$54,2,FALSE)=\"C\",-1,1),IF(OR(VLOOKUP($B90,SCHEMA_CE!$E$5:$F$54,2,FALSE)=\"C\",VLOOKUP($F90,SCHEMA_CE!$E$5:$F$54,2,FALSE)=\"C\"),-1,1)))","v":""},{"$f":"IF($B90=\"\",\"\",I90*IF($F90=\"\",1,IF(ISERROR(MATCH($F90,$B$6:$B$105,0)),0,INDIRECT(ADDRESS(5+MATCH($F90,$B$6:$B$105,0),COLUMN(O$4)))))*IF($F90=\"\",IF(VLOOKUP($B90,SCHEMA_CE!$E$5:$F$54,2,FALSE)=\"C\",-1,1),IF(OR(VLOOKUP($B90,SCHEMA_CE!$E$5:$F$54,2,FALSE)=\"C\",VLOOKUP($F90,SCHEMA_CE!$E$5:$F$54,2,FALSE)=\"C\"),-1,1)))","v":""},{"$f":"IF($B90=\"\",\"\",J90*IF($F90=\"\",1,IF(ISERROR(MATCH($F90,$B$6:$B$105,0)),0,INDIRECT(ADDRESS(5+MATCH($F90,$B$6:$B$105,0),COLUMN(P$4)))))*IF($F90=\"\",IF(VLOOKUP($B90,SCHEMA_CE!$E$5:$F$54,2,FALSE)=\"C\",-1,1),IF(OR(VLOOKUP($B90,SCHEMA_CE!$E$5:$F$54,2,FALSE)=\"C\",VLOOKUP($F90,SCHEMA_CE!$E$5:$F$54,2,FALSE)=\"C\"),-1,1)))","v":""},{"$f":"IF($B90=\"\",\"\",K90*IF($F90=\"\",1,IF(ISERROR(MATCH($F90,$B$6:$B$105,0)),0,INDIRECT(ADDRESS(5+MATCH($F90,$B$6:$B$105,0),COLUMN(Q$4)))))*IF($F90=\"\",IF(VLOOKUP($B90,SCHEMA_CE!$E$5:$F$54,2,FALSE)=\"C\",-1,1),IF(OR(VLOOKUP($B90,SCHEMA_CE!$E$5:$F$54,2,FALSE)=\"C\",VLOOKUP($F90,SCHEMA_CE!$E$5:$F$54,2,FALSE)=\"C\"),-1,1)))","v":""},null,"","","","",""]
[null,null,null,null,null,null,null,null,null,null,null,null,{"$f":"IF($B91=\"\",\"\",G91*IF($F91=\"\",1,IF(ISERROR(MATCH($F91,$B$6:$B$105,0)),0,INDIRECT(ADDRESS(5+MATCH($F91,$B$6:$B$105,0),COLUMN(M$4)))))*IF($F91=\"\",IF(VLOOKUP($B91,SCHEMA_CE!$E$5:$F$54,2,FALSE)=\"C\",-1,1),IF(OR(VLOOKUP($B91,SCHEMA_CE!$E$5:$F$54,2,FALSE)=\"C\",VLOOKUP($F91,SCHEMA_CE!$E$5:$F$54,2,FALSE)=\"C\"),-1,1)))","v":""},{"$f":"IF($B91=\"\",\"\",H91*IF($F91=\"\",1,IF(ISERROR(MATCH($F91,$B$6:$B$105,0)),0,INDIRECT(ADDRESS(5+MATCH($F91,$B$6:$B$105,0),COLUMN(N$4)))))*IF($F91=\"\",IF(VLOOKUP($B91,SCHEMA_CE!$E$5:$F$54,2,FALSE)=\"C\",-1,1),IF(OR(VLOOKUP($B91,SCHEMA_CE!$E$5:$F$54,2,FALSE)=\"C\",VLOOKUP($F91,SCHEMA_CE!$E$5:$F$54,2,FALSE)=\"C\"),-1,1)))","v":""},{"$f":"IF($B91=\"\",\"\",I91*IF($F91=\"\",1,IF(ISERROR(MATCH($F91,$B$6:$B$105,0)),0,INDIRECT(ADDRESS(5+MATCH($F91,$B$6:$B$105,0),COLUMN(O$4)))))*IF($F91=\"\",IF(VLOOKUP($B91,SCHEMA_CE!$E$5:$F$54,2,FALSE)=\"C\",-1,1),IF(OR(VLOOKUP($B91,SCHEMA_CE!$E$5:$F$54,2,FALSE)=\"C\",VLOOKUP($F91,SCHEMA_CE!$E$5:$F$54,2,FALSE)=\"C\"),-1,1)))","v":""},{"$f":"IF($B91=\"\",\"\",J91*IF($F91=\"\",1,IF(ISERROR(MATCH($F91,$B$6:$B$105,0)),0,INDIRECT(ADDRESS(5+MATCH($F91,$B$6:$B$105,0),COLUMN(P$4)))))*IF($F91=\"\",IF(VLOOKUP($B91,SCHEMA_CE!$E$5:$F$54,2,FALSE)=\"C\",-1,1),IF(OR(VLOOKUP($B91,SCHEMA_CE!$E$5:$F$54,2,FALSE)=\"C\",VLOOKUP($F91,SCHEMA_CE!$E$5:$F$54,2,FALSE)=\"C\"),-1,1)))","v":""},{"$f":"IF($B91=\"\",\"\",K91*IF($F91=\"\",1,IF(ISERROR(MATCH($F91,$B$6:$B$105,0)),0,INDIRECT(ADDRESS(5+MATCH($F91,$B$6:$B$105,0),COLUMN(Q$4)))))*IF($F91=\"\",IF(VLOOKUP($B91,SCHEMA_CE!$E$5:$F$54,2,FALSE)=\"C\",-1,1),IF(OR(VLOOKUP($B91,SCHEMA_CE!$E$5:$F$54,2,FALSE)=\"C\",VLOOKUP($F91,SCHEMA_CE!$E$5:$F$54,2,FALSE)=\"C\"),-1,1)))","v":""},null,"","","","",""]
[null,null,null,null,null,null,null,null,null,null,null,null,{"$f":"IF($B92=\"\",\"\",G92*IF($F92=\"\",1,IF(ISERROR(MATCH($F92,$B$6:$B$105,0)),0,INDIRECT(ADDRESS(5+MATCH($F92,$B$6:$B$105,0),COLUMN(M$4)))))*IF($F92=\"\",IF(VLOOKUP($B92,SCHEMA_CE!$E$5:$F$54,2,FALSE)=\"C\",-1,1),IF(OR(VLOOKUP($B92,SCHEMA_CE!$E$5:$F$54,2,FALSE)=\"C\",VLOOKUP($F92,SCHEMA_CE!$E$5:$F$54,2,FALSE)=\"C\"),-1,1)))","v":""},{"$f":"IF($B92=\"\",\"\",H92*IF($F92=\"\",1,IF(ISERROR(MATCH($F92,$B$6:$B$105,0)),0,INDIRECT(ADDRESS(5+MATCH($F92,$B$6:$B$105,0),COLUMN(N$4)))))*IF($F92=\"\",IF(VLOOKUP($B92,SCHEMA_CE!$E$5:$F$54,2,FALSE)=\"C\",-1,1),IF(OR(VLOOKUP($B92,SCHEMA_CE!$E$5:$F$54,2,FALSE)=\"C\",VLOOKUP($F92,SCHEMA_CE!$E$5:$F$54,2,FALSE)=\"C\"),-1,1)))","v":""},{"$f":"IF($B92=\"\",\"\",I92*IF($F92=\"\",1,IF(ISERROR(MATCH($F92,$B$6:$B$105,0)),0,INDIRECT(ADDRESS(5+MATCH($F92,$B$6:$B$105,0),COLUMN(O$4)))))*IF($F92=\"\",IF(VLOOKUP($B92,SCHEMA_CE!$E$5:$F$54,2,FALSE)=\"C\",-1,1),IF(OR(VLOOKUP($B92,SCHEMA_CE!$E$5:$F$54,2,FALSE)=\"C\",VLOOKUP($F92,SCHEMA_CE!$E$5:$F$54,2,FALSE)=\"C\"),-1,1)))","v":""},{"$f":"IF($B92=\"\",\"\",J92*IF($F92=\"\",1,IF(ISERROR(MATCH($F92,$B$6:$B$105,0)),0,INDIRECT(ADDRESS(5+MATCH($F92,$B$6:$B$105,0),COLUMN(P$4)))))*IF($F92=\"\",IF(VLOOKUP($B92,SCHEMA_CE!$E$5:$F$54,2,FALSE)=\"C\",-1,1),IF(OR(VLOOKUP($B92,SCHEMA_CE!$E$5:$F$54,2,FALSE)=\"C\",VLOOKUP($F92,SCHEMA_CE!$E$5:$F$54,2,FALSE)=\"C\"),-1,1)))","v":""},{"$f":"IF($B92=\"\",\"\",K92*IF($F92=\"\",1,IF(ISERROR(MATCH($F92,$B$6:$B$105,0)),0,INDIRECT(ADDRESS(5+MATCH($F92,$B$6:$B$105,0),COLUMN(Q$4)))))*IF($F92=\"\",IF(VLOOKUP($B92,SCHEMA_CE!$E$5:$F$54,2,FALSE)=\"C\",-1,1),IF(OR(VLOOKUP($B92,SCHEMA_CE!$E$5:$F$54,2,FALSE)=\"C\",VLOOKUP($F92,SCHEMA_CE!$E$5:$F$54,2,FALSE)=\"C\"),-1,1)))","v":""},null,"","","","",""]
[null,null,null,null,null,null,null,null,null,null,null,null,{"$f":"IF($B93=\"\",\"\",G93*IF($F93=\"\",1,IF(ISERROR(MATCH($F93,$B$6:$B$105,0)),0,INDIRECT(ADDRESS(5+MATCH($F93,$B$6:$B$105,0),COLUMN(M$4)))))*IF($F93=\"\",IF(VLOOKUP($B93,SCHEMA_CE!$E$5:$F$54,2,FALSE)=\"C\",-1,1),IF(OR(VLOOKUP($B93,SCHEMA_CE!$E$5:$F$54,2,FALSE)=\"C\",VLOOKUP($F93,SCHEMA_CE!$E$5:$F$54,2,FALSE)=\"C\"),-1,1)))","v":""},{"$f":"IF($B93=\"\",\"\",H93*IF($F93=\"\",1,IF(ISERROR(MATCH($F93,$B$6:$B$105,0)),0,INDIRECT(ADDRESS(5+MATCH($F93,$B$6:$B$105,0),COLUMN(N$4)))))*IF($F93=\"\",IF(VLOOKUP($B93,SCHEMA_CE!$E$5:$F$54,2,FALSE)=\"C\",-1,1),IF(OR(VLOOKUP($B93,SCHEMA_CE!$E$5:$F$54,2,FALSE)=\"C\",VLOOKUP($F93,SCHEMA_CE!$E$5:$F$54,2,FALSE)=\"C\"),-1,1)))","v":""},{"$f":"IF($B93=\"\",\"\",I93*IF($F93=\"\",1,IF(ISERROR(MATCH($F93,$B$6:$B$105,0)),0,INDIRECT(ADDRESS(5+MATCH($F93,$B$6:$B$105,0),COLUMN(O$4)))))*IF($F93=\"\",IF(VLOOKUP($B93,SCHEMA_CE!$E$5:$F$54,2,FALSE)=\"C\",-1,1),IF(OR(VLOOKUP($B93,SCHEMA_CE!$E$5:$F$54,2,FALSE)=\"C\",VLOOKUP($F93,SCHEMA_CE!$E$5:$F$54,2,FALSE)=\"C\"),-1,1)))","v":""},{"$f":"IF($B93=\"\",\"\",J93*IF($F93=\"\",1,IF(ISERROR(MATCH($F93,$B$6:$B$105,0)),0,INDIRECT(ADDRESS(5+MATCH($F93,$B$6:$B$105,0),COLUMN(P$4)))))*IF($F93=\"\",IF(VLOOKUP($B93,SCHEMA_CE!$E$5:$F$54,2,FALSE)=\"C\",-1,1),IF(OR(VLOOKUP($B93,SCHEMA_CE!$E$5:$F$54,2,FALSE)=\"C\",VLOOKUP($F93,SCHEMA_CE!$E$5:$F$54,2,FALSE)=\"C\"),-1,1)))","v":""},{"$f":"IF($B93=\"\",\"\",K93*IF($F93=\"\",1,IF(ISERROR(MATCH($F93,$B$6:$B$105,0)),0,INDIRECT(ADDRESS(5+MATCH($F93,$B$6:$B$105,0),COLUMN(Q$4)))))*IF($F93=\"\",IF(VLOOKUP($B93,SCHEMA_CE!$E$5:$F$54,2,FALSE)=\"C\",-1,1),IF(OR(VLOOKUP($B93,SCHEMA_CE!$E$5:$F$54,2,FALSE)=\"C\",VLOOKUP($F93,SCHEMA_CE!$E$5:$F$54,2,FALSE)=\"C\"),-1,1)))","v":""},null,"","","","",""]
[null,null,null,null,null,null,null,null,null,null,null,null,{"$f":"IF($B94=\"\",\"\",G94*IF($F94=\"\",1,IF(ISERROR(MATCH($F94,$B$6:$B$105,0)),0,INDIRECT(ADDRESS(5+MATCH($F94,$B$6:$B$105,0),COLUMN(M$4)))))*IF($F94=\"\",IF(VLOOKUP($B94,SCHEMA_CE!$E$5:$F$54,2,FALSE)=\"C\",-1,1),IF(OR(VLOOKUP($B94,SCHEMA_CE!$E$5:$F$54,2,FALSE)=\"C\",VLOOKUP($F94,SCHEMA_CE!$E$5:$F$54,2,FALSE)=\"C\"),-1,1)))","v":""},{"$f":"IF($B94=\"\",\"\",H94*IF($F94=\"\",1,IF(ISERROR(MATCH($F94,$B$6:$B$105,0)),0,INDIRECT(ADDRESS(5+MATCH($F94,$B$6:$B$105,0),COLUMN(N$4)))))*IF($F94=\"\",IF(VLOOKUP($B94,SCHEMA_CE!$E$5:$F$54,2,FALSE)=\"C\",-1,1),IF(OR(VLOOKUP($B94,SCHEMA_CE!$E$5:$F$54,2,FALSE)=\"C\",VLOOKUP($F94,SCHEMA_CE!$E$5:$F$54,2,FALSE)=\"C\"),-1,1)))","v":""},{"$f":"IF($B94=\"\",\"\",I94*IF($F94=\"\",1,IF(ISERROR(MATCH($F94,$B$6:$B$105,0)),0,INDIRECT(ADDRESS(5+MATCH($F94,$B$6:$B$105,0),COLUMN(O$4)))))*IF($F94=\"\",IF(VLOOKUP($B94,SCHEMA_CE!$E$5:$F$54,2,FALSE)=\"C\",-1,1),IF(OR(VLOOKUP($B94,SCHEMA_CE!$E$5:$F$54,2,FALSE)=\"C\",VLOOKUP($F94,SCHEMA_CE!$E$5:$F$54,2,FALSE)=\"C\"),-1,1)))","v":""},{"$f":"IF($B94=\"\",\"\",J94*IF($F94=\"\",1,IF(ISERROR(MATCH($F94,$B$6:$B$105,0)),0,INDIRECT(ADDRESS(5+MATCH($F94,$B$6:$B$105,0),COLUMN(P$4)))))*IF($F94=\"\",IF(VLOOKUP($B94,SCHEMA_CE!$E$5:$F$54,2,FALSE)=\"C\",-1,1),IF(OR(VLOOKUP($B94,SCHEMA_CE!$E$5:$F$54,2,FALSE)=\"C\",VLOOKUP($F94,SCHEMA_CE!$E$5:$F$54,2,FALSE)=\"C\"),-1,1)))","v":""},{"$f":"IF($B94=\"\",\"\",K94*IF($F94=\"\",1,IF(ISERROR(MATCH($F94,$B$6:$B$105,0)),0,INDIRECT(ADDRESS(5+MATCH($F94,$B$6:$B$105,0),COLUMN(Q$4)))))*IF($F94=\"\",IF(VLOOKUP($B94,SCHEMA_CE!$E$5:$F$54,2,FALSE)=\"C\",-1,1),IF(OR(VLOOKUP($B94,SCHEMA_CE!$E$5:$F$54,2,FALSE)=\"C\",VLOOKUP($F94,SCHEMA_CE!$E$5:$F$54,2,FALSE)=\"C\"),-1,1)))","v":""},null,"","","","",""]
[null,null,null,null,null,null,null,null,null,null,null,null,{"$f":"IF($B95=\"\",\"\",G95*IF($F95=\"\",1,IF(ISERROR(MATCH($F95,$B$6:$B$105,0)),0,INDIRECT(ADDRESS(5+MATCH($F95,$B$6:$B$105,0),COLUMN(M$4)))))*IF($F95=\"\",IF(VLOOKUP($B95,SCHEMA_CE!$E$5:$F$54,2,FALSE)=\"C\",-1,1),IF(OR(VLOOKUP($B95,SCHEMA_CE!$E$5:$F$54,2,FALSE)=\"C\",VLOOKUP($F95,SCHEMA_CE!$E$5:$F$54,2,FALSE)=\"C\"),-1,1)))","v":""},{"$f":"IF($B95=\"\",\"\",H95*IF($F95=\"\",1,IF(ISERROR(MATCH($F95,$B$6:$B$105,0)),0,INDIRECT(ADDRESS(5+MATCH($F95,$B$6:$B$105,0),COLUMN(N$4)))))*IF($F95=\"\",IF(VLOOKUP($B95,SCHEMA_CE!$E$5:$F$54,2,FALSE)=\"C\",-1,1),IF(OR(VLOOKUP($B95,SCHEMA_CE!$E$5:$F$54,2,FALSE)=\"C\",VLOOKUP($F95,SCHEMA_CE!$E$5:$F$54,2,FALSE)=\"C\"),-1,1)))","v":""},{"$f":"IF($B95=\"\",\"\",I95*IF($F95=\"\",1,IF(ISERROR(MATCH($F95,$B$6:$B$105,0)),0,INDIRECT(ADDRESS(5+MATCH($F95,$B$6:$B$105,0),COLUMN(O$4)))))*IF($F95=\"\",IF(VLOOKUP($B95,SCHEMA_CE!$E$5:$F$54,2,FALSE)=\"C\",-1,1),IF(OR(VLOOKUP($B95,SCHEMA_CE!$E$5:$F$54,2,FALSE)=\"C\",VLOOKUP($F95,SCHEMA_CE!$E$5:$F$54,2,FALSE)=\"C\"),-1,1)))","v":""},{"$f":"IF($B95=\"\",\"\",J95*IF($F95=\"\",1,IF(ISERROR(MATCH($F95,$B$6:$B$105,0)),0,INDIRECT(ADDRESS(5+MATCH($F95,$B$6:$B$105,0),COLUMN(P$4)))))*IF($F95=\"\",IF(VLOOKUP($B95,SCHEMA_CE!$E$5:$F$54,2,FALSE)=\"C\",-1,1),IF(OR(VLOOKUP($B95,SCHEMA_CE!$E$5:$F$54,2,FALSE)=\"C\",VLOOKUP($F95,SCHEMA_CE!$E$5:$F$54,2,FALSE)=\"C\"),-1,1)))","v":""},{"$f":"IF($B95=\"\",\"\",K95*IF($F95=\"\",1,IF(ISERROR(MATCH($F95,$B$6:$B$105,0)),0,INDIRECT(ADDRESS(5+MATCH($F95,$B$6:$B$105,0),COLUMN(Q$4)))))*IF($F95=\"\",IF(VLOOKUP($B95,SCHEMA_CE!$E$5:$F$54,2,FALSE)=\"C\",-1,1),IF(OR(VLOOKUP($B95,SCHEMA_CE!$E$5:$F$54,2,FALSE)=\"C\",VLOOKUP($F95,SCHEMA_CE!$E$5:$F$54,2,FALSE)=\"C\"),-1,1)))","v":""},null,"","","","",""]
[null,null,null,null,null,null,null,null,null,null,null,null,{"$f":"IF($B96=\"\",\"\",G96*IF($F96=\"\",1,IF(ISERROR(MATCH($F96,$B$6:$B$105,0)),0,INDIRECT(ADDRESS(5+MATCH($F96,$B$6:$B$105,0),COLUMN(M$4)))))*IF($F96=\"\",IF(VLOOKUP($B96,SCHEMA_CE!$E$5:$F$54,2,FALSE)=\"C\",-1,1),IF(OR(VLOOKUP($B96,SCHEMA_CE!$E$5:$F$54,2,FALSE)=\"C\",VLOOKUP($F96,SCHEMA_CE!$E$5:$F$54,2,FALSE)=\"C\"),-1,1)))","v":""},{"$f":"IF($B96=\"\",\"\",H96*IF($F96=\"\",1,IF(ISERROR(MATCH($F96,$B$6:$B$105,0)),0,INDIRECT(ADDRESS(5+MATCH($F96,$B$6:$B$105,0),COLUMN(N$4)))))*IF($F96=\"\",IF(VLOOKUP($B96,SCHEMA_CE!$E$5:$F$54,2,FALSE)=\"C\",-1,1),IF(OR(VLOOKUP($B96,SCHEMA_CE!$E$5:$F$54,2,FALSE)=\"C\",VLOOKUP($F96,SCHEMA_CE!$E$5:$F$54,2,FALSE)=\"C\"),-1,1)))","v":""},{"$f":"IF($B96=\"\",\"\",I96*IF($F96=\"\",1,IF(ISERROR(MATCH($F96,$B$6:$B$105,0)),0,INDIRECT(ADDRESS(5+MATCH($F96,$B$6:$B$105,0),COLUMN(O$4)))))*IF($F96=\"\",IF(VLOOKUP($B96,SCHEMA_CE!$E$5:$F$54,2,FALSE)=\"C\",-1,1),IF(OR(VLOOKUP($B96,SCHEMA_CE!$E$5:$F$54,2,FALSE)=\"C\",VLOOKUP($F96,SCHEMA_CE!$E$5:$F$54,2,FALSE)=\"C\"),-1,1)))","v":""},{"$f":"IF($B96=\"\",\"\",J96*IF($F96=\"\",1,IF(ISERROR(MATCH($F96,$B$6:$B$105,0)),0,INDIRECT(ADDRESS(5+MATCH($F96,$B$6:$B$105,0),COLUMN(P$4)))))*IF($F96=\"\",IF(VLOOKUP($B96,SCHEMA_CE!$E$5:$F$54,2,FALSE)=\"C\",-1,1),IF(OR(VLOOKUP($B96,SCHEMA_CE!$E$5:$F$54,2,FALSE)=\"C\",VLOOKUP($F96,SCHEMA_CE!$E$5:$F$54,2,FALSE)=\"C\"),-1,1)))","v":""},{"$f":"IF($B96=\"\",\"\",K96*IF($F96=\"\",1,IF(ISERROR(MATCH($F96,$B$6:$B$105,0)),0,INDIRECT(ADDRESS(5+MATCH($F96,$B$6:$B$105,0),COLUMN(Q$4)))))*IF($F96=\"\",IF(VLOOKUP($B96,SCHEMA_CE!$E$5:$F$54,2,FALSE)=\"C\",-1,1),IF(OR(VLOOKUP($B96,SCHEMA_CE!$E$5:$F$54,2,FALSE)=\"C\",VLOOKUP($F96,SCHEMA_CE!$E$5:$F$54,2,FALSE)=\"C\"),-1,1)))","v":""},null,"","","","",""]
[null,null,null,null,null,null,null,null,null,null,null,null,{"$f":"IF($B97=\"\",\"\",G97*IF($F97=\"\",1,IF(ISERROR(MATCH($F97,$B$6:$B$105,0)),0,INDIRECT(ADDRESS(5+MATCH($F97,$B$6:$B$105,0),COLUMN(M$4)))))*IF($F97=\"\",IF(VLOOKUP($B97,SCHEMA_CE!$E$5:$F$54,2,FALSE)=\"C\",-1,1),IF(OR(VLOOKUP($B97,SCHEMA_CE!$E$5:$F$54,2,FALSE)=\"C\",VLOOKUP($F97,SCHEMA_CE!$E$5:$F$54,2,FALSE)=\"C\"),-1,1)))","v":""},{"$f":"IF($B97=\"\",\"\",H97*IF($F97=\"\",1,IF(ISERROR(MATCH($F97,$B$6:$B$105,0)),0,INDIRECT(ADDRESS(5+MATCH($F97,$B$6:$B$105,0),COLUMN(N$4)))))*IF($F97=\"\",IF(VLOOKUP($B97,SCHEMA_CE!$E$5:$F$54,2,FALSE)=\"C\",-1,1),IF(OR(VLOOKUP($B97,SCHEMA_CE!$E$5:$F$54,2,FALSE)=\"C\",VLOOKUP($F97,SCHEMA_CE!$E$5:$F$54,2,FALSE)=\"C\"),-1,1)))","v":""},{"$f":"IF($B97=\"\",\"\",I97*IF($F97=\"\",1,IF(ISERROR(MATCH($F97,$B$6:$B$105,0)),0,INDIRECT(ADDRESS(5+MATCH($F97,$B$6:$B$105,0),COLUMN(O$4)))))*IF($F97=\"\",IF(VLOOKUP($B97,SCHEMA_CE!$E$5:$F$54,2,FALSE)=\"C\",-1,1),IF(OR(VLOOKUP($B97,SCHEMA_CE!$E$5:$F$54,2,FALSE)=\"C\",VLOOKUP($F97,SCHEMA_CE!$E$5:$F$54,2,FALSE)=\"C\"),-1,1)))","v":""},{"$f":"IF($B97=\"\",\"\",J97*IF($F97=\"\",1,IF(ISERROR(MATCH($F97,$B$6:$B$105,0)),0,INDIRECT(ADDRESS(5+MATCH($F97,$B$6:$B$105,0),COLUMN(P$4)))))*IF($F97=\"\",IF(VLOOKUP($B97,SCHEMA_CE!$E$5:$F$54,2,FALSE)=\"C\",-1,1),IF(OR(VLOOKUP($B97,SCHEMA_CE!$E$5:$F$54,2,FALSE)=\"C\",VLOOKUP($F97,SCHEMA_CE!$E$5:$F$54,2,FALSE)=\"C\"),-1,1)))","v":""},{"$f":"IF($B97=\"\",\"\",K97*IF($F97=\"\",1,IF(ISERROR(MATCH($F97,$B$6:$B$105,0)),0,INDIRECT(ADDRESS(5+MATCH($F97,$B$6:$B$105,0),COLUMN(Q$4)))))*IF($F97=\"\",IF(VLOOKUP($B97,SCHEMA_CE!$E$5:$F$54,2,FALSE)=\"C\",-1,1),IF(OR(VLOOKUP($B97,SCHEMA_CE!$E$5:$F$54,2,FALSE)=\"C\",VLOOKUP($F97,SCHEMA_CE!$E$5:$F$54,2,FALSE)=\"C\"),-1,1)))","v":""},null,"","","","",""]
[null,null,null,null,null,null,null,null,null,null,null,null,{"$f":"IF($B98=\"\",\"\",G98*IF($F98=\"\",1,IF(ISERROR(MATCH($F98,$B$6:$B$105,0)),0,INDIRECT(ADDRESS(5+MATCH($F98,$B$6:$B$105,0),COLUMN(M$4)))))*IF($F98=\"\",IF(VLOOKUP($B98,SCHEMA_CE!$E$5:$F$54,2,FALSE)=\"C\",-1,1),IF(OR(VLOOKUP($B98,SCHEMA_CE!$E$5:$F$54,2,FALSE)=\"C\",VLOOKUP($F98,SCHEMA_CE!$E$5:$F$54,2,FALSE)=\"C\"),-1,1)))","v":""},{"$f":"IF($B98=\"\",\"\",H98*IF($F98=\"\",1,IF(ISERROR(MATCH($F98,$B$6:$B$105,0)),0,INDIRECT(ADDRESS(5+MATCH($F98,$B$6:$B$105,0),COLUMN(N$4)))))*IF($F98=\"\",IF(VLOOKUP($B98,SCHEMA_CE!$E$5:$F$54,2,FALSE)=\"C\",-1,1),IF(OR(VLOOKUP($B98,SCHEMA_CE!$E$5:$F$54,2,FALSE)=\"C\",VLOOKUP($F98,SCHEMA_CE!$E$5:$F$54,2,FALSE)=\"C\"),-1,1)))","v":""},{"$f":"IF($B98=\"\",\"\",I98*IF($F98=\"\",1,IF(ISERROR(MATCH($F98,$B$6:$B$105,0)),0,INDIRECT(ADDRESS(5+MATCH($F98,$B$6:$B$105,0),COLUMN(O$4)))))*IF($F98=\"\",IF(VLOOKUP($B98,SCHEMA_CE!$E$5:$F$54,2,FALSE)=\"C\",-1,1),IF(OR(VLOOKUP($B98,SCHEMA_CE!$E$5:$F$54,2,FALSE)=\"C\",VLOOKUP($F98,SCHEMA_CE!$E$5:$F$54,2,FALSE)=\"C\"),-1,1)))","v":""},{"$f":"IF($B98=\"\",\"\",J98*IF($F98=\"\",1,IF(ISERROR(MATCH($F98,$B$6:$B$105,0)),0,INDIRECT(ADDRESS(5+MATCH($F98,$B$6:$B$105,0),COLUMN(P$4)))))*IF($F98=\"\",IF(VLOOKUP($B98,SCHEMA_CE!$E$5:$F$54,2,FALSE)=\"C\",-1,1),IF(OR(VLOOKUP($B98,SCHEMA_CE!$E$5:$F$54,2,FALSE)=\"C\",VLOOKUP($F98,SCHEMA_CE!$E$5:$F$54,2,FALSE)=\"C\"),-1,1)))","v":""},{"$f":"IF($B98=\"\",\"\",K98*IF($F98=\"\",1,IF(ISERROR(MATCH($F98,$B$6:$B$105,0)),0,INDIRECT(ADDRESS(5+MATCH($F98,$B$6:$B$105,0),COLUMN(Q$4)))))*IF($F98=\"\",IF(VLOOKUP($B98,SCHEMA_CE!$E$5:$F$54,2,FALSE)=\"C\",-1,1),IF(OR(VLOOKUP($B98,SCHEMA_CE!$E$5:$F$54,2,FALSE)=\"C\",VLOOKUP($F98,SCHEMA_CE!$E$5:$F$54,2,FALSE)=\"C\"),-1,1)))","v":""},null,"","","","",""]
[null,null,null,null,null,null,null,null,null,null,null,null,{"$f":"IF($B99=\"\",\"\",G99*IF($F99=\"\",1,IF(ISERROR(MATCH($F99,$B$6:$B$105,0)),0,INDIRECT(ADDRESS(5+MATCH($F99,$B$6:$B$105,0),COLUMN(M$4)))))*IF($F99=\"\",IF(VLOOKUP($B99,SCHEMA_CE!$E$5:$F$54,2,FALSE)=\"C\",-1,1),IF(OR(VLOOKUP($B99,SCHEMA_CE!$E$5:$F$54,2,FALSE)=\"C\",VLOOKUP($F99,SCHEMA_CE!$E$5:$F$54,2,FALSE)=\"C\"),-1,1)))","v":""},{"$f":"IF($B99=\"\",\"\",H99*IF($F99=\"\",1,IF(ISERROR(MATCH($F99,$B$6:$B$105,0)),0,INDIRECT(ADDRESS(5+MATCH($F99,$B$6:$B$105,0),COLUMN(N$4)))))*IF($F99=\"\",IF(VLOOKUP($B99,SCHEMA_CE!$E$5:$F$54,2,FALSE)=\"C\",-1,1),IF(OR(VLOOKUP($B99,SCHEMA_CE!$E$5:$F$54,2,FALSE)=\"C\",VLOOKUP($F99,SCHEMA_CE!$E$5:$F$54,2,FALSE)=\"C\"),-1,1)))","v":""},{"$f":"IF($B99=\"\",\"\",I99*IF($F99=\"\",1,IF(ISERROR(MATCH($F99,$B$6:$B$105,0)),0,INDIRECT(ADDRESS(5+MATCH($F99,$B$6:$B$105,0),COLUMN(O$4)))))*IF($F99=\"\",IF(VLOOKUP($B99,SCHEMA_CE!$E$5:$F$54,2,FALSE)=\"C\",-1,1),IF(OR(VLOOKUP($B99,SCHEMA_CE!$E$5:$F$54,2,FALSE)=\"C\",VLOOKUP($F99,SCHEMA_CE!$E$5:$F$54,2,FALSE)=\"C\"),-1,1)))","v":""},{"$f":"IF($B99=\"\",\"\",J99*IF($F99=\"\",1,IF(ISERROR(MATCH($F99,$B$6:$B$105,0)),0,INDIRECT(ADDRESS(5+MATCH($F99,$B$6:$B$105,0),COLUMN(P$4)))))*IF($F99=\"\",IF(VLOOKUP($B99,SCHEMA_CE!$E$5:$F$54,2,FALSE)=\"C\",-1,1),IF(OR(VLOOKUP($B99,SCHEMA_CE!$E$5:$F$54,2,FALSE)=\"C\",VLOOKUP($F99,SCHEMA_CE!$E$5:$F$54,2,FALSE)=\"C\"),-1,1)))","v":""},{"$f":"IF($B99=\"\",\"\",K99*IF($F99=\"\",1,IF(ISERROR(MATCH($F99,$B$6:$B$105,0)),0,INDIRECT(ADDRESS(5+MATCH($F99,$B$6:$B$105,0),COLUMN(Q$4)))))*IF($F99=\"\",IF(VLOOKUP($B99,SCHEMA_CE!$E$5:$F$54,2,FALSE)=\"C\",-1,1),IF(OR(VLOOKUP($B99,SCHEMA_CE!$E$5:$F$54,2,FALSE)=\"C\",VLOOKUP($F99,SCHEMA_CE!$E$5:$F$54,2,FALSE)=\"C\"),-1,1)))","v":""},null,"","","","",""]
[null,null,null,null,null,null,null,null,null,null,null,null,{"$f":"IF($B100=\"\",\"\",G100*IF($F100=\"\",1,IF(ISERROR(MATCH($F100,$B$6:$B$105,0)),0,INDIRECT(ADDRESS(5+MATCH($F100,$B$6:$B$105,0),COLUMN(M$4)))))*IF($F100=\"\",IF(VLOOKUP($B100,SCHEMA_CE!$E$5:$F$54,2,FALSE)=\"C\",-1,1),IF(OR(VLOOKUP($B100,SCHEMA_CE!$E$5:$F$54,2,FALSE)=\"C\",VLOOKUP($F100,SCHEMA_CE!$E$5:$F$54,2,FALSE)=\"C\"),-1,1)))","v":""},{"$f":"IF($B100=\"\",\"\",H100*IF($F100=\"\",1,IF(ISERROR(MATCH($F100,$B$6:$B$105,0)),0,INDIRECT(ADDRESS(5+MATCH($F100,$B$6:$B$105,0),COLUMN(N$4)))))*IF($F100=\"\",IF(VLOOKUP($B100,SCHEMA_CE!$E$5:$F$54,2,FALSE)=\"C\",-1,1),IF(OR(VLOOKUP($B100,SCHEMA_CE!$E$5:$F$54,2,FALSE)=\"C\",VLOOKUP($F100,SCHEMA_CE!$E$5:$F$54,2,FALSE)=\"C\"),-1,1)))","v":""},{"$f":"IF($B100=\"\",\"\",I100*IF($F100=\"\",1,IF(ISERROR(MATCH($F100,$B$6:$B$105,0)),0,INDIRECT(ADDRESS(5+MATCH($F100,$B$6:$B$105,0),COLUMN(O$4)))))*IF($F100=\"\",IF(VLOOKUP($B100,SCHEMA_CE!$E$5:$F$54,2,FALSE)=\"C\",-1,1),IF(OR(VLOOKUP($B100,SCHEMA_CE!$E$5:$F$54,2,FALSE)=\"C\",VLOOKUP($F100,SCHEMA_CE!$E$5:$F$54,2,FALSE)=\"C\"),-1,1)))","v":""},{"$f":"IF($B100=\"\",\"\",J100*IF($F100=\"\",1,IF(ISERROR(MATCH($F100,$B$6:$B$105,0)),0,INDIRECT(ADDRESS(5+MATCH($F100,$B$6:$B$105,0),COLUMN(P$4)))))*IF($F100=\"\",IF(VLOOKUP($B100,SCHEMA_CE!$E$5:$F$54,2,FALSE)=\"C\",-1,1),IF(OR(VLOOKUP($B100,SCHEMA_CE!$E$5:$F$54,2,FALSE)=\"C\",VLOOKUP($F100,SCHEMA_CE!$E$5:$F$54,2,FALSE)=\"C\"),-1,1)))","v":""},{"$f":"IF($B100=\"\",\"\",K100*IF($F100=\"\",1,IF(ISERROR(MATCH($F100,$B$6:$B$105,0)),0,INDIRECT(ADDRESS(5+MATCH($F100,$B$6:$B$105,0),COLUMN(Q$4)))))*IF($F100=\"\",IF(VLOOKUP($B100,SCHEMA_CE!$E$5:$F$54,2,FALSE)=\"C\",-1,1),IF(OR(VLOOKUP($B100,SCHEMA_CE!$E$5:$F$54,2,FALSE)=\"C\",VLOOKUP($F100,SCHEMA_CE!$E$5:$F$54,2,FALSE)=\"C\"),-1,1)))","v":""},null,"","","","",""]
[null,null,null,null,null,null,null,null,null,null,null,null,{"$f":"IF($B101=\"\",\"\",G101*IF($F101=\"\",1,IF(ISERROR(MATCH($F101,$B$6:$B$105,0)),0,INDIRECT(ADDRESS(5+MATCH($F101,$B$6:$B$105,0),COLUMN(M$4)))))*IF($F101=\"\",IF(VLOOKUP($B101,SCHEMA_CE!$E$5:$F$54,2,FALSE)=\"C\",-1,1),IF(OR(VLOOKUP($B101,SCHEMA_CE!$E$5:$F$54,2,FALSE)=\"C\",VLOOKUP($F101,SCHEMA_CE!$E$5:$F$54,2,FALSE)=\"C\"),-1,1)))","v":""},{"$f":"IF($B101=\"\",\"\",H101*IF($F101=\"\",1,IF(ISERROR(MATCH($F101,$B$6:$B$105,0)),0,INDIRECT(ADDRESS(5+MATCH($F101,$B$6:$B$105,0),COLUMN(N$4)))))*IF($F101=\"\",IF(VLOOKUP($B101,SCHEMA_CE!$E$5:$F$54,2,FALSE)=\"C\",-1,1),IF(OR(VLOOKUP($B101,SCHEMA_CE!$E$5:$F$54,2,FALSE)=\"C\",VLOOKUP($F101,SCHEMA_CE!$E$5:$F$54,2,FALSE)=\"C\"),-1,1)))","v":""},{"$f":"IF($B101=\"\",\"\",I101*IF($F101=\"\",1,IF(ISERROR(MATCH($F101,$B$6:$B$105,0)),0,INDIRECT(ADDRESS(5+MATCH($F101,$B$6:$B$105,0),COLUMN(O$4)))))*IF($F101=\"\",IF(VLOOKUP($B101,SCHEMA_CE!$E$5:$F$54,2,FALSE)=\"C\",-1,1),IF(OR(VLOOKUP($B101,SCHEMA_CE!$E$5:$F$54,2,FALSE)=\"C\",VLOOKUP($F101,SCHEMA_CE!$E$5:$F$54,2,FALSE)=\"C\"),-1,1)))","v":""},{"$f":"IF($B101=\"\",\"\",J101*IF($F101=\"\",1,IF(ISERROR(MATCH($F101,$B$6:$B$105,0)),0,INDIRECT(ADDRESS(5+MATCH($F101,$B$6:$B$105,0),COLUMN(P$4)))))*IF($F101=\"\",IF(VLOOKUP($B101,SCHEMA_CE!$E$5:$F$54,2,FALSE)=\"C\",-1,1),IF(OR(VLOOKUP($B101,SCHEMA_CE!$E$5:$F$54,2,FALSE)=\"C\",VLOOKUP($F101,SCHEMA_CE!$E$5:$F$54,2,FALSE)=\"C\"),-1,1)))","v":""},{"$f":"IF($B101=\"\",\"\",K101*IF($F101=\"\",1,IF(ISERROR(MATCH($F101,$B$6:$B$105,0)),0,INDIRECT(ADDRESS(5+MATCH($F101,$B$6:$B$105,0),COLUMN(Q$4)))))*IF($F101=\"\",IF(VLOOKUP($B101,SCHEMA_CE!$E$5:$F$54,2,FALSE)=\"C\",-1,1),IF(OR(VLOOKUP($B101,SCHEMA_CE!$E$5:$F$54,2,FALSE)=\"C\",VLOOKUP($F101,SCHEMA_CE!$E$5:$F$54,2,FALSE)=\"C\"),-1,1)))","v":""},null,"","","","",""]
[null,null,null,null,null,null,null,null,null,null,null,null,{"$f":"IF($B102=\"\",\"\",G102*IF($F102=\"\",1,IF(ISERROR(MATCH($F102,$B$6:$B$105,0)),0,INDIRECT(ADDRESS(5+MATCH($F102,$B$6:$B$105,0),COLUMN(M$4)))))*IF($F102=\"\",IF(VLOOKUP($B102,SCHEMA_CE!$E$5:$F$54,2,FALSE)=\"C\",-1,1),IF(OR(VLOOKUP($B102,SCHEMA_CE!$E$5:$F$54,2,FALSE)=\"C\",VLOOKUP($F102,SCHEMA_CE!$E$5:$F$54,2,FALSE)=\"C\"),-1,1)))","v":""},{"$f":"IF($B102=\"\",\"\",H102*IF($F102=\"\",1,IF(ISERROR(MATCH($F102,$B$6:$B$105,0)),0,INDIRECT(ADDRESS(5+MATCH($F102,$B$6:$B$105,0),COLUMN(N$4)))))*IF($F102=\"\",IF(VLOOKUP($B102,SCHEMA_CE!$E$5:$F$54,2,FALSE)=\"C\",-1,1),IF(OR(VLOOKUP($B102,SCHEMA_CE!$E$5:$F$54,2,FALSE)=\"C\",VLOOKUP($F102,SCHEMA_CE!$E$5:$F$54,2,FALSE)=\"C\"),-1,1)))","v":""},{"$f":"IF($B102=\"\",\"\",I102*IF($F102=\"\",1,IF(ISERROR(MATCH($F102,$B$6:$B$105,0)),0,INDIRECT(ADDRESS(5+MATCH($F102,$B$6:$B$105,0),COLUMN(O$4)))))*IF($F102=\"\",IF(VLOOKUP($B102,SCHEMA_CE!$E$5:$F$54,2,FALSE)=\"C\",-1,1),IF(OR(VLOOKUP($B102,SCHEMA_CE!$E$5:$F$54,2,FALSE)=\"C\",VLOOKUP($F102,SCHEMA_CE!$E$5:$F$54,2,FALSE)=\"C\"),-1,1)))","v":""},{"$f":"IF($B102=\"\",\"\",J102*IF($F102=\"\",1,IF(ISERROR(MATCH($F102,$B$6:$B$105,0)),0,INDIRECT(ADDRESS(5+MATCH($F102,$B$6:$B$105,0),COLUMN(P$4)))))*IF($F102=\"\",IF(VLOOKUP($B102,SCHEMA_CE!$E$5:$F$54,2,FALSE)=\"C\",-1,1),IF(OR(VLOOKUP($B102,SCHEMA_CE!$E$5:$F$54,2,FALSE)=\"C\",VLOOKUP($F102,SCHEMA_CE!$E$5:$F$54,2,FALSE)=\"C\"),-1,1)))","v":""},{"$f":"IF($B102=\"\",\"\",K102*IF($F102=\"\",1,IF(ISERROR(MATCH($F102,$B$6:$B$105,0)),0,INDIRECT(ADDRESS(5+MATCH($F102,$B$6:$B$105,0),COLUMN(Q$4)))))*IF($F102=\"\",IF(VLOOKUP($B102,SCHEMA_CE!$E$5:$F$54,2,FALSE)=\"C\",-1,1),IF(OR(VLOOKUP($B102,SCHEMA_CE!$E$5:$F$54,2,FALSE)=\"C\",VLOOKUP($F102,SCHEMA_CE!$E$5:$F$54,2,FALSE)=\"C\"),-1,1)))","v":""},null,"","","","",""]
[null,null,null,null,null,null,null,null,null,null,null,null,{"$f":"IF($B103=\"\",\"\",G103*IF($F103=\"\",1,IF(ISERROR(MATCH($F103,$B$6:$B$105,0)),0,INDIRECT(ADDRESS(5+MATCH($F103,$B$6:$B$105,0),COLUMN(M$4)))))*IF($F103=\"\",IF(VLOOKUP($B103,SCHEMA_CE!$E$5:$F$54,2,FALSE)=\"C\",-1,1),IF(OR(VLOOKUP($B103,SCHEMA_CE!$E$5:$F$54,2,FALSE)=\"C\",VLOOKUP($F103,SCHEMA_CE!$E$5:$F$54,2,FALSE)=\"C\"),-1,1)))","v":""},{"$f":"IF($B103=\"\",\"\",H103*IF($F103=\"\",1,IF(ISERROR(MATCH($F103,$B$6:$B$105,0)),0,INDIRECT(ADDRESS(5+MATCH($F103,$B$6:$B$105,0),COLUMN(N$4)))))*IF($F103=\"\",IF(VLOOKUP($B103,SCHEMA_CE!$E$5:$F$54,2,FALSE)=\"C\",-1,1),IF(OR(VLOOKUP($B103,SCHEMA_CE!$E$5:$F$54,2,FALSE)=\"C\",VLOOKUP($F103,SCHEMA_CE!$E$5:$F$54,2,FALSE)=\"C\"),-1,1)))","v":""},{"$f":"IF($B103=\"\",\"\",I103*IF($F103=\"\",1,IF(ISERROR(MATCH($F103,$B$6:$B$105,0)),0,INDIRECT(ADDRESS(5+MATCH($F103,$B$6:$B$105,0),COLUMN(O$4)))))*IF($F103=\"\",IF(VLOOKUP($B103,SCHEMA_CE!$E$5:$F$54,2,FALSE)=\"C\",-1,1),IF(OR(VLOOKUP($B103,SCHEMA_CE!$E$5:$F$54,2,FALSE)=\"C\",VLOOKUP($F103,SCHEMA_CE!$E$5:$F$54,2,FALSE)=\"C\"),-1,1)))","v":""},{"$f":"IF($B103=\"\",\"\",J103*IF($F103=\"\",1,IF(ISERROR(MATCH($F103,$B$6:$B$105,0)),0,INDIRECT(ADDRESS(5+MATCH($F103,$B$6:$B$105,0),COLUMN(P$4)))))*IF($F103=\"\",IF(VLOOKUP($B103,SCHEMA_CE!$E$5:$F$54,2,FALSE)=\"C\",-1,1),IF(OR(VLOOKUP($B103,SCHEMA_CE!$E$5:$F$54,2,FALSE)=\"C\",VLOOKUP($F103,SCHEMA_CE!$E$5:$F$54,2,FALSE)=\"C\"),-1,1)))","v":""},{"$f":"IF($B103=\"\",\"\",K103*IF($F103=\"\",1,IF(ISERROR(MATCH($F103,$B$6:$B$105,0)),0,INDIRECT(ADDRESS(5+MATCH($F103,$B$6:$B$105,0),COLUMN(Q$4)))))*IF($F103=\"\",IF(VLOOKUP($B103,SCHEMA_CE!$E$5:$F$54,2,FALSE)=\"C\",-1,1),IF(OR(VLOOKUP($B103,SCHEMA_CE!$E$5:$F$54,2,FALSE)=\"C\",VLOOKUP($F103,SCHEMA_CE!$E$5:$F$54,2,FALSE)=\"C\"),-1,1)))","v":""},null,"","","","",""]
[null,null,null,null,null,null,null,null,null,null,null,null,{"$f":"IF($B104=\"\",\"\",G104*IF($F104=\"\",1,IF(ISERROR(MATCH($F104,$B$6:$B$105,0)),0,INDIRECT(ADDRESS(5+MATCH($F104,$B$6:$B$105,0),COLUMN(M$4)))))*IF($F104=\"\",IF(VLOOKUP($B104,SCHEMA_CE!$E$5:$F$54,2,FALSE)=\"C\",-1,1),IF(OR(VLOOKUP($B104,SCHEMA_CE!$E$5:$F$54,2,FALSE)=\"C\",VLOOKUP($F104,SCHEMA_CE!$E$5:$F$54,2,FALSE)=\"C\"),-1,1)))","v":""},{"$f":"IF($B104=\"\",\"\",H104*IF($F104=\"\",1,IF(ISERROR(MATCH($F104,$B$6:$B$105,0)),0,INDIRECT(ADDRESS(5+MATCH($F104,$B$6:$B$105,0),COLUMN(N$4)))))*IF($F104=\"\",IF(VLOOKUP($B104,SCHEMA_CE!$E$5:$F$54,2,FALSE)=\"C\",-1,1),IF(OR(VLOOKUP($B104,SCHEMA_CE!$E$5:$F$54,2,FALSE)=\"C\",VLOOKUP($F104,SCHEMA_CE!$E$5:$F$54,2,FALSE)=\"C\"),-1,1)))","v":""},{"$f":"IF($B104=\"\",\"\",I104*IF($F104=\"\",1,IF(ISERROR(MATCH($F104,$B$6:$B$105,0)),0,INDIRECT(ADDRESS(5+MATCH($F104,$B$6:$B$105,0),COLUMN(O$4)))))*IF($F104=\"\",IF(VLOOKUP($B104,SCHEMA_CE!$E$5:$F$54,2,FALSE)=\"C\",-1,1),IF(OR(VLOOKUP($B104,SCHEMA_CE!$E$5:$F$54,2,FALSE)=\"C\",VLOOKUP($F104,SCHEMA_CE!$E$5:$F$54,2,FALSE)=\"C\"),-1,1)))","v":""},{"$f":"IF($B104=\"\",\"\",J104*IF($F104=\"\",1,IF(ISERROR(MATCH($F104,$B$6:$B$105,0)),0,INDIRECT(ADDRESS(5+MATCH($F104,$B$6:$B$105,0),COLUMN(P$4)))))*IF($F104=\"\",IF(VLOOKUP($B104,SCHEMA_CE!$E$5:$F$54,2,FALSE)=\"C\",-1,1),IF(OR(VLOOKUP($B104,SCHEMA_CE!$E$5:$F$54,2,FALSE)=\"C\",VLOOKUP($F104,SCHEMA_CE!$E$5:$F$54,2,FALSE)=\"C\"),-1,1)))","v":""},{"$f":"IF($B104=\"\",\"\",K104*IF($F104=\"\",1,IF(ISERROR(MATCH($F104,$B$6:$B$105,0)),0,INDIRECT(ADDRESS(5+MATCH($F104,$B$6:$B$105,0),COLUMN(Q$4)))))*IF($F104=\"\",IF(VLOOKUP($B104,SCHEMA_CE!$E$5:$F$54,2,FALSE)=\"C\",-1,1),IF(OR(VLOOKUP($B104,SCHEMA_CE!$E$5:$F$54,2,FALSE)=\"C\",VLOOKUP($F104,SCHEMA_CE!$E$5:$F$54,2,FALSE)=\"C\"),-1,1)))","v":""},null,"","","","",""]
[null,null,null,null,null,null,null,null,null,null,null,null,{"$f":"IF($B105=\"\",\"\",G105*IF($F105=\"\",1,IF(ISERROR(MATCH($F105,$B$6:$B$105,0)),0,INDIRECT(ADDRESS(5+MATCH($F105,$B$6:$B$105,0),COLUMN(M$4)))))*IF($F105=\"\",IF(VLOOKUP($B105,SCHEMA_CE!$E$5:$F$54,2,FALSE)=\"C\",-1,1),IF(OR(VLOOKUP($B105,SCHEMA_CE!$E$5:$F$54,2,FALSE)=\"C\",VLOOKUP($F105,SCHEMA_CE!$E$5:$F$54,2,FALSE)=\"C\"),-1,1)))","v":""},{"$f":"IF($B105=\"\",\"\",H105*IF($F105=\"\",1,IF(ISERROR(MATCH($F105,$B$6:$B$105,0)),0,INDIRECT(ADDRESS(5+MATCH($F105,$B$6:$B$105,0),COLUMN(N$4)))))*IF($F105=\"\",IF(VLOOKUP($B105,SCHEMA_CE!$E$5:$F$54,2,FALSE)=\"C\",-1,1),IF(OR(VLOOKUP($B105,SCHEMA_CE!$E$5:$F$54,2,FALSE)=\"C\",VLOOKUP($F105,SCHEMA_CE!$E$5:$F$54,2,FALSE)=\"C\"),-1,1)))","v":""},{"$f":"IF($B105=\"\",\"\",I105*IF($F105=\"\",1,IF(ISERROR(MATCH($F105,$B$6:$B$105,0)),0,INDIRECT(ADDRESS(5+MATCH($F105,$B$6:$B$105,0),COLUMN(O$4)))))*IF($F105=\"\",IF(VLOOKUP($B105,SCHEMA_CE!$E$5:$F$54,2,FALSE)=\"C\",-1,1),IF(OR(VLOOKUP($B105,SCHEMA_CE!$E$5:$F$54,2,FALSE)=\"C\",VLOOKUP($F105,SCHEMA_CE!$E$5:$F$54,2,FALSE)=\"C\"),-1,1)))","v":""},{"$f":"IF($B105=\"\",\"\",J105*IF($F105=\"\",1,IF(ISERROR(MATCH($F105,$B$6:$B$105,0)),0,INDIRECT(ADDRESS(5+MATCH($F105,$B$6:$B$105,0),COLUMN(P$4)))))*IF($F105=\"\",IF(VLOOKUP($B105,SCHEMA_CE!$E$5:$F$54,2,FALSE)=\"C\",-1,1),IF(OR(VLOOKUP($B105,SCHEMA_CE!$E$5:$F$54,2,FALSE)=\"C\",VLOOKUP($F105,SCHEMA_CE!$E$5:$F$54,2,FALSE)=\"C\"),-1,1)))","v":""},{"$f":"IF($B105=\"\",\"\",K105*IF($F105=\"\",1,IF(ISERROR(MATCH($F105,$B$6:$B$105,0)),0,INDIRECT(ADDRESS(5+MATCH($F105,$B$6:$B$105,0),COLUMN(Q$4)))))*IF($F105=\"\",IF(VLOOKUP($B105,SCHEMA_CE!$E$5:$F$54,2,FALSE)=\"C\",-1,1),IF(OR(VLOOKUP($B105,SCHEMA_CE!$E$5:$F$54,2,FALSE)=\"C\",VLOOKUP($F105,SCHEMA_CE!$E$5:$F$54,2,FALSE)=\"C\"),-1,1)))","v":""},null,"","","","",""]
["ALTRI DATI ECONOMICI"]
[null,"Aliquota media fiscale",null,null,null,null,0.4,0.4,0.4]
[null,"Tasso medio d'interesse attivo",null,null,null,null,0.02,0.02,0.02]
[null,"Tasso medio d'interesse passivo",null,null,null,null,0.05,0.05,0.05]

{"sheet":"Attivita_Passivita","index":10,"n_rows":105,"n_cols":23,"rows_kept":105,"cut":false,"hidden":false,"merged":[]}
[{"$f":"MENU!$C$5&\" - ATTIVITA' / PASSIVITA'\"","v":"XYZ SpA - ATTIVITA' / PASSIVITA'"}]
[]
[null,null,null,null,null,null,null,null,null,null,null,null,"VALORI",null,null,null,null,null,"FLUSSI"]
[null,null,"Aliq. IVA","+/-","% Monetaria","Rif. Calcolo",{"$f":"MENU!C9+MENU!C7","v":2005},{"$f":"IF(G4=\"\",\"\",IF(G4+1-$G$4>MENU!$C$11-1,\"\",Attivita_Passivita!G4+1))","v":2006},{"$f":"IF(H4=\"\",\"\",IF(H4+1-$G$4>MENU!$C$11-1,\"\",Attivita_Passivita!H4+1))","v":2007},{"$f":"IF(I4=\"\",\"\",IF(I4+1-$G$4>MENU!$C$11-1,\"\",Attivita_Passivita!I4+1))","v":""},{"$f":"IF(J4=\"\",\"\",IF(J4+1-$G$4>MENU!$C$11-1,\"\",Attivita_Passivita!J4+1))","v":""},null,{"$f":"G4","v":2005},{"$f":"H4","v":2006},{"$f":"I4","v":2007},{"$f":"J4","v":""},{"$f":"K4","v":""},null,{"$f":"M4","v":2005},{"$f":"N4","v":2006},{"$f":"O4","v":2007},{"$f":"P4","v":""},{"$f":"Q4","v":""}]
["ATTIVITA'"]
[null,"010101_Concessioni, licenze, marchi",null,"+",1,null,1300,1400,1500,null,null,null,{"$f":"IF($B6=\"\",\"\",G6*IF($F6=\"\",1,IF(ISERROR(MATCH($F6,$B$6:$B$105)),0,INDIRECT(ADDRESS(5+MATCH($F6,$B$6:$B$105),COLUMN(M$4)))))*IF(VLOOKUP($B6,SCHEMA_SP!$E$5:$F$54,2,FALSE)=\"P\",-1,1))","v":1300},{"$f":"IF($B6=\"\",\"\",H6*IF($F6=\"\",1,IF(ISERROR(MATCH($F6,$B$6:$B$105)),0,INDIRECT(ADDRESS(5+MATCH($F6,$B$6:$B$105),COLUMN(N$4)))))*IF(VLOOKUP($B6,SCHEMA_SP!$E$5:$F$54,2,FALSE)=\"P\",-1,1))","v":1400},{"$f":"IF($B6=\"\",\"\",I6*IF($F6=\"\",1,IF(ISERROR(MATCH($F6,$B$6:$B$105)),0,INDIRECT(ADDRESS(5+MATCH($F6,$B$6:$B$105),COLUMN(O$4)))))*IF(VLOOKUP($B6,SCHEMA_SP!$E$5:$F$54,2,FALSE)=\"P\",-1,1))","v":1500},{"$f":"IF($B6=\"\",\"\",J6*IF($F6=\"\",1,IF(ISERROR(MATCH($F6,$B$6:$B$105)),0,INDIRECT(ADDRESS(5+MATCH($F6,$B$6:$B$105),COLUMN(P$4)))))*IF(VLOOKUP($B6,SCHEMA_SP!$E$5:$F$54,2,FALSE)=\"P\",-1,1))","v":0},{"$f":"IF($B6=\"\",\"\",K6*IF($F6=\"\",1,IF(ISERROR(MATCH($F6,$B$6:$B$105)),0,INDIRECT(ADDRESS(5+MATCH($F6,$B$6:$B$105),COLUMN(Q$4)))))*IF(VLOOKUP($B6,SCHEMA_SP!$E$5:$F$54,2,FALSE)=\"P\",-1,1))","v":0},null,{"$f":"IF($B6=\"\",\"\",M6*$E6)","v":1300},{"$f":"IF($B6=\"\",\"\",N6*$E6)","v":1400},{"$f":"IF($B6=\"\",\"\",O6*$E6)","v":1500},{"$f":"IF($B6=\"\",\"\",P6*$E6)","v":0},{"$f":"IF($B6=\"\",\"\",Q6*$E6)","v":0}]
[null,"010111_Software",null,"+",1,null,1000,1200,1300,null,null,null,{"$f":"IF($B7=\"\",\"\",G7*IF($F7=\"\",1,IF(ISERROR(MATCH($F7,$B$6:$B$105)),0,INDIRECT(ADDRESS(5+MATCH($F7,$B$6:$B$105),COLUMN(M$4)))))*IF(VLOOKUP($B7,SCHEMA_SP!$E$5:$F$54,2,FALSE)=\"P\",-1,1))","v":1000},{"$f":"IF($B7=\"\",\"\",H7*IF($F7=\"\",1,IF(ISERROR(MATCH($F7,$B$6:$B$105)),0,INDIRECT(ADDRESS(5+MATCH($F7,$B$6:$B$105),COLUMN(N$4)))))*IF(VLOOKUP($B7,SCHEMA_SP!$E$5:$F$54,2,FALSE)=\"P\",-1,1))","v":1200},{"$f":"IF($B7=\"\",\"\",I7*IF($F7=\"\",1,IF(ISERROR(MATCH($F7,$B$6:$B$105)),0,INDIRECT(ADDRESS(5+MATCH($F7,$B$6:$B$105),COLUMN(O$4)))))*IF(VLOOKUP($B7,SCHEMA_SP!$E$5:$F$54,2,FALSE)=\"P\",-1,1))","v":1300},{"$f":"IF($B7=\"\",\"\",J7*IF($F7=\"\",1,IF(ISERROR(MATCH($F7,$B$6:$B$105)),0,INDIRECT(ADDRESS(5+MATCH($F7,$B$6:$B$105),COLUMN(P$4)))))*IF(VLOOKUP($B7,SCHEMA_SP!$E$5:$F$54,2,FALSE)=\"P\",-1,1))","v":0},{"$f":"IF($B7=\"\",\"\",K7*IF($F7=\"\",1,IF(ISERROR(MATCH($F7,$B$6:$B$105)),0,INDIRECT(ADDRESS(5+MATCH($F7,$B$6:$B$105),COLUMN(Q$4)))))*IF(VLOOKUP($B7,SCHEMA_SP!$E$5:$F$54,2,FALSE)=\"P\",-1,1))","v":0},null,{"$f":"IF($B7=\"\",\"\",M7*$E7)","v":1000},1200,1300,0,0]
[null,"010201_Terreni e fabbricati",null,"+",1,null,800,800,800,null,null,null,{"$f":"IF($B8=\"\",\"\",G8*IF($F8=\"\",1,IF(ISERROR(MATCH($F8,$B$6:$B$105)),0,INDIRECT(ADDRESS(5+MATCH($F8,$B$6:$B$105),COLUMN(M$4)))))*IF(VLOOKUP($B8,SCHEMA_SP!$E$5:$F$54,2,FALSE)=\"P\",-1,1))","v":800},{"$f":"IF($B8=\"\",\"\",H8*IF($F8=\"\",1,IF(ISERROR(MATCH($F8,$B$6:$B$105)),0,INDIRECT(ADDRESS(5+MATCH($F8,$B$6:$B$105),COLUMN(N$4)))))*IF(VLOOKUP($B8,SCHEMA_SP!$E$5:$F$54,2,FALSE)=\"P\",-1,1))","v":800},{"$f":"IF($B8=\"\",\"\",I8*IF($F8=\"\",1,IF(ISERROR(MATCH($F8,$B$6:$B$105)),0,INDIRECT(ADDRESS(5+MATCH($F8,$B$6:$B$105),COLUMN(O$4)))))*IF(VLOOKUP($B8,SCHEMA_SP!$E$5:$F$54,2,FALSE)=\"P\",-1,1))","v":800},{"$f":"IF($B8=\"\",\"\",J8*IF($F8=\"\",1,IF(ISERROR(MATCH($F8,$B$6:$B$105)),0,INDIRECT(ADDRESS(5+MATCH($F8,$B$6:$B$105),COLUMN(P$4)))))*IF(VLOOKUP($B8,SCHEMA_SP!$E$5:$F$54,2,FALSE)=\"P\",-1,1))","v":0},{"$f":"IF($B8=\"\",\"\",K8*IF($F8=\"\",1,IF(ISERROR(MATCH($F8,$B$6:$B$105)),0,INDIRECT(ADDRESS(5+MATCH($F8,$B$6:$B$105),COLUMN(Q$4)))))*IF(VLOOKUP($B8,SCHEMA_SP!$E$5:$F$54,2,FALSE)=\"P\",-1,1))","v":0},null,800,800,800,0,0]
[null,"010211_Attrezzature e impianti",null,"+",1,null,8000,8500,9000,null,null,null,{"$f":"IF($B9=\"\",\"\",G9*IF($F9=\"\",1,IF(ISERROR(MATCH($F9,$B$6:$B$105)),0,INDIRECT(ADDRESS(5+MATCH($F9,$B$6:$B$105),COLUMN(M$4)))))*IF(VLOOKUP($B9,SCHEMA_SP!$E$5:$F$54,2,FALSE)=\"P\",-1,1))","v":8000},{"$f":"IF($B9=\"\",\"\",H9*IF($F9=\"\",1,IF(ISERROR(MATCH($F9,$B$6:$B$105)),0,INDIRECT(ADDRESS(5+MATCH($F9,$B$6:$B$105),COLUMN(N$4)))))*IF(VLOOKUP($B9,SCHEMA_SP!$E$5:$F$54,2,FALSE)=\"P\",-1,1))","v":8500},{"$f":"IF($B9=\"\",\"\",I9*IF($F9=\"\",1,IF(ISERROR(MATCH($F9,$B$6:$B$105)),0,INDIRECT(ADDRESS(5+MATCH($F9,$B$6:$B$105),COLUMN(O$4)))))*IF(VLOOKUP($B9,SCHEMA_SP!$E$5:$F$54,2,FALSE)=\"P\",-1,1))","v":9000},{"$f":"IF($B9=\"\",\"\",J9*IF($F9=\"\",1,IF(ISERROR(MATCH($F9,$B$6:$B$105)),0,INDIRECT(ADDRESS(5+MATCH($F9,$B$6:$B$105),COLUMN(P$4)))))*IF(VLOOKUP($B9,SCHEMA_SP!$E$5:$F$54,2,FALSE)=\"P\",-1,1))","v":0},{"$f":"IF($B9=\"\",\"\",K9*IF($F9=\"\",1,IF(ISERROR(MATCH($F9,$B$6:$B$105)),0,INDIRECT(ADDRESS(5+MATCH($F9,$B$6:$B$105),COLUMN(Q$4)))))*IF(VLOOKUP($B9,SCHEMA_SP!$E$5:$F$54,2,FALSE)=\"P\",-1,1))","v":0},null,8000,8500,9000,0,0]
[null,"010221_Altri beni",null,null,1,null,100,100,100,null,null,null,{"$f":"IF($B10=\"\",\"\",G10*IF($F10=\"\",1,IF(ISERROR(MATCH($F10,$B$6:$B$105)),0,INDIRECT(ADDRESS(5+MATCH($F10,$B$6:$B$105),COLUMN(M$4)))))*IF(VLOOKUP($B10,SCHEMA_SP!$E$5:$F$54,2,FALSE)=\"P\",-1,1))","v":100},{"$f":"IF($B10=\"\",\"\",H10*IF($F10=\"\",1,IF(ISERROR(MATCH($F10,$B$6:$B$105)),0,INDIRECT(ADDRESS(5+MATCH($F10,$B$6:$B$105),COLUMN(N$4)))))*IF(VLOOKUP($B10,SCHEMA_SP!$E$5:$F$54,2,FALSE)=\"P\",-1,1))","v":100},{"$f":"IF($B10=\"\",\"\",I10*IF($F10=\"\",1,IF(ISERROR(MATCH($F10,$B$6:$B$105)),0,INDIRECT(ADDRESS(5+MATCH($F10,$B$6:$B$105),COLUMN(O$4)))))*IF(VLOOKUP($B10,SCHEMA_SP!$E$5:$F$54,2,FALSE)=\"P\",-1,1))","v":100},{"$f":"IF($B10=\"\",\"\",J10*IF($F10=\"\",1,IF(ISERROR(MATCH($F10,$B$6:$B$105)),0,INDIRECT(ADDRESS(5+MATCH($F10,$B$6:$B$105),COLUMN(P$4)))))*IF(VLOOKUP($B10,SCHEMA_SP!$E$5:$F$54,2,FALSE)=\"P\",-1,1))","v":0},{"$f":"IF($B10=\"\",\"\",K10*IF($F10=\"\",1,IF(ISERROR(MATCH($F10,$B$6:$B$105)),0,INDIRECT(ADDRESS(5+MATCH($F10,$B$6:$B$105),COLUMN(Q$4)))))*IF(VLOOKUP($B10,SCHEMA_SP!$E$5:$F$54,2,FALSE)=\"P\",-1,1))","v":0},null,100,100,100,0,0]
[null,"010301_Partecipazioni",null,null,1,null,20,20,20,null,null,null,{"$f":"IF($B11=\"\",\"\",G11*IF($F11=\"\",1,IF(ISERROR(MATCH($F11,$B$6:$B$105)),0,INDIRECT(ADDRESS(5+MATCH($F11,$B$6:$B$105),COLUMN(M$4)))))*IF(VLOOKUP($B11,SCHEMA_SP!$E$5:$F$54,2,FALSE)=\"P\",-1,1))","v":20},{"$f":"IF($B11=\"\",\"\",H11*IF($F11=\"\",1,IF(ISERROR(MATCH($F11,$B$6:$B$105)),0,INDIRECT(ADDRESS(5+MATCH($F11,$B$6:$B$105),COLUMN(N$4)))))*IF(VLOOKUP($B11,SCHEMA_SP!$E$5:$F$54,2,FALSE)=\"P\",-1,1))","v":20},{"$f":"IF($B11=\"\",\"\",I11*IF($F11=\"\",1,IF(ISERROR(MATCH($F11,$B$6:$B$105)),0,INDIRECT(ADDRESS(5+MATCH($F11,$B$6:$B$105),COLUMN(O$4)))))*IF(VLOOKUP($B11,SCHEMA_SP!$E$5:$F$54,2,FALSE)=\"P\",-1,1))","v":20},{"$f":"IF($B11=\"\",\"\",J11*IF($F11=\"\",1,IF(ISERROR(MATCH($F11,$B$6:$B$105)),0,INDIRECT(ADDRESS(5+MATCH($F11,$B$6:$B$105),COLUMN(P$4)))))*IF(VLOOKUP($B11,SCHEMA_SP!$E$5:$F$54,2,FALSE)=\"P\",-1,1))","v":0},{"$f":"IF($B11=\"\",\"\",K11*IF($F11=\"\",1,IF(ISERROR(MATCH($F11,$B$6:$B$105)),0,INDIRECT(ADDRESS(5+MATCH($F11,$B$6:$B$105),COLUMN(Q$4)))))*IF(VLOOKUP($B11,SCHEMA_SP!$E$5:$F$54,2,FALSE)=\"P\",-1,1))","v":0},null,20,20,20,0,0]
[null,"010311_Crediti",null,null,1,null,10,10,10,null,null,null,{"$f":"IF($B12=\"\",\"\",G12*IF($F12=\"\",1,IF(ISERROR(MATCH($F12,$B$6:$B$105)),0,INDIRECT(ADDRESS(5+MATCH($F12,$B$6:$B$105),COLUMN(M$4)))))*IF(VLOOKUP($B12,SCHEMA_SP!$E$5:$F$54,2,FALSE)=\"P\",-1,1))","v":10},{"$f":"IF($B12=\"\",\"\",H12*IF($F12=\"\",1,IF(ISERROR(MATCH($F12,$B$6:$B$105)),0,INDIRECT(ADDRESS(5+MATCH($F12,$B$6:$B$105),COLUMN(N$4)))))*IF(VLOOKUP($B12,SCHEMA_SP!$E$5:$F$54,2,FALSE)=\"P\",-1,1))","v":10},{"$f":"IF($B12=\"\",\"\",I12*IF($F12=\"\",1,IF(ISERROR(MATCH($F12,$B$6:$B$105)),0,INDIRECT(ADDRESS(5+MATCH($F12,$B$6:$B$105),COLUMN(O$4)))))*IF(VLOOKUP($B12,SCHEMA_SP!$E$5:$F$54,2,FALSE)=\"P\",-1,1))","v":10},{"$f":"IF($B12=\"\",\"\",J12*IF($F12=\"\",1,IF(ISERROR(MATCH($F12,$B$6:$B$105)),0,INDIRECT(ADDRESS(5+MATCH($F12,$B$6:$B$105),COLUMN(P$4)))))*IF(VLOOKUP($B12,SCHEMA_SP!$E$5:$F$54,2,FALSE)=\"P\",-1,1))","v":0},{"$f":"IF($B12=\"\",\"\",K12*IF($F12=\"\",1,IF(ISERROR(MATCH($F12,$B$6:$B$105)),0,INDIRECT(ADDRESS(5+MATCH($F12,$B$6:$B$105),COLUMN(Q$4)))))*IF(VLOOKUP($B12,SCHEMA_SP!$E$5:$F$54,2,FALSE)=\"P\",-1,1))","v":0},null,10,10,10,0,0]
[null,"010321_Altri",null,null,1,null,20,20,20,null,null,null,{"$f":"IF($B13=\"\",\"\",G13*IF($F13=\"\",1,IF(ISERROR(MATCH($F13,$B$6:$B$105)),0,INDIRECT(ADDRESS(5+MATCH($F13,$B$6:$B$105),COLUMN(M$4)))))*IF(VLOOKUP($B13,SCHEMA_SP!$E$5:$F$54,2,FALSE)=\"P\",-1,1))","v":20},{"$f":"IF($B13=\"\",\"\",H13*IF($F13=\"\",1,IF(ISERROR(MATCH($F13,$B$6:$B$105)),0,INDIRECT(ADDRESS(5+MATCH($F13,$B$6:$B$105),COLUMN(N$4)))))*IF(VLOOKUP($B13,SCHEMA_SP!$E$5:$F$54,2,FALSE)=\"P\",-1,1))","v":20},{"$f":"IF($B13=\"\",\"\",I13*IF($F13=\"\",1,IF(ISERROR(MATCH($F13,$B$6:$B$105)),0,INDIRECT(ADDRESS(5+MATCH($F13,$B$6:$B$105),COLUMN(O$4)))))*IF(VLOOKUP($B13,SCHEMA_SP!$E$5:$F$54,2,FALSE)=\"P\",-1,1))","v":20},{"$f":"IF($B13=\"\",\"\",J13*IF($F13=\"\",1,IF(ISERROR(MATCH($F13,$B$6:$B$105)),0,INDIRECT(ADDRESS(5+MATCH($F13,$B$6:$B$105),COLUMN(P$4)))))*IF(VLOOKUP($B13,SCHEMA_SP!$E$5:$F$54,2,FALSE)=\"P\",-1,1))","v":0},{"$f":"IF($B13=\"\",\"\",K13*IF($F13=\"\",1,IF(ISERROR(MATCH($F13,$B$6:$B$105)),0,INDIRECT(ADDRESS(5+MATCH($F13,$B$6:$B$105),COLUMN(Q$4)))))*IF(VLOOKUP($B13,SCHEMA_SP!$E$5:$F$54,2,FALSE)=\"P\",-1,1))","v":0},null,20,20,20,0,0]
[null,"020401_Magazzino",null,null,1,null,700,800,900,null,null,null,{"$f":"IF($B14=\"\",\"\",G14*IF($F14=\"\",1,IF(ISERROR(MATCH($F14,$B$6:$B$105)),0,INDIRECT(ADDRESS(5+MATCH($F14,$B$6:$B$105),COLUMN(M$4)))))*IF(VLOOKUP($B14,SCHEMA_SP!$E$5:$F$54,2,FALSE)=\"P\",-1,1))","v":700},{"$f":"IF($B14=\"\",\"\",H14*IF($F14=\"\",1,IF(ISERROR(MATCH($F14,$B$6:$B$105)),0,INDIRECT(ADDRESS(5+MATCH($F14,$B$6:$B$105),COLUMN(N$4)))))*IF(VLOOKUP($B14,SCHEMA_SP!$E$5:$F$54,2,FALSE)=\"P\",-1,1))","v":800},{"$f":"IF($B14=\"\",\"\",I14*IF($F14=\"\",1,IF(ISERROR(MATCH($F14,$B$6:$B$105)),0,INDIRECT(ADDRESS(5+MATCH($F14,$B$6:$B$105),COLUMN(O$4)))))*IF(VLOOKUP($B14,SCHEMA_SP!$E$5:$F$54,2,FALSE)=\"P\",-1,1))","v":900},{"$f":"IF($B14=\"\",\"\",J14*IF($F14=\"\",1,IF(ISERROR(MATCH($F14,$B$6:$B$105)),0,INDIRECT(ADDRESS(5+MATCH($F14,$B$6:$B$105),COLUMN(P$4)))))*IF(VLOOKUP($B14,SCHEMA_SP!$E$5:$F$54,2,FALSE)=\"P\",-1,1))","v":0},{"$f":"IF($B14=\"\",\"\",K14*IF($F14=\"\",1,IF(ISERROR(MATCH($F14,$B$6:$B$105)),0,INDIRECT(ADDRESS(5+MATCH($F14,$B$6:$B$105),COLUMN(Q$4)))))*IF(VLOOKUP($B14,SCHEMA_SP!$E$5:$F$54,2,FALSE)=\"P\",-1,1))","v":0},null,700,800,900,0,0]
[null,"020402_Crediti verso clienti",null,null,1,null,7000,8000,9000,null,null,null,{"$f":"IF($B15=\"\",\"\",G15*IF($F15=\"\",1,IF(ISERROR(MATCH($F15,$B$6:$B$105)),0,INDIRECT(ADDRESS(5+MATCH($F15,$B$6:$B$105),COLUMN(M$4)))))*IF(VLOOKUP($B15,SCHEMA_SP!$E$5:$F$54,2,FALSE)=\"P\",-1,1))","v":7000},{"$f":"IF($B15=\"\",\"\",H15*IF($F15=\"\",1,IF(ISERROR(MATCH($F15,$B$6:$B$105)),0,INDIRECT(ADDRESS(5+MATCH($F15,$B$6:$B$105),COLUMN(N$4)))))*IF(VLOOKUP($B15,SCHEMA_SP!$E$5:$F$54,2,FALSE)=\"P\",-1,1))","v":8000},{"$f":"IF($B15=\"\",\"\",I15*IF($F15=\"\",1,IF(ISERROR(MATCH($F15,$B$6:$B$105)),0,INDIRECT(ADDRESS(5+MATCH($F15,$B$6:$B$105),COLUMN(O$4)))))*IF(VLOOKUP($B15,SCHEMA_SP!$E$5:$F$54,2,FALSE)=\"P\",-1,1))","v":9000},{"$f":"IF($B15=\"\",\"\",J15*IF($F15=\"\",1,IF(ISERROR(MATCH($F15,$B$6:$B$105)),0,INDIRECT(ADDRESS(5+MATCH($F15,$B$6:$B$105),COLUMN(P$4)))))*IF(VLOOKUP($B15,SCHEMA_SP!$E$5:$F$54,2,FALSE)=\"P\",-1,1))","v":0},{"$f":"IF($B15=\"\",\"\",K15*IF($F15=\"\",1,IF(ISERROR(MATCH($F15,$B$6:$B$105)),0,INDIRECT(ADDRESS(5+MATCH($F15,$B$6:$B$105),COLUMN(Q$4)))))*IF(VLOOKUP($B15,SCHEMA_SP!$E$5:$F$54,2,FALSE)=\"P\",-1,1))","v":0},null,7000,8000,9000,0,0]
[null,"020403_Altri crediti",null,null,1,null,1000,1000,1000,null,null,null,{"$f":"IF($B16=\"\",\"\",G16*IF($F16=\"\",1,IF(ISERROR(MATCH($F16,$B$6:$B$105)),0,INDIRECT(ADDRESS(5+MATCH($F16,$B$6:$B$105),COLUMN(M$4)))))*IF(VLOOKUP($B16,SCHEMA_SP!$E$5:$F$54,2,FALSE)=\"P\",-1,1))","v":1000},{"$f":"IF($B16=\"\",\"\",H16*IF($F16=\"\",1,IF(ISERROR(MATCH($F16,$B$6:$B$105)),0,INDIRECT(ADDRESS(5+MATCH($F16,$B$6:$B$105),COLUMN(N$4)))))*IF(VLOOKUP($B16,SCHEMA_SP!$E$5:$F$54,2,FALSE)=\"P\",-1,1))","v":1000},{"$f":"IF($B16=\"\",\"\",I16*IF($F16=\"\",1,IF(ISERROR(MATCH($F16,$B$6:$B$105)),0,INDIRECT(ADDRESS(5+MATCH($F16,$B$6:$B$105),COLUMN(O$4)))))*IF(VLOOKUP($B16,SCHEMA_SP!$E$5:$F$54,2,FALSE)=\"P\",-1,1))","v":1000},{"$f":"IF($B16=\"\",\"\",J16*IF($F16=\"\",1,IF(ISERROR(MATCH($F16,$B$6:$B$105)),0,INDIRECT(ADDRESS(5+MATCH($F16,$B$6:$B$105),COLUMN(P$4)))))*IF(VLOOKUP($B16,SCHEMA_SP!$E$5:$F$54,2,FALSE)=\"P\",-1,1))","v":0},{"$f":"IF($B16=\"\",\"\",K16*IF($F16=\"\",1,IF(ISERROR(MATCH($F16,$B$6:$B$105)),0,INDIRECT(ADDRESS(5+MATCH($F16,$B$6:$B$105),COLUMN(Q$4)))))*IF(VLOOKUP($B16,SCHEMA_SP!$E$5:$F$54,2,FALSE)=\"P\",-1,1))","v":0},null,1000,1000,1000,0,0]
[null,"020404_Ratei/risconti attivi",null,null,0,null,500,500,500,null,null,null,{"$f":"IF($B17=\"\",\"\",G17*IF($F17=\"\",1,IF(ISERROR(MATCH($F17,$B$6:$B$105)),0,INDIRECT(ADDRESS(5+MATCH($F17,$B$6:$B$105),COLUMN(M$4)))))*IF(VLOOKUP($B17,SCHEMA_SP!$E$5:$F$54,2,FALSE)=\"P\",-1,1))","v":500},{"$f":"IF($B17=\"\",\"\",H17*IF($F17=\"\",1,IF(ISERROR(MATCH($F17,$B$6:$B$105)),0,INDIRECT(ADDRESS(5+MATCH($F17,$B$6:$B$105),COLUMN(N$4)))))*IF(VLOOKUP($B17,SCHEMA_SP!$E$5:$F$54,2,FALSE)=\"P\",-1,1))","v":500},{"$f":"IF($B17=\"\",\"\",I17*IF($F17=\"\",1,IF(ISERROR(MATCH($F17,$B$6:$B$105)),0,INDIRECT(ADDRESS(5+MATCH($F17,$B$6:$B$105),COLUMN(O$4)))))*IF(VLOOKUP($B17,SCHEMA_SP!$E$5:$F$54,2,FALSE)=\"P\",-1,1))","v":500},{"$f":"IF($B17=\"\",\"\",J17*IF($F17=\"\",1,IF(ISERROR(MATCH($F17,$B$6:$B$105)),0,INDIRECT(ADDRESS(5+MATCH($F17,$B$6:$B$105),COLUMN(P$4)))))*IF(VLOOKUP($B17,SCHEMA_SP!$E$5:$F$54,2,FALSE)=\"P\",-1,1))","v":0},{"$f":"IF($B17=\"\",\"\",K17*IF($F17=\"\",1,IF(ISERROR(MATCH($F17,$B$6:$B$105)),0,INDIRECT(ADDRESS(5+MATCH($F17,$B$6:$B$105),COLUMN(Q$4)))))*IF(VLOOKUP($B17,SCHEMA_SP!$E$5:$F$54,2,FALSE)=\"P\",-1,1))","v":0},null,0,0,0,0,0]
[null,"030101_Cassa",null,null,1,null,10,10,10,null,null,null,{"$f":"IF($B18=\"\",\"\",G18*IF($F18=\"\",1,IF(ISERROR(MATCH($F18,$B$6:$B$105)),0,INDIRECT(ADDRESS(5+MATCH($F18,$B$6:$B$105),COLUMN(M$4)))))*IF(VLOOKUP($B18,SCHEMA_SP!$E$5:$F$54,2,FALSE)=\"P\",-1,1))","v":10},{"$f":"IF($B18=\"\",\"\",H18*IF($F18=\"\",1,IF(ISERROR(MATCH($F18,$B$6:$B$105)),0,INDIRECT(ADDRESS(5+MATCH($F18,$B$6:$B$105),COLUMN(N$4)))))*IF(VLOOKUP($B18,SCHEMA_SP!$E$5:$F$54,2,FALSE)=\"P\",-1,1))","v":10},{"$f":"IF($B18=\"\",\"\",I18*IF($F18=\"\",1,IF(ISERROR(MATCH($F18,$B$6:$B$105)),0,INDIRECT(ADDRESS(5+MATCH($F18,$B$6:$B$105),COLUMN(O$4)))))*IF(VLOOKUP($B18,SCHEMA_SP!$E$5:$F$54,2,FALSE)=\"P\",-1,1))","v":10},{"$f":"IF($B18=\"\",\"\",J18*IF($F18=\"\",1,IF(ISERROR(MATCH($F18,$B$6:$B$105)),0,INDIRECT(ADDRESS(5+MATCH($F18,$B$6:$B$105),COLUMN(P$4)))))*IF(VLOOKUP($B18,SCHEMA_SP!$E$5:$F$54,2,FALSE)=\"P\",-1,1))","v":0},{"$f":"IF($B18=\"\",\"\",K18*IF($F18=\"\",1,IF(ISERROR(MATCH($F18,$B$6:$B$105)),0,INDIRECT(ADDRESS(5+MATCH($F18,$B$6:$B$105),COLUMN(Q$4)))))*IF(VLOOKUP($B18,SCHEMA_SP!$E$5:$F$54,2,FALSE)=\"P\",-1,1))","v":0},null,10,10,10,0,0]
[null,"030111_Banca ",null,null,1,null,50,50,50,null,null,null,{"$f":"IF($B19=\"\",\"\",G19*IF($F19=\"\",1,IF(ISERROR(MATCH($F19,$B$6:$B$105)),0,INDIRECT(ADDRESS(5+MATCH($F19,$B$6:$B$105),COLUMN(M$4)))))*IF(VLOOKUP($B19,SCHEMA_SP!$E$5:$F$54,2,FALSE)=\"P\",-1,1))","v":50},{"$f":"IF($B19=\"\",\"\",H19*IF($F19=\"\",1,IF(ISERROR(MATCH($F19,$B$6:$B$105)),0,INDIRECT(ADDRESS(5+MATCH($F19,$B$6:$B$105),COLUMN(N$4)))))*IF(VLOOKUP($B19,SCHEMA_SP!$E$5:$F$54,2,FALSE)=\"P\",-1,1))","v":50},{"$f":"IF($B19=\"\",\"\",I19*IF($F19=\"\",1,IF(ISERROR(MATCH($F19,$B$6:$B$105)),0,INDIRECT(ADDRESS(5+MATCH($F19,$B$6:$B$105),COLUMN(O$4)))))*IF(VLOOKUP($B19,SCHEMA_SP!$E$5:$F$54,2,FALSE)=\"P\",-1,1))","v":50},{"$f":"IF($B19=\"\",\"\",J19*IF($F19=\"\",1,IF(ISERROR(MATCH($F19,$B$6:$B$105)),0,INDIRECT(ADDRESS(5+MATCH($F19,$B$6:$B$105),COLUMN(P$4)))))*IF(VLOOKUP($B19,SCHEMA_SP!$E$5:$F$54,2,FALSE)=\"P\",-1,1))","v":0},{"$f":"IF($B19=\"\",\"\",K19*IF($F19=\"\",1,IF(ISERROR(MATCH($F19,$B$6:$B$105)),0,INDIRECT(ADDRESS(5+MATCH($F19,$B$6:$B$105),COLUMN(Q$4)))))*IF(VLOOKUP($B19,SCHEMA_SP!$E$5:$F$54,2,FALSE)=\"P\",-1,1))","v":0},null,50,50,50,0,0]
[null,"030121_Titoli ",null,null,1,null,5,5,5,null,null,null,{"$f":"IF($B20=\"\",\"\",G20*IF($F20=\"\",1,IF(ISERROR(MATCH($F20,$B$6:$B$105)),0,INDIRECT(ADDRESS(5+MATCH($F20,$B$6:$B$105),COLUMN(M$4)))))*IF(VLOOKUP($B20,SCHEMA_SP!$E$5:$F$54,2,FALSE)=\"P\",-1,1))","v":5},{"$f":"IF($B20=\"\",\"\",H20*IF($F20=\"\",1,IF(ISERROR(MATCH($F20,$B$6:$B$105)),0,INDIRECT(ADDRESS(5+MATCH($F20,$B$6:$B$105),COLUMN(N$4)))))*IF(VLOOKUP($B20,SCHEMA_SP!$E$5:$F$54,2,FALSE)=\"P\",-1,1))","v":5},{"$f":"IF($B20=\"\",\"\",I20*IF($F20=\"\",1,IF(ISERROR(MATCH($F20,$B$6:$B$105)),0,INDIRECT(ADDRESS(5+MATCH($F20,$B$6:$B$105),COLUMN(O$4)))))*IF(VLOOKUP($B20,SCHEMA_SP!$E$5:$F$54,2,FALSE)=\"P\",-1,1))","v":5},{"$f":"IF($B20=\"\",\"\",J20*IF($F20=\"\",1,IF(ISERROR(MATCH($F20,$B$6:$B$105)),0,INDIRECT(ADDRESS(5+MATCH($F20,$B$6:$B$105),COLUMN(P$4)))))*IF(VLOOKUP($B20,SCHEMA_SP!$E$5:$F$54,2,FALSE)=\"P\",-1,1))","v":0},{"$f":"IF($B20=\"\",\"\",K20*IF($F20=\"\",1,IF(ISERROR(MATCH($F20,$B$6:$B$105)),0,INDIRECT(ADDRESS(5+MATCH($F20,$B$6:$B$105),COLUMN(Q$4)))))*IF(VLOOKUP($B20,SCHEMA_SP!$E$5:$F$54,2,FALSE)=\"P\",-1,1))","v":0},null,5,5,5,0,0]
[null,null,null,null,null,null,null,null,null,null,null,null,{"$f":"IF($B21=\"\",\"\",G21*IF($F21=\"\",1,IF(ISERROR(MATCH($F21,$B$6:$B$105)),0,INDIRECT(ADDRESS(5+MATCH($F21,$B$6:$B$105),COLUMN(M$4)))))*IF(VLOOKUP($B21,SCHEMA_SP!$E$5:$F$54,2,FALSE)=\"P\",-1,1))","v":""},{"$f":"IF($B21=\"\",\"\",H21*IF($F21=\"\",1,IF(ISERROR(MATCH($F21,$B$6:$B$105)),0,INDIRECT(ADDRESS(5+MATCH($F21,$B$6:$B$105),COLUMN(N$4)))))*IF(VLOOKUP($B21,SCHEMA_SP!$E$5:$F$54,2,FALSE)=\"P\",-1,1))","v":""},{"$f":"IF($B21=\"\",\"\",I21*IF($F21=\"\",1,IF(ISERROR(MATCH($F21,$B$6:$B$105)),0,INDIRECT(ADDRESS(5+MATCH($F21,$B$6:$B$105),COLUMN(O$4)))))*IF(VLOOKUP($B21,SCHEMA_SP!$E$5:$F$54,2,FALSE)=\"P\",-1,1))","v":""},{"$f":"IF($B21=\"\",\"\",J21*IF($F21=\"\",1,IF(ISERROR(MATCH($F21,$B$6:$B$105)),0,INDIRECT(ADDRESS(5+MATCH($F21,$B$6:$B$105),COLUMN(P$4)))))*IF(VLOOKUP($B21,SCHEMA_SP!$E$5:$F$54,2,FALSE)=\"P\",-1,1))","v":""},{"$f":"IF($B21=\"\",\"\",K21*IF($F21=\"\",1,IF(ISERROR(MATCH($F21,$B$6:$B$105)),0,INDIRECT(ADDRESS(5+MATCH($F21,$B$6:$B$105),COLUMN(Q$4)))))*IF(VLOOKUP($B21,SCHEMA_SP!$E$5:$F$54,2,FALSE)=\"P\",-1,1))","v":""},null,"","","","",""]
[null,null,null,null,null,null,null,null,null,null,null,null,{"$f":"IF($B22=\"\",\"\",G22*IF($F22=\"\",1,IF(ISERROR(MATCH($F22,$B$6:$B$105)),0,INDIRECT(ADDRESS(5+MATCH($F22,$B$6:$B$105),COLUMN(M$4)))))*IF(VLOOKUP($B22,SCHEMA_SP!$E$5:$F$54,2,FALSE)=\"P\",-1,1))","v":""},{"$f":"IF($B22=\"\",\"\",H22*IF($F22=\"\",1,IF(ISERROR(MATCH($F22,$B$6:$B$105)),0,INDIRECT(ADDRESS(5+MATCH($F22,$B$6:$B$105),COLUMN(N$4)))))*IF(VLOOKUP($B22,SCHEMA_SP!$E$5:$F$54,2,FALSE)=\"P\",-1,1))","v":""},{"$f":"IF($B22=\"\",\"\",I22*IF($F22=\"\",1,IF(ISERROR(MATCH($F22,$B$6:$B$105)),0,INDIRECT(ADDRESS(5+MATCH($F22,$B$6:$B$105),COLUMN(O$4)))))*IF(VLOOKUP($B22,SCHEMA_SP!$E$5:$F$54,2,FALSE)=\"P\",-1,1))","v":""},{"$f":"IF($B22=\"\",\"\",J22*IF($F22=\"\",1,IF(ISERROR(MATCH($F22,$B$6:$B$105)),0,INDIRECT(ADDRESS(5+MATCH($F22,$B$6:$B$105),COLUMN(P$4)))))*IF(VLOOKUP($B22,SCHEMA_SP!$E$5:$F$54,2,FALSE)=\"P\",-1,1))","v":""},{"$f":"IF($B22=\"\",\"\",K22*IF($F22=\"\",1,IF(ISERROR(MATCH($F22,$B$6:$B$105)),0,INDIRECT(ADDRESS(5+MATCH($F22,$B$6:$B$105),COLUMN(Q$4)))))*IF(VLOOKUP($B22,SCHEMA_SP!$E$5:$F$54,2,FALSE)=\"P\",-1,1))","v":""},null,"","","","",""]
[null,null,null,null,null,null,null,null,null,null,null,null,{"$f":"IF($B23=\"\",\"\",G23*IF($F23=\"\",1,IF(ISERROR(MATCH($F23,$B$6:$B$105)),0,INDIRECT(ADDRESS(5+MATCH($F23,$B$6:$B$105),COLUMN(M$4)))))*IF(VLOOKUP($B23,SCHEMA_SP!$E$5:$F$54,2,FALSE)=\"P\",-1,1))","v":""},{"$f":"IF($B23=\"\",\"\",H23*IF($F23=\"\",1,IF(ISERROR(MATCH($F23,$B$6:$B$105)),0,INDIRECT(ADDRESS(5+MATCH($F23,$B$6:$B$105),COLUMN(N$4)))))*IF(VLOOKUP($B23,SCHEMA_SP!$E$5:$F$54,2,FALSE)=\"P\",-1,1))","v":""},{"$f":"IF($B23=\"\",\"\",I23*IF($F23=\"\",1,IF(ISERROR(MATCH($F23,$B$6:$B$105)),0,INDIRECT(ADDRESS(5+MATCH($F23,$B$6:$B$105),COLUMN(O$4)))))*IF(VLOOKUP($B23,SCHEMA_SP!$E$5:$F$54,2,FALSE)=\"P\",-1,1))","v":""},{"$f":"IF($B23=\"\",\"\",J23*IF($F23=\"\",1,IF(ISERROR(MATCH($F23,$B$6:$B$105)),0,INDIRECT(ADDRESS(5+MATCH($F23,$B$6:$B$105),COLUMN(P$4)))))*IF(VLOOKUP($B23,SCHEMA_SP!$E$5:$F$54,2,FALSE)=\"P\",-1,1))","v":""},{"$f":"IF($B23=\"\",\"\",K23*IF($F23=\"\",1,IF(ISERROR(MATCH($F23,$B$6:$B$105)),0,INDIRECT(ADDRESS(5+MATCH($F23,$B$6:$B$105),COLUMN(Q$4)))))*IF(VLOOKUP($B23,SCHEMA_SP!$E$5:$F$54,2,FALSE)=\"P\",-1,1))","v":""},null,"","","","",""]
[null,null,null,null,null,null,null,null,null,null,null,null,{"$f":"IF($B24=\"\",\"\",G24*IF($F24=\"\",1,IF(ISERROR(MATCH($F24,$B$6:$B$105)),0,INDIRECT(ADDRESS(5+MATCH($F24,$B$6:$B$105),COLUMN(M$4)))))*IF(VLOOKUP($B24,SCHEMA_SP!$E$5:$F$54,2,FALSE)=\"P\",-1,1))","v":""},{"$f":"IF($B24=\"\",\"\",H24*IF($F24=\"\",1,IF(ISERROR(MATCH($F24,$B$6:$B$105)),0,INDIRECT(ADDRESS(5+MATCH($F24,$B$6:$B$105),COLUMN(N$4)))))*IF(VLOOKUP($B24,SCHEMA_SP!$E$5:$F$54,2,FALSE)=\"P\",-1,1))","v":""},{"$f":"IF($B24=\"\",\"\",I24*IF($F24=\"\",1,IF(ISERROR(MATCH($F24,$B$6:$B$105)),0,INDIRECT(ADDRESS(5+MATCH($F24,$B$6:$B$105),COLUMN(O$4)))))*IF(VLOOKUP($B24,SCHEMA_SP!$E$5:$F$54,2,FALSE)=\"P\",-1,1))","v":""},{"$f":"IF($B24=\"\",\"\",J24*IF($F24=\"\",1,IF(ISERROR(MATCH($F24,$B$6:$B$105)),0,INDIRECT(ADDRESS(5+MATCH($F24,$B$6:$B$105),COLUMN(P$4)))))*IF(VLOOKUP($B24,SCHEMA_SP!$E$5:$F$54,2,FALSE)=\"P\",-1,1))","v":""},{"$f":"IF($B24=\"\",\"\",K24*IF($F24=\"\",1,IF(ISERROR(MATCH($F24,$B$6:$B$105)),0,INDIRECT(ADDRESS(5+MATCH($F24,$B$6:$B$105),COLUMN(Q$4)))))*IF(VLOOKUP($B24,SCHEMA_SP!$E$5:$F$54,2,FALSE)=\"P\",-1,1))","v":""},null,"","","","",""]
[null,null,null,null,null,null,null,null,null,null,null,null,{"$f":"IF($B25=\"\",\"\",G25*IF($F25=\"\",1,IF(ISERROR(MATCH($F25,$B$6:$B$105)),0,INDIRECT(ADDRESS(5+MATCH($F25,$B$6:$B$105),COLUMN(M$4)))))*IF(VLOOKUP($B25,SCHEMA_SP!$E$5:$F$54,2,FALSE)=\"P\",-1,1))","v":""},{"$f":"IF($B25=\"\",\"\",H25*IF($F25=\"\",1,IF(ISERROR(MATCH($F25,$B$6:$B$105)),0,INDIRECT(ADDRESS(5+MATCH($F25,$B$6:$B$105),COLUMN(N$4)))))*IF(VLOOKUP($B25,SCHEMA_SP!$E$5:$F$54,2,FALSE)=\"P\",-1,1))","v":""},{"$f":"IF($B25=\"\",\"\",I25*IF($F25=\"\",1,IF(ISERROR(MATCH($F25,$B$6:$B$105)),0,INDIRECT(ADDRESS(5+MATCH($F25,$B$6:$B$105),COLUMN(O$4)))))*IF(VLOOKUP($B25,SCHEMA_SP!$E$5:$F$54,2,FALSE)=\"P\",-1,1))","v":""},{"$f":"IF($B25=\"\",\"\",J25*IF($F25=\"\",1,IF(ISERROR(MATCH($F25,$B$6:$B$105)),0,INDIRECT(ADDRESS(5+MATCH($F25,$B$6:$B$105),COLUMN(P$4)))))*IF(VLOOKUP($B25,SCHEMA_SP!$E$5:$F$54,2,FALSE)=\"P\",-1,1))","v":""},{"$f":"IF($B25=\"\",\"\",K25*IF($F25=\"\",1,IF(ISERROR(MATCH($F25,$B$6:$B$105)),0,INDIRECT(ADDRESS(5+MATCH($F25,$B$6:$B$105),COLUMN(Q$4)))))*IF(VLOOKUP($B25,SCHEMA_SP!$E$5:$F$54,2,FALSE)=\"P\",-1,1))","v":""},null,"","","","",""]
[null,null,null,null,null,null,null,null,null,null,null,null,{"$f":"IF($B26=\"\",\"\",G26*IF($F26=\"\",1,IF(ISERROR(MATCH($F26,$B$6:$B$105)),0,INDIRECT(ADDRESS(5+MATCH($F26,$B$6:$B$105),COLUMN(M$4)))))*IF(VLOOKUP($B26,SCHEMA_SP!$E$5:$F$54,2,FALSE)=\"P\",-1,1))","v":""},{"$f":"IF($B26=\"\",\"\",H26*IF($F26=\"\",1,IF(ISERROR(MATCH($F26,$B$6:$B$105)),0,INDIRECT(ADDRESS(5+MATCH($F26,$B$6:$B$105),COLUMN(N$4)))))*IF(VLOOKUP($B26,SCHEMA_SP!$E$5:$F$54,2,FALSE)=\"P\",-1,1))","v":""},{"$f":"IF($B26=\"\",\"\",I26*IF($F26=\"\",1,IF(ISERROR(MATCH($F26,$B$6:$B$105)),0,INDIRECT(ADDRESS(5+MATCH($F26,$B$6:$B$105),COLUMN(O$4)))))*IF(VLOOKUP($B26,SCHEMA_SP!$E$5:$F$54,2,FALSE)=\"P\",-1,1))","v":""},{"$f":"IF($B26=\"\",\"\",J26*IF($F26=\"\",1,IF(ISERROR(MATCH($F26,$B$6:$B$105)),0,INDIRECT(ADDRESS(5+MATCH($F26,$B$6:$B$105),COLUMN(P$4)))))*IF(VLOOKUP($B26,SCHEMA_SP!$E$5:$F$54,2,FALSE)=\"P\",-1,1))","v":""},{"$f":"IF($B26=\"\",\"\",K26*IF($F26=\"\",1,IF(ISERROR(MATCH($F26,$B$6:$B$105)),0,INDIRECT(ADDRESS(5+MATCH($F26,$B$6:$B$105),COLUMN(Q$4)))))*IF(VLOOKUP($B26,SCHEMA_SP!$E$5:$F$54,2,FALSE)=\"P\",-1,1))","v":""},null,"","","","",""]
[null,null,null,null,null,null,null,null,null,null,null,null,{"$f":"IF($B27=\"\",\"\",G27*IF($F27=\"\",1,IF(ISERROR(MATCH($F27,$B$6:$B$105)),0,INDIRECT(ADDRESS(5+MATCH($F27,$B$6:$B$105),COLUMN(M$4)))))*IF(VLOOKUP($B27,SCHEMA_SP!$E$5:$F$54,2,FALSE)=\"P\",-1,1))","v":""},{"$f":"IF($B27=\"\",\"\",H27*IF($F27=\"\",1,IF(ISERROR(MATCH($F27,$B$6:$B$105)),0,INDIRECT(ADDRESS(5+MATCH($F27,$B$6:$B$105),COLUMN(N$4)))))*IF(VLOOKUP($B27,SCHEMA_SP!$E$5:$F$54,2,FALSE)=\"P\",-1,1))","v":""},{"$f":"IF($B27=\"\",\"\",I27*IF($F27=\"\",1,IF(ISERROR(MATCH($F27,$B$6:$B$105)),0,INDIRECT(ADDRESS(5+MATCH($F27,$B$6:$B$105),COLUMN(O$4)))))*IF(VLOOKUP($B27,SCHEMA_SP!$E$5:$F$54,2,FALSE)=\"P\",-1,1))","v":""},{"$f":"IF($B27=\"\",\"\",J27*IF($F27=\"\",1,IF(ISERROR(MATCH($F27,$B$6:$B$105)),0,INDIRECT(ADDRESS(5+MATCH($F27,$B$6:$B$105),COLUMN(P$4)))))*IF(VLOOKUP($B27,SCHEMA_SP!$E$5:$F$54,2,FALSE)=\"P\",-1,1))","v":""},{"$f":"IF($B27=\"\",\"\",K27*IF($F27=\"\",1,IF(ISERROR(MATCH($F27,$B$6:$B$105)),0,INDIRECT(ADDRESS(5+MATCH($F27,$B$6:$B$105),COLUMN(Q$4)))))*IF(VLOOKUP($B27,SCHEMA_SP!$E$5:$F$54,2,FALSE)=\"P\",-1,1))","v":""},null,"","","","",""]
[null,null,null,null,null,null,null,null,null,null,null,null,{"$f":"IF($B28=\"\",\"\",G28*IF($F28=\"\",1,IF(ISERROR(MATCH($F28,$B$6:$B$105)),0,INDIRECT(ADDRESS(5+MATCH($F28,$B$6:$B$105),COLUMN(M$4)))))*IF(VLOOKUP($B28,SCHEMA_SP!$E$5:$F$54,2,FALSE)=\"P\",-1,1))","v":""},{"$f":"IF($B28=\"\",\"\",H28*IF($F28=\"\",1,IF(ISERROR(MATCH($F28,$B$6:$B$105)),0,INDIRECT(ADDRESS(5+MATCH($F28,$B$6:$B$105),COLUMN(N$4)))))*IF(VLOOKUP($B28,SCHEMA_SP!$E$5:$F$54,2,FALSE)=\"P\",-1,1))","v":""},{"$f":"IF($B28=\"\",\"\",I28*IF($F28=\"\",1,IF(ISERROR(MATCH($F28,$B$6:$B$105)),0,INDIRECT(ADDRESS(5+MATCH($F28,$B$6:$B$105),COLUMN(O$4)))))*IF(VLOOKUP($B28,SCHEMA_SP!$E$5:$F$54,2,FALSE)=\"P\",-1,1))","v":""},{"$f":"IF($B28=\"\",\"\",J28*IF($F28=\"\",1,IF(ISERROR(MATCH($F28,$B$6:$B$105)),0,INDIRECT(ADDRESS(5+MATCH($F28,$B$6:$B$105),COLUMN(P$4)))))*IF(VLOOKUP($B28,SCHEMA_SP!$E$5:$F$54,2,FALSE)=\"P\",-1,1))","v":""},{"$f":"IF($B28=\"\",\"\",K28*IF($F28=\"\",1,IF(ISERROR(MATCH($F28,$B$6:$B$105)),0,INDIRECT(ADDRESS(5+MATCH($F28,$B$6:$B$105),COLUMN(Q$4)))))*IF(VLOOKUP($B28,SCHEMA_SP!$E$5:$F$54,2,FALSE)=\"P\",-1,1))","v":""},null,"","","","",""]
[null,null,null,null,null,null,null,null,null,null,null,null,{"$f":"IF($B29=\"\",\"\",G29*IF($F29=\"\",1,IF(ISERROR(MATCH($F29,$B$6:$B$105)),0,INDIRECT(ADDRESS(5+MATCH($F29,$B$6:$B$105),COLUMN(M$4)))))*IF(VLOOKUP($B29,SCHEMA_SP!$E$5:$F$54,2,FALSE)=\"P\",-1,1))","v":""},{"$f":"IF($B29=\"\",\"\",H29*IF($F29=\"\",1,IF(ISERROR(MATCH($F29,$B$6:$B$105)),0,INDIRECT(ADDRESS(5+MATCH($F29,$B$6:$B$105),COLUMN(N$4)))))*IF(VLOOKUP($B29,SCHEMA_SP!$E$5:$F$54,2,FALSE)=\"P\",-1,1))","v":""},{"$f":"IF($B29=\"\",\"\",I29*IF($F29=\"\",1,IF(ISERROR(MATCH($F29,$B$6:$B$105)),0,INDIRECT(ADDRESS(5+MATCH($F29,$B$6:$B$105),COLUMN(O$4)))))*IF(VLOOKUP($B29,SCHEMA_SP!$E$5:$F$54,2,FALSE)=\"P\",-1,1))","v":""},{"$f":"IF($B29=\"\",\"\",J29*IF($F29=\"\",1,IF(ISERROR(MATCH($F29,$B$6:$B$105)),0,INDIRECT(ADDRESS(5+MATCH($F29,$B$6:$B$105),COLUMN(P$4)))))*IF(VLOOKUP($B29,SCHEMA_SP!$E$5:$F$54,2,FALSE)=\"P\",-1,1))","v":""},{"$f":"IF($B29=\"\",\"\",K29*IF($F29=\"\",1,IF(ISERROR(MATCH($F29,$B$6:$B$105)),0,INDIRECT(ADDRESS(5+MATCH($F29,$B$6:$B$105),COLUMN(Q$4)))))*IF(VLOOKUP($B29,SCHEMA_SP!$E$5:$F$54,2,FALSE)=\"P\",-1,1))","v":""},null,"","","","",""]
[null,null,null,null,null,null,null,null,null,null,null,null,{"$f":"IF($B30=\"\",\"\",G30*IF($F30=\"\",1,IF(ISERROR(MATCH($F30,$B$6:$B$105)),0,INDIRECT(ADDRESS(5+MATCH($F30,$B$6:$B$105),COLUMN(M$4)))))*IF(VLOOKUP($B30,SCHEMA_SP!$E$5:$F$54,2,FALSE)=\"P\",-1,1))","v":""},{"$f":"IF($B30=\"\",\"\",H30*IF($F30=\"\",1,IF(ISERROR(MATCH($F30,$B$6:$B$105)),0,INDIRECT(ADDRESS(5+MATCH($F30,$B$6:$B$105),COLUMN(N$4)))))*IF(VLOOKUP($B30,SCHEMA_SP!$E$5:$F$54,2,FALSE)=\"P\",-1,1))","v":""},{"$f":"IF($B30=\"\",\"\",I30*IF($F30=\"\",1,IF(ISERROR(MATCH($F30,$B$6:$B$105)),0,INDIRECT(ADDRESS(5+MATCH($F30,$B$6:$B$105),COLUMN(O$4)))))*IF(VLOOKUP($B30,SCHEMA_SP!$E$5:$F$54,2,FALSE)=\"P\",-1,1))","v":""},{"$f":"IF($B30=\"\",\"\",J30*IF($F30=\"\",1,IF(ISERROR(MATCH($F30,$B$6:$B$105)),0,INDIRECT(ADDRESS(5+MATCH($F30,$B$6:$B$105),COLUMN(P$4)))))*IF(VLOOKUP($B30,SCHEMA_SP!$E$5:$F$54,2,FALSE)=\"P\",-1,1))","v":""},{"$f":"IF($B30=\"\",\"\",K30*IF($F30=\"\",1,IF(ISERROR(MATCH($F30,$B$6:$B$105)),0,INDIRECT(ADDRESS(5+MATCH($F30,$B$6:$B$105),COLUMN(Q$4)))))*IF(VLOOKUP($B30,SCHEMA_SP!$E$5:$F$54,2,FALSE)=\"P\",-1,1))","v":""},null,"","","","",""]
[null,null,null,null,null,null,null,null,null,null,null,null,{"$f":"IF($B31=\"\",\"\",G31*IF($F31=\"\",1,IF(ISERROR(MATCH($F31,$B$6:$B$105)),0,INDIRECT(ADDRESS(5+MATCH($F31,$B$6:$B$105),COLUMN(M$4)))))*IF(VLOOKUP($B31,SCHEMA_SP!$E$5:$F$54,2,FALSE)=\"P\",-1,1))","v":""},{"$f":"IF($B31=\"\",\"\",H31*IF($F31=\"\",1,IF(ISERROR(MATCH($F31,$B$6:$B$105)),0,INDIRECT(ADDRESS(5+MATCH($F31,$B$6:$B$105),COLUMN(N$4)))))*IF(VLOOKUP($B31,SCHEMA_SP!$E$5:$F$54,2,FALSE)=\"P\",-1,1))","v":""},{"$f":"IF($B31=\"\",\"\",I31*IF($F31=\"\",1,IF(ISERROR(MATCH($F31,$B$6:$B$105)),0,INDIRECT(ADDRESS(5+MATCH($F31,$B$6:$B$105),COLUMN(O$4)))))*IF(VLOOKUP($B31,SCHEMA_SP!$E$5:$F$54,2,FALSE)=\"P\",-1,1))","v":""},{"$f":"IF($B31=\"\",\"\",J31*IF($F31=\"\",1,IF(ISERROR(MATCH($F31,$B$6:$B$105)),0,INDIRECT(ADDRESS(5+MATCH($F31,$B$6:$B$105),COLUMN(P$4)))))*IF(VLOOKUP($B31,SCHEMA_SP!$E$5:$F$54,2,FALSE)=\"P\",-1,1))","v":""},{"$f":"IF($B31=\"\",\"\",K31*IF($F31=\"\",1,IF(ISERROR(MATCH($F31,$B$6:$B$105)),0,INDIRECT(ADDRESS(5+MATCH($F31,$B$6:$B$105),COLUMN(Q$4)))))*IF(VLOOKUP($B31,SCHEMA_SP!$E$5:$F$54,2,FALSE)=\"P\",-1,1))","v":""},null,"","","","",""]
[null,null,null,null,null,null,null,null,null,null,null,null,{"$f":"IF($B32=\"\",\"\",G32*IF($F32=\"\",1,IF(ISERROR(MATCH($F32,$B$6:$B$105)),0,INDIRECT(ADDRESS(5+MATCH($F32,$B$6:$B$105),COLUMN(M$4)))))*IF(VLOOKUP($B32,SCHEMA_SP!$E$5:$F$54,2,FALSE)=\"P\",-1,1))","v":""},{"$f":"IF($B32=\"\",\"\",H32*IF($F32=\"\",1,IF(ISERROR(MATCH($F32,$B$6:$B$105)),0,INDIRECT(ADDRESS(5+MATCH($F32,$B$6:$B$105),COLUMN(N$4)))))*IF(VLOOKUP($B32,SCHEMA_SP!$E$5:$F$54,2,FALSE)=\"P\",-1,1))","v":""},{"$f":"IF($B32=\"\",\"\",I32*IF($F32=\"\",1,IF(ISERROR(MATCH($F32,$B$6:$B$105)),0,INDIRECT(ADDRESS(5+MATCH($F32,$B$6:$B$105),COLUMN(O$4)))))*IF(VLOOKUP($B32,SCHEMA_SP!$E$5:$F$54,2,FALSE)=\"P\",-1,1))","v":""},{"$f":"IF($B32=\"\",\"\",J32*IF($F32=\"\",1,IF(ISERROR(MATCH($F32,$B$6:$B$105)),0,INDIRECT(ADDRESS(5+MATCH($F32,$B$6:$B$105),COLUMN(P$4)))))*IF(VLOOKUP($B32,SCHEMA_SP!$E$5:$F$54,2,FALSE)=\"P\",-1,1))","v":""},{"$f":"IF($B32=\"\",\"\",K32*IF($F32=\"\",1,IF(ISERROR(MATCH($F32,$B$6:$B$105)),0,INDIRECT(ADDRESS(5+MATCH($F32,$B$6:$B$105),COLUMN(Q$4)))))*IF(VLOOKUP($B32,SCHEMA_SP!$E$5:$F$54,2,FALSE)=\"P\",-1,1))","v":""},null,"","","","",""]
[null,null,null,null,null,null,null,null,null,null,null,null,{"$f":"IF($B33=\"\",\"\",G33*IF($F33=\"\",1,IF(ISERROR(MATCH($F33,$B$6:$B$105)),0,INDIRECT(ADDRESS(5+MATCH($F33,$B$6:$B$105),COLUMN(M$4)))))*IF(VLOOKUP($B33,SCHEMA_SP!$E$5:$F$54,2,FALSE)=\"P\",-1,1))","v":""},{"$f":"IF($B33=\"\",\"\",H33*IF($F33=\"\",1,IF(ISERROR(MATCH($F33,$B$6:$B$105)),0,INDIRECT(ADDRESS(5+MATCH($F33,$B$6:$B$105),COLUMN(N$4)))))*IF(VLOOKUP($B33,SCHEMA_SP!$E$5:$F$54,2,FALSE)=\"P\",-1,1))","v":""},{"$f":"IF($B33=\"\",\"\",I33*IF($F33=\"\",1,IF(ISERROR(MATCH($F33,$B$6:$B$105)),0,INDIRECT(ADDRESS(5+MATCH($F33,$B$6:$B$105),COLUMN(O$4)))))*IF(VLOOKUP($B33,SCHEMA_SP!$E$5:$F$54,2,FALSE)=\"P\",-1,1))","v":""},{"$f":"IF($B33=\"\",\"\",J33*IF($F33=\"\",1,IF(ISERROR(MATCH($F33,$B$6:$B$105)),0,INDIRECT(ADDRESS(5+MATCH($F33,$B$6:$B$105),COLUMN(P$4)))))*IF(VLOOKUP($B33,SCHEMA_SP!$E$5:$F$54,2,FALSE)=\"P\",-1,1))","v":""},{"$f":"IF($B33=\"\",\"\",K33*IF($F33=\"\",1,IF(ISERROR(MATCH($F33,$B$6:$B$105)),0,INDIRECT(ADDRESS(5+MATCH($F33,$B$6:$B$105),COLUMN(Q$4)))))*IF(VLOOKUP($B33,SCHEMA_SP!$E$5:$F$54,2,FALSE)=\"P\",-1,1))","v":""},null,"","","","",""]
[null,null,null,null,null,null,null,null,null,null,null,null,{"$f":"IF($B34=\"\",\"\",G34*IF($F34=\"\",1,IF(ISERROR(MATCH($F34,$B$6:$B$105)),0,INDIRECT(ADDRESS(5+MATCH($F34,$B$6:$B$105),COLUMN(M$4)))))*IF(VLOOKUP($B34,SCHEMA_SP!$E$5:$F$54,2,FALSE)=\"P\",-1,1))","v":""},{"$f":"IF($B34=\"\",\"\",H34*IF($F34=\"\",1,IF(ISERROR(MATCH($F34,$B$6:$B$105)),0,INDIRECT(ADDRESS(5+MATCH($F34,$B$6:$B$105),COLUMN(N$4)))))*IF(VLOOKUP($B34,SCHEMA_SP!$E$5:$F$54,2,FALSE)=\"P\",-1,1))","v":""},{"$f":"IF($B34=\"\",\"\",I34*IF($F34=\"\",1,IF(ISERROR(MATCH($F34,$B$6:$B$105)),0,INDIRECT(ADDRESS(5+MATCH($F34,$B$6:$B$105),COLUMN(O$4)))))*IF(VLOOKUP($B34,SCHEMA_SP!$E$5:$F$54,2,FALSE)=\"P\",-1,1))","v":""},{"$f":"IF($B34=\"\",\"\",J34*IF($F34=\"\",1,IF(ISERROR(MATCH($F34,$B$6:$B$105)),0,INDIRECT(ADDRESS(5+MATCH($F34,$B$6:$B$105),COLUMN(P$4)))))*IF(VLOOKUP($B34,SCHEMA_SP!$E$5:$F$54,2,FALSE)=\"P\",-1,1))","v":""},{"$f":"IF($B34=\"\",\"\",K34*IF($F34=\"\",1,IF(ISERROR(MATCH($F34,$B$6:$B$105)),0,INDIRECT(ADDRESS(5+MATCH($F34,$B$6:$B$105),COLUMN(Q$4)))))*IF(VLOOKUP($B34,SCHEMA_SP!$E$5:$F$54,2,FALSE)=\"P\",-1,1))","v":""},null,"","","","",""]
[null,null,null,null,null,null,null,null,null,null,null,null,{"$f":"IF($B35=\"\",\"\",G35*IF($F35=\"\",1,IF(ISERROR(MATCH($F35,$B$6:$B$105)),0,INDIRECT(ADDRESS(5+MATCH($F35,$B$6:$B$105),COLUMN(M$4)))))*IF(VLOOKUP($B35,SCHEMA_SP!$E$5:$F$54,2,FALSE)=\"P\",-1,1))","v":""},{"$f":"IF($B35=\"\",\"\",H35*IF($F35=\"\",1,IF(ISERROR(MATCH($F35,$B$6:$B$105)),0,INDIRECT(ADDRESS(5+MATCH($F35,$B$6:$B$105),COLUMN(N$4)))))*IF(VLOOKUP($B35,SCHEMA_SP!$E$5:$F$54,2,FALSE)=\"P\",-1,1))","v":""},{"$f":"IF($B35=\"\",\"\",I35*IF($F35=\"\",1,IF(ISERROR(MATCH($F35,$B$6:$B$105)),0,INDIRECT(ADDRESS(5+MATCH($F35,$B$6:$B$105),COLUMN(O$4)))))*IF(VLOOKUP($B35,SCHEMA_SP!$E$5:$F$54,2,FALSE)=\"P\",-1,1))","v":""},{"$f":"IF($B35=\"\",\"\",J35*IF($F35=\"\",1,IF(ISERROR(MATCH($F35,$B$6:$B$105)),0,INDIRECT(ADDRESS(5+MATCH($F35,$B$6:$B$105),COLUMN(P$4)))))*IF(VLOOKUP($B35,SCHEMA_SP!$E$5:$F$54,2,FALSE)=\"P\",-1,1))","v":""},{"$f":"IF($B35=\"\",\"\",K35*IF($F35=\"\",1,IF(ISERROR(MATCH($F35,$B$6:$B$105)),0,INDIRECT(ADDRESS(5+MATCH($F35,$B$6:$B$105),COLUMN(Q$4)))))*IF(VLOOKUP($B35,SCHEMA_SP!$E$5:$F$54,2,FALSE)=\"P\",-1,1))","v":""},null,"","","","",""]
[null,null,null,null,null,null,null,null,null,null,null,null,{"$f":"IF($B36=\"\",\"\",G36*IF($F36=\"\",1,IF(ISERROR(MATCH($F36,$B$6:$B$105)),0,INDIRECT(ADDRESS(5+MATCH($F36,$B$6:$B$105),COLUMN(M$4)))))*IF(VLOOKUP($B36,SCHEMA_SP!$E$5:$F$54,2,FALSE)=\"P\",-1,1))","v":""},{"$f":"IF($B36=\"\",\"\",H36*IF($F36=\"\",1,IF(ISERROR(MATCH($F36,$B$6:$B$105)),0,INDIRECT(ADDRESS(5+MATCH($F36,$B$6:$B$105),COLUMN(N$4)))))*IF(VLOOKUP($B36,SCHEMA_SP!$E$5:$F$54,2,FALSE)=\"P\",-1,1))","v":""},{"$f":"IF($B36=\"\",\"\",I36*IF($F36=\"\",1,IF(ISERROR(MATCH($F36,$B$6:$B$105)),0,INDIRECT(ADDRESS(5+MATCH($F36,$B$6:$B$105),COLUMN(O$4)))))*IF(VLOOKUP($B36,SCHEMA_SP!$E$5:$F$54,2,FALSE)=\"P\",-1,1))","v":""},{"$f":"IF($B36=\"\",\"\",J36*IF($F36=\"\",1,IF(ISERROR(MATCH($F36,$B$6:$B$105)),0,INDIRECT(ADDRESS(5+MATCH($F36,$B$6:$B$105),COLUMN(P$4)))))*IF(VLOOKUP($B36,SCHEMA_SP!$E$5:$F$54,2,FALSE)=\"P\",-1,1))","v":""},{"$f":"IF($B36=\"\",\"\",K36*IF($F36=\"\",1,IF(ISERROR(MATCH($F36,$B$6:$B$105)),0,INDIRECT(ADDRESS(5+MATCH($F36,$B$6:$B$105),COLUMN(Q$4)))))*IF(VLOOKUP($B36,SCHEMA_SP!$E$5:$F$54,2,FALSE)=\"P\",-1,1))","v":""},null,"","","","",""]
[null,null,null,null,null,null,null,null,null,null,null,null,{"$f":"IF($B37=\"\",\"\",G37*IF($F37=\"\",1,IF(ISERROR(MATCH($F37,$B$6:$B$105)),0,INDIRECT(ADDRESS(5+MATCH($F37,$B$6:$B$105),COLUMN(M$4)))))*IF(VLOOKUP($B37,SCHEMA_SP!$E$5:$F$54,2,FALSE)=\"P\",-1,1))","v":""},{"$f":"IF($B37=\"\",\"\",H37*IF($F37=\"\",1,IF(ISERROR(MATCH($F37,$B$6:$B$105)),0,INDIRECT(ADDRESS(5+MATCH($F37,$B$6:$B$105),COLUMN(N$4)))))*IF(VLOOKUP($B37,SCHEMA_SP!$E$5:$F$54,2,FALSE)=\"P\",-1,1))","v":""},{"$f":"IF($B37=\"\",\"\",I37*IF($F37=\"\",1,IF(ISERROR(MATCH($F37,$B$6:$B$105)),0,INDIRECT(ADDRESS(5+MATCH($F37,$B$6:$B$105),COLUMN(O$4)))))*IF(VLOOKUP($B37,SCHEMA_SP!$E$5:$F$54,2,FALSE)=\"P\",-1,1))","v":""},{"$f":"IF($B37=\"\",\"\",J37*IF($F37=\"\",1,IF(ISERROR(MATCH($F37,$B$6:$B$105)),0,INDIRECT(ADDRESS(5+MATCH($F37,$B$6:$B$105),COLUMN(P$4)))))*IF(VLOOKUP($B37,SCHEMA_SP!$E$5:$F$54,2,FALSE)=\"P\",-1,1))","v":""},{"$f":"IF($B37=\"\",\"\",K37*IF($F37=\"\",1,IF(ISERROR(MATCH($F37,$B$6:$B$105)),0,INDIRECT(ADDRESS(5+MATCH($F37,$B$6:$B$105),COLUMN(Q$4)))))*IF(VLOOKUP($B37,SCHEMA_SP!$E$5:$F$54,2,FALSE)=\"P\",-1,1))","v":""},null,"","","","",""]
[null,null,null,null,null,null,null,null,null,null,null,null,{"$f":"IF($B38=\"\",\"\",G38*IF($F38=\"\",1,IF(ISERROR(MATCH($F38,$B$6:$B$105)),0,INDIRECT(ADDRESS(5+MATCH($F38,$B$6:$B$105),COLUMN(M$4)))))*IF(VLOOKUP($B38,SCHEMA_SP!$E$5:$F$54,2,FALSE)=\"P\",-1,1))","v":""},{"$f":"IF($B38=\"\",\"\",H38*IF($F38=\"\",1,IF(ISERROR(MATCH($F38,$B$6:$B$105)),0,INDIRECT(ADDRESS(5+MATCH($F38,$B$6:$B$105),COLUMN(N$4)))))*IF(VLOOKUP($B38,SCHEMA_SP!$E$5:$F$54,2,FALSE)=\"P\",-1,1))","v":""},{"$f":"IF($B38=\"\",\"\",I38*IF($F38=\"\",1,IF(ISERROR(MATCH($F38,$B$6:$B$105)),0,INDIRECT(ADDRESS(5+MATCH($F38,$B$6:$B$105),COLUMN(O$4)))))*IF(VLOOKUP($B38,SCHEMA_SP!$E$5:$F$54,2,FALSE)=\"P\",-1,1))","v":""},{"$f":"IF($B38=\"\",\"\",J38*IF($F38=\"\",1,IF(ISERROR(MATCH($F38,$B$6:$B$105)),0,INDIRECT(ADDRESS(5+MATCH($F38,$B$6:$B$105),COLUMN(P$4)))))*IF(VLOOKUP($B38,SCHEMA_SP!$E$5:$F$54,2,FALSE)=\"P\",-1,1))","v":""},{"$f":"IF($B38=\"\",\"\",K38*IF($F38=\"\",1,IF(ISERROR(MATCH($F38,$B$6:$B$105)),0,INDIRECT(ADDRESS(5+MATCH($F38,$B$6:$B$105),COLUMN(Q$4)))))*IF(VLOOKUP($B38,SCHEMA_SP!$E$5:$F$54,2,FALSE)=\"P\",-1,1))","v":""},null,"","","","",""]
[null,null,null,null,null,null,null,null,null,null,null,null,{"$f":"IF($B39=\"\",\"\",G39*IF($F39=\"\",1,IF(ISERROR(MATCH($F39,$B$6:$B$105)),0,INDIRECT(ADDRESS(5+MATCH($F39,$B$6:$B$105),COLUMN(M$4)))))*IF(VLOOKUP($B39,SCHEMA_SP!$E$5:$F$54,2,FALSE)=\"P\",-1,1))","v":""},{"$f":"IF($B39=\"\",\"\",H39*IF($F39=\"\",1,IF(ISERROR(MATCH($F39,$B$6:$B$105)),0,INDIRECT(ADDRESS(5+MATCH($F39,$B$6:$B$105),COLUMN(N$4)))))*IF(VLOOKUP($B39,SCHEMA_SP!$E$5:$F$54,2,FALSE)=\"P\",-1,1))","v":""},{"$f":"IF($B39=\"\",\"\",I39*IF($F39=\"\",1,IF(ISERROR(MATCH($F39,$B$6:$B$105)),0,INDIRECT(ADDRESS(5+MATCH($F39,$B$6:$B$105),COLUMN(O$4)))))*IF(VLOOKUP($B39,SCHEMA_SP!$E$5:$F$54,2,FALSE)=\"P\",-1,1))","v":""},{"$f":"IF($B39=\"\",\"\",J39*IF($F39=\"\",1,IF(ISERROR(MATCH($F39,$B$6:$B$105)),0,INDIRECT(ADDRESS(5+MATCH($F39,$B$6:$B$105),COLUMN(P$4)))))*IF(VLOOKUP($B39,SCHEMA_SP!$E$5:$F$54,2,FALSE)=\"P\",-1,1))","v":""},{"$f":"IF($B39=\"\",\"\",K39*IF($F39=\"\",1,IF(ISERROR(MATCH($F39,$B$6:$B$105)),0,INDIRECT(ADDRESS(5+MATCH($F39,$B$6:$B$105),COLUMN(Q$4)))))*IF(VLOOKUP($B39,SCHEMA_SP!$E$5:$F$54,2,FALSE)=\"P\",-1,1))","v":""},null,"","","","",""]
[null,null,null,null,null,null,null,null,null,null,null,null,{"$f":"IF($B40=\"\",\"\",G40*IF($F40=\"\",1,IF(ISERROR(MATCH($F40,$B$6:$B$105)),0,INDIRECT(ADDRESS(5+MATCH($F40,$B$6:$B$105),COLUMN(M$4)))))*IF(VLOOKUP($B40,SCHEMA_SP!$E$5:$F$54,2,FALSE)=\"P\",-1,1))","v":""},{"$f":"IF($B40=\"\",\"\",H40*IF($F40=\"\",1,IF(ISERROR(MATCH($F40,$B$6:$B$105)),0,INDIRECT(ADDRESS(5+MATCH($F40,$B$6:$B$105),COLUMN(N$4)))))*IF(VLOOKUP($B40,SCHEMA_SP!$E$5:$F$54,2,FALSE)=\"P\",-1,1))","v":""},{"$f":"IF($B40=\"\",\"\",I40*IF($F40=\"\",1,IF(ISERROR(MATCH($F40,$B$6:$B$105)),0,INDIRECT(ADDRESS(5+MATCH($F40,$B$6:$B$105),COLUMN(O$4)))))*IF(VLOOKUP($B40,SCHEMA_SP!$E$5:$F$54,2,FALSE)=\"P\",-1,1))","v":""},{"$f":"IF($B40=\"\",\"\",J40*IF($F40=\"\",1,IF(ISERROR(MATCH($F40,$B$6:$B$105)),0,INDIRECT(ADDRESS(5+MATCH($F40,$B$6:$B$105),COLUMN(P$4)))))*IF(VLOOKUP($B40,SCHEMA_SP!$E$5:$F$54,2,FALSE)=\"P\",-1,1))","v":""},{"$f":"IF($B40=\"\",\"\",K40*IF($F40=\"\",1,IF(ISERROR(MATCH($F40,$B$6:$B$105)),0,INDIRECT(ADDRESS(5+MATCH($F40,$B$6:$B$105),COLUMN(Q$4)))))*IF(VLOOKUP($B40,SCHEMA_SP!$E$5:$F$54,2,FALSE)=\"P\",-1,1))","v":""},null,"","","","",""]
[null,null,null,null,null,null,null,null,null,null,null,null,{"$f":"IF($B41=\"\",\"\",G41*IF($F41=\"\",1,IF(ISERROR(MATCH($F41,$B$6:$B$105)),0,INDIRECT(ADDRESS(5+MATCH($F41,$B$6:$B$105),COLUMN(M$4)))))*IF(VLOOKUP($B41,SCHEMA_SP!$E$5:$F$54,2,FALSE)=\"P\",-1,1))","v":""},{"$f":"IF($B41=\"\",\"\",H41*IF($F41=\"\",1,IF(ISERROR(MATCH($F41,$B$6:$B$105)),0,INDIRECT(ADDRESS(5+MATCH($F41,$B$6:$B$105),COLUMN(N$4)))))*IF(VLOOKUP($B41,SCHEMA_SP!$E$5:$F$54,2,FALSE)=\"P\",-1,1))","v":""},{"$f":"IF($B41=\"\",\"\",I41*IF($F41=\"\",1,IF(ISERROR(MATCH($F41,$B$6:$B$105)),0,INDIRECT(ADDRESS(5+MATCH($F41,$B$6:$B$105),COLUMN(O$4)))))*IF(VLOOKUP($B41,SCHEMA_SP!$E$5:$F$54,2,FALSE)=\"P\",-1,1))","v":""},{"$f":"IF($B41=\"\",\"\",J41*IF($F41=\"\",1,IF(ISERROR(MATCH($F41,$B$6:$B$105)),0,INDIRECT(ADDRESS(5+MATCH($F41,$B$6:$B$105),COLUMN(P$4)))))*IF(VLOOKUP($B41,SCHEMA_SP!$E$5:$F$54,2,FALSE)=\"P\",-1,1))","v":""},{"$f":"IF($B41=\"\",\"\",K41*IF($F41=\"\",1,IF(ISERROR(MATCH($F41,$B$6:$B$105)),0,INDIRECT(ADDRESS(5+MATCH($F41,$B$6:$B$105),COLUMN(Q$4)))))*IF(VLOOKUP($B41,SCHEMA_SP!$E$5:$F$54,2,FALSE)=\"P\",-1,1))","v":""},null,"","","","",""]
[null,null,null,null,null,null,null,null,null,null,null,null,{"$f":"IF($B42=\"\",\"\",G42*IF($F42=\"\",1,IF(ISERROR(MATCH($F42,$B$6:$B$105)),0,INDIRECT(ADDRESS(5+MATCH($F42,$B$6:$B$105),COLUMN(M$4)))))*IF(VLOOKUP($B42,SCHEMA_SP!$E$5:$F$54,2,FALSE)=\"P\",-1,1))","v":""},{"$f":"IF($B42=\"\",\"\",H42*IF($F42=\"\",1,IF(ISERROR(MATCH($F42,$B$6:$B$105)),0,INDIRECT(ADDRESS(5+MATCH($F42,$B$6:$B$105),COLUMN(N$4)))))*IF(VLOOKUP($B42,SCHEMA_SP!$E$5:$F$54,2,FALSE)=\"P\",-1,1))","v":""},{"$f":"IF($B42=\"\",\"\",I42*IF($F42=\"\",1,IF(ISERROR(MATCH($F42,$B$6:$B$105)),0,INDIRECT(ADDRESS(5+MATCH($F42,$B$6:$B$105),COLUMN(O$4)))))*IF(VLOOKUP($B42,SCHEMA_SP!$E$5:$F$54,2,FALSE)=\"P\",-1,1))","v":""},{"$f":"IF($B42=\"\",\"\",J42*IF($F42=\"\",1,IF(ISERROR(MATCH($F42,$B$6:$B$105)),0,INDIRECT(ADDRESS(5+MATCH($F42,$B$6:$B$105),COLUMN(P$4)))))*IF(VLOOKUP($B42,SCHEMA_SP!$E$5:$F$54,2,FALSE)=\"P\",-1,1))","v":""},{"$f":"IF($B42=\"\",\"\",K42*IF($F42=\"\",1,IF(ISERROR(MATCH($F42,$B$6:$B$105)),0,INDIRECT(ADDRESS(5+MATCH($F42,$B$6:$B$105),COLUMN(Q$4)))))*IF(VLOOKUP($B42,SCHEMA_SP!$E$5:$F$54,2,FALSE)=\"P\",-1,1))","v":""},null,"","","","",""]
[null,null,null,null,null,null,null,null,null,null,null,null,{"$f":"IF($B43=\"\",\"\",G43*IF($F43=\"\",1,IF(ISERROR(MATCH($F43,$B$6:$B$105)),0,INDIRECT(ADDRESS(5+MATCH($F43,$B$6:$B$105),COLUMN(M$4)))))*IF(VLOOKUP($B43,SCHEMA_SP!$E$5:$F$54,2,FALSE)=\"P\",-1,1))","v":""},{"$f":"IF($B43=\"\",\"\",H43*IF($F43=\"\",1,IF(ISERROR(MATCH($F43,$B$6:$B$105)),0,INDIRECT(ADDRESS(5+MATCH($F43,$B$6:$B$105),COLUMN(N$4)))))*IF(VLOOKUP($B43,SCHEMA_SP!$E$5:$F$54,2,FALSE)=\"P\",-1,1))","v":""},{"$f":"IF($B43=\"\",\"\",I43*IF($F43=\"\",1,IF(ISERROR(MATCH($F43,$B$6:$B$105)),0,INDIRECT(ADDRESS(5+MATCH($F43,$B$6:$B$105),COLUMN(O$4)))))*IF(VLOOKUP($B43,SCHEMA_SP!$E$5:$F$54,2,FALSE)=\"P\",-1,1))","v":""},{"$f":"IF($B43=\"\",\"\",J43*IF($F43=\"\",1,IF(ISERROR(MATCH($F43,$B$6:$B$105)),0,INDIRECT(ADDRESS(5+MATCH($F43,$B$6:$B$105),COLUMN(P$4)))))*IF(VLOOKUP($B43,SCHEMA_SP!$E$5:$F$54,2,FALSE)=\"P\",-1,1))","v":""},{"$f":"IF($B43=\"\",\"\",K43*IF($F43=\"\",1,IF(ISERROR(MATCH($F43,$B$6:$B$105)),0,INDIRECT(ADDRESS(5+MATCH($F43,$B$6:$B$105),COLUMN(Q$4)))))*IF(VLOOKUP($B43,SCHEMA_SP!$E$5:$F$54,2,FALSE)=\"P\",-1,1))","v":""},null,"","","","",""]
[null,null,null,null,null,null,null,null,null,null,null,null,{"$f":"IF($B44=\"\",\"\",G44*IF($F44=\"\",1,IF(ISERROR(MATCH($F44,$B$6:$B$105)),0,INDIRECT(ADDRESS(5+MATCH($F44,$B$6:$B$105),COLUMN(M$4)))))*IF(VLOOKUP($B44,SCHEMA_SP!$E$5:$F$54,2,FALSE)=\"P\",-1,1))","v":""},{"$f":"IF($B44=\"\",\"\",H44*IF($F44=\"\",1,IF(ISERROR(MATCH($F44,$B$6:$B$105)),0,INDIRECT(ADDRESS(5+MATCH($F44,$B$6:$B$105),COLUMN(N$4)))))*IF(VLOOKUP($B44,SCHEMA_SP!$E$5:$F$54,2,FALSE)=\"P\",-1,1))","v":""},{"$f":"IF($B44=\"\",\"\",I44*IF($F44=\"\",1,IF(ISERROR(MATCH($F44,$B$6:$B$105)),0,INDIRECT(ADDRESS(5+MATCH($F44,$B$6:$B$105),COLUMN(O$4)))))*IF(VLOOKUP($B44,SCHEMA_SP!$E$5:$F$54,2,FALSE)=\"P\",-1,1))","v":""},{"$f":"IF($B44=\"\",\"\",J44*IF($F44=\"\",1,IF(ISERROR(MATCH($F44,$B$6:$B$105)),0,INDIRECT(ADDRESS(5+MATCH($F44,$B$6:$B$105),COLUMN(P$4)))))*IF(VLOOKUP($B44,SCHEMA_SP!$E$5:$F$54,2,FALSE)=\"P\",-1,1))","v":""},{"$f":"IF($B44=\"\",\"\",K44*IF($F44=\"\",1,IF(ISERROR(MATCH($F44,$B$6:$B$105)),0,INDIRECT(ADDRESS(5+MATCH($F44,$B$6:$B$105),COLUMN(Q$4)))))*IF(VLOOKUP($B44,SCHEMA_SP!$E$5:$F$54,2,FALSE)=\"P\",-1,1))","v":""},null,"","","","",""]
[null,null,null,null,null,null,null,null,null,null,null,null,{"$f":"IF($B45=\"\",\"\",G45*IF($F45=\"\",1,IF(ISERROR(MATCH($F45,$B$6:$B$105)),0,INDIRECT(ADDRESS(5+MATCH($F45,$B$6:$B$105),COLUMN(M$4)))))*IF(VLOOKUP($B45,SCHEMA_SP!$E$5:$F$54,2,FALSE)=\"P\",-1,1))","v":""},{"$f":"IF($B45=\"\",\"\",H45*IF($F45=\"\",1,IF(ISERROR(MATCH($F45,$B$6:$B$105)),0,INDIRECT(ADDRESS(5+MATCH($F45,$B$6:$B$105),COLUMN(N$4)))))*IF(VLOOKUP($B45,SCHEMA_SP!$E$5:$F$54,2,FALSE)=\"P\",-1,1))","v":""},{"$f":"IF($B45=\"\",\"\",I45*IF($F45=\"\",1,IF(ISERROR(MATCH($F45,$B$6:$B$105)),0,INDIRECT(ADDRESS(5+MATCH($F45,$B$6:$B$105),COLUMN(O$4)))))*IF(VLOOKUP($B45,SCHEMA_SP!$E$5:$F$54,2,FALSE)=\"P\",-1,1))","v":""},{"$f":"IF($B45=\"\",\"\",J45*IF($F45=\"\",1,IF(ISERROR(MATCH($F45,$B$6:$B$105)),0,INDIRECT(ADDRESS(5+MATCH($F45,$B$6:$B$105),COLUMN(P$4)))))*IF(VLOOKUP($B45,SCHEMA_SP!$E$5:$F$54,2,FALSE)=\"P\",-1,1))","v":""},{"$f":"IF($B45=\"\",\"\",K45*IF($F45=\"\",1,IF(ISERROR(MATCH($F45,$B$6:$B$105)),0,INDIRECT(ADDRESS(5+MATCH($F45,$B$6:$B$105),COLUMN(Q$4)))))*IF(VLOOKUP($B45,SCHEMA_SP!$E$5:$F$54,2,FALSE)=\"P\",-1,1))","v":""},null,"","","","",""]
[null,null,null,null,null,null,null,null,null,null,null,null,{"$f":"IF($B46=\"\",\"\",G46*IF($F46=\"\",1,IF(ISERROR(MATCH($F46,$B$6:$B$105)),0,INDIRECT(ADDRESS(5+MATCH($F46,$B$6:$B$105),COLUMN(M$4)))))*IF(VLOOKUP($B46,SCHEMA_SP!$E$5:$F$54,2,FALSE)=\"P\",-1,1))","v":""},{"$f":"IF($B46=\"\",\"\",H46*IF($F46=\"\",1,IF(ISERROR(MATCH($F46,$B$6:$B$105)),0,INDIRECT(ADDRESS(5+MATCH($F46,$B$6:$B$105),COLUMN(N$4)))))*IF(VLOOKUP($B46,SCHEMA_SP!$E$5:$F$54,2,FALSE)=\"P\",-1,1))","v":""},{"$f":"IF($B46=\"\",\"\",I46*IF($F46=\"\",1,IF(ISERROR(MATCH($F46,$B$6:$B$105)),0,INDIRECT(ADDRESS(5+MATCH($F46,$B$6:$B$105),COLUMN(O$4)))))*IF(VLOOKUP($B46,SCHEMA_SP!$E$5:$F$54,2,FALSE)=\"P\",-1,1))","v":""},{"$f":"IF($B46=\"\",\"\",J46*IF($F46=\"\",1,IF(ISERROR(MATCH($F46,$B$6:$B$105)),0,INDIRECT(ADDRESS(5+MATCH($F46,$B$6:$B$105),COLUMN(P$4)))))*IF(VLOOKUP($B46,SCHEMA_SP!$E$5:$F$54,2,FALSE)=\"P\",-1,1))","v":""},{"$f":"IF($B46=\"\",\"\",K46*IF($F46=\"\",1,IF(ISERROR(MATCH($F46,$B$6:$B$105)),0,INDIRECT(ADDRESS(5+MATCH($F46,$B$6:$B$105),COLUMN(Q$4)))))*IF(VLOOKUP($B46,SCHEMA_SP!$E$5:$F$54,2,FALSE)=\"P\",-1,1))","v":""},null,"","","","",""]
[null,null,null,null,null,null,null,null,null,null,null,null,{"$f":"IF($B47=\"\",\"\",G47*IF($F47=\"\",1,IF(ISERROR(MATCH($F47,$B$6:$B$105)),0,INDIRECT(ADDRESS(5+MATCH($F47,$B$6:$B$105),COLUMN(M$4)))))*IF(VLOOKUP($B47,SCHEMA_SP!$E$5:$F$54,2,FALSE)=\"P\",-1,1))","v":""},{"$f":"IF($B47=\"\",\"\",H47*IF($F47=\"\",1,IF(ISERROR(MATCH($F47,$B$6:$B$105)),0,INDIRECT(ADDRESS(5+MATCH($F47,$B$6:$B$105),COLUMN(N$4)))))*IF(VLOOKUP($B47,SCHEMA_SP!$E$5:$F$54,2,FALSE)=\"P\",-1,1))","v":""},{"$f":"IF($B47=\"\",\"\",I47*IF($F47=\"\",1,IF(ISERROR(MATCH($F47,$B$6:$B$105)),0,INDIRECT(ADDRESS(5+MATCH($F47,$B$6:$B$105),COLUMN(O$4)))))*IF(VLOOKUP($B47,SCHEMA_SP!$E$5:$F$54,2,FALSE)=\"P\",-1,1))","v":""},{"$f":"IF($B47=\"\",\"\",J47*IF($F47=\"\",1,IF(ISERROR(MATCH($F47,$B$6:$B$105)),0,INDIRECT(ADDRESS(5+MATCH($F47,$B$6:$B$105),COLUMN(P$4)))))*IF(VLOOKUP($B47,SCHEMA_SP!$E$5:$F$54,2,FALSE)=\"P\",-1,1))","v":""},{"$f":"IF($B47=\"\",\"\",K47*IF($F47=\"\",1,IF(ISERROR(MATCH($F47,$B$6:$B$105)),0,INDIRECT(ADDRESS(5+MATCH($F47,$B$6:$B$105),COLUMN(Q$4)))))*IF(VLOOKUP($B47,SCHEMA_SP!$E$5:$F$54,2,FALSE)=\"P\",-1,1))","v":""},null,"","","","",""]
[null,null,null,null,null,null,null,null,null,null,null,null,{"$f":"IF($B48=\"\",\"\",G48*IF($F48=\"\",1,IF(ISERROR(MATCH($F48,$B$6:$B$105)),0,INDIRECT(ADDRESS(5+MATCH($F48,$B$6:$B$105),COLUMN(M$4)))))*IF(VLOOKUP($B48,SCHEMA_SP!$E$5:$F$54,2,FALSE)=\"P\",-1,1))","v":""},{"$f":"IF($B48=\"\",\"\",H48*IF($F48=\"\",1,IF(ISERROR(MATCH($F48,$B$6:$B$105)),0,INDIRECT(ADDRESS(5+MATCH($F48,$B$6:$B$105),COLUMN(N$4)))))*IF(VLOOKUP($B48,SCHEMA_SP!$E$5:$F$54,2,FALSE)=\"P\",-1,1))","v":""},{"$f":"IF($B48=\"\",\"\",I48*IF($F48=\"\",1,IF(ISERROR(MATCH($F48,$B$6:$B$105)),0,INDIRECT(ADDRESS(5+MATCH($F48,$B$6:$B$105),COLUMN(O$4)))))*IF(VLOOKUP($B48,SCHEMA_SP!$E$5:$F$54,2,FALSE)=\"P\",-1,1))","v":""},{"$f":"IF($B48=\"\",\"\",J48*IF($F48=\"\",1,IF(ISERROR(MATCH($F48,$B$6:$B$105)),0,INDIRECT(ADDRESS(5+MATCH($F48,$B$6:$B$105),COLUMN(P$4)))))*IF(VLOOKUP($B48,SCHEMA_SP!$E$5:$F$54,2,FALSE)=\"P\",-1,1))","v":""},{"$f":"IF($B48=\"\",\"\",K48*IF($F48=\"\",1,IF(ISERROR(MATCH($F48,$B$6:$B$105)),0,INDIRECT(ADDRESS(5+MATCH($F48,$B$6:$B$105),COLUMN(Q$4)))))*IF(VLOOKUP($B48,SCHEMA_SP!$E$5:$F$54,2,FALSE)=\"P\",-1,1))","v":""},null,"","","","",""]
[null,null,null,null,null,null,null,null,null,null,null,null,{"$f":"IF($B49=\"\",\"\",G49*IF($F49=\"\",1,IF(ISERROR(MATCH($F49,$B$6:$B$105)),0,INDIRECT(ADDRESS(5+MATCH($F49,$B$6:$B$105),COLUMN(M$4)))))*IF(VLOOKUP($B49,SCHEMA_SP!$E$5:$F$54,2,FALSE)=\"P\",-1,1))","v":""},{"$f":"IF($B49=\"\",\"\",H49*IF($F49=\"\",1,IF(ISERROR(MATCH($F49,$B$6:$B$105)),0,INDIRECT(ADDRESS(5+MATCH($F49,$B$6:$B$105),COLUMN(N$4)))))*IF(VLOOKUP($B49,SCHEMA_SP!$E$5:$F$54,2,FALSE)=\"P\",-1,1))","v":""},{"$f":"IF($B49=\"\",\"\",I49*IF($F49=\"\",1,IF(ISERROR(MATCH($F49,$B$6:$B$105)),0,INDIRECT(ADDRESS(5+MATCH($F49,$B$6:$B$105),COLUMN(O$4)))))*IF(VLOOKUP($B49,SCHEMA_SP!$E$5:$F$54,2,FALSE)=\"P\",-1,1))","v":""},{"$f":"IF($B49=\"\",\"\",J49*IF($F49=\"\",1,IF(ISERROR(MATCH($F49,$B$6:$B$105)),0,INDIRECT(ADDRESS(5+MATCH($F49,$B$6:$B$105),COLUMN(P$4)))))*IF(VLOOKUP($B49,SCHEMA_SP!$E$5:$F$54,2,FALSE)=\"P\",-1,1))","v":""},{"$f":"IF($B49=\"\",\"\",K49*IF($F49=\"\",1,IF(ISERROR(MATCH($F49,$B$6:$B$105)),0,INDIRECT(ADDRESS(5+MATCH($F49,$B$6:$B$105),COLUMN(Q$4)))))*IF(VLOOKUP($B49,SCHEMA_SP!$E$5:$F$54,2,FALSE)=\"P\",-1,1))","v":""},null,"","","","",""]
[null,null,null,null,null,null,null,null,null,null,null,null,{"$f":"IF($B50=\"\",\"\",G50*IF($F50=\"\",1,IF(ISERROR(MATCH($F50,$B$6:$B$105)),0,INDIRECT(ADDRESS(5+MATCH($F50,$B$6:$B$105),COLUMN(M$4)))))*IF(VLOOKUP($B50,SCHEMA_SP!$E$5:$F$54,2,FALSE)=\"P\",-1,1))","v":""},{"$f":"IF($B50=\"\",\"\",H50*IF($F50=\"\",1,IF(ISERROR(MATCH($F50,$B$6:$B$105)),0,INDIRECT(ADDRESS(5+MATCH($F50,$B$6:$B$105),COLUMN(N$4)))))*IF(VLOOKUP($B50,SCHEMA_SP!$E$5:$F$54,2,FALSE)=\"P\",-1,1))","v":""},{"$f":"IF($B50=\"\",\"\",I50*IF($F50=\"\",1,IF(ISERROR(MATCH($F50,$B$6:$B$105)),0,INDIRECT(ADDRESS(5+MATCH($F50,$B$6:$B$105),COLUMN(O$4)))))*IF(VLOOKUP($B50,SCHEMA_SP!$E$5:$F$54,2,FALSE)=\"P\",-1,1))","v":""},{"$f":"IF($B50=\"\",\"\",J50*IF($F50=\"\",1,IF(ISERROR(MATCH($F50,$B$6:$B$105)),0,INDIRECT(ADDRESS(5+MATCH($F50,$B$6:$B$105),COLUMN(P$4)))))*IF(VLOOKUP($B50,SCHEMA_SP!$E$5:$F$54,2,FALSE)=\"P\",-1,1))","v":""},{"$f":"IF($B50=\"\",\"\",K50*IF($F50=\"\",1,IF(ISERROR(MATCH($F50,$B$6:$B$105)),0,INDIRECT(ADDRESS(5+MATCH($F50,$B$6:$B$105),COLUMN(Q$4)))))*IF(VLOOKUP($B50,SCHEMA_SP!$E$5:$F$54,2,FALSE)=\"P\",-1,1))","v":""},null,"","","","",""]
[null,null,null,null,null,null,null,null,null,null,null,null,{"$f":"IF($B51=\"\",\"\",G51*IF($F51=\"\",1,IF(ISERROR(MATCH($F51,$B$6:$B$105)),0,INDIRECT(ADDRESS(5+MATCH($F51,$B$6:$B$105),COLUMN(M$4)))))*IF(VLOOKUP($B51,SCHEMA_SP!$E$5:$F$54,2,FALSE)=\"P\",-1,1))","v":""},{"$f":"IF($B51=\"\",\"\",H51*IF($F51=\"\",1,IF(ISERROR(MATCH($F51,$B$6:$B$105)),0,INDIRECT(ADDRESS(5+MATCH($F51,$B$6:$B$105),COLUMN(N$4)))))*IF(VLOOKUP($B51,SCHEMA_SP!$E$5:$F$54,2,FALSE)=\"P\",-1,1))","v":""},{"$f":"IF($B51=\"\",\"\",I51*IF($F51=\"\",1,IF(ISERROR(MATCH($F51,$B$6:$B$105)),0,INDIRECT(ADDRESS(5+MATCH($F51,$B$6:$B$105),COLUMN(O$4)))))*IF(VLOOKUP($B51,SCHEMA_SP!$E$5:$F$54,2,FALSE)=\"P\",-1,1))","v":""},{"$f":"IF($B51=\"\",\"\",J51*IF($F51=\"\",1,IF(ISERROR(MATCH($F51,$B$6:$B$105)),0,INDIRECT(ADDRESS(5+MATCH($F51,$B$6:$B$105),COLUMN(P$4)))))*IF(VLOOKUP($B51,SCHEMA_SP!$E$5:$F$54,2,FALSE)=\"P\",-1,1))","v":""},{"$f":"IF($B51=\"\",\"\",K51*IF($F51=\"\",1,IF(ISERROR(MATCH($F51,$B$6:$B$105)),0,INDIRECT(ADDRESS(5+MATCH($F51,$B$6:$B$105),COLUMN(Q$4)))))*IF(VLOOKUP($B51,SCHEMA_SP!$E$5:$F$54,2,FALSE)=\"P\",-1,1))","v":""},null,"","","","",""]
[null,null,null,null,null,null,null,null,null,null,null,null,{"$f":"IF($B52=\"\",\"\",G52*IF($F52=\"\",1,IF(ISERROR(MATCH($F52,$B$6:$B$105)),0,INDIRECT(ADDRESS(5+MATCH($F52,$B$6:$B$105),COLUMN(M$4)))))*IF(VLOOKUP($B52,SCHEMA_SP!$E$5:$F$54,2,FALSE)=\"P\",-1,1))","v":""},{"$f":"IF($B52=\"\",\"\",H52*IF($F52=\"\",1,IF(ISERROR(MATCH($F52,$B$6:$B$105)),0,INDIRECT(ADDRESS(5+MATCH($F52,$B$6:$B$105),COLUMN(N$4)))))*IF(VLOOKUP($B52,SCHEMA_SP!$E$5:$F$54,2,FALSE)=\"P\",-1,1))","v":""},{"$f":"IF($B52=\"\",\"\",I52*IF($F52=\"\",1,IF(ISERROR(MATCH($F52,$B$6:$B$105)),0,INDIRECT(ADDRESS(5+MATCH($F52,$B$6:$B$105),COLUMN(O$4)))))*IF(VLOOKUP($B52,SCHEMA_SP!$E$5:$F$54,2,FALSE)=\"P\",-1,1))","v":""},{"$f":"IF($B52=\"\",\"\",J52*IF($F52=\"\",1,IF(ISERROR(MATCH($F52,$B$6:$B$105)),0,INDIRECT(ADDRESS(5+MATCH($F52,$B$6:$B$105),COLUMN(P$4)))))*IF(VLOOKUP($B52,SCHEMA_SP!$E$5:$F$54,2,FALSE)=\"P\",-1,1))","v":""},{"$f":"IF($B52=\"\",\"\",K52*IF($F52=\"\",1,IF(ISERROR(MATCH($F52,$B$6:$B$105)),0,INDIRECT(ADDRESS(5+MATCH($F52,$B$6:$B$105),COLUMN(Q$4)))))*IF(VLOOKUP($B52,SCHEMA_SP!$E$5:$F$54,2,FALSE)=\"P\",-1,1))","v":""},null,"","","","",""]
[null,null,null,null,null,null,null,null,null,null,null,null,{"$f":"IF($B53=\"\",\"\",G53*IF($F53=\"\",1,IF(ISERROR(MATCH($F53,$B$6:$B$105)),0,INDIRECT(ADDRESS(5+MATCH($F53,$B$6:$B$105),COLUMN(M$4)))))*IF(VLOOKUP($B53,SCHEMA_SP!$E$5:$F$54,2,FALSE)=\"P\",-1,1))","v":""},{"$f":"IF($B53=\"\",\"\",H53*IF($F53=\"\",1,IF(ISERROR(MATCH($F53,$B$6:$B$105)),0,INDIRECT(ADDRESS(5+MATCH($F53,$B$6:$B$105),COLUMN(N$4)))))*IF(VLOOKUP($B53,SCHEMA_SP!$E$5:$F$54,2,FALSE)=\"P\",-1,1))","v":""},{"$f":"IF($B53=\"\",\"\",I53*IF($F53=\"\",1,IF(ISERROR(MATCH($F53,$B$6:$B$105)),0,INDIRECT(ADDRESS(5+MATCH($F53,$B$6:$B$105),COLUMN(O$4)))))*IF(VLOOKUP($B53,SCHEMA_SP!$E$5:$F$54,2,FALSE)=\"P\",-1,1))","v":""},{"$f":"IF($B53=\"\",\"\",J53*IF($F53=\"\",1,IF(ISERROR(MATCH($F53,$B$6:$B$105)),0,INDIRECT(ADDRESS(5+MATCH($F53,$B$6:$B$105),COLUMN(P$4)))))*IF(VLOOKUP($B53,SCHEMA_SP!$E$5:$F$54,2,FALSE)=\"P\",-1,1))","v":""},{"$f":"IF($B53=\"\",\"\",K53*IF($F53=\"\",1,IF(ISERROR(MATCH($F53,$B$6:$B$105)),0,INDIRECT(ADDRESS(5+MATCH($F53,$B$6:$B$105),COLUMN(Q$4)))))*IF(VLOOKUP($B53,SCHEMA_SP!$E$5:$F$54,2,FALSE)=\"P\",-1,1))","v":""},null,"","","","",""]
[null,null,null,null,null,null,null,null,null,null,null,null,{"$f":"IF($B54=\"\",\"\",G54*IF($F54=\"\",1,IF(ISERROR(MATCH($F54,$B$6:$B$105)),0,INDIRECT(ADDRESS(5+MATCH($F54,$B$6:$B$105),COLUMN(M$4)))))*IF(VLOOKUP($B54,SCHEMA_SP!$E$5:$F$54,2,FALSE)=\"P\",-1,1))","v":""},{"$f":"IF($B54=\"\",\"\",H54*IF($F54=\"\",1,IF(ISERROR(MATCH($F54,$B$6:$B$105)),0,INDIRECT(ADDRESS(5+MATCH($F54,$B$6:$B$105),COLUMN(N$4)))))*IF(VLOOKUP($B54,SCHEMA_SP!$E$5:$F$54,2,FALSE)=\"P\",-1,1))","v":""},{"$f":"IF($B54=\"\",\"\",I54*IF($F54=\"\",1,IF(ISERROR(MATCH($F54,$B$6:$B$105)),0,INDIRECT(ADDRESS(5+MATCH($F54,$B$6:$B$105),COLUMN(O$4)))))*IF(VLOOKUP($B54,SCHEMA_SP!$E$5:$F$54,2,FALSE)=\"P\",-1,1))","v":""},{"$f":"IF($B54=\"\",\"\",J54*IF($F54=\"\",1,IF(ISERROR(MATCH($F54,$B$6:$B$105)),0,INDIRECT(ADDRESS(5+MATCH($F54,$B$6:$B$105),COLUMN(P$4)))))*IF(VLOOKUP($B54,SCHEMA_SP!$E$5:$F$54,2,FALSE)=\"P\",-1,1))","v":""},{"$f":"IF($B54=\"\",\"\",K54*IF($F54=\"\",1,IF(ISERROR(MATCH($F54,$B$6:$B$105)),0,INDIRECT(ADDRESS(5+MATCH($F54,$B$6:$B$105),COLUMN(Q$4)))))*IF(VLOOKUP($B54,SCHEMA_SP!$E$5:$F$54,2,FALSE)=\"P\",-1,1))","v":""},null,"","","","",""]
[null,null,null,null,null,null,null,null,null,null,null,null,{"$f":"IF($B55=\"\",\"\",G55*IF($F55=\"\",1,IF(ISERROR(MATCH($F55,$B$6:$B$105)),0,INDIRECT(ADDRESS(5+MATCH($F55,$B$6:$B$105),COLUMN(M$4)))))*IF(VLOOKUP($B55,SCHEMA_SP!$E$5:$F$54,2,FALSE)=\"P\",-1,1))","v":""},{"$f":"IF($B55=\"\",\"\",H55*IF($F55=\"\",1,IF(ISERROR(MATCH($F55,$B$6:$B$105)),0,INDIRECT(ADDRESS(5+MATCH($F55,$B$6:$B$105),COLUMN(N$4)))))*IF(VLOOKUP($B55,SCHEMA_SP!$E$5:$F$54,2,FALSE)=\"P\",-1,1))","v":""},{"$f":"IF($B55=\"\",\"\",I55*IF($F55=\"\",1,IF(ISERROR(MATCH($F55,$B$6:$B$105)),0,INDIRECT(ADDRESS(5+MATCH($F55,$B$6:$B$105),COLUMN(O$4)))))*IF(VLOOKUP($B55,SCHEMA_SP!$E$5:$F$54,2,FALSE)=\"P\",-1,1))","v":""},{"$f":"IF($B55=\"\",\"\",J55*IF($F55=\"\",1,IF(ISERROR(MATCH($F55,$B$6:$B$105)),0,INDIRECT(ADDRESS(5+MATCH($F55,$B$6:$B$105),COLUMN(P$4)))))*IF(VLOOKUP($B55,SCHEMA_SP!$E$5:$F$54,2,FALSE)=\"P\",-1,1))","v":""},{"$f":"IF($B55=\"\",\"\",K55*IF($F55=\"\",1,IF(ISERROR(MATCH($F55,$B$6:$B$105)),0,INDIRECT(ADDRESS(5+MATCH($F55,$B$6:$B$105),COLUMN(Q$4)))))*IF(VLOOKUP($B55,SCHEMA_SP!$E$5:$F$54,2,FALSE)=\"P\",-1,1))","v":""},null,"","","","",""]
["PASSIVITA'",null,null,null,null,null,null,null,null,null,null,null,null,null,null,null,null,null,"","","","",""]
[null,"020505_Debiti verso fornitori",null,"+",1,null,3000,3500,4000,null,null,null,{"$f":"IF($B57=\"\",\"\",G57*IF($F57=\"\",1,IF(ISERROR(MATCH($F57,$B$6:$B$105)),0,INDIRECT(ADDRESS(5+MATCH($F57,$B$6:$B$105),COLUMN(M$4)))))*IF(VLOOKUP($B57,SCHEMA_SP!$E$5:$F$54,2,FALSE)=\"P\",-1,1))","v":-3000},{"$f":"IF($B57=\"\",\"\",H57*IF($F57=\"\",1,IF(ISERROR(MATCH($F57,$B$6:$B$105)),0,INDIRECT(ADDRESS(5+MATCH($F57,$B$6:$B$105),COLUMN(N$4)))))*IF(VLOOKUP($B57,SCHEMA_SP!$E$5:$F$54,2,FALSE)=\"P\",-1,1))","v":-3500},{"$f":"IF($B57=\"\",\"\",I57*IF($F57=\"\",1,IF(ISERROR(MATCH($F57,$B$6:$B$105)),0,INDIRECT(ADDRESS(5+MATCH($F57,$B$6:$B$105),COLUMN(O$4)))))*IF(VLOOKUP($B57,SCHEMA_SP!$E$5:$F$54,2,FALSE)=\"P\",-1,1))","v":-4000},{"$f":"IF($B57=\"\",\"\",J57*IF($F57=\"\",1,IF(ISERROR(MATCH($F57,$B$6:$B$105)),0,INDIRECT(ADDRESS(5+MATCH($F57,$B$6:$B$105),COLUMN(P$4)))))*IF(VLOOKUP($B57,SCHEMA_SP!$E$5:$F$54,2,FALSE)=\"P\",-1,1))","v":0},{"$f":"IF($B57=\"\",\"\",K57*IF($F57=\"\",1,IF(ISERROR(MATCH($F57,$B$6:$B$105)),0,INDIRECT(ADDRESS(5+MATCH($F57,$B$6:$B$105),COLUMN(Q$4)))))*IF(VLOOKUP($B57,SCHEMA_SP!$E$5:$F$54,2,FALSE)=\"P\",-1,1))","v":0},null,-3000,-3500,-4000,0,0]
[null,"020506_Debiti verso altri",null,"+",1,null,1000,1000,1000,null,null,null,{"$f":"IF($B58=\"\",\"\",G58*IF($F58=\"\",1,IF(ISERROR(MATCH($F58,$B$6:$B$105)),0,INDIRECT(ADDRESS(5+MATCH($F58,$B$6:$B$105),COLUMN(M$4)))))*IF(VLOOKUP($B58,SCHEMA_SP!$E$5:$F$54,2,FALSE)=\"P\",-1,1))","v":-1000},{"$f":"IF($B58=\"\",\"\",H58*IF($F58=\"\",1,IF(ISERROR(MATCH($F58,$B$6:$B$105)),0,INDIRECT(ADDRESS(5+MATCH($F58,$B$6:$B$105),COLUMN(N$4)))))*IF(VLOOKUP($B58,SCHEMA_SP!$E$5:$F$54,2,FALSE)=\"P\",-1,1))","v":-1000},{"$f":"IF($B58=\"\",\"\",I58*IF($F58=\"\",1,IF(ISERROR(MATCH($F58,$B$6:$B$105)),0,INDIRECT(ADDRESS(5+MATCH($F58,$B$6:$B$105),COLUMN(O$4)))))*IF(VLOOKUP($B58,SCHEMA_SP!$E$5:$F$54,2,FALSE)=\"P\",-1,1))","v":-1000},{"$f":"IF($B58=\"\",\"\",J58*IF($F58=\"\",1,IF(ISERROR(MATCH($F58,$B$6:$B$105)),0,INDIRECT(ADDRESS(5+MATCH($F58,$B$6:$B$105),COLUMN(P$4)))))*IF(VLOOKUP($B58,SCHEMA_SP!$E$5:$F$54,2,FALSE)=\"P\",-1,1))","v":0},{"$f":"IF($B58=\"\",\"\",K58*IF($F58=\"\",1,IF(ISERROR(MATCH($F58,$B$6:$B$105)),0,INDIRECT(ADDRESS(5+MATCH($F58,$B$6:$B$105),COLUMN(Q$4)))))*IF(VLOOKUP($B58,SCHEMA_SP!$E$5:$F$54,2,FALSE)=\"P\",-1,1))","v":0},null,{"$f":"IF($B58=\"\",\"\",M58*$E58)","v":-1000},-1000,-1000,0,0]
[null,"020507_Debiti tributari",null,"+",1,null,500,500,500,null,null,null,{"$f":"IF($B59=\"\",\"\",G59*IF($F59=\"\",1,IF(ISERROR(MATCH($F59,$B$6:$B$105)),0,INDIRECT(ADDRESS(5+MATCH($F59,$B$6:$B$105),COLUMN(M$4)))))*IF(VLOOKUP($B59,SCHEMA_SP!$E$5:$F$54,2,FALSE)=\"P\",-1,1))","v":-500},{"$f":"IF($B59=\"\",\"\",H59*IF($F59=\"\",1,IF(ISERROR(MATCH($F59,$B$6:$B$105)),0,INDIRECT(ADDRESS(5+MATCH($F59,$B$6:$B$105),COLUMN(N$4)))))*IF(VLOOKUP($B59,SCHEMA_SP!$E$5:$F$54,2,FALSE)=\"P\",-1,1))","v":-500},{"$f":"IF($B59=\"\",\"\",I59*IF($F59=\"\",1,IF(ISERROR(MATCH($F59,$B$6:$B$105)),0,INDIRECT(ADDRESS(5+MATCH($F59,$B$6:$B$105),COLUMN(O$4)))))*IF(VLOOKUP($B59,SCHEMA_SP!$E$5:$F$54,2,FALSE)=\"P\",-1,1))","v":-500},{"$f":"IF($B59=\"\",\"\",J59*IF($F59=\"\",1,IF(ISERROR(MATCH($F59,$B$6:$B$105)),0,INDIRECT(ADDRESS(5+MATCH($F59,$B$6:$B$105),COLUMN(P$4)))))*IF(VLOOKUP($B59,SCHEMA_SP!$E$5:$F$54,2,FALSE)=\"P\",-1,1))","v":0},{"$f":"IF($B59=\"\",\"\",K59*IF($F59=\"\",1,IF(ISERROR(MATCH($F59,$B$6:$B$105)),0,INDIRECT(ADDRESS(5+MATCH($F59,$B$6:$B$105),COLUMN(Q$4)))))*IF(VLOOKUP($B59,SCHEMA_SP!$E$5:$F$54,2,FALSE)=\"P\",-1,1))","v":0},null,-500,-500,-500,0,0]
[null,"020508_Ratei/risconti passivi",null,"+",0,null,200,10000,10000,null,null,null,{"$f":"IF($B60=\"\",\"\",G60*IF($F60=\"\",1,IF(ISERROR(MATCH($F60,$B$6:$B$105)),0,INDIRECT(ADDRESS(5+MATCH($F60,$B$6:$B$105),COLUMN(M$4)))))*IF(VLOOKUP($B60,SCHEMA_SP!$E$5:$F$54,2,FALSE)=\"P\",-1,1))","v":-200},{"$f":"IF($B60=\"\",\"\",H60*IF($F60=\"\",1,IF(ISERROR(MATCH($F60,$B$6:$B$105)),0,INDIRECT(ADDRESS(5+MATCH($F60,$B$6:$B$105),COLUMN(N$4)))))*IF(VLOOKUP($B60,SCHEMA_SP!$E$5:$F$54,2,FALSE)=\"P\",-1,1))","v":-10000},{"$f":"IF($B60=\"\",\"\",I60*IF($F60=\"\",1,IF(ISERROR(MATCH($F60,$B$6:$B$105)),0,INDIRECT(ADDRESS(5+MATCH($F60,$B$6:$B$105),COLUMN(O$4)))))*IF(VLOOKUP($B60,SCHEMA_SP!$E$5:$F$54,2,FALSE)=\"P\",-1,1))","v":-10000},{"$f":"IF($B60=\"\",\"\",J60*IF($F60=\"\",1,IF(ISERROR(MATCH($F60,$B$6:$B$105)),0,INDIRECT(ADDRESS(5+MATCH($F60,$B$6:$B$105),COLUMN(P$4)))))*IF(VLOOKUP($B60,SCHEMA_SP!$E$5:$F$54,2,FALSE)=\"P\",-1,1))","v":0},{"$f":"IF($B60=\"\",\"\",K60*IF($F60=\"\",1,IF(ISERROR(MATCH($F60,$B$6:$B$105)),0,INDIRECT(ADDRESS(5+MATCH($F60,$B$6:$B$105),COLUMN(Q$4)))))*IF(VLOOKUP($B60,SCHEMA_SP!$E$5:$F$54,2,FALSE)=\"P\",-1,1))","v":0},null,0,0,0,0,0]
[null,"110101_Capitale sociale",null,"+",1,null,2500,4000,4000,null,null,null,{"$f":"IF($B61=\"\",\"\",G61*IF($F61=\"\",1,IF(ISERROR(MATCH($F61,$B$6:$B$105)),0,INDIRECT(ADDRESS(5+MATCH($F61,$B$6:$B$105),COLUMN(M$4)))))*IF(VLOOKUP($B61,SCHEMA_SP!$E$5:$F$54,2,FALSE)=\"P\",-1,1))","v":-2500},{"$f":"IF($B61=\"\",\"\",H61*IF($F61=\"\",1,IF(ISERROR(MATCH($F61,$B$6:$B$105)),0,INDIRECT(ADDRESS(5+MATCH($F61,$B$6:$B$105),COLUMN(N$4)))))*IF(VLOOKUP($B61,SCHEMA_SP!$E$5:$F$54,2,FALSE)=\"P\",-1,1))","v":-4000},{"$f":"IF($B61=\"\",\"\",I61*IF($F61=\"\",1,IF(ISERROR(MATCH($F61,$B$6:$B$105)),0,INDIRECT(ADDRESS(5+MATCH($F61,$B$6:$B$105),COLUMN(O$4)))))*IF(VLOOKUP($B61,SCHEMA_SP!$E$5:$F$54,2,FALSE)=\"P\",-1,1))","v":-4000},{"$f":"IF($B61=\"\",\"\",J61*IF($F61=\"\",1,IF(ISERROR(MATCH($F61,$B$6:$B$105)),0,INDIRECT(ADDRESS(5+MATCH($F61,$B$6:$B$105),COLUMN(P$4)))))*IF(VLOOKUP($B61,SCHEMA_SP!$E$5:$F$54,2,FALSE)=\"P\",-1,1))","v":0},{"$f":"IF($B61=\"\",\"\",K61*IF($F61=\"\",1,IF(ISERROR(MATCH($F61,$B$6:$B$105)),0,INDIRECT(ADDRESS(5+MATCH($F61,$B$6:$B$105),COLUMN(Q$4)))))*IF(VLOOKUP($B61,SCHEMA_SP!$E$5:$F$54,2,FALSE)=\"P\",-1,1))","v":0},null,-2500,-4000,-4000,0,0]
[null,"110102_Riserve",null,"+",1,null,11300,13100,14500,null,null,null,{"$f":"IF($B62=\"\",\"\",G62*IF($F62=\"\",1,IF(ISERROR(MATCH($F62,$B$6:$B$105)),0,INDIRECT(ADDRESS(5+MATCH($F62,$B$6:$B$105),COLUMN(M$4)))))*IF(VLOOKUP($B62,SCHEMA_SP!$E$5:$F$54,2,FALSE)=\"P\",-1,1))","v":-11300},{"$f":"IF($B62=\"\",\"\",H62*IF($F62=\"\",1,IF(ISERROR(MATCH($F62,$B$6:$B$105)),0,INDIRECT(ADDRESS(5+MATCH($F62,$B$6:$B$105),COLUMN(N$4)))))*IF(VLOOKUP($B62,SCHEMA_SP!$E$5:$F$54,2,FALSE)=\"P\",-1,1))","v":-13100},{"$f":"IF($B62=\"\",\"\",I62*IF($F62=\"\",1,IF(ISERROR(MATCH($F62,$B$6:$B$105)),0,INDIRECT(ADDRESS(5+MATCH($F62,$B$6:$B$105),COLUMN(O$4)))))*IF(VLOOKUP($B62,SCHEMA_SP!$E$5:$F$54,2,FALSE)=\"P\",-1,1))","v":-14500},{"$f":"IF($B62=\"\",\"\",J62*IF($F62=\"\",1,IF(ISERROR(MATCH($F62,$B$6:$B$105)),0,INDIRECT(ADDRESS(5+MATCH($F62,$B$6:$B$105),COLUMN(P$4)))))*IF(VLOOKUP($B62,SCHEMA_SP!$E$5:$F$54,2,FALSE)=\"P\",-1,1))","v":0},{"$f":"IF($B62=\"\",\"\",K62*IF($F62=\"\",1,IF(ISERROR(MATCH($F62,$B$6:$B$105)),0,INDIRECT(ADDRESS(5+MATCH($F62,$B$6:$B$105),COLUMN(Q$4)))))*IF(VLOOKUP($B62,SCHEMA_SP!$E$5:$F$54,2,FALSE)=\"P\",-1,1))","v":0},null,-11300,-13100,-14500,0,0]
[null,"110211_Debiti a breve verso altri finanziatori",null,"+",1,null,500,500,500,null,null,null,{"$f":"IF($B63=\"\",\"\",G63*IF($F63=\"\",1,IF(ISERROR(MATCH($F63,$B$6:$B$105)),0,INDIRECT(ADDRESS(5+MATCH($F63,$B$6:$B$105),COLUMN(M$4)))))*IF(VLOOKUP($B63,SCHEMA_SP!$E$5:$F$54,2,FALSE)=\"P\",-1,1))","v":-500},{"$f":"IF($B63=\"\",\"\",H63*IF($F63=\"\",1,IF(ISERROR(MATCH($F63,$B$6:$B$105)),0,INDIRECT(ADDRESS(5+MATCH($F63,$B$6:$B$105),COLUMN(N$4)))))*IF(VLOOKUP($B63,SCHEMA_SP!$E$5:$F$54,2,FALSE)=\"P\",-1,1))","v":-500},{"$f":"IF($B63=\"\",\"\",I63*IF($F63=\"\",1,IF(ISERROR(MATCH($F63,$B$6:$B$105)),0,INDIRECT(ADDRESS(5+MATCH($F63,$B$6:$B$105),COLUMN(O$4)))))*IF(VLOOKUP($B63,SCHEMA_SP!$E$5:$F$54,2,FALSE)=\"P\",-1,1))","v":-500},{"$f":"IF($B63=\"\",\"\",J63*IF($F63=\"\",1,IF(ISERROR(MATCH($F63,$B$6:$B$105)),0,INDIRECT(ADDRESS(5+MATCH($F63,$B$6:$B$105),COLUMN(P$4)))))*IF(VLOOKUP($B63,SCHEMA_SP!$E$5:$F$54,2,FALSE)=\"P\",-1,1))","v":0},{"$f":"IF($B63=\"\",\"\",K63*IF($F63=\"\",1,IF(ISERROR(MATCH($F63,$B$6:$B$105)),0,INDIRECT(ADDRESS(5+MATCH($F63,$B$6:$B$105),COLUMN(Q$4)))))*IF(VLOOKUP($B63,SCHEMA_SP!$E$5:$F$54,2,FALSE)=\"P\",-1,1))","v":0},null,-500,-500,-500,0,0]
[null,"110301_Debiti a medio termine verso banche",null,"+",1,null,2000,1500,1000,null,null,null,{"$f":"IF($B64=\"\",\"\",G64*IF($F64=\"\",1,IF(ISERROR(MATCH($F64,$B$6:$B$105)),0,INDIRECT(ADDRESS(5+MATCH($F64,$B$6:$B$105),COLUMN(M$4)))))*IF(VLOOKUP($B64,SCHEMA_SP!$E$5:$F$54,2,FALSE)=\"P\",-1,1))","v":-2000},{"$f":"IF($B64=\"\",\"\",H64*IF($F64=\"\",1,IF(ISERROR(MATCH($F64,$B$6:$B$105)),0,INDIRECT(ADDRESS(5+MATCH($F64,$B$6:$B$105),COLUMN(N$4)))))*IF(VLOOKUP($B64,SCHEMA_SP!$E$5:$F$54,2,FALSE)=\"P\",-1,1))","v":-1500},{"$f":"IF($B64=\"\",\"\",I64*IF($F64=\"\",1,IF(ISERROR(MATCH($F64,$B$6:$B$105)),0,INDIRECT(ADDRESS(5+MATCH($F64,$B$6:$B$105),COLUMN(O$4)))))*IF(VLOOKUP($B64,SCHEMA_SP!$E$5:$F$54,2,FALSE)=\"P\",-1,1))","v":-1000},{"$f":"IF($B64=\"\",\"\",J64*IF($F64=\"\",1,IF(ISERROR(MATCH($F64,$B$6:$B$105)),0,INDIRECT(ADDRESS(5+MATCH($F64,$B$6:$B$105),COLUMN(P$4)))))*IF(VLOOKUP($B64,SCHEMA_SP!$E$5:$F$54,2,FALSE)=\"P\",-1,1))","v":0},{"$f":"IF($B64=\"\",\"\",K64*IF($F64=\"\",1,IF(ISERROR(MATCH($F64,$B$6:$B$105)),0,INDIRECT(ADDRESS(5+MATCH($F64,$B$6:$B$105),COLUMN(Q$4)))))*IF(VLOOKUP($B64,SCHEMA_SP!$E$5:$F$54,2,FALSE)=\"P\",-1,1))","v":0},null,-2000,-1500,-1000,0,0]
[null,"110311_Debiti a medio termine verso altri finanziatori",null,"+",1,null,300,400,500,null,null,null,{"$f":"IF($B65=\"\",\"\",G65*IF($F65=\"\",1,IF(ISERROR(MATCH($F65,$B$6:$B$105)),0,INDIRECT(ADDRESS(5+MATCH($F65,$B$6:$B$105),COLUMN(M$4)))))*IF(VLOOKUP($B65,SCHEMA_SP!$E$5:$F$54,2,FALSE)=\"P\",-1,1))","v":-300},{"$f":"IF($B65=\"\",\"\",H65*IF($F65=\"\",1,IF(ISERROR(MATCH($F65,$B$6:$B$105)),0,INDIRECT(ADDRESS(5+MATCH($F65,$B$6:$B$105),COLUMN(N$4)))))*IF(VLOOKUP($B65,SCHEMA_SP!$E$5:$F$54,2,FALSE)=\"P\",-1,1))","v":-400},{"$f":"IF($B65=\"\",\"\",I65*IF($F65=\"\",1,IF(ISERROR(MATCH($F65,$B$6:$B$105)),0,INDIRECT(ADDRESS(5+MATCH($F65,$B$6:$B$105),COLUMN(O$4)))))*IF(VLOOKUP($B65,SCHEMA_SP!$E$5:$F$54,2,FALSE)=\"P\",-1,1))","v":-500},{"$f":"IF($B65=\"\",\"\",J65*IF($F65=\"\",1,IF(ISERROR(MATCH($F65,$B$6:$B$105)),0,INDIRECT(ADDRESS(5+MATCH($F65,$B$6:$B$105),COLUMN(P$4)))))*IF(VLOOKUP($B65,SCHEMA_SP!$E$5:$F$54,2,FALSE)=\"P\",-1,1))","v":0},{"$f":"IF($B65=\"\",\"\",K65*IF($F65=\"\",1,IF(ISERROR(MATCH($F65,$B$6:$B$105)),0,INDIRECT(ADDRESS(5+MATCH($F65,$B$6:$B$105),COLUMN(Q$4)))))*IF(VLOOKUP($B65,SCHEMA_SP!$E$5:$F$54,2,FALSE)=\"P\",-1,1))","v":0},null,-300,-400,-500,0,0]
[null,"110401_TFR",null,"+",0.9,null,450,500,550,null,null,null,{"$f":"IF($B66=\"\",\"\",G66*IF($F66=\"\",1,IF(ISERROR(MATCH($F66,$B$6:$B$105)),0,INDIRECT(ADDRESS(5+MATCH($F66,$B$6:$B$105),COLUMN(M$4)))))*IF(VLOOKUP($B66,SCHEMA_SP!$E$5:$F$54,2,FALSE)=\"P\",-1,1))","v":-450},{"$f":"IF($B66=\"\",\"\",H66*IF($F66=\"\",1,IF(ISERROR(MATCH($F66,$B$6:$B$105)),0,INDIRECT(ADDRESS(5+MATCH($F66,$B$6:$B$105),COLUMN(N$4)))))*IF(VLOOKUP($B66,SCHEMA_SP!$E$5:$F$54,2,FALSE)=\"P\",-1,1))","v":-500},{"$f":"IF($B66=\"\",\"\",I66*IF($F66=\"\",1,IF(ISERROR(MATCH($F66,$B$6:$B$105)),0,INDIRECT(ADDRESS(5+MATCH($F66,$B$6:$B$105),COLUMN(O$4)))))*IF(VLOOKUP($B66,SCHEMA_SP!$E$5:$F$54,2,FALSE)=\"P\",-1,1))","v":-550},{"$f":"IF($B66=\"\",\"\",J66*IF($F66=\"\",1,IF(ISERROR(MATCH($F66,$B$6:$B$105)),0,INDIRECT(ADDRESS(5+MATCH($F66,$B$6:$B$105),COLUMN(P$4)))))*IF(VLOOKUP($B66,SCHEMA_SP!$E$5:$F$54,2,FALSE)=\"P\",-1,1))","v":0},{"$f":"IF($B66=\"\",\"\",K66*IF($F66=\"\",1,IF(ISERROR(MATCH($F66,$B$6:$B$105)),0,INDIRECT(ADDRESS(5+MATCH($F66,$B$6:$B$105),COLUMN(Q$4)))))*IF(VLOOKUP($B66,SCHEMA_SP!$E$5:$F$54,2,FALSE)=\"P\",-1,1))","v":0},null,-405,-450,-495,0,0]
[null,null,null,null,null,null,null,null,null,null,null,null,{"$f":"IF($B67=\"\",\"\",G67*IF($F67=\"\",1,IF(ISERROR(MATCH($F67,$B$6:$B$105)),0,INDIRECT(ADDRESS(5+MATCH($F67,$B$6:$B$105),COLUMN(M$4)))))*IF(VLOOKUP($B67,SCHEMA_SP!$E$5:$F$54,2,FALSE)=\"P\",-1,1))","v":""},{"$f":"IF($B67=\"\",\"\",H67*IF($F67=\"\",1,IF(ISERROR(MATCH($F67,$B$6:$B$105)),0,INDIRECT(ADDRESS(5+MATCH($F67,$B$6:$B$105),COLUMN(N$4)))))*IF(VLOOKUP($B67,SCHEMA_SP!$E$5:$F$54,2,FALSE)=\"P\",-1,1))","v":""},{"$f":"IF($B67=\"\",\"\",I67*IF($F67=\"\",1,IF(ISERROR(MATCH($F67,$B$6:$B$105)),0,INDIRECT(ADDRESS(5+MATCH($F67,$B$6:$B$105),COLUMN(O$4)))))*IF(VLOOKUP($B67,SCHEMA_SP!$E$5:$F$54,2,FALSE)=\"P\",-1,1))","v":""},{"$f":"IF($B67=\"\",\"\",J67*IF($F67=\"\",1,IF(ISERROR(MATCH($F67,$B$6:$B$105)),0,INDIRECT(ADDRESS(5+MATCH($F67,$B$6:$B$105),COLUMN(P$4)))))*IF(VLOOKUP($B67,SCHEMA_SP!$E$5:$F$54,2,FALSE)=\"P\",-1,1))","v":""},{"$f":"IF($B67=\"\",\"\",K67*IF($F67=\"\",1,IF(ISERROR(MATCH($F67,$B$6:$B$105)),0,INDIRECT(ADDRESS(5+MATCH($F67,$B$6:$B$105),COLUMN(Q$4)))))*IF(VLOOKUP($B67,SCHEMA_SP!$E$5:$F$54,2,FALSE)=\"P\",-1,1))","v":""},null,"","","","",""]
[null,null,null,null,null,null,null,null,null,null,null,null,{"$f":"IF($B68=\"\",\"\",G68*IF($F68=\"\",1,IF(ISERROR(MATCH($F68,$B$6:$B$105)),0,INDIRECT(ADDRESS(5+MATCH($F68,$B$6:$B$105),COLUMN(M$4)))))*IF(VLOOKUP($B68,SCHEMA_SP!$E$5:$F$54,2,FALSE)=\"P\",-1,1))","v":""},{"$f":"IF($B68=\"\",\"\",H68*IF($F68=\"\",1,IF(ISERROR(MATCH($F68,$B$6:$B$105)),0,INDIRECT(ADDRESS(5+MATCH($F68,$B$6:$B$105),COLUMN(N$4)))))*IF(VLOOKUP($B68,SCHEMA_SP!$E$5:$F$54,2,FALSE)=\"P\",-1,1))","v":""},{"$f":"IF($B68=\"\",\"\",I68*IF($F68=\"\",1,IF(ISERROR(MATCH($F68,$B$6:$B$105)),0,INDIRECT(ADDRESS(5+MATCH($F68,$B$6:$B$105),COLUMN(O$4)))))*IF(VLOOKUP($B68,SCHEMA_SP!$E$5:$F$54,2,FALSE)=\"P\",-1,1))","v":""},{"$f":"IF($B68=\"\",\"\",J68*IF($F68=\"\",1,IF(ISERROR(MATCH($F68,$B$6:$B$105)),0,INDIRECT(ADDRESS(5+MATCH($F68,$B$6:$B$105),COLUMN(P$4)))))*IF(VLOOKUP($B68,SCHEMA_SP!$E$5:$F$54,2,FALSE)=\"P\",-1,1))","v":""},{"$f":"IF($B68=\"\",\"\",K68*IF($F68=\"\",1,IF(ISERROR(MATCH($F68,$B$6:$B$105)),0,INDIRECT(ADDRESS(5+MATCH($F68,$B$6:$B$105),COLUMN(Q$4)))))*IF(VLOOKUP($B68,SCHEMA_SP!$E$5:$F$54,2,FALSE)=\"P\",-1,1))","v":""},null,"","","","",""]
[null,null,null,null,null,null,null,null,null,null,null,null,{"$f":"IF($B69=\"\",\"\",G69*IF($F69=\"\",1,IF(ISERROR(MATCH($F69,$B$6:$B$105)),0,INDIRECT(ADDRESS(5+MATCH($F69,$B$6:$B$105),COLUMN(M$4)))))*IF(VLOOKUP($B69,SCHEMA_SP!$E$5:$F$54,2,FALSE)=\"P\",-1,1))","v":""},{"$f":"IF($B69=\"\",\"\",H69*IF($F69=\"\",1,IF(ISERROR(MATCH($F69,$B$6:$B$105)),0,INDIRECT(ADDRESS(5+MATCH($F69,$B$6:$B$105),COLUMN(N$4)))))*IF(VLOOKUP($B69,SCHEMA_SP!$E$5:$F$54,2,FALSE)=\"P\",-1,1))","v":""},{"$f":"IF($B69=\"\",\"\",I69*IF($F69=\"\",1,IF(ISERROR(MATCH($F69,$B$6:$B$105)),0,INDIRECT(ADDRESS(5+MATCH($F69,$B$6:$B$105),COLUMN(O$4)))))*IF(VLOOKUP($B69,SCHEMA_SP!$E$5:$F$54,2,FALSE)=\"P\",-1,1))","v":""},{"$f":"IF($B69=\"\",\"\",J69*IF($F69=\"\",1,IF(ISERROR(MATCH($F69,$B$6:$B$105)),0,INDIRECT(ADDRESS(5+MATCH($F69,$B$6:$B$105),COLUMN(P$4)))))*IF(VLOOKUP($B69,SCHEMA_SP!$E$5:$F$54,2,FALSE)=\"P\",-1,1))","v":""},{"$f":"IF($B69=\"\",\"\",K69*IF($F69=\"\",1,IF(ISERROR(MATCH($F69,$B$6:$B$105)),0,INDIRECT(ADDRESS(5+MATCH($F69,$B$6:$B$105),COLUMN(Q$4)))))*IF(VLOOKUP($B69,SCHEMA_SP!$E$5:$F$54,2,FALSE)=\"P\",-1,1))","v":""},null,"","","","",""]
[null,null,null,null,null,null,null,null,null,null,null,null,{"$f":"IF($B70=\"\",\"\",G70*IF($F70=\"\",1,IF(ISERROR(MATCH($F70,$B$6:$B$105)),0,INDIRECT(ADDRESS(5+MATCH($F70,$B$6:$B$105),COLUMN(M$4)))))*IF(VLOOKUP($B70,SCHEMA_SP!$E$5:$F$54,2,FALSE)=\"P\",-1,1))","v":""},{"$f":"IF($B70=\"\",\"\",H70*IF($F70=\"\",1,IF(ISERROR(MATCH($F70,$B$6:$B$105)),0,INDIRECT(ADDRESS(5+MATCH($F70,$B$6:$B$105),COLUMN(N$4)))))*IF(VLOOKUP($B70,SCHEMA_SP!$E$5:$F$54,2,FALSE)=\"P\",-1,1))","v":""},{"$f":"IF($B70=\"\",\"\",I70*IF($F70=\"\",1,IF(ISERROR(MATCH($F70,$B$6:$B$105)),0,INDIRECT(ADDRESS(5+MATCH($F70,$B$6:$B$105),COLUMN(O$4)))))*IF(VLOOKUP($B70,SCHEMA_SP!$E$5:$F$54,2,FALSE)=\"P\",-1,1))","v":""},{"$f":"IF($B70=\"\",\"\",J70*IF($F70=\"\",1,IF(ISERROR(MATCH($F70,$B$6:$B$105)),0,INDIRECT(ADDRESS(5+MATCH($F70,$B$6:$B$105),COLUMN(P$4)))))*IF(VLOOKUP($B70,SCHEMA_SP!$E$5:$F$54,2,FALSE)=\"P\",-1,1))","v":""},{"$f":"IF($B70=\"\",\"\",K70*IF($F70=\"\",1,IF(ISERROR(MATCH($F70,$B$6:$B$105)),0,INDIRECT(ADDRESS(5+MATCH($F70,$B$6:$B$105),COLUMN(Q$4)))))*IF(VLOOKUP($B70,SCHEMA_SP!$E$5:$F$54,2,FALSE)=\"P\",-1,1))","v":""},null,"","","","",""]
[null,null,null,null,null,null,null,null,null,null,null,null,{"$f":"IF($B71=\"\",\"\",G71*IF($F71=\"\",1,IF(ISERROR(MATCH($F71,$B$6:$B$105)),0,INDIRECT(ADDRESS(5+MATCH($F71,$B$6:$B$105),COLUMN(M$4)))))*IF(VLOOKUP($B71,SCHEMA_SP!$E$5:$F$54,2,FALSE)=\"P\",-1,1))","v":""},{"$f":"IF($B71=\"\",\"\",H71*IF($F71=\"\",1,IF(ISERROR(MATCH($F71,$B$6:$B$105)),0,INDIRECT(ADDRESS(5+MATCH($F71,$B$6:$B$105),COLUMN(N$4)))))*IF(VLOOKUP($B71,SCHEMA_SP!$E$5:$F$54,2,FALSE)=\"P\",-1,1))","v":""},{"$f":"IF($B71=\"\",\"\",I71*IF($F71=\"\",1,IF(ISERROR(MATCH($F71,$B$6:$B$105)),0,INDIRECT(ADDRESS(5+MATCH($F71,$B$6:$B$105),COLUMN(O$4)))))*IF(VLOOKUP($B71,SCHEMA_SP!$E$5:$F$54,2,FALSE)=\"P\",-1,1))","v":""},{"$f":"IF($B71=\"\",\"\",J71*IF($F71=\"\",1,IF(ISERROR(MATCH($F71,$B$6:$B$105)),0,INDIRECT(ADDRESS(5+MATCH($F71,$B$6:$B$105),COLUMN(P$4)))))*IF(VLOOKUP($B71,SCHEMA_SP!$E$5:$F$54,2,FALSE)=\"P\",-1,1))","v":""},{"$f":"IF($B71=\"\",\"\",K71*IF($F71=\"\",1,IF(ISERROR(MATCH($F71,$B$6:$B$105)),0,INDIRECT(ADDRESS(5+MATCH($F71,$B$6:$B$105),COLUMN(Q$4)))))*IF(VLOOKUP($B71,SCHEMA_SP!$E$5:$F$54,2,FALSE)=\"P\",-1,1))","v":""},null,"","","","",""]
[null,null,null,null,null,null,null,null,null,null,null,null,{"$f":"IF($B72=\"\",\"\",G72*IF($F72=\"\",1,IF(ISERROR(MATCH($F72,$B$6:$B$105)),0,INDIRECT(ADDRESS(5+MATCH($F72,$B$6:$B$105),COLUMN(M$4)))))*IF(VLOOKUP($B72,SCHEMA_SP!$E$5:$F$54,2,FALSE)=\"P\",-1,1))","v":""},{"$f":"IF($B72=\"\",\"\",H72*IF($F72=\"\",1,IF(ISERROR(MATCH($F72,$B$6:$B$105)),0,INDIRECT(ADDRESS(5+MATCH($F72,$B$6:$B$105),COLUMN(N$4)))))*IF(VLOOKUP($B72,SCHEMA_SP!$E$5:$F$54,2,FALSE)=\"P\",-1,1))","v":""},{"$f":"IF($B72=\"\",\"\",I72*IF($F72=\"\",1,IF(ISERROR(MATCH($F72,$B$6:$B$105)),0,INDIRECT(ADDRESS(5+MATCH($F72,$B$6:$B$105),COLUMN(O$4)))))*IF(VLOOKUP($B72,SCHEMA_SP!$E$5:$F$54,2,FALSE)=\"P\",-1,1))","v":""},{"$f":"IF($B72=\"\",\"\",J72*IF($F72=\"\",1,IF(ISERROR(MATCH($F72,$B$6:$B$105)),0,INDIRECT(ADDRESS(5+MATCH($F72,$B$6:$B$105),COLUMN(P$4)))))*IF(VLOOKUP($B72,SCHEMA_SP!$E$5:$F$54,2,FALSE)=\"P\",-1,1))","v":""},{"$f":"IF($B72=\"\",\"\",K72*IF($F72=\"\",1,IF(ISERROR(MATCH($F72,$B$6:$B$105)),0,INDIRECT(ADDRESS(5+MATCH($F72,$B$6:$B$105),COLUMN(Q$4)))))*IF(VLOOKUP($B72,SCHEMA_SP!$E$5:$F$54,2,FALSE)=\"P\",-1,1))","v":""},null,"","","","",""]
[null,null,null,null,null,null,null,null,null,null,null,null,{"$f":"IF($B73=\"\",\"\",G73*IF($F73=\"\",1,IF(ISERROR(MATCH($F73,$B$6:$B$105)),0,INDIRECT(ADDRESS(5+MATCH($F73,$B$6:$B$105),COLUMN(M$4)))))*IF(VLOOKUP($B73,SCHEMA_SP!$E$5:$F$54,2,FALSE)=\"P\",-1,1))","v":""},{"$f":"IF($B73=\"\",\"\",H73*IF($F73=\"\",1,IF(ISERROR(MATCH($F73,$B$6:$B$105)),0,INDIRECT(ADDRESS(5+MATCH($F73,$B$6:$B$105),COLUMN(N$4)))))*IF(VLOOKUP($B73,SCHEMA_SP!$E$5:$F$54,2,FALSE)=\"P\",-1,1))","v":""},{"$f":"IF($B73=\"\",\"\",I73*IF($F73=\"\",1,IF(ISERROR(MATCH($F73,$B$6:$B$105)),0,INDIRECT(ADDRESS(5+MATCH($F73,$B$6:$B$105),COLUMN(O$4)))))*IF(VLOOKUP($B73,SCHEMA_SP!$E$5:$F$54,2,FALSE)=\"P\",-1,1))","v":""},{"$f":"IF($B73=\"\",\"\",J73*IF($F73=\"\",1,IF(ISERROR(MATCH($F73,$B$6:$B$105)),0,INDIRECT(ADDRESS(5+MATCH($F73,$B$6:$B$105),COLUMN(P$4)))))*IF(VLOOKUP($B73,SCHEMA_SP!$E$5:$F$54,2,FALSE)=\"P\",-1,1))","v":""},{"$f":"IF($B73=\"\",\"\",K73*IF($F73=\"\",1,IF(ISERROR(MATCH($F73,$B$6:$B$105)),0,INDIRECT(ADDRESS(5+MATCH($F73,$B$6:$B$105),COLUMN(Q$4)))))*IF(VLOOKUP($B73,SCHEMA_SP!$E$5:$F$54,2,FALSE)=\"P\",-1,1))","v":""},null,"","","","",""]
[null,null,null,null,null,null,null,null,null,null,null,null,{"$f":"IF($B74=\"\",\"\",G74*IF($F74=\"\",1,IF(ISERROR(MATCH($F74,$B$6:$B$105)),0,INDIRECT(ADDRESS(5+MATCH($F74,$B$6:$B$105),COLUMN(M$4)))))*IF(VLOOKUP($B74,SCHEMA_SP!$E$5:$F$54,2,FALSE)=\"P\",-1,1))","v":""},{"$f":"IF($B74=\"\",\"\",H74*IF($F74=\"\",1,IF(ISERROR(MATCH($F74,$B$6:$B$105)),0,INDIRECT(ADDRESS(5+MATCH($F74,$B$6:$B$105),COLUMN(N$4)))))*IF(VLOOKUP($B74,SCHEMA_SP!$E$5:$F$54,2,FALSE)=\"P\",-1,1))","v":""},{"$f":"IF($B74=\"\",\"\",I74*IF($F74=\"\",1,IF(ISERROR(MATCH($F74,$B$6:$B$105)),0,INDIRECT(ADDRESS(5+MATCH($F74,$B$6:$B$105),COLUMN(O$4)))))*IF(VLOOKUP($B74,SCHEMA_SP!$E$5:$F$54,2,FALSE)=\"P\",-1,1))","v":""},{"$f":"IF($B74=\"\",\"\",J74*IF($F74=\"\",1,IF(ISERROR(MATCH($F74,$B$6:$B$105)),0,INDIRECT(ADDRESS(5+MATCH($F74,$B$6:$B$105),COLUMN(P$4)))))*IF(VLOOKUP($B74,SCHEMA_SP!$E$5:$F$54,2,FALSE)=\"P\",-1,1))","v":""},{"$f":"IF($B74=\"\",\"\",K74*IF($F74=\"\",1,IF(ISERROR(MATCH($F74,$B$6:$B$105)),0,INDIRECT(ADDRESS(5+MATCH($F74,$B$6:$B$105),COLUMN(Q$4)))))*IF(VLOOKUP($B74,SCHEMA_SP!$E$5:$F$54,2,FALSE)=\"P\",-1,1))","v":""},null,"","","","",""]
[null,null,null,null,null,null,null,null,null,null,null,null,{"$f":"IF($B75=\"\",\"\",G75*IF($F75=\"\",1,IF(ISERROR(MATCH($F75,$B$6:$B$105)),0,INDIRECT(ADDRESS(5+MATCH($F75,$B$6:$B$105),COLUMN(M$4)))))*IF(VLOOKUP($B75,SCHEMA_SP!$E$5:$F$54,2,FALSE)=\"P\",-1,1))","v":""},{"$f":"IF($B75=\"\",\"\",H75*IF($F75=\"\",1,IF(ISERROR(MATCH($F75,$B$6:$B$105)),0,INDIRECT(ADDRESS(5+MATCH($F75,$B$6:$B$105),COLUMN(N$4)))))*IF(VLOOKUP($B75,SCHEMA_SP!$E$5:$F$54,2,FALSE)=\"P\",-1,1))","v":""},{"$f":"IF($B75=\"\",\"\",I75*IF($F75=\"\",1,IF(ISERROR(MATCH($F75,$B$6:$B$105)),0,INDIRECT(ADDRESS(5+MATCH($F75,$B$6:$B$105),COLUMN(O$4)))))*IF(VLOOKUP($B75,SCHEMA_SP!$E$5:$F$54,2,FALSE)=\"P\",-1,1))","v":""},{"$f":"IF($B75=\"\",\"\",J75*IF($F75=\"\",1,IF(ISERROR(MATCH($F75,$B$6:$B$105)),0,INDIRECT(ADDRESS(5+MATCH($F75,$B$6:$B$105),COLUMN(P$4)))))*IF(VLOOKUP($B75,SCHEMA_SP!$E$5:$F$54,2,FALSE)=\"P\",-1,1))","v":""},{"$f":"IF($B75=\"\",\"\",K75*IF($F75=\"\",1,IF(ISERROR(MATCH($F75,$B$6:$B$105)),0,INDIRECT(ADDRESS(5+MATCH($F75,$B$6:$B$105),COLUMN(Q$4)))))*IF(VLOOKUP($B75,SCHEMA_SP!$E$5:$F$54,2,FALSE)=\"P\",-1,1))","v":""},null,"","","","",""]
[null,null,null,null,null,null,null,null,null,null,null,null,{"$f":"IF($B76=\"\",\"\",G76*IF($F76=\"\",1,IF(ISERROR(MATCH($F76,$B$6:$B$105)),0,INDIRECT(ADDRESS(5+MATCH($F76,$B$6:$B$105),COLUMN(M$4)))))*IF(VLOOKUP($B76,SCHEMA_SP!$E$5:$F$54,2,FALSE)=\"P\",-1,1))","v":""},{"$f":"IF($B76=\"\",\"\",H76*IF($F76=\"\",1,IF(ISERROR(MATCH($F76,$B$6:$B$105)),0,INDIRECT(ADDRESS(5+MATCH($F76,$B$6:$B$105),COLUMN(N$4)))))*IF(VLOOKUP($B76,SCHEMA_SP!$E$5:$F$54,2,FALSE)=\"P\",-1,1))","v":""},{"$f":"IF($B76=\"\",\"\",I76*IF($F76=\"\",1,IF(ISERROR(MATCH($F76,$B$6:$B$105)),0,INDIRECT(ADDRESS(5+MATCH($F76,$B$6:$B$105),COLUMN(O$4)))))*IF(VLOOKUP($B76,SCHEMA_SP!$E$5:$F$54,2,FALSE)=\"P\",-1,1))","v":""},{"$f":"IF($B76=\"\",\"\",J76*IF($F76=\"\",1,IF(ISERROR(MATCH($F76,$B$6:$B$105)),0,INDIRECT(ADDRESS(5+MATCH($F76,$B$6:$B$105),COLUMN(P$4)))))*IF(VLOOKUP($B76,SCHEMA_SP!$E$5:$F$54,2,FALSE)=\"P\",-1,1))","v":""},{"$f":"IF($B76=\"\",\"\",K76*IF($F76=\"\",1,IF(ISERROR(MATCH($F76,$B$6:$B$105)),0,INDIRECT(ADDRESS(5+MATCH($F76,$B$6:$B$105),COLUMN(Q$4)))))*IF(VLOOKUP($B76,SCHEMA_SP!$E$5:$F$54,2,FALSE)=\"P\",-1,1))","v":""},null,"","","","",""]
[null,null,null,null,null,null,null,null,null,null,null,null,{"$f":"IF($B77=\"\",\"\",G77*IF($F77=\"\",1,IF(ISERROR(MATCH($F77,$B$6:$B$105)),0,INDIRECT(ADDRESS(5+MATCH($F77,$B$6:$B$105),COLUMN(M$4)))))*IF(VLOOKUP($B77,SCHEMA_SP!$E$5:$F$54,2,FALSE)=\"P\",-1,1))","v":""},{"$f":"IF($B77=\"\",\"\",H77*IF($F77=\"\",1,IF(ISERROR(MATCH($F77,$B$6:$B$105)),0,INDIRECT(ADDRESS(5+MATCH($F77,$B$6:$B$105),COLUMN(N$4)))))*IF(VLOOKUP($B77,SCHEMA_SP!$E$5:$F$54,2,FALSE)=\"P\",-1,1))","v":""},{"$f":"IF($B77=\"\",\"\",I77*IF($F77=\"\",1,IF(ISERROR(MATCH($F77,$B$6:$B$105)),0,INDIRECT(ADDRESS(5+MATCH($F77,$B$6:$B$105),COLUMN(O$4)))))*IF(VLOOKUP($B77,SCHEMA_SP!$E$5:$F$54,2,FALSE)=\"P\",-1,1))","v":""},{"$f":"IF($B77=\"\",\"\",J77*IF($F77=\"\",1,IF(ISERROR(MATCH($F77,$B$6:$B$105)),0,INDIRECT(ADDRESS(5+MATCH($F77,$B$6:$B$105),COLUMN(P$4)))))*IF(VLOOKUP($B77,SCHEMA_SP!$E$5:$F$54,2,FALSE)=\"P\",-1,1))","v":""},{"$f":"IF($B77=\"\",\"\",K77*IF($F77=\"\",1,IF(ISERROR(MATCH($F77,$B$6:$B$105)),0,INDIRECT(ADDRESS(5+MATCH($F77,$B$6:$B$105),COLUMN(Q$4)))))*IF(VLOOKUP($B77,SCHEMA_SP!$E$5:$F$54,2,FALSE)=\"P\",-1,1))","v":""},null,"","","","",""]
[null,null,null,null,null,null,null,null,null,null,null,null,{"$f":"IF($B78=\"\",\"\",G78*IF($F78=\"\",1,IF(ISERROR(MATCH($F78,$B$6:$B$105)),0,INDIRECT(ADDRESS(5+MATCH($F78,$B$6:$B$105),COLUMN(M$4)))))*IF(VLOOKUP($B78,SCHEMA_SP!$E$5:$F$54,2,FALSE)=\"P\",-1,1))","v":""},{"$f":"IF($B78=\"\",\"\",H78*IF($F78=\"\",1,IF(ISERROR(MATCH($F78,$B$6:$B$105)),0,INDIRECT(ADDRESS(5+MATCH($F78,$B$6:$B$105),COLUMN(N$4)))))*IF(VLOOKUP($B78,SCHEMA_SP!$E$5:$F$54,2,FALSE)=\"P\",-1,1))","v":""},{"$f":"IF($B78=\"\",\"\",I78*IF($F78=\"\",1,IF(ISERROR(MATCH($F78,$B$6:$B$105)),0,INDIRECT(ADDRESS(5+MATCH($F78,$B$6:$B$105),COLUMN(O$4)))))*IF(VLOOKUP($B78,SCHEMA_SP!$E$5:$F$54,2,FALSE)=\"P\",-1,1))","v":""},{"$f":"IF($B78=\"\",\"\",J78*IF($F78=\"\",1,IF(ISERROR(MATCH($F78,$B$6:$B$105)),0,INDIRECT(ADDRESS(5+MATCH($F78,$B$6:$B$105),COLUMN(P$4)))))*IF(VLOOKUP($B78,SCHEMA_SP!$E$5:$F$54,2,FALSE)=\"P\",-1,1))","v":""},{"$f":"IF($B78=\"\",\"\",K78*IF($F78=\"\",1,IF(ISERROR(MATCH($F78,$B$6:$B$105)),0,INDIRECT(ADDRESS(5+MATCH($F78,$B$6:$B$105),COLUMN(Q$4)))))*IF(VLOOKUP($B78,SCHEMA_SP!$E$5:$F$54,2,FALSE)=\"P\",-1,1))","v":""},null,"","","","",""]
[null,null,null,null,null,null,null,null,null,null,null,null,{"$f":"IF($B79=\"\",\"\",G79*IF($F79=\"\",1,IF(ISERROR(MATCH($F79,$B$6:$B$105)),0,INDIRECT(ADDRESS(5+MATCH($F79,$B$6:$B$105),COLUMN(M$4)))))*IF(VLOOKUP($B79,SCHEMA_SP!$E$5:$F$54,2,FALSE)=\"P\",-1,1))","v":""},{"$f":"IF($B79=\"\",\"\",H79*IF($F79=\"\",1,IF(ISERROR(MATCH($F79,$B$6:$B$105)),0,INDIRECT(ADDRESS(5+MATCH($F79,$B$6:$B$105),COLUMN(N$4)))))*IF(VLOOKUP($B79,SCHEMA_SP!$E$5:$F$54,2,FALSE)=\"P\",-1,1))","v":""},{"$f":"IF($B79=\"\",\"\",I79*IF($F79=\"\",1,IF(ISERROR(MATCH($F79,$B$6:$B$105)),0,INDIRECT(ADDRESS(5+MATCH($F79,$B$6:$B$105),COLUMN(O$4)))))*IF(VLOOKUP($B79,SCHEMA_SP!$E$5:$F$54,2,FALSE)=\"P\",-1,1))","v":""},{"$f":"IF($B79=\"\",\"\",J79*IF($F79=\"\",1,IF(ISERROR(MATCH($F79,$B$6:$B$105)),0,INDIRECT(ADDRESS(5+MATCH($F79,$B$6:$B$105),COLUMN(P$4)))))*IF(VLOOKUP($B79,SCHEMA_SP!$E$5:$F$54,2,FALSE)=\"P\",-1,1))","v":""},{"$f":"IF($B79=\"\",\"\",K79*IF($F79=\"\",1,IF(ISERROR(MATCH($F79,$B$6:$B$105)),0,INDIRECT(ADDRESS(5+MATCH($F79,$B$6:$B$105),COLUMN(Q$4)))))*IF(VLOOKUP($B79,SCHEMA_SP!$E$5:$F$54,2,FALSE)=\"P\",-1,1))","v":""},null,"","","","",""]
[null,null,null,null,null,null,null,null,null,null,null,null,{"$f":"IF($B80=\"\",\"\",G80*IF($F80=\"\",1,IF(ISERROR(MATCH($F80,$B$6:$B$105)),0,INDIRECT(ADDRESS(5+MATCH($F80,$B$6:$B$105),COLUMN(M$4)))))*IF(VLOOKUP($B80,SCHEMA_SP!$E$5:$F$54,2,FALSE)=\"P\",-1,1))","v":""},{"$f":"IF($B80=\"\",\"\",H80*IF($F80=\"\",1,IF(ISERROR(MATCH($F80,$B$6:$B$105)),0,INDIRECT(ADDRESS(5+MATCH($F80,$B$6:$B$105),COLUMN(N$4)))))*IF(VLOOKUP($B80,SCHEMA_SP!$E$5:$F$54,2,FALSE)=\"P\",-1,1))","v":""},{"$f":"IF($B80=\"\",\"\",I80*IF($F80=\"\",1,IF(ISERROR(MATCH($F80,$B$6:$B$105)),0,INDIRECT(ADDRESS(5+MATCH($F80,$B$6:$B$105),COLUMN(O$4)))))*IF(VLOOKUP($B80,SCHEMA_SP!$E$5:$F$54,2,FALSE)=\"P\",-1,1))","v":""},{"$f":"IF($B80=\"\",\"\",J80*IF($F80=\"\",1,IF(ISERROR(MATCH($F80,$B$6:$B$105)),0,INDIRECT(ADDRESS(5+MATCH($F80,$B$6:$B$105),COLUMN(P$4)))))*IF(VLOOKUP($B80,SCHEMA_SP!$E$5:$F$54,2,FALSE)=\"P\",-1,1))","v":""},{"$f":"IF($B80=\"\",\"\",K80*IF($F80=\"\",1,IF(ISERROR(MATCH($F80,$B$6:$B$105)),0,INDIRECT(ADDRESS(5+MATCH($F80,$B$6:$B$105),COLUMN(Q$4)))))*IF(VLOOKUP($B80,SCHEMA_SP!$E$5:$F$54,2,FALSE)=\"P\",-1,1))","v":""},null,"","","","",""]
[null,null,null,null,null,null,null,null,null,null,null,null,{"$f":"IF($B81=\"\",\"\",G81*IF($F81=\"\",1,IF(ISERROR(MATCH($F81,$B$6:$B$105)),0,INDIRECT(ADDRESS(5+MATCH($F81,$B$6:$B$105),COLUMN(M$4)))))*IF(VLOOKUP($B81,SCHEMA_SP!$E$5:$F$54,2,FALSE)=\"P\",-1,1))","v":""},{"$f":"IF($B81=\"\",\"\",H81*IF($F81=\"\",1,IF(ISERROR(MATCH($F81,$B$6:$B$105)),0,INDIRECT(ADDRESS(5+MATCH($F81,$B$6:$B$105),COLUMN(N$4)))))*IF(VLOOKUP($B81,SCHEMA_SP!$E$5:$F$54,2,FALSE)=\"P\",-1,1))","v":""},{"$f":"IF($B81=\"\",\"\",I81*IF($F81=\"\",1,IF(ISERROR(MATCH($F81,$B$6:$B$105)),0,INDIRECT(ADDRESS(5+MATCH($F81,$B$6:$B$105),COLUMN(O$4)))))*IF(VLOOKUP($B81,SCHEMA_SP!$E$5:$F$54,2,FALSE)=\"P\",-1,1))","v":""},{"$f":"IF($B81=\"\",\"\",J81*IF($F81=\"\",1,IF(ISERROR(MATCH($F81,$B$6:$B$105)),0,INDIRECT(ADDRESS(5+MATCH($F81,$B$6:$B$105),COLUMN(P$4)))))*IF(VLOOKUP($B81,SCHEMA_SP!$E$5:$F$54,2,FALSE)=\"P\",-1,1))","v":""},{"$f":"IF($B81=\"\",\"\",K81*IF($F81=\"\",1,IF(ISERROR(MATCH($F81,$B$6:$B$105)),0,INDIRECT(ADDRESS(5+MATCH($F81,$B$6:$B$105),COLUMN(Q$4)))))*IF(VLOOKUP($B81,SCHEMA_SP!$E$5:$F$54,2,FALSE)=\"P\",-1,1))","v":""},null,"","","","",""]
[null,null,null,null,null,null,null,null,null,null,null,null,{"$f":"IF($B82=\"\",\"\",G82*IF($F82=\"\",1,IF(ISERROR(MATCH($F82,$B$6:$B$105)),0,INDIRECT(ADDRESS(5+MATCH($F82,$B$6:$B$105),COLUMN(M$4)))))*IF(VLOOKUP($B82,SCHEMA_SP!$E$5:$F$54,2,FALSE)=\"P\",-1,1))","v":""},{"$f":"IF($B82=\"\",\"\",H82*IF($F82=\"\",1,IF(ISERROR(MATCH($F82,$B$6:$B$105)),0,INDIRECT(ADDRESS(5+MATCH($F82,$B$6:$B$105),COLUMN(N$4)))))*IF(VLOOKUP($B82,SCHEMA_SP!$E$5:$F$54,2,FALSE)=\"P\",-1,1))","v":""},{"$f":"IF($B82=\"\",\"\",I82*IF($F82=\"\",1,IF(ISERROR(MATCH($F82,$B$6:$B$105)),0,INDIRECT(ADDRESS(5+MATCH($F82,$B$6:$B$105),COLUMN(O$4)))))*IF(VLOOKUP($B82,SCHEMA_SP!$E$5:$F$54,2,FALSE)=\"P\",-1,1))","v":""},{"$f":"IF($B82=\"\",\"\",J82*IF($F82=\"\",1,IF(ISERROR(MATCH($F82,$B$6:$B$105)),0,INDIRECT(ADDRESS(5+MATCH($F82,$B$6:$B$105),COLUMN(P$4)))))*IF(VLOOKUP($B82,SCHEMA_SP!$E$5:$F$54,2,FALSE)=\"P\",-1,1))","v":""},{"$f":"IF($B82=\"\",\"\",K82*IF($F82=\"\",1,IF(ISERROR(MATCH($F82,$B$6:$B$105)),0,INDIRECT(ADDRESS(5+MATCH($F82,$B$6:$B$105),COLUMN(Q$4)))))*IF(VLOOKUP($B82,SCHEMA_SP!$E$5:$F$54,2,FALSE)=\"P\",-1,1))","v":""},null,"","","","",""]
[null,null,null,null,null,null,null,null,null,null,null,null,{"$f":"IF($B83=\"\",\"\",G83*IF($F83=\"\",1,IF(ISERROR(MATCH($F83,$B$6:$B$105)),0,INDIRECT(ADDRESS(5+MATCH($F83,$B$6:$B$105),COLUMN(M$4)))))*IF(VLOOKUP($B83,SCHEMA_SP!$E$5:$F$54,2,FALSE)=\"P\",-1,1))","v":""},{"$f":"IF($B83=\"\",\"\",H83*IF($F83=\"\",1,IF(ISERROR(MATCH($F83,$B$6:$B$105)),0,INDIRECT(ADDRESS(5+MATCH($F83,$B$6:$B$105),COLUMN(N$4)))))*IF(VLOOKUP($B83,SCHEMA_SP!$E$5:$F$54,2,FALSE)=\"P\",-1,1))","v":""},{"$f":"IF($B83=\"\",\"\",I83*IF($F83=\"\",1,IF(ISERROR(MATCH($F83,$B$6:$B$105)),0,INDIRECT(ADDRESS(5+MATCH($F83,$B$6:$B$105),COLUMN(O$4)))))*IF(VLOOKUP($B83,SCHEMA_SP!$E$5:$F$54,2,FALSE)=\"P\",-1,1))","v":""},{"$f":"IF($B83=\"\",\"\",J83*IF($F83=\"\",1,IF(ISERROR(MATCH($F83,$B$6:$B$105)),0,INDIRECT(ADDRESS(5+MATCH($F83,$B$6:$B$105),COLUMN(P$4)))))*IF(VLOOKUP($B83,SCHEMA_SP!$E$5:$F$54,2,FALSE)=\"P\",-1,1))","v":""},{"$f":"IF($B83=\"\",\"\",K83*IF($F83=\"\",1,IF(ISERROR(MATCH($F83,$B$6:$B$105)),0,INDIRECT(ADDRESS(5+MATCH($F83,$B$6:$B$105),COLUMN(Q$4)))))*IF(VLOOKUP($B83,SCHEMA_SP!$E$5:$F$54,2,FALSE)=\"P\",-1,1))","v":""},null,"","","","",""]
[null,null,null,null,null,null,null,null,null,null,null,null,{"$f":"IF($B84=\"\",\"\",G84*IF($F84=\"\",1,IF(ISERROR(MATCH($F84,$B$6:$B$105)),0,INDIRECT(ADDRESS(5+MATCH($F84,$B$6:$B$105),COLUMN(M$4)))))*IF(VLOOKUP($B84,SCHEMA_SP!$E$5:$F$54,2,FALSE)=\"P\",-1,1))","v":""},{"$f":"IF($B84=\"\",\"\",H84*IF($F84=\"\",1,IF(ISERROR(MATCH($F84,$B$6:$B$105)),0,INDIRECT(ADDRESS(5+MATCH($F84,$B$6:$B$105),COLUMN(N$4)))))*IF(VLOOKUP($B84,SCHEMA_SP!$E$5:$F$54,2,FALSE)=\"P\",-1,1))","v":""},{"$f":"IF($B84=\"\",\"\",I84*IF($F84=\"\",1,IF(ISERROR(MATCH($F84,$B$6:$B$105)),0,INDIRECT(ADDRESS(5+MATCH($F84,$B$6:$B$105),COLUMN(O$4)))))*IF(VLOOKUP($B84,SCHEMA_SP!$E$5:$F$54,2,FALSE)=\"P\",-1,1))","v":""},{"$f":"IF($B84=\"\",\"\",J84*IF($F84=\"\",1,IF(ISERROR(MATCH($F84,$B$6:$B$105)),0,INDIRECT(ADDRESS(5+MATCH($F84,$B$6:$B$105),COLUMN(P$4)))))*IF(VLOOKUP($B84,SCHEMA_SP!$E$5:$F$54,2,FALSE)=\"P\",-1,1))","v":""},{"$f":"IF($B84=\"\",\"\",K84*IF($F84=\"\",1,IF(ISERROR(MATCH($F84,$B$6:$B$105)),0,INDIRECT(ADDRESS(5+MATCH($F84,$B$6:$B$105),COLUMN(Q$4)))))*IF(VLOOKUP($B84,SCHEMA_SP!$E$5:$F$54,2,FALSE)=\"P\",-1,1))","v":""},null,"","","","",""]
[null,null,null,null,null,null,null,null,null,null,null,null,{"$f":"IF($B85=\"\",\"\",G85*IF($F85=\"\",1,IF(ISERROR(MATCH($F85,$B$6:$B$105)),0,INDIRECT(ADDRESS(5+MATCH($F85,$B$6:$B$105),COLUMN(M$4)))))*IF(VLOOKUP($B85,SCHEMA_SP!$E$5:$F$54,2,FALSE)=\"P\",-1,1))","v":""},{"$f":"IF($B85=\"\",\"\",H85*IF($F85=\"\",1,IF(ISERROR(MATCH($F85,$B$6:$B$105)),0,INDIRECT(ADDRESS(5+MATCH($F85,$B$6:$B$105),COLUMN(N$4)))))*IF(VLOOKUP($B85,SCHEMA_SP!$E$5:$F$54,2,FALSE)=\"P\",-1,1))","v":""},{"$f":"IF($B85=\"\",\"\",I85*IF($F85=\"\",1,IF(ISERROR(MATCH($F85,$B$6:$B$105)),0,INDIRECT(ADDRESS(5+MATCH($F85,$B$6:$B$105),COLUMN(O$4)))))*IF(VLOOKUP($B85,SCHEMA_SP!$E$5:$F$54,2,FALSE)=\"P\",-1,1))","v":""},{"$f":"IF($B85=\"\",\"\",J85*IF($F85=\"\",1,IF(ISERROR(MATCH($F85,$B$6:$B$105)),0,INDIRECT(ADDRESS(5+MATCH($F85,$B$6:$B$105),COLUMN(P$4)))))*IF(VLOOKUP($B85,SCHEMA_SP!$E$5:$F$54,2,FALSE)=\"P\",-1,1))","v":""},{"$f":"IF($B85=\"\",\"\",K85*IF($F85=\"\",1,IF(ISERROR(MATCH($F85,$B$6:$B$105)),0,INDIRECT(ADDRESS(5+MATCH($F85,$B$6:$B$105),COLUMN(Q$4)))))*IF(VLOOKUP($B85,SCHEMA_SP!$E$5:$F$54,2,FALSE)=\"P\",-1,1))","v":""},null,"","","","",""]
[null,null,null,null,null,null,null,null,null,null,null,null,{"$f":"IF($B86=\"\",\"\",G86*IF($F86=\"\",1,IF(ISERROR(MATCH($F86,$B$6:$B$105)),0,INDIRECT(ADDRESS(5+MATCH($F86,$B$6:$B$105),COLUMN(M$4)))))*IF(VLOOKUP($B86,SCHEMA_SP!$E$5:$F$54,2,FALSE)=\"P\",-1,1))","v":""},{"$f":"IF($B86=\"\",\"\",H86*IF($F86=\"\",1,IF(ISERROR(MATCH($F86,$B$6:$B$105)),0,INDIRECT(ADDRESS(5+MATCH($F86,$B$6:$B$105),COLUMN(N$4)))))*IF(VLOOKUP($B86,SCHEMA_SP!$E$5:$F$54,2,FALSE)=\"P\",-1,1))","v":""},{"$f":"IF($B86=\"\",\"\",I86*IF($F86=\"\",1,IF(ISERROR(MATCH($F86,$B$6:$B$105)),0,INDIRECT(ADDRESS(5+MATCH($F86,$B$6:$B$105),COLUMN(O$4)))))*IF(VLOOKUP($B86,SCHEMA_SP!$E$5:$F$54,2,FALSE)=\"P\",-1,1))","v":""},{"$f":"IF($B86=\"\",\"\",J86*IF($F86=\"\",1,IF(ISERROR(MATCH($F86,$B$6:$B$105)),0,INDIRECT(ADDRESS(5+MATCH($F86,$B$6:$B$105),COLUMN(P$4)))))*IF(VLOOKUP($B86,SCHEMA_SP!$E$5:$F$54,2,FALSE)=\"P\",-1,1))","v":""},{"$f":"IF($B86=\"\",\"\",K86*IF($F86=\"\",1,IF(ISERROR(MATCH($F86,$B$6:$B$105)),0,INDIRECT(ADDRESS(5+MATCH($F86,$B$6:$B$105),COLUMN(Q$4)))))*IF(VLOOKUP($B86,SCHEMA_SP!$E$5:$F$54,2,FALSE)=\"P\",-1,1))","v":""},null,"","","","",""]
[null,null,null,null,null,null,null,null,null,null,null,null,{"$f":"IF($B87=\"\",\"\",G87*IF($F87=\"\",1,IF(ISERROR(MATCH($F87,$B$6:$B$105)),0,INDIRECT(ADDRESS(5+MATCH($F87,$B$6:$B$105),COLUMN(M$4)))))*IF(VLOOKUP($B87,SCHEMA_SP!$E$5:$F$54,2,FALSE)=\"P\",-1,1))","v":""},{"$f":"IF($B87=\"\",\"\",H87*IF($F87=\"\",1,IF(ISERROR(MATCH($F87,$B$6:$B$105)),0,INDIRECT(ADDRESS(5+MATCH($F87,$B$6:$B$105),COLUMN(N$4)))))*IF(VLOOKUP($B87,SCHEMA_SP!$E$5:$F$54,2,FALSE)=\"P\",-1,1))","v":""},{"$f":"IF($B87=\"\",\"\",I87*IF($F87=\"\",1,IF(ISERROR(MATCH($F87,$B$6:$B$105)),0,INDIRECT(ADDRESS(5+MATCH($F87,$B$6:$B$105),COLUMN(O$4)))))*IF(VLOOKUP($B87,SCHEMA_SP!$E$5:$F$54,2,FALSE)=\"P\",-1,1))","v":""},{"$f":"IF($B87=\"\",\"\",J87*IF($F87=\"\",1,IF(ISERROR(MATCH($F87,$B$6:$B$105)),0,INDIRECT(ADDRESS(5+MATCH($F87,$B$6:$B$105),COLUMN(P$4)))))*IF(VLOOKUP($B87,SCHEMA_SP!$E$5:$F$54,2,FALSE)=\"P\",-1,1))","v":""},{"$f":"IF($B87=\"\",\"\",K87*IF($F87=\"\",1,IF(ISERROR(MATCH($F87,$B$6:$B$105)),0,INDIRECT(ADDRESS(5+MATCH($F87,$B$6:$B$105),COLUMN(Q$4)))))*IF(VLOOKUP($B87,SCHEMA_SP!$E$5:$F$54,2,FALSE)=\"P\",-1,1))","v":""},null,"","","","",""]
[null,null,null,null,null,null,null,null,null,null,null,null,{"$f":"IF($B88=\"\",\"\",G88*IF($F88=\"\",1,IF(ISERROR(MATCH($F88,$B$6:$B$105)),0,INDIRECT(ADDRESS(5+MATCH($F88,$B$6:$B$105),COLUMN(M$4)))))*IF(VLOOKUP($B88,SCHEMA_SP!$E$5:$F$54,2,FALSE)=\"P\",-1,1))","v":""},{"$f":"IF($B88=\"\",\"\",H88*IF($F88=\"\",1,IF(ISERROR(MATCH($F88,$B$6:$B$105)),0,INDIRECT(ADDRESS(5+MATCH($F88,$B$6:$B$105),COLUMN(N$4)))))*IF(VLOOKUP($B88,SCHEMA_SP!$E$5:$F$54,2,FALSE)=\"P\",-1,1))","v":""},{"$f":"IF($B88=\"\",\"\",I88*IF($F88=\"\",1,IF(ISERROR(MATCH($F88,$B$6:$B$105)),0,INDIRECT(ADDRESS(5+MATCH($F88,$B$6:$B$105),COLUMN(O$4)))))*IF(VLOOKUP($B88,SCHEMA_SP!$E$5:$F$54,2,FALSE)=\"P\",-1,1))","v":""},{"$f":"IF($B88=\"\",\"\",J88*IF($F88=\"\",1,IF(ISERROR(MATCH($F88,$B$6:$B$105)),0,INDIRECT(ADDRESS(5+MATCH($F88,$B$6:$B$105),COLUMN(P$4)))))*IF(VLOOKUP($B88,SCHEMA_SP!$E$5:$F$54,2,FALSE)=\"P\",-1,1))","v":""},{"$f":"IF($B88=\"\",\"\",K88*IF($F88=\"\",1,IF(ISERROR(MATCH($F88,$B$6:$B$105)),0,INDIRECT(ADDRESS(5+MATCH($F88,$B$6:$B$105),COLUMN(Q$4)))))*IF(VLOOKUP($B88,SCHEMA_SP!$E$5:$F$54,2,FALSE)=\"P\",-1,1))","v":""},null,"","","","",""]
[null,null,null,null,null,null,null,null,null,null,null,null,{"$f":"IF($B89=\"\",\"\",G89*IF($F89=\"\",1,IF(ISERROR(MATCH($F89,$B$6:$B$105)),0,INDIRECT(ADDRESS(5+MATCH($F89,$B$6:$B$105),COLUMN(M$4)))))*IF(VLOOKUP($B89,SCHEMA_SP!$E$5:$F$54,2,FALSE)=\"P\",-1,1))","v":""},{"$f":"IF($B89=\"\",\"\",H89*IF($F89=\"\",1,IF(ISERROR(MATCH($F89,$B$6:$B$105)),0,INDIRECT(ADDRESS(5+MATCH($F89,$B$6:$B$105),COLUMN(N$4)))))*IF(VLOOKUP($B89,SCHEMA_SP!$E$5:$F$54,2,FALSE)=\"P\",-1,1))","v":""},{"$f":"IF($B89=\"\",\"\",I89*IF($F89=\"\",1,IF(ISERROR(MATCH($F89,$B$6:$B$105)),0,INDIRECT(ADDRESS(5+MATCH($F89,$B$6:$B$105),COLUMN(O$4)))))*IF(VLOOKUP($B89,SCHEMA_SP!$E$5:$F$54,2,FALSE)=\"P\",-1,1))","v":""},{"$f":"IF($B89=\"\",\"\",J89*IF($F89=\"\",1,IF(ISERROR(MATCH($F89,$B$6:$B$105)),0,INDIRECT(ADDRESS(5+MATCH($F89,$B$6:$B$105),COLUMN(P$4)))))*IF(VLOOKUP($B89,SCHEMA_SP!$E$5:$F$54,2,FALSE)=\"P\",-1,1))","v":""},{"$f":"IF($B89=\"\",\"\",K89*IF($F89=\"\",1,IF(ISERROR(MATCH($F89,$B$6:$B$105)),0,INDIRECT(ADDRESS(5+MATCH($F89,$B$6:$B$105),COLUMN(Q$4)))))*IF(VLOOKUP($B89,SCHEMA_SP!$E$5:$F$54,2,FALSE)=\"P\",-1,1))","v":""},null,"","","","",""]
[null,null,null,null,null,null,null,null,null,null,null,null,{"$f":"IF($B90=\"\",\"\",G90*IF($F90=\"\",1,IF(ISERROR(MATCH($F90,$B$6:$B$105)),0,INDIRECT(ADDRESS(5+MATCH($F90,$B$6:$B$105),COLUMN(M$4)))))*IF(VLOOKUP($B90,SCHEMA_SP!$E$5:$F$54,2,FALSE)=\"P\",-1,1))","v":""},{"$f":"IF($B90=\"\",\"\",H90*IF($F90=\"\",1,IF(ISERROR(MATCH($F90,$B$6:$B$105)),0,INDIRECT(ADDRESS(5+MATCH($F90,$B$6:$B$105),COLUMN(N$4)))))*IF(VLOOKUP($B90,SCHEMA_SP!$E$5:$F$54,2,FALSE)=\"P\",-1,1))","v":""},{"$f":"IF($B90=\"\",\"\",I90*IF($F90=\"\",1,IF(ISERROR(MATCH($F90,$B$6:$B$105)),0,INDIRECT(ADDRESS(5+MATCH($F90,$B$6:$B$105),COLUMN(O$4)))))*IF(VLOOKUP($B90,SCHEMA_SP!$E$5:$F$54,2,FALSE)=\"P\",-1,1))","v":""},{"$f":"IF($B90=\"\",\"\",J90*IF($F90=\"\",1,IF(ISERROR(MATCH($F90,$B$6:$B$105)),0,INDIRECT(ADDRESS(5+MATCH($F90,$B$6:$B$105),COLUMN(P$4)))))*IF(VLOOKUP($B90,SCHEMA_SP!$E$5:$F$54,2,FALSE)=\"P\",-1,1))","v":""},{"$f":"IF($B90=\"\",\"\",K90*IF($F90=\"\",1,IF(ISERROR(MATCH($F90,$B$6:$B$105)),0,INDIRECT(ADDRESS(5+MATCH($F90,$B$6:$B$105),COLUMN(Q$4)))))*IF(VLOOKUP($B90,SCHEMA_SP!$E$5:$F$54,2,FALSE)=\"P\",-1,1))","v":""},null,"","","","",""]
[null,null,null,null,null,null,null,null,null,null,null,null,{"$f":"IF($B91=\"\",\"\",G91*IF($F91=\"\",1,IF(ISERROR(MATCH($F91,$B$6:$B$105)),0,INDIRECT(ADDRESS(5+MATCH($F91,$B$6:$B$105),COLUMN(M$4)))))*IF(VLOOKUP($B91,SCHEMA_SP!$E$5:$F$54,2,FALSE)=\"P\",-1,1))","v":""},{"$f":"IF($B91=\"\",\"\",H91*IF($F91=\"\",1,IF(ISERROR(MATCH($F91,$B$6:$B$105)),0,INDIRECT(ADDRESS(5+MATCH($F91,$B$6:$B$105),COLUMN(N$4)))))*IF(VLOOKUP($B91,SCHEMA_SP!$E$5:$F$54,2,FALSE)=\"P\",-1,1))","v":""},{"$f":"IF($B91=\"\",\"\",I91*IF($F91=\"\",1,IF(ISERROR(MATCH($F91,$B$6:$B$105)),0,INDIRECT(ADDRESS(5+MATCH($F91,$B$6:$B$105),COLUMN(O$4)))))*IF(VLOOKUP($B91,SCHEMA_SP!$E$5:$F$54,2,FALSE)=\"P\",-1,1))","v":""},{"$f":"IF($B91=\"\",\"\",J91*IF($F91=\"\",1,IF(ISERROR(MATCH($F91,$B$6:$B$105)),0,INDIRECT(ADDRESS(5+MATCH($F91,$B$6:$B$105),COLUMN(P$4)))))*IF(VLOOKUP($B91,SCHEMA_SP!$E$5:$F$54,2,FALSE)=\"P\",-1,1))","v":""},{"$f":"IF($B91=\"\",\"\",K91*IF($F91=\"\",1,IF(ISERROR(MATCH($F91,$B$6:$B$105)),0,INDIRECT(ADDRESS(5+MATCH($F91,$B$6:$B$105),COLUMN(Q$4)))))*IF(VLOOKUP($B91,SCHEMA_SP!$E$5:$F$54,2,FALSE)=\"P\",-1,1))","v":""},null,"","","","",""]
[null,null,null,null,null,null,null,null,null,null,null,null,{"$f":"IF($B92=\"\",\"\",G92*IF($F92=\"\",1,IF(ISERROR(MATCH($F92,$B$6:$B$105)),0,INDIRECT(ADDRESS(5+MATCH($F92,$B$6:$B$105),COLUMN(M$4)))))*IF(VLOOKUP($B92,SCHEMA_SP!$E$5:$F$54,2,FALSE)=\"P\",-1,1))","v":""},{"$f":"IF($B92=\"\",\"\",H92*IF($F92=\"\",1,IF(ISERROR(MATCH($F92,$B$6:$B$105)),0,INDIRECT(ADDRESS(5+MATCH($F92,$B$6:$B$105),COLUMN(N$4)))))*IF(VLOOKUP($B92,SCHEMA_SP!$E$5:$F$54,2,FALSE)=\"P\",-1,1))","v":""},{"$f":"IF($B92=\"\",\"\",I92*IF($F92=\"\",1,IF(ISERROR(MATCH($F92,$B$6:$B$105)),0,INDIRECT(ADDRESS(5+MATCH($F92,$B$6:$B$105),COLUMN(O$4)))))*IF(VLOOKUP($B92,SCHEMA_SP!$E$5:$F$54,2,FALSE)=\"P\",-1,1))","v":""},{"$f":"IF($B92=\"\",\"\",J92*IF($F92=\"\",1,IF(ISERROR(MATCH($F92,$B$6:$B$105)),0,INDIRECT(ADDRESS(5+MATCH($F92,$B$6:$B$105),COLUMN(P$4)))))*IF(VLOOKUP($B92,SCHEMA_SP!$E$5:$F$54,2,FALSE)=\"P\",-1,1))","v":""},{"$f":"IF($B92=\"\",\"\",K92*IF($F92=\"\",1,IF(ISERROR(MATCH($F92,$B$6:$B$105)),0,INDIRECT(ADDRESS(5+MATCH($F92,$B$6:$B$105),COLUMN(Q$4)))))*IF(VLOOKUP($B92,SCHEMA_SP!$E$5:$F$54,2,FALSE)=\"P\",-1,1))","v":""},null,"","","","",""]
[null,null,null,null,null,null,null,null,null,null,null,null,{"$f":"IF($B93=\"\",\"\",G93*IF($F93=\"\",1,IF(ISERROR(MATCH($F93,$B$6:$B$105)),0,INDIRECT(ADDRESS(5+MATCH($F93,$B$6:$B$105),COLUMN(M$4)))))*IF(VLOOKUP($B93,SCHEMA_SP!$E$5:$F$54,2,FALSE)=\"P\",-1,1))","v":""},{"$f":"IF($B93=\"\",\"\",H93*IF($F93=\"\",1,IF(ISERROR(MATCH($F93,$B$6:$B$105)),0,INDIRECT(ADDRESS(5+MATCH($F93,$B$6:$B$105),COLUMN(N$4)))))*IF(VLOOKUP($B93,SCHEMA_SP!$E$5:$F$54,2,FALSE)=\"P\",-1,1))","v":""},{"$f":"IF($B93=\"\",\"\",I93*IF($F93=\"\",1,IF(ISERROR(MATCH($F93,$B$6:$B$105)),0,INDIRECT(ADDRESS(5+MATCH($F93,$B$6:$B$105),COLUMN(O$4)))))*IF(VLOOKUP($B93,SCHEMA_SP!$E$5:$F$54,2,FALSE)=\"P\",-1,1))","v":""},{"$f":"IF($B93=\"\",\"\",J93*IF($F93=\"\",1,IF(ISERROR(MATCH($F93,$B$6:$B$105)),0,INDIRECT(ADDRESS(5+MATCH($F93,$B$6:$B$105),COLUMN(P$4)))))*IF(VLOOKUP($B93,SCHEMA_SP!$E$5:$F$54,2,FALSE)=\"P\",-1,1))","v":""},{"$f":"IF($B93=\"\",\"\",K93*IF($F93=\"\",1,IF(ISERROR(MATCH($F93,$B$6:$B$105)),0,INDIRECT(ADDRESS(5+MATCH($F93,$B$6:$B$105),COLUMN(Q$4)))))*IF(VLOOKUP($B93,SCHEMA_SP!$E$5:$F$54,2,FALSE)=\"P\",-1,1))","v":""},null,"","","","",""]
[null,null,null,null,null,null,null,null,null,null,null,null,{"$f":"IF($B94=\"\",\"\",G94*IF($F94=\"\",1,IF(ISERROR(MATCH($F94,$B$6:$B$105)),0,INDIRECT(ADDRESS(5+MATCH($F94,$B$6:$B$105),COLUMN(M$4)))))*IF(VLOOKUP($B94,SCHEMA_SP!$E$5:$F$54,2,FALSE)=\"P\",-1,1))","v":""},{"$f":"IF($B94=\"\",\"\",H94*IF($F94=\"\",1,IF(ISERROR(MATCH($F94,$B$6:$B$105)),0,INDIRECT(ADDRESS(5+MATCH($F94,$B$6:$B$105),COLUMN(N$4)))))*IF(VLOOKUP($B94,SCHEMA_SP!$E$5:$F$54,2,FALSE)=\"P\",-1,1))","v":""},{"$f":"IF($B94=\"\",\"\",I94*IF($F94=\"\",1,IF(ISERROR(MATCH($F94,$B$6:$B$105)),0,INDIRECT(ADDRESS(5+MATCH($F94,$B$6:$B$105),COLUMN(O$4)))))*IF(VLOOKUP($B94,SCHEMA_SP!$E$5:$F$54,2,FALSE)=\"P\",-1,1))","v":""},{"$f":"IF($B94=\"\",\"\",J94*IF($F94=\"\",1,IF(ISERROR(MATCH($F94,$B$6:$B$105)),0,INDIRECT(ADDRESS(5+MATCH($F94,$B$6:$B$105),COLUMN(P$4)))))*IF(VLOOKUP($B94,SCHEMA_SP!$E$5:$F$54,2,FALSE)=\"P\",-1,1))","v":""},{"$f":"IF($B94=\"\",\"\",K94*IF($F94=\"\",1,IF(ISERROR(MATCH($F94,$B$6:$B$105)),0,INDIRECT(ADDRESS(5+MATCH($F94,$B$6:$B$105),COLUMN(Q$4)))))*IF(VLOOKUP($B94,SCHEMA_SP!$E$5:$F$54,2,FALSE)=\"P\",-1,1))","v":""},null,"","","","",""]
[null,null,null,null,null,null,null,null,null,null,null,null,{"$f":"IF($B95=\"\",\"\",G95*IF($F95=\"\",1,IF(ISERROR(MATCH($F95,$B$6:$B$105)),0,INDIRECT(ADDRESS(5+MATCH($F95,$B$6:$B$105),COLUMN(M$4)))))*IF(VLOOKUP($B95,SCHEMA_SP!$E$5:$F$54,2,FALSE)=\"P\",-1,1))","v":""},{"$f":"IF($B95=\"\",\"\",H95*IF($F95=\"\",1,IF(ISERROR(MATCH($F95,$B$6:$B$105)),0,INDIRECT(ADDRESS(5+MATCH($F95,$B$6:$B$105),COLUMN(N$4)))))*IF(VLOOKUP($B95,SCHEMA_SP!$E$5:$F$54,2,FALSE)=\"P\",-1,1))","v":""},{"$f":"IF($B95=\"\",\"\",I95*IF($F95=\"\",1,IF(ISERROR(MATCH($F95,$B$6:$B$105)),0,INDIRECT(ADDRESS(5+MATCH($F95,$B$6:$B$105),COLUMN(O$4)))))*IF(VLOOKUP($B95,SCHEMA_SP!$E$5:$F$54,2,FALSE)=\"P\",-1,1))","v":""},{"$f":"IF($B95=\"\",\"\",J95*IF($F95=\"\",1,IF(ISERROR(MATCH($F95,$B$6:$B$105)),0,INDIRECT(ADDRESS(5+MATCH($F95,$B$6:$B$105),COLUMN(P$4)))))*IF(VLOOKUP($B95,SCHEMA_SP!$E$5:$F$54,2,FALSE)=\"P\",-1,1))","v":""},{"$f":"IF($B95=\"\",\"\",K95*IF($F95=\"\",1,IF(ISERROR(MATCH($F95,$B$6:$B$105)),0,INDIRECT(ADDRESS(5+MATCH($F95,$B$6:$B$105),COLUMN(Q$4)))))*IF(VLOOKUP($B95,SCHEMA_SP!$E$5:$F$54,2,FALSE)=\"P\",-1,1))","v":""},null,"","","","",""]
[null,null,null,null,null,null,null,null,null,null,null,null,{"$f":"IF($B96=\"\",\"\",G96*IF($F96=\"\",1,IF(ISERROR(MATCH($F96,$B$6:$B$105)),0,INDIRECT(ADDRESS(5+MATCH($F96,$B$6:$B$105),COLUMN(M$4)))))*IF(VLOOKUP($B96,SCHEMA_SP!$E$5:$F$54,2,FALSE)=\"P\",-1,1))","v":""},{"$f":"IF($B96=\"\",\"\",H96*IF($F96=\"\",1,IF(ISERROR(MATCH($F96,$B$6:$B$105)),0,INDIRECT(ADDRESS(5+MATCH($F96,$B$6:$B$105),COLUMN(N$4)))))*IF(VLOOKUP($B96,SCHEMA_SP!$E$5:$F$54,2,FALSE)=\"P\",-1,1))","v":""},{"$f":"IF($B96=\"\",\"\",I96*IF($F96=\"\",1,IF(ISERROR(MATCH($F96,$B$6:$B$105)),0,INDIRECT(ADDRESS(5+MATCH($F96,$B$6:$B$105),COLUMN(O$4)))))*IF(VLOOKUP($B96,SCHEMA_SP!$E$5:$F$54,2,FALSE)=\"P\",-1,1))","v":""},{"$f":"IF($B96=\"\",\"\",J96*IF($F96=\"\",1,IF(ISERROR(MATCH($F96,$B$6:$B$105)),0,INDIRECT(ADDRESS(5+MATCH($F96,$B$6:$B$105),COLUMN(P$4)))))*IF(VLOOKUP($B96,SCHEMA_SP!$E$5:$F$54,2,FALSE)=\"P\",-1,1))","v":""},{"$f":"IF($B96=\"\",\"\",K96*IF($F96=\"\",1,IF(ISERROR(MATCH($F96,$B$6:$B$105)),0,INDIRECT(ADDRESS(5+MATCH($F96,$B$6:$B$105),COLUMN(Q$4)))))*IF(VLOOKUP($B96,SCHEMA_SP!$E$5:$F$54,2,FALSE)=\"P\",-1,1))","v":""},null,"","","","",""]
[null,null,null,null,null,null,null,null,null,null,null,null,{"$f":"IF($B97=\"\",\"\",G97*IF($F97=\"\",1,IF(ISERROR(MATCH($F97,$B$6:$B$105)),0,INDIRECT(ADDRESS(5+MATCH($F97,$B$6:$B$105),COLUMN(M$4)))))*IF(VLOOKUP($B97,SCHEMA_SP!$E$5:$F$54,2,FALSE)=\"P\",-1,1))","v":""},{"$f":"IF($B97=\"\",\"\",H97*IF($F97=\"\",1,IF(ISERROR(MATCH($F97,$B$6:$B$105)),0,INDIRECT(ADDRESS(5+MATCH($F97,$B$6:$B$105),COLUMN(N$4)))))*IF(VLOOKUP($B97,SCHEMA_SP!$E$5:$F$54,2,FALSE)=\"P\",-1,1))","v":""},{"$f":"IF($B97=\"\",\"\",I97*IF($F97=\"\",1,IF(ISERROR(MATCH($F97,$B$6:$B$105)),0,INDIRECT(ADDRESS(5+MATCH($F97,$B$6:$B$105),COLUMN(O$4)))))*IF(VLOOKUP($B97,SCHEMA_SP!$E$5:$F$54,2,FALSE)=\"P\",-1,1))","v":""},{"$f":"IF($B97=\"\",\"\",J97*IF($F97=\"\",1,IF(ISERROR(MATCH($F97,$B$6:$B$105)),0,INDIRECT(ADDRESS(5+MATCH($F97,$B$6:$B$105),COLUMN(P$4)))))*IF(VLOOKUP($B97,SCHEMA_SP!$E$5:$F$54,2,FALSE)=\"P\",-1,1))","v":""},{"$f":"IF($B97=\"\",\"\",K97*IF($F97=\"\",1,IF(ISERROR(MATCH($F97,$B$6:$B$105)),0,INDIRECT(ADDRESS(5+MATCH($F97,$B$6:$B$105),COLUMN(Q$4)))))*IF(VLOOKUP($B97,SCHEMA_SP!$E$5:$F$54,2,FALSE)=\"P\",-1,1))","v":""},null,"","","","",""]
[null,null,null,null,null,null,null,null,null,null,null,null,{"$f":"IF($B98=\"\",\"\",G98*IF($F98=\"\",1,IF(ISERROR(MATCH($F98,$B$6:$B$105)),0,INDIRECT(ADDRESS(5+MATCH($F98,$B$6:$B$105),COLUMN(M$4)))))*IF(VLOOKUP($B98,SCHEMA_SP!$E$5:$F$54,2,FALSE)=\"P\",-1,1))","v":""},{"$f":"IF($B98=\"\",\"\",H98*IF($F98=\"\",1,IF(ISERROR(MATCH($F98,$B$6:$B$105)),0,INDIRECT(ADDRESS(5+MATCH($F98,$B$6:$B$105),COLUMN(N$4)))))*IF(VLOOKUP($B98,SCHEMA_SP!$E$5:$F$54,2,FALSE)=\"P\",-1,1))","v":""},{"$f":"IF($B98=\"\",\"\",I98*IF($F98=\"\",1,IF(ISERROR(MATCH($F98,$B$6:$B$105)),0,INDIRECT(ADDRESS(5+MATCH($F98,$B$6:$B$105),COLUMN(O$4)))))*IF(VLOOKUP($B98,SCHEMA_SP!$E$5:$F$54,2,FALSE)=\"P\",-1,1))","v":""},{"$f":"IF($B98=\"\",\"\",J98*IF($F98=\"\",1,IF(ISERROR(MATCH($F98,$B$6:$B$105)),0,INDIRECT(ADDRESS(5+MATCH($F98,$B$6:$B$105),COLUMN(P$4)))))*IF(VLOOKUP($B98,SCHEMA_SP!$E$5:$F$54,2,FALSE)=\"P\",-1,1))","v":""},{"$f":"IF($B98=\"\",\"\",K98*IF($F98=\"\",1,IF(ISERROR(MATCH($F98,$B$6:$B$105)),0,INDIRECT(ADDRESS(5+MATCH($F98,$B$6:$B$105),COLUMN(Q$4)))))*IF(VLOOKUP($B98,SCHEMA_SP!$E$5:$F$54,2,FALSE)=\"P\",-1,1))","v":""},null,"","","","",""]
[null,null,null,null,null,null,null,null,null,null,null,null,{"$f":"IF($B99=\"\",\"\",G99*IF($F99=\"\",1,IF(ISERROR(MATCH($F99,$B$6:$B$105)),0,INDIRECT(ADDRESS(5+MATCH($F99,$B$6:$B$105),COLUMN(M$4)))))*IF(VLOOKUP($B99,SCHEMA_SP!$E$5:$F$54,2,FALSE)=\"P\",-1,1))","v":""},{"$f":"IF($B99=\"\",\"\",H99*IF($F99=\"\",1,IF(ISERROR(MATCH($F99,$B$6:$B$105)),0,INDIRECT(ADDRESS(5+MATCH($F99,$B$6:$B$105),COLUMN(N$4)))))*IF(VLOOKUP($B99,SCHEMA_SP!$E$5:$F$54,2,FALSE)=\"P\",-1,1))","v":""},{"$f":"IF($B99=\"\",\"\",I99*IF($F99=\"\",1,IF(ISERROR(MATCH($F99,$B$6:$B$105)),0,INDIRECT(ADDRESS(5+MATCH($F99,$B$6:$B$105),COLUMN(O$4)))))*IF(VLOOKUP($B99,SCHEMA_SP!$E$5:$F$54,2,FALSE)=\"P\",-1,1))","v":""},{"$f":"IF($B99=\"\",\"\",J99*IF($F99=\"\",1,IF(ISERROR(MATCH($F99,$B$6:$B$105)),0,INDIRECT(ADDRESS(5+MATCH($F99,$B$6:$B$105),COLUMN(P$4)))))*IF(VLOOKUP($B99,SCHEMA_SP!$E$5:$F$54,2,FALSE)=\"P\",-1,1))","v":""},{"$f":"IF($B99=\"\",\"\",K99*IF($F99=\"\",1,IF(ISERROR(MATCH($F99,$B$6:$B$105)),0,INDIRECT(ADDRESS(5+MATCH($F99,$B$6:$B$105),COLUMN(Q$4)))))*IF(VLOOKUP($B99,SCHEMA_SP!$E$5:$F$54,2,FALSE)=\"P\",-1,1))","v":""},null,"","","","",""]
[null,null,null,null,null,null,null,null,null,null,null,null,{"$f":"IF($B100=\"\",\"\",G100*IF($F100=\"\",1,IF(ISERROR(MATCH($F100,$B$6:$B$105)),0,INDIRECT(ADDRESS(5+MATCH($F100,$B$6:$B$105),COLUMN(M$4)))))*IF(VLOOKUP($B100,SCHEMA_SP!$E$5:$F$54,2,FALSE)=\"P\",-1,1))","v":""},{"$f":"IF($B100=\"\",\"\",H100*IF($F100=\"\",1,IF(ISERROR(MATCH($F100,$B$6:$B$105)),0,INDIRECT(ADDRESS(5+MATCH($F100,$B$6:$B$105),COLUMN(N$4)))))*IF(VLOOKUP($B100,SCHEMA_SP!$E$5:$F$54,2,FALSE)=\"P\",-1,1))","v":""},{"$f":"IF($B100=\"\",\"\",I100*IF($F100=\"\",1,IF(ISERROR(MATCH($F100,$B$6:$B$105)),0,INDIRECT(ADDRESS(5+MATCH($F100,$B$6:$B$105),COLUMN(O$4)))))*IF(VLOOKUP($B100,SCHEMA_SP!$E$5:$F$54,2,FALSE)=\"P\",-1,1))","v":""},{"$f":"IF($B100=\"\",\"\",J100*IF($F100=\"\",1,IF(ISERROR(MATCH($F100,$B$6:$B$105)),0,INDIRECT(ADDRESS(5+MATCH($F100,$B$6:$B$105),COLUMN(P$4)))))*IF(VLOOKUP($B100,SCHEMA_SP!$E$5:$F$54,2,FALSE)=\"P\",-1,1))","v":""},{"$f":"IF($B100=\"\",\"\",K100*IF($F100=\"\",1,IF(ISERROR(MATCH($F100,$B$6:$B$105)),0,INDIRECT(ADDRESS(5+MATCH($F100,$B$6:$B$105),COLUMN(Q$4)))))*IF(VLOOKUP($B100,SCHEMA_SP!$E$5:$F$54,2,FALSE)=\"P\",-1,1))","v":""},null,"","","","",""]
[null,null,null,null,null,null,null,null,null,null,null,null,{"$f":"IF($B101=\"\",\"\",G101*IF($F101=\"\",1,IF(ISERROR(MATCH($F101,$B$6:$B$105)),0,INDIRECT(ADDRESS(5+MATCH($F101,$B$6:$B$105),COLUMN(M$4)))))*IF(VLOOKUP($B101,SCHEMA_SP!$E$5:$F$54,2,FALSE)=\"P\",-1,1))","v":""},{"$f":"IF($B101=\"\",\"\",H101*IF($F101=\"\",1,IF(ISERROR(MATCH($F101,$B$6:$B$105)),0,INDIRECT(ADDRESS(5+MATCH($F101,$B$6:$B$105),COLUMN(N$4)))))*IF(VLOOKUP($B101,SCHEMA_SP!$E$5:$F$54,2,FALSE)=\"P\",-1,1))","v":""},{"$f":"IF($B101=\"\",\"\",I101*IF($F101=\"\",1,IF(ISERROR(MATCH($F101,$B$6:$B$105)),0,INDIRECT(ADDRESS(5+MATCH($F101,$B$6:$B$105),COLUMN(O$4)))))*IF(VLOOKUP($B101,SCHEMA_SP!$E$5:$F$54,2,FALSE)=\"P\",-1,1))","v":""},{"$f":"IF($B101=\"\",\"\",J101*IF($F101=\"\",1,IF(ISERROR(MATCH($F101,$B$6:$B$105)),0,INDIRECT(ADDRESS(5+MATCH($F101,$B$6:$B$105),COLUMN(P$4)))))*IF(VLOOKUP($B101,SCHEMA_SP!$E$5:$F$54,2,FALSE)=\"P\",-1,1))","v":""},{"$f":"IF($B101=\"\",\"\",K101*IF($F101=\"\",1,IF(ISERROR(MATCH($F101,$B$6:$B$105)),0,INDIRECT(ADDRESS(5+MATCH($F101,$B$6:$B$105),COLUMN(Q$4)))))*IF(VLOOKUP($B101,SCHEMA_SP!$E$5:$F$54,2,FALSE)=\"P\",-1,1))","v":""},null,"","","","",""]
[null,null,null,null,null,null,null,null,null,null,null,null,{"$f":"IF($B102=\"\",\"\",G102*IF($F102=\"\",1,IF(ISERROR(MATCH($F102,$B$6:$B$105)),0,INDIRECT(ADDRESS(5+MATCH($F102,$B$6:$B$105),COLUMN(M$4)))))*IF(VLOOKUP($B102,SCHEMA_SP!$E$5:$F$54,2,FALSE)=\"P\",-1,1))","v":""},{"$f":"IF($B102=\"\",\"\",H102*IF($F102=\"\",1,IF(ISERROR(MATCH($F102,$B$6:$B$105)),0,INDIRECT(ADDRESS(5+MATCH($F102,$B$6:$B$105),COLUMN(N$4)))))*IF(VLOOKUP($B102,SCHEMA_SP!$E$5:$F$54,2,FALSE)=\"P\",-1,1))","v":""},{"$f":"IF($B102=\"\",\"\",I102*IF($F102=\"\",1,IF(ISERROR(MATCH($F102,$B$6:$B$105)),0,INDIRECT(ADDRESS(5+MATCH($F102,$B$6:$B$105),COLUMN(O$4)))))*IF(VLOOKUP($B102,SCHEMA_SP!$E$5:$F$54,2,FALSE)=\"P\",-1,1))","v":""},{"$f":"IF($B102=\"\",\"\",J102*IF($F102=\"\",1,IF(ISERROR(MATCH($F102,$B$6:$B$105)),0,INDIRECT(ADDRESS(5+MATCH($F102,$B$6:$B$105),COLUMN(P$4)))))*IF(VLOOKUP($B102,SCHEMA_SP!$E$5:$F$54,2,FALSE)=\"P\",-1,1))","v":""},{"$f":"IF($B102=\"\",\"\",K102*IF($F102=\"\",1,IF(ISERROR(MATCH($F102,$B$6:$B$105)),0,INDIRECT(ADDRESS(5+MATCH($F102,$B$6:$B$105),COLUMN(Q$4)))))*IF(VLOOKUP($B102,SCHEMA_SP!$E$5:$F$54,2,FALSE)=\"P\",-1,1))","v":""},null,"","","","",""]
[null,null,null,null,null,null,null,null,null,null,null,null,{"$f":"IF($B103=\"\",\"\",G103*IF($F103=\"\",1,IF(ISERROR(MATCH($F103,$B$6:$B$105)),0,INDIRECT(ADDRESS(5+MATCH($F103,$B$6:$B$105),COLUMN(M$4)))))*IF(VLOOKUP($B103,SCHEMA_SP!$E$5:$F$54,2,FALSE)=\"P\",-1,1))","v":""},{"$f":"IF($B103=\"\",\"\",H103*IF($F103=\"\",1,IF(ISERROR(MATCH($F103,$B$6:$B$105)),0,INDIRECT(ADDRESS(5+MATCH($F103,$B$6:$B$105),COLUMN(N$4)))))*IF(VLOOKUP($B103,SCHEMA_SP!$E$5:$F$54,2,FALSE)=\"P\",-1,1))","v":""},{"$f":"IF($B103=\"\",\"\",I103*IF($F103=\"\",1,IF(ISERROR(MATCH($F103,$B$6:$B$105)),0,INDIRECT(ADDRESS(5+MATCH($F103,$B$6:$B$105),COLUMN(O$4)))))*IF(VLOOKUP($B103,SCHEMA_SP!$E$5:$F$54,2,FALSE)=\"P\",-1,1))","v":""},{"$f":"IF($B103=\"\",\"\",J103*IF($F103=\"\",1,IF(ISERROR(MATCH($F103,$B$6:$B$105)),0,INDIRECT(ADDRESS(5+MATCH($F103,$B$6:$B$105),COLUMN(P$4)))))*IF(VLOOKUP($B103,SCHEMA_SP!$E$5:$F$54,2,FALSE)=\"P\",-1,1))","v":""},{"$f":"IF($B103=\"\",\"\",K103*IF($F103=\"\",1,IF(ISERROR(MATCH($F103,$B$6:$B$105)),0,INDIRECT(ADDRESS(5+MATCH($F103,$B$6:$B$105),COLUMN(Q$4)))))*IF(VLOOKUP($B103,SCHEMA_SP!$E$5:$F$54,2,FALSE)=\"P\",-1,1))","v":""},null,"","","","",""]
[null,null,null,null,null,null,null,null,null,null,null,null,{"$f":"IF($B104=\"\",\"\",G104*IF($F104=\"\",1,IF(ISERROR(MATCH($F104,$B$6:$B$105)),0,INDIRECT(ADDRESS(5+MATCH($F104,$B$6:$B$105),COLUMN(M$4)))))*IF(VLOOKUP($B104,SCHEMA_SP!$E$5:$F$54,2,FALSE)=\"P\",-1,1))","v":""},{"$f":"IF($B104=\"\",\"\",H104*IF($F104=\"\",1,IF(ISERROR(MATCH($F104,$B$6:$B$105)),0,INDIRECT(ADDRESS(5+MATCH($F104,$B$6:$B$105),COLUMN(N$4)))))*IF(VLOOKUP($B104,SCHEMA_SP!$E$5:$F$54,2,FALSE)=\"P\",-1,1))","v":""},{"$f":"IF($B104=\"\",\"\",I104*IF($F104=\"\",1,IF(ISERROR(MATCH($F104,$B$6:$B$105)),0,INDIRECT(ADDRESS(5+MATCH($F104,$B$6:$B$105),COLUMN(O$4)))))*IF(VLOOKUP($B104,SCHEMA_SP!$E$5:$F$54,2,FALSE)=\"P\",-1,1))","v":""},{"$f":"IF($B104=\"\",\"\",J104*IF($F104=\"\",1,IF(ISERROR(MATCH($F104,$B$6:$B$105)),0,INDIRECT(ADDRESS(5+MATCH($F104,$B$6:$B$105),COLUMN(P$4)))))*IF(VLOOKUP($B104,SCHEMA_SP!$E$5:$F$54,2,FALSE)=\"P\",-1,1))","v":""},{"$f":"IF($B104=\"\",\"\",K104*IF($F104=\"\",1,IF(ISERROR(MATCH($F104,$B$6:$B$105)),0,INDIRECT(ADDRESS(5+MATCH($F104,$B$6:$B$105),COLUMN(Q$4)))))*IF(VLOOKUP($B104,SCHEMA_SP!$E$5:$F$54,2,FALSE)=\"P\",-1,1))","v":""},null,"","","","",""]
[null,null,null,null,null,null,null,null,null,null,null,null,{"$f":"IF($B105=\"\",\"\",G105*IF($F105=\"\",1,IF(ISERROR(MATCH($F105,$B$6:$B$105)),0,INDIRECT(ADDRESS(5+MATCH($F105,$B$6:$B$105),COLUMN(M$4)))))*IF(VLOOKUP($B105,SCHEMA_SP!$E$5:$F$54,2,FALSE)=\"P\",-1,1))","v":""},{"$f":"IF($B105=\"\",\"\",H105*IF($F105=\"\",1,IF(ISERROR(MATCH($F105,$B$6:$B$105)),0,INDIRECT(ADDRESS(5+MATCH($F105,$B$6:$B$105),COLUMN(N$4)))))*IF(VLOOKUP($B105,SCHEMA_SP!$E$5:$F$54,2,FALSE)=\"P\",-1,1))","v":""},{"$f":"IF($B105=\"\",\"\",I105*IF($F105=\"\",1,IF(ISERROR(MATCH($F105,$B$6:$B$105)),0,INDIRECT(ADDRESS(5+MATCH($F105,$B$6:$B$105),COLUMN(O$4)))))*IF(VLOOKUP($B105,SCHEMA_SP!$E$5:$F$54,2,FALSE)=\"P\",-1,1))","v":""},{"$f":"IF($B105=\"\",\"\",J105*IF($F105=\"\",1,IF(ISERROR(MATCH($F105,$B$6:$B$105)),0,INDIRECT(ADDRESS(5+MATCH($F105,$B$6:$B$105),COLUMN(P$4)))))*IF(VLOOKUP($B105,SCHEMA_SP!$E$5:$F$54,2,FALSE)=\"P\",-1,1))","v":""},{"$f":"IF($B105=\"\",\"\",K105*IF($F105=\"\",1,IF(ISERROR(MATCH($F105,$B$6:$B$105)),0,INDIRECT(ADDRESS(5+MATCH($F105,$B$6:$B$105),COLUMN(Q$4)))))*IF(VLOOKUP($B105,SCHEMA_SP!$E$5:$F$54,2,FALSE)=\"P\",-1,1))","v":""},null,"","","","",""]

{"sheet":"CE_PIANO","index":11,"n_rows":206,"n_cols":10,"rows_kept":206,"cut":false,"hidden":false,"merged":[]}
[null,null,{"$f":"MENU!$C$5&\" - CONTI ECONOMICI DI PIANO\"","v":"XYZ SpA - CONTI ECONOMICI DI PIANO"}]
[]
[null,null,null,"STORICO",null,"PIANO"]
[null,null,null,{"$f":"CE_STORICO!C4","v":2003},{"$f":"CE_STORICO!D4","v":2004},{"$f":"MENU!C7+MENU!C9","v":2005},{"$f":"IF(F4=\"\",\"\",IF(F4+1-$F$4>MENU!$C$11-1,\"\",CE_PIANO!F4+1))","v":2006},{"$f":"IF(G4=\"\",\"\",IF(G4+1-$F$4>MENU!$C$11-1,\"\",CE_PIANO!G4+1))","v":2007},{"$f":"IF(H4=\"\",\"\",IF(H4+1-$F$4>MENU!$C$11-1,\"\",CE_PIANO!H4+1))","v":""},{"$f":"IF(I4=\"\",\"\",IF(I4+1-$F$4>MENU!$C$11-1,\"\",CE_PIANO!I4+1))","v":""}]
[{"$f":"IF(CE_STORICO!A5=\"\",\"\",CE_STORICO!A5)","v":"010101_Vendite prodotti"},{"$f":"IF($A5=\"\",\"\",VLOOKUP(A5,SCHEMA_CE!$E$5:$F$54,2,FALSE))","v":"R"},{"$f":"IF(CE_STORICO!A5=\"\",\"\",CE_STORICO!B5)","v":"Vendite prodotti"},{"$f":"IF(CE_STORICO!C5=\"\",\"\",CE_STORICO!C5)","v":""},{"$f":"IF(CE_STORICO!D5=\"\",\"\",CE_STORICO!D5)","v":""},{"$f":"IF($A5=\"\",\"\",IF(F$4=\"\",\"\",IF($B5=\"X\",INDIRECT(ADDRESS(11,MATCH(CE_PIANO!F$4,BASE!$B$2:$F$2,0)+1,,,\"BASE\")),IF($B5=\"T\",INDIRECT(ADDRESS(13,MATCH(CE_PIANO!F$4,BASE!$B$2:$F$2,0)+1,,,\"BASE\")),IF(ISERROR(VLOOKUP($A5,Ricavi_Costi!$B$6:$Q$105,COLUMN(Ricavi_Costi!M$4)-1,FALSE)),0,VLOOKUP($A5,Ricavi_Costi!$B$6:$Q$105,COLUMN(Ricavi_Costi!M$4)-1,FALSE))))))","v":14000},{"$f":"IF($A5=\"\",\"\",IF(G$4=\"\",\"\",IF($B5=\"X\",INDIRECT(ADDRESS(11,MATCH(CE_PIANO!G$4,BASE!$B$2:$F$2,0)+1,,,\"BASE\")),IF($B5=\"T\",INDIRECT(ADDRESS(13,MATCH(CE_PIANO!G$4,BASE!$B$2:$F$2,0)+1,,,\"BASE\")),IF(ISERROR(VLOOKUP($A5,Ricavi_Costi!$B$6:$Q$105,COLUMN(Ricavi_Costi!N$4)-1,FALSE)),0,VLOOKUP($A5,Ricavi_Costi!$B$6:$Q$105,COLUMN(Ricavi_Costi!N$4)-1,FALSE))))))","v":15500},{"$f":"IF($A5=\"\",\"\",IF(H$4=\"\",\"\",IF($B5=\"X\",INDIRECT(ADDRESS(11,MATCH(CE_PIANO!H$4,BASE!$B$2:$F$2,0)+1,,,\"BASE\")),IF($B5=\"T\",INDIRECT(ADDRESS(13,MATCH(CE_PIANO!H$4,BASE!$B$2:$F$2,0)+1,,,\"BASE\")),IF(ISERROR(VLOOKUP($A5,Ricavi_Costi!$B$6:$Q$105,COLUMN(Ricavi_Costi!O$4)-1,FALSE)),0,VLOOKUP($A5,Ricavi_Costi!$B$6:$Q$105,COLUMN(Ricavi_Costi!O$4)-1,FALSE))))))","v":16200}]
[{"$f":"IF(CE_STORICO!A6=\"\",\"\",CE_STORICO!A6)","v":"010111_Vendite servizi"},{"$f":"IF($A6=\"\",\"\",VLOOKUP(A6,SCHEMA_CE!$E$5:$F$54,2,FALSE))","v":"R"},{"$f":"IF(CE_STORICO!A6=\"\",\"\",CE_STORICO!B6)","v":"Vendite servizi"},{"$f":"IF(CE_STORICO!C6=\"\",\"\",CE_STORICO!C6)","v":""},{"$f":"IF(CE_STORICO!D6=\"\",\"\",CE_STORICO!D6)","v":""},{"$f":"IF($A6=\"\",\"\",IF(F$4=\"\",\"\",IF($B6=\"X\",INDIRECT(ADDRESS(11,MATCH(CE_PIANO!F$4,BASE!$B$2:$F$2,0)+1,,,\"BASE\")),IF($B6=\"T\",INDIRECT(ADDRESS(13,MATCH(CE_PIANO!F$4,BASE!$B$2:$F$2,0)+1,,,\"BASE\")),IF(ISERROR(VLOOKUP($A6,Ricavi_Costi!$B$6:$Q$105,COLUMN(Ricavi_Costi!M$4)-1,FALSE)),0,VLOOKUP($A6,Ricavi_Costi!$B$6:$Q$105,COLUMN(Ricavi_Costi!M$4)-1,FALSE))))))","v":2100},{"$f":"IF($A6=\"\",\"\",IF(G$4=\"\",\"\",IF($B6=\"X\",INDIRECT(ADDRESS(11,MATCH(CE_PIANO!G$4,BASE!$B$2:$F$2,0)+1,,,\"BASE\")),IF($B6=\"T\",INDIRECT(ADDRESS(13,MATCH(CE_PIANO!G$4,BASE!$B$2:$F$2,0)+1,,,\"BASE\")),IF(ISERROR(VLOOKUP($A6,Ricavi_Costi!$B$6:$Q$105,COLUMN(Ricavi_Costi!N$4)-1,FALSE)),0,VLOOKUP($A6,Ricavi_Costi!$B$6:$Q$105,COLUMN(Ricavi_Costi!N$4)-1,FALSE))))))","v":2325},{"$f":"IF($A6=\"\",\"\",IF(H$4=\"\",\"\",IF($B6=\"X\",INDIRECT(ADDRESS(11,MATCH(CE_PIANO!H$4,BASE!$B$2:$F$2,0)+1,,,\"BASE\")),IF($B6=\"T\",INDIRECT(ADDRESS(13,MATCH(CE_PIANO!H$4,BASE!$B$2:$F$2,0)+1,,,\"BASE\")),IF(ISERROR(VLOOKUP($A6,Ricavi_Costi!$B$6:$Q$105,COLUMN(Ricavi_Costi!O$4)-1,FALSE)),0,VLOOKUP($A6,Ricavi_Costi!$B$6:$Q$105,COLUMN(Ricavi_Costi!O$4)-1,FALSE))))))","v":2430}]
[{"$f":"IF(CE_STORICO!A7=\"\",\"\",CE_STORICO!A7)","v":"010199_TOTALE VENDITE"},{"$f":"IF($A7=\"\",\"\",VLOOKUP(A7,SCHEMA_CE!$E$5:$F$54,2,FALSE))","v":0},{"$f":"IF(CE_STORICO!A7=\"\",\"\",CE_STORICO!B7)","v":"TOTALE VENDITE"},{"$f":"IF(CE_STORICO!C7=\"\",\"\",CE_STORICO!C7)","v":0},{"$f":"IF(CE_STORICO!D7=\"\",\"\",CE_STORICO!D7)","v":0},{"$f":"SUM(F5:F6)","v":16100},{"$f":"SUM(G5:G6)","v":17825},{"$f":"SUM(H5:H6)","v":18630}]
[{"$f":"IF(CE_STORICO!A8=\"\",\"\",CE_STORICO!A8)","v":""},{"$f":"IF($A8=\"\",\"\",VLOOKUP(A8,SCHEMA_CE!$E$5:$F$54,2,FALSE))","v":""},{"$f":"IF(CE_STORICO!A8=\"\",\"\",CE_STORICO!B8)","v":""},{"$f":"IF(CE_STORICO!C8=\"\",\"\",CE_STORICO!C8)","v":""},{"$f":"IF(CE_STORICO!D8=\"\",\"\",CE_STORICO!D8)","v":""},{"$f":"IF($A8=\"\",\"\",IF(F$4=\"\",\"\",IF($B8=\"X\",INDIRECT(ADDRESS(11,MATCH(CE_PIANO!F$4,BASE!$B$2:$F$2,0)+1,,,\"BASE\")),IF($B8=\"T\",INDIRECT(ADDRESS(13,MATCH(CE_PIANO!F$4,BASE!$B$2:$F$2,0)+1,,,\"BASE\")),IF(ISERROR(VLOOKUP($A8,Ricavi_Costi!$B$6:$Q$105,COLUMN(Ricavi_Costi!M$4)-1,FALSE)),0,VLOOKUP($A8,Ricavi_Costi!$B$6:$Q$105,COLUMN(Ricavi_Costi!M$4)-1,FALSE))))))","v":""},{"$f":"IF($A8=\"\",\"\",IF(G$4=\"\",\"\",IF($B8=\"X\",INDIRECT(ADDRESS(11,MATCH(CE_PIANO!G$4,BASE!$B$2:$F$2,0)+1,,,\"BASE\")),IF($B8=\"T\",INDIRECT(ADDRESS(13,MATCH(CE_PIANO!G$4,BASE!$B$2:$F$2,0)+1,,,\"BASE\")),IF(ISERROR(VLOOKUP($A8,Ricavi_Costi!$B$6:$Q$105,COLUMN(Ricavi_Costi!N$4)-1,FALSE)),0,VLOOKUP($A8,Ricavi_Costi!$B$6:$Q$105,COLUMN(Ricavi_Costi!N$4)-1,FALSE))))))","v":""},{"$f":"IF($A8=\"\",\"\",IF(H$4=\"\",\"\",IF($B8=\"X\",INDIRECT(ADDRESS(11,MATCH(CE_PIANO!H$4,BASE!$B$2:$F$2,0)+1,,,\"BASE\")),IF($B8=\"T\",INDIRECT(ADDRESS(13,MATCH(CE_PIANO!H$4,BASE!$B$2:$F$2,0)+1,,,\"BASE\")),IF(ISERROR(VLOOKUP($A8,Ricavi_Costi!$B$6:$Q$105,COLUMN(Ricavi_Costi!O$4)-1,FALSE)),0,VLOOKUP($A8,Ricavi_Costi!$B$6:$Q$105,COLUMN(Ricavi_Costi!O$4)-1,FALSE))))))","v":""}]
[{"$f":"IF(CE_STORICO!A9=\"\",\"\",CE_STORICO!A9)","v":"020201_Magazzino iniziale"},{"$f":"IF($A9=\"\",\"\",VLOOKUP(A9,SCHEMA_CE!$E$5:$F$54,2,FALSE))","v":"C"},{"$f":"IF(CE_STORICO!A9=\"\",\"\",CE_STORICO!B9)","v":"Magazzino iniziale"},{"$f":"IF(CE_STORICO!C9=\"\",\"\",CE_STORICO!C9)","v":""},{"$f":"IF(CE_STORICO!D9=\"\",\"\",CE_STORICO!D9)","v":""},{"$f":"IF($A9=\"\",\"\",IF(F$4=\"\",\"\",IF($B9=\"X\",INDIRECT(ADDRESS(11,MATCH(CE_PIANO!F$4,BASE!$B$2:$F$2,0)+1,,,\"BASE\")),IF($B9=\"T\",INDIRECT(ADDRESS(13,MATCH(CE_PIANO!F$4,BASE!$B$2:$F$2,0)+1,,,\"BASE\")),IF(ISERROR(VLOOKUP($A9,Ricavi_Costi!$B$6:$Q$105,COLUMN(Ricavi_Costi!M$4)-1,FALSE)),0,VLOOKUP($A9,Ricavi_Costi!$B$6:$Q$105,COLUMN(Ricavi_Costi!M$4)-1,FALSE))))))","v":-700},{"$f":"IF($A9=\"\",\"\",IF(G$4=\"\",\"\",IF($B9=\"X\",INDIRECT(ADDRESS(11,MATCH(CE_PIANO!G$4,BASE!$B$2:$F$2,0)+1,,,\"BASE\")),IF($B9=\"T\",INDIRECT(ADDRESS(13,MATCH(CE_PIANO!G$4,BASE!$B$2:$F$2,0)+1,,,\"BASE\")),IF(ISERROR(VLOOKUP($A9,Ricavi_Costi!$B$6:$Q$105,COLUMN(Ricavi_Costi!N$4)-1,FALSE)),0,VLOOKUP($A9,Ricavi_Costi!$B$6:$Q$105,COLUMN(Ricavi_Costi!N$4)-1,FALSE))))))","v":-800},{"$f":"IF($A9=\"\",\"\",IF(H$4=\"\",\"\",IF($B9=\"X\",INDIRECT(ADDRESS(11,MATCH(CE_PIANO!H$4,BASE!$B$2:$F$2,0)+1,,,\"BASE\")),IF($B9=\"T\",INDIRECT(ADDRESS(13,MATCH(CE_PIANO!H$4,BASE!$B$2:$F$2,0)+1,,,\"BASE\")),IF(ISERROR(VLOOKUP($A9,Ricavi_Costi!$B$6:$Q$105,COLUMN(Ricavi_Costi!O$4)-1,FALSE)),0,VLOOKUP($A9,Ricavi_Costi!$B$6:$Q$105,COLUMN(Ricavi_Costi!O$4)-1,FALSE))))))","v":-900}]
[{"$f":"IF(CE_STORICO!A10=\"\",\"\",CE_STORICO!A10)","v":"020211_Acquisti materie prime"},{"$f":"IF($A10=\"\",\"\",VLOOKUP(A10,SCHEMA_CE!$E$5:$F$54,2,FALSE))","v":"C"},{"$f":"IF(CE_STORICO!A10=\"\",\"\",CE_STORICO!B10)","v":"Acquisti materie prime"},{"$f":"IF(CE_STORICO!C10=\"\",\"\",CE_STORICO!C10)","v":""},{"$f":"IF(CE_STORICO!D10=\"\",\"\",CE_STORICO!D10)","v":""},{"$f":"IF($A10=\"\",\"\",IF(F$4=\"\",\"\",IF($B10=\"X\",INDIRECT(ADDRESS(11,MATCH(CE_PIANO!F$4,BASE!$B$2:$F$2,0)+1,,,\"BASE\")),IF($B10=\"T\",INDIRECT(ADDRESS(13,MATCH(CE_PIANO!F$4,BASE!$B$2:$F$2,0)+1,,,\"BASE\")),IF(ISERROR(VLOOKUP($A10,Ricavi_Costi!$B$6:$Q$105,COLUMN(Ricavi_Costi!M$4)-1,FALSE)),0,VLOOKUP($A10,Ricavi_Costi!$B$6:$Q$105,COLUMN(Ricavi_Costi!M$4)-1,FALSE))))))","v":-5600},{"$f":"IF($A10=\"\",\"\",IF(G$4=\"\",\"\",IF($B10=\"X\",INDIRECT(ADDRESS(11,MATCH(CE_PIANO!G$4,BASE!$B$2:$F$2,0)+1,,,\"BASE\")),IF($B10=\"T\",INDIRECT(ADDRESS(13,MATCH(CE_PIANO!G$4,BASE!$B$2:$F$2,0)+1,,,\"BASE\")),IF(ISERROR(VLOOKUP($A10,Ricavi_Costi!$B$6:$Q$105,COLUMN(Ricavi_Costi!N$4)-1,FALSE)),0,VLOOKUP($A10,Ricavi_Costi!$B$6:$Q$105,COLUMN(Ricavi_Costi!N$4)-1,FALSE))))))","v":-6200},{"$f":"IF($A10=\"\",\"\",IF(H$4=\"\",\"\",IF($B10=\"X\",INDIRECT(ADDRESS(11,MATCH(CE_PIANO!H$4,BASE!$B$2:$F$2,0)+1,,,\"BASE\")),IF($B10=\"T\",INDIRECT(ADDRESS(13,MATCH(CE_PIANO!H$4,BASE!$B$2:$F$2,0)+1,,,\"BASE\")),IF(ISERROR(VLOOKUP($A10,Ricavi_Costi!$B$6:$Q$105,COLUMN(Ricavi_Costi!O$4)-1,FALSE)),0,VLOOKUP($A10,Ricavi_Costi!$B$6:$Q$105,COLUMN(Ricavi_Costi!O$4)-1,FALSE))))))","v":-6480}]
[{"$f":"IF(CE_STORICO!A11=\"\",\"\",CE_STORICO!A11)","v":"020221_Magazzino finale"},{"$f":"IF($A11=\"\",\"\",VLOOKUP(A11,SCHEMA_CE!$E$5:$F$54,2,FALSE))","v":"R"},{"$f":"IF(CE_STORICO!A11=\"\",\"\",CE_STORICO!B11)","v":"Magazzino finale"},{"$f":"IF(CE_STORICO!C11=\"\",\"\",CE_STORICO!C11)","v":""},{"$f":"IF(CE_STORICO!D11=\"\",\"\",CE_STORICO!D11)","v":""},{"$f":"IF($A11=\"\",\"\",IF(F$4=\"\",\"\",IF($B11=\"X\",INDIRECT(ADDRESS(11,MATCH(CE_PIANO!F$4,BASE!$B$2:$F$2,0)+1,,,\"BASE\")),IF($B11=\"T\",INDIRECT(ADDRESS(13,MATCH(CE_PIANO!F$4,BASE!$B$2:$F$2,0)+1,,,\"BASE\")),IF(ISERROR(VLOOKUP($A11,Ricavi_Costi!$B$6:$Q$105,COLUMN(Ricavi_Costi!M$4)-1,FALSE)),0,VLOOKUP($A11,Ricavi_Costi!$B$6:$Q$105,COLUMN(Ricavi_Costi!M$4)-1,FALSE))))))","v":770.00000000000011},{"$f":"IF($A11=\"\",\"\",IF(G$4=\"\",\"\",IF($B11=\"X\",INDIRECT(ADDRESS(11,MATCH(CE_PIANO!G$4,BASE!$B$2:$F$2,0)+1,,,\"BASE\")),IF($B11=\"T\",INDIRECT(ADDRESS(13,MATCH(CE_PIANO!G$4,BASE!$B$2:$F$2,0)+1,,,\"BASE\")),IF(ISERROR(VLOOKUP($A11,Ricavi_Costi!$B$6:$Q$105,COLUMN(Ricavi_Costi!N$4)-1,FALSE)),0,VLOOKUP($A11,Ricavi_Costi!$B$6:$Q$105,COLUMN(Ricavi_Costi!N$4)-1,FALSE))))))","v":880.00000000000011},{"$f":"IF($A11=\"\",\"\",IF(H$4=\"\",\"\",IF($B11=\"X\",INDIRECT(ADDRESS(11,MATCH(CE_PIANO!H$4,BASE!$B$2:$F$2,0)+1,,,\"BASE\")),IF($B11=\"T\",INDIRECT(ADDRESS(13,MATCH(CE_PIANO!H$4,BASE!$B$2:$F$2,0)+1,,,\"BASE\")),IF(ISERROR(VLOOKUP($A11,Ricavi_Costi!$B$6:$Q$105,COLUMN(Ricavi_Costi!O$4)-1,FALSE)),0,VLOOKUP($A11,Ricavi_Costi!$B$6:$Q$105,COLUMN(Ricavi_Costi!O$4)-1,FALSE))))))","v":990.00000000000011}]
[{"$f":"IF(CE_STORICO!A12=\"\",\"\",CE_STORICO!A12)","v":"020299_TOTALE CONSUMI"},{"$f":"IF($A12=\"\",\"\",VLOOKUP(A12,SCHEMA_CE!$E$5:$F$54,2,FALSE))","v":0},{"$f":"IF(CE_STORICO!A12=\"\",\"\",CE_STORICO!B12)","v":"TOTALE CONSUMI"},{"$f":"IF(CE_STORICO!C12=\"\",\"\",CE_STORICO!C12)","v":0},{"$f":"IF(CE_STORICO!D12=\"\",\"\",CE_STORICO!D12)","v":0},{"$f":"SUM(F9:F11)","v":-5530},{"$f":"SUM(G9:G11)","v":-6120},{"$f":"SUM(H9:H11)","v":-6390}]
[{"$f":"IF(CE_STORICO!A13=\"\",\"\",CE_STORICO!A13)","v":""},{"$f":"IF($A13=\"\",\"\",VLOOKUP(A13,SCHEMA_CE!$E$5:$F$54,2,FALSE))","v":""},{"$f":"IF(CE_STORICO!A13=\"\",\"\",CE_STORICO!B13)","v":""},{"$f":"IF(CE_STORICO!C13=\"\",\"\",CE_STORICO!C13)","v":""},{"$f":"IF(CE_STORICO!D13=\"\",\"\",CE_STORICO!D13)","v":""},{"$f":"IF($A13=\"\",\"\",IF(F$4=\"\",\"\",IF($B13=\"X\",INDIRECT(ADDRESS(11,MATCH(CE_PIANO!F$4,BASE!$B$2:$F$2,0)+1,,,\"BASE\")),IF($B13=\"T\",INDIRECT(ADDRESS(13,MATCH(CE_PIANO!F$4,BASE!$B$2:$F$2,0)+1,,,\"BASE\")),IF(ISERROR(VLOOKUP($A13,Ricavi_Costi!$B$6:$Q$105,COLUMN(Ricavi_Costi!M$4)-1,FALSE)),0,VLOOKUP($A13,Ricavi_Costi!$B$6:$Q$105,COLUMN(Ricavi_Costi!M$4)-1,FALSE))))))","v":""},{"$f":"IF($A13=\"\",\"\",IF(G$4=\"\",\"\",IF($B13=\"X\",INDIRECT(ADDRESS(11,MATCH(CE_PIANO!G$4,BASE!$B$2:$F$2,0)+1,,,\"BASE\")),IF($B13=\"T\",INDIRECT(ADDRESS(13,MATCH(CE_PIANO!G$4,BASE!$B$2:$F$2,0)+1,,,\"BASE\")),IF(ISERROR(VLOOKUP($A13,Ricavi_Costi!$B$6:$Q$105,COLUMN(Ricavi_Costi!N$4)-1,FALSE)),0,VLOOKUP($A13,Ricavi_Costi!$B$6:$Q$105,COLUMN(Ricavi_Costi!N$4)-1,FALSE))))))","v":""},{"$f":"IF($A13=\"\",\"\",IF(H$4=\"\",\"\",IF($B13=\"X\",INDIRECT(ADDRESS(11,MATCH(CE_PIANO!H$4,BASE!$B$2:$F$2,0)+1,,,\"BASE\")),IF($B13=\"T\",INDIRECT(ADDRESS(13,MATCH(CE_PIANO!H$4,BASE!$B$2:$F$2,0)+1,,,\"BASE\")),IF(ISERROR(VLOOKUP($A13,Ricavi_Costi!$B$6:$Q$105,COLUMN(Ricavi_Costi!O$4)-1,FALSE)),0,VLOOKUP($A13,Ricavi_Costi!$B$6:$Q$105,COLUMN(Ricavi_Costi!O$4)-1,FALSE))))))","v":""}]
[{"$f":"IF(CE_STORICO!A14=\"\",\"\",CE_STORICO!A14)","v":"020301_Energia elettrica"},{"$f":"IF($A14=\"\",\"\",VLOOKUP(A14,SCHEMA_CE!$E$5:$F$54,2,FALSE))","v":"C"},{"$f":"IF(CE_STORICO!A14=\"\",\"\",CE_STORICO!B14)","v":"Energia elettrica"},{"$f":"IF(CE_STORICO!C14=\"\",\"\",CE_STORICO!C14)","v":""},{"$f":"IF(CE_STORICO!D14=\"\",\"\",CE_STORICO!D14)","v":""},{"$f":"IF($A14=\"\",\"\",IF(F$4=\"\",\"\",IF($B14=\"X\",INDIRECT(ADDRESS(11,MATCH(CE_PIANO!F$4,BASE!$B$2:$F$2,0)+1,,,\"BASE\")),IF($B14=\"T\",INDIRECT(ADDRESS(13,MATCH(CE_PIANO!F$4,BASE!$B$2:$F$2,0)+1,,,\"BASE\")),IF(ISERROR(VLOOKUP($A14,Ricavi_Costi!$B$6:$Q$105,COLUMN(Ricavi_Costi!M$4)-1,FALSE)),0,VLOOKUP($A14,Ricavi_Costi!$B$6:$Q$105,COLUMN(Ricavi_Costi!M$4)-1,FALSE))))))","v":-1400},{"$f":"IF($A14=\"\",\"\",IF(G$4=\"\",\"\",IF($B14=\"X\",INDIRECT(ADDRESS(11,MATCH(CE_PIANO!G$4,BASE!$B$2:$F$2,0)+1,,,\"BASE\")),IF($B14=\"T\",INDIRECT(ADDRESS(13,MATCH(CE_PIANO!G$4,BASE!$B$2:$F$2,0)+1,,,\"BASE\")),IF(ISERROR(VLOOKUP($A14,Ricavi_Costi!$B$6:$Q$105,COLUMN(Ricavi_Costi!N$4)-1,FALSE)),0,VLOOKUP($A14,Ricavi_Costi!$B$6:$Q$105,COLUMN(Ricavi_Costi!N$4)-1,FALSE))))))","v":-1550},{"$f":"IF($A14=\"\",\"\",IF(H$4=\"\",\"\",IF($B14=\"X\",INDIRECT(ADDRESS(11,MATCH(CE_PIANO!H$4,BASE!$B$2:$F$2,0)+1,,,\"BASE\")),IF($B14=\"T\",INDIRECT(ADDRESS(13,MATCH(CE_PIANO!H$4,BASE!$B$2:$F$2,0)+1,,,\"BASE\")),IF(ISERROR(VLOOKUP($A14,Ricavi_Costi!$B$6:$Q$105,COLUMN(Ricavi_Costi!O$4)-1,FALSE)),0,VLOOKUP($A14,Ricavi_Costi!$B$6:$Q$105,COLUMN(Ricavi_Costi!O$4)-1,FALSE))))))","v":-1620}]
[{"$f":"IF(CE_STORICO!A15=\"\",\"\",CE_STORICO!A15)","v":"020311_Manutenzioni"},{"$f":"IF($A15=\"\",\"\",VLOOKUP(A15,SCHEMA_CE!$E$5:$F$54,2,FALSE))","v":"C"},{"$f":"IF(CE_STORICO!A15=\"\",\"\",CE_STORICO!B15)","v":"Manutenzioni"},{"$f":"IF(CE_STORICO!C15=\"\",\"\",CE_STORICO!C15)","v":""},{"$f":"IF(CE_STORICO!D15=\"\",\"\",CE_STORICO!D15)","v":""},{"$f":"IF($A15=\"\",\"\",IF(F$4=\"\",\"\",IF($B15=\"X\",INDIRECT(ADDRESS(11,MATCH(CE_PIANO!F$4,BASE!$B$2:$F$2,0)+1,,,\"BASE\")),IF($B15=\"T\",INDIRECT(ADDRESS(13,MATCH(CE_PIANO!F$4,BASE!$B$2:$F$2,0)+1,,,\"BASE\")),IF(ISERROR(VLOOKUP($A15,Ricavi_Costi!$B$6:$Q$105,COLUMN(Ricavi_Costi!M$4)-1,FALSE)),0,VLOOKUP($A15,Ricavi_Costi!$B$6:$Q$105,COLUMN(Ricavi_Costi!M$4)-1,FALSE))))))","v":-15},{"$f":"IF($A15=\"\",\"\",IF(G$4=\"\",\"\",IF($B15=\"X\",INDIRECT(ADDRESS(11,MATCH(CE_PIANO!G$4,BASE!$B$2:$F$2,0)+1,,,\"BASE\")),IF($B15=\"T\",INDIRECT(ADDRESS(13,MATCH(CE_PIANO!G$4,BASE!$B$2:$F$2,0)+1,,,\"BASE\")),IF(ISERROR(VLOOKUP($A15,Ricavi_Costi!$B$6:$Q$105,COLUMN(Ricavi_Costi!N$4)-1,FALSE)),0,VLOOKUP($A15,Ricavi_Costi!$B$6:$Q$105,COLUMN(Ricavi_Costi!N$4)-1,FALSE))))))","v":-25},{"$f":"IF($A15=\"\",\"\",IF(H$4=\"\",\"\",IF($B15=\"X\",INDIRECT(ADDRESS(11,MATCH(CE_PIANO!H$4,BASE!$B$2:$F$2,0)+1,,,\"BASE\")),IF($B15=\"T\",INDIRECT(ADDRESS(13,MATCH(CE_PIANO!H$4,BASE!$B$2:$F$2,0)+1,,,\"BASE\")),IF(ISERROR(VLOOKUP($A15,Ricavi_Costi!$B$6:$Q$105,COLUMN(Ricavi_Costi!O$4)-1,FALSE)),0,VLOOKUP($A15,Ricavi_Costi!$B$6:$Q$105,COLUMN(Ricavi_Costi!O$4)-1,FALSE))))))","v":-40}]
[{"$f":"IF(CE_STORICO!A16=\"\",\"\",CE_STORICO!A16)","v":"020321_Altri costi industriali"},{"$f":"IF($A16=\"\",\"\",VLOOKUP(A16,SCHEMA_CE!$E$5:$F$54,2,FALSE))","v":"C"},{"$f":"IF(CE_STORICO!A16=\"\",\"\",CE_STORICO!B16)","v":"Altri costi industriali"},{"$f":"IF(CE_STORICO!C16=\"\",\"\",CE_STORICO!C16)","v":""},{"$f":"IF(CE_STORICO!D16=\"\",\"\",CE_STORICO!D16)","v":""},{"$f":"IF($A16=\"\",\"\",IF(F$4=\"\",\"\",IF($B16=\"X\",INDIRECT(ADDRESS(11,MATCH(CE_PIANO!F$4,BASE!$B$2:$F$2,0)+1,,,\"BASE\")),IF($B16=\"T\",INDIRECT(ADDRESS(13,MATCH(CE_PIANO!F$4,BASE!$B$2:$F$2,0)+1,,,\"BASE\")),IF(ISERROR(VLOOKUP($A16,Ricavi_Costi!$B$6:$Q$105,COLUMN(Ricavi_Costi!M$4)-1,FALSE)),0,VLOOKUP($A16,Ricavi_Costi!$B$6:$Q$105,COLUMN(Ricavi_Costi!M$4)-1,FALSE))))))","v":-1400},{"$f":"IF($A16=\"\",\"\",IF(G$4=\"\",\"\",IF($B16=\"X\",INDIRECT(ADDRESS(11,MATCH(CE_PIANO!G$4,BASE!$B$2:$F$2,0)+1,,,\"BASE\")),IF($B16=\"T\",INDIRECT(ADDRESS(13,MATCH(CE_PIANO!G$4,BASE!$B$2:$F$2,0)+1,,,\"BASE\")),IF(ISERROR(VLOOKUP($A16,Ricavi_Costi!$B$6:$Q$105,COLUMN(Ricavi_Costi!N$4)-1,FALSE)),0,VLOOKUP($A16,Ricavi_Costi!$B$6:$Q$105,COLUMN(Ricavi_Costi!N$4)-1,FALSE))))))","v":-1550},{"$f":"IF($A16=\"\",\"\",IF(H$4=\"\",\"\",IF($B16=\"X\",INDIRECT(ADDRESS(11,MATCH(CE_PIANO!H$4,BASE!$B$2:$F$2,0)+1,,,\"BASE\")),IF($B16=\"T\",INDIRECT(ADDRESS(13,MATCH(CE_PIANO!H$4,BASE!$B$2:$F$2,0)+1,,,\"BASE\")),IF(ISERROR(VLOOKUP($A16,Ricavi_Costi!$B$6:$Q$105,COLUMN(Ricavi_Costi!O$4)-1,FALSE)),0,VLOOKUP($A16,Ricavi_Costi!$B$6:$Q$105,COLUMN(Ricavi_Costi!O$4)-1,FALSE))))))","v":-1620}]
[{"$f":"IF(CE_STORICO!A17=\"\",\"\",CE_STORICO!A17)","v":"020331_Ammortamenti industriali"},{"$f":"IF($A17=\"\",\"\",VLOOKUP(A17,SCHEMA_CE!$E$5:$F$54,2,FALSE))","v":"C"},{"$f":"IF(CE_STORICO!A17=\"\",\"\",CE_STORICO!B17)","v":"Ammortamenti industriali"},{"$f":"IF(CE_STORICO!C17=\"\",\"\",CE_STORICO!C17)","v":""},{"$f":"IF(CE_STORICO!D17=\"\",\"\",CE_STORICO!D17)","v":""},{"$f":"IF($A17=\"\",\"\",IF(F$4=\"\",\"\",IF($B17=\"X\",INDIRECT(ADDRESS(11,MATCH(CE_PIANO!F$4,BASE!$B$2:$F$2,0)+1,,,\"BASE\")),IF($B17=\"T\",INDIRECT(ADDRESS(13,MATCH(CE_PIANO!F$4,BASE!$B$2:$F$2,0)+1,,,\"BASE\")),IF(ISERROR(VLOOKUP($A17,Ricavi_Costi!$B$6:$Q$105,COLUMN(Ricavi_Costi!M$4)-1,FALSE)),0,VLOOKUP($A17,Ricavi_Costi!$B$6:$Q$105,COLUMN(Ricavi_Costi!M$4)-1,FALSE))))))","v":-150},{"$f":"IF($A17=\"\",\"\",IF(G$4=\"\",\"\",IF($B17=\"X\",INDIRECT(ADDRESS(11,MATCH(CE_PIANO!G$4,BASE!$B$2:$F$2,0)+1,,,\"BASE\")),IF($B17=\"T\",INDIRECT(ADDRESS(13,MATCH(CE_PIANO!G$4,BASE!$B$2:$F$2,0)+1,,,\"BASE\")),IF(ISERROR(VLOOKUP($A17,Ricavi_Costi!$B$6:$Q$105,COLUMN(Ricavi_Costi!N$4)-1,FALSE)),0,VLOOKUP($A17,Ricavi_Costi!$B$6:$Q$105,COLUMN(Ricavi_Costi!N$4)-1,FALSE))))))","v":-300},{"$f":"IF($A17=\"\",\"\",IF(H$4=\"\",\"\",IF($B17=\"X\",INDIRECT(ADDRESS(11,MATCH(CE_PIANO!H$4,BASE!$B$2:$F$2,0)+1,,,\"BASE\")),IF($B17=\"T\",INDIRECT(ADDRESS(13,MATCH(CE_PIANO!H$4,BASE!$B$2:$F$2,0)+1,,,\"BASE\")),IF(ISERROR(VLOOKUP($A17,Ricavi_Costi!$B$6:$Q$105,COLUMN(Ricavi_Costi!O$4)-1,FALSE)),0,VLOOKUP($A17,Ricavi_Costi!$B$6:$Q$105,COLUMN(Ricavi_Costi!O$4)-1,FALSE))))))","v":-450}]
[{"$f":"IF(CE_STORICO!A18=\"\",\"\",CE_STORICO!A18)","v":"020399_COSTI INDUSTRIALI"},{"$f":"IF($A18=\"\",\"\",VLOOKUP(A18,SCHEMA_CE!$E$5:$F$54,2,FALSE))","v":0},{"$f":"IF(CE_STORICO!A18=\"\",\"\",CE_STORICO!B18)","v":"COSTI INDUSTRIALI"},{"$f":"IF(CE_STORICO!C18=\"\",\"\",CE_STORICO!C18)","v":0},{"$f":"IF(CE_STORICO!D18=\"\",\"\",CE_STORICO!D18)","v":0},{"$f":"SUM(F14:F17)","v":-2965},{"$f":"SUM(G14:G17)","v":-3425},{"$f":"SUM(H14:H17)","v":-3730}]
[{"$f":"IF(CE_STORICO!A19=\"\",\"\",CE_STORICO!A19)","v":""},{"$f":"IF($A19=\"\",\"\",VLOOKUP(A19,SCHEMA_CE!$E$5:$F$54,2,FALSE))","v":""},{"$f":"IF(CE_STORICO!A19=\"\",\"\",CE_STORICO!B19)","v":""},{"$f":"IF(CE_STORICO!C19=\"\",\"\",CE_STORICO!C19)","v":""},{"$f":"IF(CE_STORICO!D19=\"\",\"\",CE_STORICO!D19)","v":""},{"$f":"IF($A19=\"\",\"\",IF(F$4=\"\",\"\",IF($B19=\"X\",INDIRECT(ADDRESS(11,MATCH(CE_PIANO!F$4,BASE!$B$2:$F$2,0)+1,,,\"BASE\")),IF($B19=\"T\",INDIRECT(ADDRESS(13,MATCH(CE_PIANO!F$4,BASE!$B$2:$F$2,0)+1,,,\"BASE\")),IF(ISERROR(VLOOKUP($A19,Ricavi_Costi!$B$6:$Q$105,COLUMN(Ricavi_Costi!M$4)-1,FALSE)),0,VLOOKUP($A19,Ricavi_Costi!$B$6:$Q$105,COLUMN(Ricavi_Costi!M$4)-1,FALSE))))))","v":""},{"$f":"IF($A19=\"\",\"\",IF(G$4=\"\",\"\",IF($B19=\"X\",INDIRECT(ADDRESS(11,MATCH(CE_PIANO!G$4,BASE!$B$2:$F$2,0)+1,,,\"BASE\")),IF($B19=\"T\",INDIRECT(ADDRESS(13,MATCH(CE_PIANO!G$4,BASE!$B$2:$F$2,0)+1,,,\"BASE\")),IF(ISERROR(VLOOKUP($A19,Ricavi_Costi!$B$6:$Q$105,COLUMN(Ricavi_Costi!N$4)-1,FALSE)),0,VLOOKUP($A19,Ricavi_Costi!$B$6:$Q$105,COLUMN(Ricavi_Costi!N$4)-1,FALSE))))))","v":""},{"$f":"IF($A19=\"\",\"\",IF(H$4=\"\",\"\",IF($B19=\"X\",INDIRECT(ADDRESS(11,MATCH(CE_PIANO!H$4,BASE!$B$2:$F$2,0)+1,,,\"BASE\")),IF($B19=\"T\",INDIRECT(ADDRESS(13,MATCH(CE_PIANO!H$4,BASE!$B$2:$F$2,0)+1,,,\"BASE\")),IF(ISERROR(VLOOKUP($A19,Ricavi_Costi!$B$6:$Q$105,COLUMN(Ricavi_Costi!O$4)-1,FALSE)),0,VLOOKUP($A19,Ricavi_Costi!$B$6:$Q$105,COLUMN(Ricavi_Costi!O$4)-1,FALSE))))))","v":""}]
[{"$f":"IF(CE_STORICO!A20=\"\",\"\",CE_STORICO!A20)","v":"029901_COSTO DEL VENDUTO"},{"$f":"IF($A20=\"\",\"\",VLOOKUP(A20,SCHEMA_CE!$E$5:$F$54,2,FALSE))","v":0},{"$f":"IF(CE_STORICO!A20=\"\",\"\",CE_STORICO!B20)","v":"COSTO DEL VENDUTO"},{"$f":"IF(CE_STORICO!C20=\"\",\"\",CE_STORICO!C20)","v":0},{"$f":"IF(CE_STORICO!D20=\"\",\"\",CE_STORICO!D20)","v":0},{"$f":"+F12+F18","v":-8495},{"$f":"+G12+G18","v":-9545},{"$f":"+H12+H18","v":-10120}]
[{"$f":"IF(CE_STORICO!A21=\"\",\"\",CE_STORICO!A21)","v":""},{"$f":"IF($A21=\"\",\"\",VLOOKUP(A21,SCHEMA_CE!$E$5:$F$54,2,FALSE))","v":""},{"$f":"IF(CE_STORICO!A21=\"\",\"\",CE_STORICO!B21)","v":""},{"$f":"IF(CE_STORICO!C21=\"\",\"\",CE_STORICO!C21)","v":""},{"$f":"IF(CE_STORICO!D21=\"\",\"\",CE_STORICO!D21)","v":""},{"$f":"IF($A21=\"\",\"\",IF(F$4=\"\",\"\",IF($B21=\"X\",INDIRECT(ADDRESS(11,MATCH(CE_PIANO!F$4,BASE!$B$2:$F$2,0)+1,,,\"BASE\")),IF($B21=\"T\",INDIRECT(ADDRESS(13,MATCH(CE_PIANO!F$4,BASE!$B$2:$F$2,0)+1,,,\"BASE\")),IF(ISERROR(VLOOKUP($A21,Ricavi_Costi!$B$6:$Q$105,COLUMN(Ricavi_Costi!M$4)-1,FALSE)),0,VLOOKUP($A21,Ricavi_Costi!$B$6:$Q$105,COLUMN(Ricavi_Costi!M$4)-1,FALSE))))))","v":""},{"$f":"IF($A21=\"\",\"\",IF(G$4=\"\",\"\",IF($B21=\"X\",INDIRECT(ADDRESS(11,MATCH(CE_PIANO!G$4,BASE!$B$2:$F$2,0)+1,,,\"BASE\")),IF($B21=\"T\",INDIRECT(ADDRESS(13,MATCH(CE_PIANO!G$4,BASE!$B$2:$F$2,0)+1,,,\"BASE\")),IF(ISERROR(VLOOKUP($A21,Ricavi_Costi!$B$6:$Q$105,COLUMN(Ricavi_Costi!N$4)-1,FALSE)),0,VLOOKUP($A21,Ricavi_Costi!$B$6:$Q$105,COLUMN(Ricavi_Costi!N$4)-1,FALSE))))))","v":""},{"$f":"IF($A21=\"\",\"\",IF(H$4=\"\",\"\",IF($B21=\"X\",INDIRECT(ADDRESS(11,MATCH(CE_PIANO!H$4,BASE!$B$2:$F$2,0)+1,,,\"BASE\")),IF($B21=\"T\",INDIRECT(ADDRESS(13,MATCH(CE_PIANO!H$4,BASE!$B$2:$F$2,0)+1,,,\"BASE\")),IF(ISERROR(VLOOKUP($A21,Ricavi_Costi!$B$6:$Q$105,COLUMN(Ricavi_Costi!O$4)-1,FALSE)),0,VLOOKUP($A21,Ricavi_Costi!$B$6:$Q$105,COLUMN(Ricavi_Costi!O$4)-1,FALSE))))))","v":""}]
[{"$f":"IF(CE_STORICO!A22=\"\",\"\",CE_STORICO!A22)","v":"029999_MARGINE INDUSTRIALE"},{"$f":"IF($A22=\"\",\"\",VLOOKUP(A22,SCHEMA_CE!$E$5:$F$54,2,FALSE))","v":0},{"$f":"IF(CE_STORICO!A22=\"\",\"\",CE_STORICO!B22)","v":"MARGINE INDUSTRIALE"},{"$f":"IF(CE_STORICO!C22=\"\",\"\",CE_STORICO!C22)","v":0},{"$f":"IF(CE_STORICO!D22=\"\",\"\",CE_STORICO!D22)","v":0},{"$f":"+F7+F12+F18","v":7605},{"$f":"+G7+G12+G18","v":8280},{"$f":"+H7+H12+H18","v":8510}]
[{"$f":"IF(CE_STORICO!A23=\"\",\"\",CE_STORICO!A23)","v":""},{"$f":"IF($A23=\"\",\"\",VLOOKUP(A23,SCHEMA_CE!$E$5:$F$54,2,FALSE))","v":""},{"$f":"IF(CE_STORICO!A23=\"\",\"\",CE_STORICO!B23)","v":""},{"$f":"IF(CE_STORICO!C23=\"\",\"\",CE_STORICO!C23)","v":""},{"$f":"IF(CE_STORICO!D23=\"\",\"\",CE_STORICO!D23)","v":""},{"$f":"IF($A23=\"\",\"\",IF(F$4=\"\",\"\",IF($B23=\"X\",INDIRECT(ADDRESS(11,MATCH(CE_PIANO!F$4,BASE!$B$2:$F$2,0)+1,,,\"BASE\")),IF($B23=\"T\",INDIRECT(ADDRESS(13,MATCH(CE_PIANO!F$4,BASE!$B$2:$F$2,0)+1,,,\"BASE\")),IF(ISERROR(VLOOKUP($A23,Ricavi_Costi!$B$6:$Q$105,COLUMN(Ricavi_Costi!M$4)-1,FALSE)),0,VLOOKUP($A23,Ricavi_Costi!$B$6:$Q$105,COLUMN(Ricavi_Costi!M$4)-1,FALSE))))))","v":""},{"$f":"IF($A23=\"\",\"\",IF(G$4=\"\",\"\",IF($B23=\"X\",INDIRECT(ADDRESS(11,MATCH(CE_PIANO!G$4,BASE!$B$2:$F$2,0)+1,,,\"BASE\")),IF($B23=\"T\",INDIRECT(ADDRESS(13,MATCH(CE_PIANO!G$4,BASE!$B$2:$F$2,0)+1,,,\"BASE\")),IF(ISERROR(VLOOKUP($A23,Ricavi_Costi!$B$6:$Q$105,COLUMN(Ricavi_Costi!N$4)-1,FALSE)),0,VLOOKUP($A23,Ricavi_Costi!$B$6:$Q$105,COLUMN(Ricavi_Costi!N$4)-1,FALSE))))))","v":""},{"$f":"IF($A23=\"\",\"\",IF(H$4=\"\",\"\",IF($B23=\"X\",INDIRECT(ADDRESS(11,MATCH(CE_PIANO!H$4,BASE!$B$2:$F$2,0)+1,,,\"BASE\")),IF($B23=\"T\",INDIRECT(ADDRESS(13,MATCH(CE_PIANO!H$4,BASE!$B$2:$F$2,0)+1,,,\"BASE\")),IF(ISERROR(VLOOKUP($A23,Ricavi_Costi!$B$6:$Q$105,COLUMN(Ricavi_Costi!O$4)-1,FALSE)),0,VLOOKUP($A23,Ricavi_Costi!$B$6:$Q$105,COLUMN(Ricavi_Costi!O$4)-1,FALSE))))))","v":""}]
[{"$f":"IF(CE_STORICO!A24=\"\",\"\",CE_STORICO!A24)","v":"030101_Provvigioni"},{"$f":"IF($A24=\"\",\"\",VLOOKUP(A24,SCHEMA_CE!$E$5:$F$54,2,FALSE))","v":"C"},{"$f":"IF(CE_STORICO!A24=\"\",\"\",CE_STORICO!B24)","v":"Provvigioni"},{"$f":"IF(CE_STORICO!C24=\"\",\"\",CE_STORICO!C24)","v":""},{"$f":"IF(CE_STORICO!D24=\"\",\"\",CE_STORICO!D24)","v":""},{"$f":"IF($A24=\"\",\"\",IF(F$4=\"\",\"\",IF($B24=\"X\",INDIRECT(ADDRESS(11,MATCH(CE_PIANO!F$4,BASE!$B$2:$F$2,0)+1,,,\"BASE\")),IF($B24=\"T\",INDIRECT(ADDRESS(13,MATCH(CE_PIANO!F$4,BASE!$B$2:$F$2,0)+1,,,\"BASE\")),IF(ISERROR(VLOOKUP($A24,Ricavi_Costi!$B$6:$Q$105,COLUMN(Ricavi_Costi!M$4)-1,FALSE)),0,VLOOKUP($A24,Ricavi_Costi!$B$6:$Q$105,COLUMN(Ricavi_Costi!M$4)-1,FALSE))))))","v":-70},{"$f":"IF($A24=\"\",\"\",IF(G$4=\"\",\"\",IF($B24=\"X\",INDIRECT(ADDRESS(11,MATCH(CE_PIANO!G$4,BASE!$B$2:$F$2,0)+1,,,\"BASE\")),IF($B24=\"T\",INDIRECT(ADDRESS(13,MATCH(CE_PIANO!G$4,BASE!$B$2:$F$2,0)+1,,,\"BASE\")),IF(ISERROR(VLOOKUP($A24,Ricavi_Costi!$B$6:$Q$105,COLUMN(Ricavi_Costi!N$4)-1,FALSE)),0,VLOOKUP($A24,Ricavi_Costi!$B$6:$Q$105,COLUMN(Ricavi_Costi!N$4)-1,FALSE))))))","v":-77.5},{"$f":"IF($A24=\"\",\"\",IF(H$4=\"\",\"\",IF($B24=\"X\",INDIRECT(ADDRESS(11,MATCH(CE_PIANO!H$4,BASE!$B$2:$F$2,0)+1,,,\"BASE\")),IF($B24=\"T\",INDIRECT(ADDRESS(13,MATCH(CE_PIANO!H$4,BASE!$B$2:$F$2,0)+1,,,\"BASE\")),IF(ISERROR(VLOOKUP($A24,Ricavi_Costi!$B$6:$Q$105,COLUMN(Ricavi_Costi!O$4)-1,FALSE)),0,VLOOKUP($A24,Ricavi_Costi!$B$6:$Q$105,COLUMN(Ricavi_Costi!O$4)-1,FALSE))))))","v":-81}]
[{"$f":"IF(CE_STORICO!A25=\"\",\"\",CE_STORICO!A25)","v":"030111_Promozioni/pubblicità"},{"$f":"IF($A25=\"\",\"\",VLOOKUP(A25,SCHEMA_CE!$E$5:$F$54,2,FALSE))","v":"C"},{"$f":"IF(CE_STORICO!A25=\"\",\"\",CE_STORICO!B25)","v":"Promozioni/pubblicità"},{"$f":"IF(CE_STORICO!C25=\"\",\"\",CE_STORICO!C25)","v":""},{"$f":"IF(CE_STORICO!D25=\"\",\"\",CE_STORICO!D25)","v":""},{"$f":"IF($A25=\"\",\"\",IF(F$4=\"\",\"\",IF($B25=\"X\",INDIRECT(ADDRESS(11,MATCH(CE_PIANO!F$4,BASE!$B$2:$F$2,0)+1,,,\"BASE\")),IF($B25=\"T\",INDIRECT(ADDRESS(13,MATCH(CE_PIANO!F$4,BASE!$B$2:$F$2,0)+1,,,\"BASE\")),IF(ISERROR(VLOOKUP($A25,Ricavi_Costi!$B$6:$Q$105,COLUMN(Ricavi_Costi!M$4)-1,FALSE)),0,VLOOKUP($A25,Ricavi_Costi!$B$6:$Q$105,COLUMN(Ricavi_Costi!M$4)-1,FALSE))))))","v":-700},{"$f":"IF($A25=\"\",\"\",IF(G$4=\"\",\"\",IF($B25=\"X\",INDIRECT(ADDRESS(11,MATCH(CE_PIANO!G$4,BASE!$B$2:$F$2,0)+1,,,\"BASE\")),IF($B25=\"T\",INDIRECT(ADDRESS(13,MATCH(CE_PIANO!G$4,BASE!$B$2:$F$2,0)+1,,,\"BASE\")),IF(ISERROR(VLOOKUP($A25,Ricavi_Costi!$B$6:$Q$105,COLUMN(Ricavi_Costi!N$4)-1,FALSE)),0,VLOOKUP($A25,Ricavi_Costi!$B$6:$Q$105,COLUMN(Ricavi_Costi!N$4)-1,FALSE))))))","v":-775},{"$f":"IF($A25=\"\",\"\",IF(H$4=\"\",\"\",IF($B25=\"X\",INDIRECT(ADDRESS(11,MATCH(CE_PIANO!H$4,BASE!$B$2:$F$2,0)+1,,,\"BASE\")),IF($B25=\"T\",INDIRECT(ADDRESS(13,MATCH(CE_PIANO!H$4,BASE!$B$2:$F$2,0)+1,,,\"BASE\")),IF(ISERROR(VLOOKUP($A25,Ricavi_Costi!$B$6:$Q$105,COLUMN(Ricavi_Costi!O$4)-1,FALSE)),0,VLOOKUP($A25,Ricavi_Costi!$B$6:$Q$105,COLUMN(Ricavi_Costi!O$4)-1,FALSE))))))","v":-810}]
[{"$f":"IF(CE_STORICO!A26=\"\",\"\",CE_STORICO!A26)","v":"030121_Altri costi commerciali"},{"$f":"IF($A26=\"\",\"\",VLOOKUP(A26,SCHEMA_CE!$E$5:$F$54,2,FALSE))","v":"C"},{"$f":"IF(CE_STORICO!A26=\"\",\"\",CE_STORICO!B26)","v":"Altri costi commerciali"},{"$f":"IF(CE_STORICO!C26=\"\",\"\",CE_STORICO!C26)","v":""},{"$f":"IF(CE_STORICO!D26=\"\",\"\",CE_STORICO!D26)","v":""},{"$f":"IF($A26=\"\",\"\",IF(F$4=\"\",\"\",IF($B26=\"X\",INDIRECT(ADDRESS(11,MATCH(CE_PIANO!F$4,BASE!$B$2:$F$2,0)+1,,,\"BASE\")),IF($B26=\"T\",INDIRECT(ADDRESS(13,MATCH(CE_PIANO!F$4,BASE!$B$2:$F$2,0)+1,,,\"BASE\")),IF(ISERROR(VLOOKUP($A26,Ricavi_Costi!$B$6:$Q$105,COLUMN(Ricavi_Costi!M$4)-1,FALSE)),0,VLOOKUP($A26,Ricavi_Costi!$B$6:$Q$105,COLUMN(Ricavi_Costi!M$4)-1,FALSE))))))","v":-420},{"$f":"IF($A26=\"\",\"\",IF(G$4=\"\",\"\",IF($B26=\"X\",INDIRECT(ADDRESS(11,MATCH(CE_PIANO!G$4,BASE!$B$2:$F$2,0)+1,,,\"BASE\")),IF($B26=\"T\",INDIRECT(ADDRESS(13,MATCH(CE_PIANO!G$4,BASE!$B$2:$F$2,0)+1,,,\"BASE\")),IF(ISERROR(VLOOKUP($A26,Ricavi_Costi!$B$6:$Q$105,COLUMN(Ricavi_Costi!N$4)-1,FALSE)),0,VLOOKUP($A26,Ricavi_Costi!$B$6:$Q$105,COLUMN(Ricavi_Costi!N$4)-1,FALSE))))))","v":-465},{"$f":"IF($A26=\"\",\"\",IF(H$4=\"\",\"\",IF($B26=\"X\",INDIRECT(ADDRESS(11,MATCH(CE_PIANO!H$4,BASE!$B$2:$F$2,0)+1,,,\"BASE\")),IF($B26=\"T\",INDIRECT(ADDRESS(13,MATCH(CE_PIANO!H$4,BASE!$B$2:$F$2,0)+1,,,\"BASE\")),IF(ISERROR(VLOOKUP($A26,Ricavi_Costi!$B$6:$Q$105,COLUMN(Ricavi_Costi!O$4)-1,FALSE)),0,VLOOKUP($A26,Ricavi_Costi!$B$6:$Q$105,COLUMN(Ricavi_Costi!O$4)-1,FALSE))))))","v":-486}]
[{"$f":"IF(CE_STORICO!A27=\"\",\"\",CE_STORICO!A27)","v":"030199_COSTI COMMERCIALI"},{"$f":"IF($A27=\"\",\"\",VLOOKUP(A27,SCHEMA_CE!$E$5:$F$54,2,FALSE))","v":0},{"$f":"IF(CE_STORICO!A27=\"\",\"\",CE_STORICO!B27)","v":"COSTI COMMERCIALI"},{"$f":"IF(CE_STORICO!C27=\"\",\"\",CE_STORICO!C27)","v":0},{"$f":"IF(CE_STORICO!D27=\"\",\"\",CE_STORICO!D27)","v":0},{"$f":"SUM(F24:F26)","v":-1190},{"$f":"SUM(G24:G26)","v":-1317.5},{"$f":"SUM(H24:H26)","v":-1377}]
[{"$f":"IF(CE_STORICO!A28=\"\",\"\",CE_STORICO!A28)","v":""},{"$f":"IF($A28=\"\",\"\",VLOOKUP(A28,SCHEMA_CE!$E$5:$F$54,2,FALSE))","v":""},{"$f":"IF(CE_STORICO!A28=\"\",\"\",CE_STORICO!B28)","v":""},{"$f":"IF(CE_STORICO!C28=\"\",\"\",CE_STORICO!C28)","v":""},{"$f":"IF(CE_STORICO!D28=\"\",\"\",CE_STORICO!D28)","v":""},{"$f":"IF($A28=\"\",\"\",IF(F$4=\"\",\"\",IF($B28=\"X\",INDIRECT(ADDRESS(11,MATCH(CE_PIANO!F$4,BASE!$B$2:$F$2,0)+1,,,\"BASE\")),IF($B28=\"T\",INDIRECT(ADDRESS(13,MATCH(CE_PIANO!F$4,BASE!$B$2:$F$2,0)+1,,,\"BASE\")),IF(ISERROR(VLOOKUP($A28,Ricavi_Costi!$B$6:$Q$105,COLUMN(Ricavi_Costi!M$4)-1,FALSE)),0,VLOOKUP($A28,Ricavi_Costi!$B$6:$Q$105,COLUMN(Ricavi_Costi!M$4)-1,FALSE))))))","v":""},{"$f":"IF($A28=\"\",\"\",IF(G$4=\"\",\"\",IF($B28=\"X\",INDIRECT(ADDRESS(11,MATCH(CE_PIANO!G$4,BASE!$B$2:$F$2,0)+1,,,\"BASE\")),IF($B28=\"T\",INDIRECT(ADDRESS(13,MATCH(CE_PIANO!G$4,BASE!$B$2:$F$2,0)+1,,,\"BASE\")),IF(ISERROR(VLOOKUP($A28,Ricavi_Costi!$B$6:$Q$105,COLUMN(Ricavi_Costi!N$4)-1,FALSE)),0,VLOOKUP($A28,Ricavi_Costi!$B$6:$Q$105,COLUMN(Ricavi_Costi!N$4)-1,FALSE))))))","v":""},{"$f":"IF($A28=\"\",\"\",IF(H$4=\"\",\"\",IF($B28=\"X\",INDIRECT(ADDRESS(11,MATCH(CE_PIANO!H$4,BASE!$B$2:$F$2,0)+1,,,\"BASE\")),IF($B28=\"T\",INDIRECT(ADDRESS(13,MATCH(CE_PIANO!H$4,BASE!$B$2:$F$2,0)+1,,,\"BASE\")),IF(ISERROR(VLOOKUP($A28,Ricavi_Costi!$B$6:$Q$105,COLUMN(Ricavi_Costi!O$4)-1,FALSE)),0,VLOOKUP($A28,Ricavi_Costi!$B$6:$Q$105,COLUMN(Ricavi_Costi!O$4)-1,FALSE))))))","v":""}]
[{"$f":"IF(CE_STORICO!A29=\"\",\"\",CE_STORICO!A29)","v":"030201_Ammortamenti"},{"$f":"IF($A29=\"\",\"\",VLOOKUP(A29,SCHEMA_CE!$E$5:$F$54,2,FALSE))","v":"C"},{"$f":"IF(CE_STORICO!A29=\"\",\"\",CE_STORICO!B29)","v":"Ammortamenti"},{"$f":"IF(CE_STORICO!C29=\"\",\"\",CE_STORICO!C29)","v":""},{"$f":"IF(CE_STORICO!D29=\"\",\"\",CE_STORICO!D29)","v":""},{"$f":"IF($A29=\"\",\"\",IF(F$4=\"\",\"\",IF($B29=\"X\",INDIRECT(ADDRESS(11,MATCH(CE_PIANO!F$4,BASE!$B$2:$F$2,0)+1,,,\"BASE\")),IF($B29=\"T\",INDIRECT(ADDRESS(13,MATCH(CE_PIANO!F$4,BASE!$B$2:$F$2,0)+1,,,\"BASE\")),IF(ISERROR(VLOOKUP($A29,Ricavi_Costi!$B$6:$Q$105,COLUMN(Ricavi_Costi!M$4)-1,FALSE)),0,VLOOKUP($A29,Ricavi_Costi!$B$6:$Q$105,COLUMN(Ricavi_Costi!M$4)-1,FALSE))))))","v":-200},{"$f":"IF($A29=\"\",\"\",IF(G$4=\"\",\"\",IF($B29=\"X\",INDIRECT(ADDRESS(11,MATCH(CE_PIANO!G$4,BASE!$B$2:$F$2,0)+1,,,\"BASE\")),IF($B29=\"T\",INDIRECT(ADDRESS(13,MATCH(CE_PIANO!G$4,BASE!$B$2:$F$2,0)+1,,,\"BASE\")),IF(ISERROR(VLOOKUP($A29,Ricavi_Costi!$B$6:$Q$105,COLUMN(Ricavi_Costi!N$4)-1,FALSE)),0,VLOOKUP($A29,Ricavi_Costi!$B$6:$Q$105,COLUMN(Ricavi_Costi!N$4)-1,FALSE))))))","v":-400},{"$f":"IF($A29=\"\",\"\",IF(H$4=\"\",\"\",IF($B29=\"X\",INDIRECT(ADDRESS(11,MATCH(CE_PIANO!H$4,BASE!$B$2:$F$2,0)+1,,,\"BASE\")),IF($B29=\"T\",INDIRECT(ADDRESS(13,MATCH(CE_PIANO!H$4,BASE!$B$2:$F$2,0)+1,,,\"BASE\")),IF(ISERROR(VLOOKUP($A29,Ricavi_Costi!$B$6:$Q$105,COLUMN(Ricavi_Costi!O$4)-1,FALSE)),0,VLOOKUP($A29,Ricavi_Costi!$B$6:$Q$105,COLUMN(Ricavi_Costi!O$4)-1,FALSE))))))","v":-600}]
[{"$f":"IF(CE_STORICO!A30=\"\",\"\",CE_STORICO!A30)","v":"030211_Personale ammmistrazione/struttura"},{"$f":"IF($A30=\"\",\"\",VLOOKUP(A30,SCHEMA_CE!$E$5:$F$54,2,FALSE))","v":"C"},{"$f":"IF(CE_STORICO!A30=\"\",\"\",CE_STORICO!B30)","v":"Personale ammmistrazione/struttura"},{"$f":"IF(CE_STORICO!C30=\"\",\"\",CE_STORICO!C30)","v":""},{"$f":"IF(CE_STORICO!D30=\"\",\"\",CE_STORICO!D30)","v":""},{"$f":"IF($A30=\"\",\"\",IF(F$4=\"\",\"\",IF($B30=\"X\",INDIRECT(ADDRESS(11,MATCH(CE_PIANO!F$4,BASE!$B$2:$F$2,0)+1,,,\"BASE\")),IF($B30=\"T\",INDIRECT(ADDRESS(13,MATCH(CE_PIANO!F$4,BASE!$B$2:$F$2,0)+1,,,\"BASE\")),IF(ISERROR(VLOOKUP($A30,Ricavi_Costi!$B$6:$Q$105,COLUMN(Ricavi_Costi!M$4)-1,FALSE)),0,VLOOKUP($A30,Ricavi_Costi!$B$6:$Q$105,COLUMN(Ricavi_Costi!M$4)-1,FALSE))))))","v":-550},{"$f":"IF($A30=\"\",\"\",IF(G$4=\"\",\"\",IF($B30=\"X\",INDIRECT(ADDRESS(11,MATCH(CE_PIANO!G$4,BASE!$B$2:$F$2,0)+1,,,\"BASE\")),IF($B30=\"T\",INDIRECT(ADDRESS(13,MATCH(CE_PIANO!G$4,BASE!$B$2:$F$2,0)+1,,,\"BASE\")),IF(ISERROR(VLOOKUP($A30,Ricavi_Costi!$B$6:$Q$105,COLUMN(Ricavi_Costi!N$4)-1,FALSE)),0,VLOOKUP($A30,Ricavi_Costi!$B$6:$Q$105,COLUMN(Ricavi_Costi!N$4)-1,FALSE))))))","v":-600},{"$f":"IF($A30=\"\",\"\",IF(H$4=\"\",\"\",IF($B30=\"X\",INDIRECT(ADDRESS(11,MATCH(CE_PIANO!H$4,BASE!$B$2:$F$2,0)+1,,,\"BASE\")),IF($B30=\"T\",INDIRECT(ADDRESS(13,MATCH(CE_PIANO!H$4,BASE!$B$2:$F$2,0)+1,,,\"BASE\")),IF(ISERROR(VLOOKUP($A30,Ricavi_Costi!$B$6:$Q$105,COLUMN(Ricavi_Costi!O$4)-1,FALSE)),0,VLOOKUP($A30,Ricavi_Costi!$B$6:$Q$105,COLUMN(Ricavi_Costi!O$4)-1,FALSE))))))","v":-800}]
[{"$f":"IF(CE_STORICO!A31=\"\",\"\",CE_STORICO!A31)","v":"030221_Altri costi amministrativi"},{"$f":"IF($A31=\"\",\"\",VLOOKUP(A31,SCHEMA_CE!$E$5:$F$54,2,FALSE))","v":"C"},{"$f":"IF(CE_STORICO!A31=\"\",\"\",CE_STORICO!B31)","v":"Altri costi amministrativi"},{"$f":"IF(CE_STORICO!C31=\"\",\"\",CE_STORICO!C31)","v":""},{"$f":"IF(CE_STORICO!D31=\"\",\"\",CE_STORICO!D31)","v":""},{"$f":"IF($A31=\"\",\"\",IF(F$4=\"\",\"\",IF($B31=\"X\",INDIRECT(ADDRESS(11,MATCH(CE_PIANO!F$4,BASE!$B$2:$F$2,0)+1,,,\"BASE\")),IF($B31=\"T\",INDIRECT(ADDRESS(13,MATCH(CE_PIANO!F$4,BASE!$B$2:$F$2,0)+1,,,\"BASE\")),IF(ISERROR(VLOOKUP($A31,Ricavi_Costi!$B$6:$Q$105,COLUMN(Ricavi_Costi!M$4)-1,FALSE)),0,VLOOKUP($A31,Ricavi_Costi!$B$6:$Q$105,COLUMN(Ricavi_Costi!M$4)-1,FALSE))))))","v":-1000},{"$f":"IF($A31=\"\",\"\",IF(G$4=\"\",\"\",IF($B31=\"X\",INDIRECT(ADDRESS(11,MATCH(CE_PIANO!G$4,BASE!$B$2:$F$2,0)+1,,,\"BASE\")),IF($B31=\"T\",INDIRECT(ADDRESS(13,MATCH(CE_PIANO!G$4,BASE!$B$2:$F$2,0)+1,,,\"BASE\")),IF(ISERROR(VLOOKUP($A31,Ricavi_Costi!$B$6:$Q$105,COLUMN(Ricavi_Costi!N$4)-1,FALSE)),0,VLOOKUP($A31,Ricavi_Costi!$B$6:$Q$105,COLUMN(Ricavi_Costi!N$4)-1,FALSE))))))","v":-1250},{"$f":"IF($A31=\"\",\"\",IF(H$4=\"\",\"\",IF($B31=\"X\",INDIRECT(ADDRESS(11,MATCH(CE_PIANO!H$4,BASE!$B$2:$F$2,0)+1,,,\"BASE\")),IF($B31=\"T\",INDIRECT(ADDRESS(13,MATCH(CE_PIANO!H$4,BASE!$B$2:$F$2,0)+1,,,\"BASE\")),IF(ISERROR(VLOOKUP($A31,Ricavi_Costi!$B$6:$Q$105,COLUMN(Ricavi_Costi!O$4)-1,FALSE)),0,VLOOKUP($A31,Ricavi_Costi!$B$6:$Q$105,COLUMN(Ricavi_Costi!O$4)-1,FALSE))))))","v":-1100}]
[{"$f":"IF(CE_STORICO!A32=\"\",\"\",CE_STORICO!A32)","v":"030299_COSTI AMMINISTRATIVI"},{"$f":"IF($A32=\"\",\"\",VLOOKUP(A32,SCHEMA_CE!$E$5:$F$54,2,FALSE))","v":0},{"$f":"IF(CE_STORICO!A32=\"\",\"\",CE_STORICO!B32)","v":"COSTI AMMINISTRATIVI"},{"$f":"IF(CE_STORICO!C32=\"\",\"\",CE_STORICO!C32)","v":0},{"$f":"IF(CE_STORICO!D32=\"\",\"\",CE_STORICO!D32)","v":0},{"$f":"SUM(F29:F31)","v":-1750},{"$f":"SUM(G29:G31)","v":-2250},{"$f":"SUM(H29:H31)","v":-2500}]
[{"$f":"IF(CE_STORICO!A33=\"\",\"\",CE_STORICO!A33)","v":""},{"$f":"IF($A33=\"\",\"\",VLOOKUP(A33,SCHEMA_CE!$E$5:$F$54,2,FALSE))","v":""},{"$f":"IF(CE_STORICO!A33=\"\",\"\",CE_STORICO!B33)","v":""},{"$f":"IF(CE_STORICO!C33=\"\",\"\",CE_STORICO!C33)","v":""},{"$f":"IF(CE_STORICO!D33=\"\",\"\",CE_STORICO!D33)","v":""},{"$f":"IF($A33=\"\",\"\",IF(F$4=\"\",\"\",IF($B33=\"X\",INDIRECT(ADDRESS(11,MATCH(CE_PIANO!F$4,BASE!$B$2:$F$2,0)+1,,,\"BASE\")),IF($B33=\"T\",INDIRECT(ADDRESS(13,MATCH(CE_PIANO!F$4,BASE!$B$2:$F$2,0)+1,,,\"BASE\")),IF(ISERROR(VLOOKUP($A33,Ricavi_Costi!$B$6:$Q$105,COLUMN(Ricavi_Costi!M$4)-1,FALSE)),0,VLOOKUP($A33,Ricavi_Costi!$B$6:$Q$105,COLUMN(Ricavi_Costi!M$4)-1,FALSE))))))","v":""},{"$f":"IF($A33=\"\",\"\",IF(G$4=\"\",\"\",IF($B33=\"X\",INDIRECT(ADDRESS(11,MATCH(CE_PIANO!G$4,BASE!$B$2:$F$2,0)+1,,,\"BASE\")),IF($B33=\"T\",INDIRECT(ADDRESS(13,MATCH(CE_PIANO!G$4,BASE!$B$2:$F$2,0)+1,,,\"BASE\")),IF(ISERROR(VLOOKUP($A33,Ricavi_Costi!$B$6:$Q$105,COLUMN(Ricavi_Costi!N$4)-1,FALSE)),0,VLOOKUP($A33,Ricavi_Costi!$B$6:$Q$105,COLUMN(Ricavi_Costi!N$4)-1,FALSE))))))","v":""},{"$f":"IF($A33=\"\",\"\",IF(H$4=\"\",\"\",IF($B33=\"X\",INDIRECT(ADDRESS(11,MATCH(CE_PIANO!H$4,BASE!$B$2:$F$2,0)+1,,,\"BASE\")),IF($B33=\"T\",INDIRECT(ADDRESS(13,MATCH(CE_PIANO!H$4,BASE!$B$2:$F$2,0)+1,,,\"BASE\")),IF(ISERROR(VLOOKUP($A33,Ricavi_Costi!$B$6:$Q$105,COLUMN(Ricavi_Costi!O$4)-1,FALSE)),0,VLOOKUP($A33,Ricavi_Costi!$B$6:$Q$105,COLUMN(Ricavi_Costi!O$4)-1,FALSE))))))","v":""}]
[{"$f":"IF(CE_STORICO!A34=\"\",\"\",CE_STORICO!A34)","v":"039901_COSTI DI STRUTTURA"},{"$f":"IF($A34=\"\",\"\",VLOOKUP(A34,SCHEMA_CE!$E$5:$F$54,2,FALSE))","v":0},{"$f":"IF(CE_STORICO!A34=\"\",\"\",CE_STORICO!B34)","v":"COSTI DI STRUTTURA"},{"$f":"IF(CE_STORICO!C34=\"\",\"\",CE_STORICO!C34)","v":0},{"$f":"IF(CE_STORICO!D34=\"\",\"\",CE_STORICO!D34)","v":0},{"$f":"+F27+F32","v":-2940},{"$f":"+G27+G32","v":-3567.5},{"$f":"+H27+H32","v":-3877}]
[{"$f":"IF(CE_STORICO!A35=\"\",\"\",CE_STORICO!A35)","v":""},{"$f":"IF($A35=\"\",\"\",VLOOKUP(A35,SCHEMA_CE!$E$5:$F$54,2,FALSE))","v":""},{"$f":"IF(CE_STORICO!A35=\"\",\"\",CE_STORICO!B35)","v":""},{"$f":"IF(CE_STORICO!C35=\"\",\"\",CE_STORICO!C35)","v":""},{"$f":"IF(CE_STORICO!D35=\"\",\"\",CE_STORICO!D35)","v":""},{"$f":"IF($A35=\"\",\"\",IF(F$4=\"\",\"\",IF($B35=\"X\",INDIRECT(ADDRESS(11,MATCH(CE_PIANO!F$4,BASE!$B$2:$F$2,0)+1,,,\"BASE\")),IF($B35=\"T\",INDIRECT(ADDRESS(13,MATCH(CE_PIANO!F$4,BASE!$B$2:$F$2,0)+1,,,\"BASE\")),IF(ISERROR(VLOOKUP($A35,Ricavi_Costi!$B$6:$Q$105,COLUMN(Ricavi_Costi!M$4)-1,FALSE)),0,VLOOKUP($A35,Ricavi_Costi!$B$6:$Q$105,COLUMN(Ricavi_Costi!M$4)-1,FALSE))))))","v":""},{"$f":"IF($A35=\"\",\"\",IF(G$4=\"\",\"\",IF($B35=\"X\",INDIRECT(ADDRESS(11,MATCH(CE_PIANO!G$4,BASE!$B$2:$F$2,0)+1,,,\"BASE\")),IF($B35=\"T\",INDIRECT(ADDRESS(13,MATCH(CE_PIANO!G$4,BASE!$B$2:$F$2,0)+1,,,\"BASE\")),IF(ISERROR(VLOOKUP($A35,Ricavi_Costi!$B$6:$Q$105,COLUMN(Ricavi_Costi!N$4)-1,FALSE)),0,VLOOKUP($A35,Ricavi_Costi!$B$6:$Q$105,COLUMN(Ricavi_Costi!N$4)-1,FALSE))))))","v":""},{"$f":"IF($A35=\"\",\"\",IF(H$4=\"\",\"\",IF($B35=\"X\",INDIRECT(ADDRESS(11,MATCH(CE_PIANO!H$4,BASE!$B$2:$F$2,0)+1,,,\"BASE\")),IF($B35=\"T\",INDIRECT(ADDRESS(13,MATCH(CE_PIANO!H$4,BASE!$B$2:$F$2,0)+1,,,\"BASE\")),IF(ISERROR(VLOOKUP($A35,Ricavi_Costi!$B$6:$Q$105,COLUMN(Ricavi_Costi!O$4)-1,FALSE)),0,VLOOKUP($A35,Ricavi_Costi!$B$6:$Q$105,COLUMN(Ricavi_Costi!O$4)-1,FALSE))))))","v":""}]
[{"$f":"IF(CE_STORICO!A36=\"\",\"\",CE_STORICO!A36)","v":"039999_REDDITO OPERATIVO"},{"$f":"IF($A36=\"\",\"\",VLOOKUP(A36,SCHEMA_CE!$E$5:$F$54,2,FALSE))","v":0},{"$f":"IF(CE_STORICO!A36=\"\",\"\",CE_STORICO!B36)","v":"REDDITO OPERATIVO"},{"$f":"IF(CE_STORICO!C36=\"\",\"\",CE_STORICO!C36)","v":0},{"$f":"IF(CE_STORICO!D36=\"\",\"\",CE_STORICO!D36)","v":0},{"$f":"+F7+F12+F18+F27+F32","v":4665},{"$f":"+G7+G12+G18+G27+G32","v":4712.5},{"$f":"+H7+H12+H18+H27+H32","v":4633}]
[{"$f":"IF(CE_STORICO!A37=\"\",\"\",CE_STORICO!A37)","v":""},{"$f":"IF($A37=\"\",\"\",VLOOKUP(A37,SCHEMA_CE!$E$5:$F$54,2,FALSE))","v":""},{"$f":"IF(CE_STORICO!A37=\"\",\"\",CE_STORICO!B37)","v":""},{"$f":"IF(CE_STORICO!C37=\"\",\"\",CE_STORICO!C37)","v":""},{"$f":"IF(CE_STORICO!D37=\"\",\"\",CE_STORICO!D37)","v":""},{"$f":"IF($A37=\"\",\"\",IF(F$4=\"\",\"\",IF($B37=\"X\",INDIRECT(ADDRESS(11,MATCH(CE_PIANO!F$4,BASE!$B$2:$F$2,0)+1,,,\"BASE\")),IF($B37=\"T\",INDIRECT(ADDRESS(13,MATCH(CE_PIANO!F$4,BASE!$B$2:$F$2,0)+1,,,\"BASE\")),IF(ISERROR(VLOOKUP($A37,Ricavi_Costi!$B$6:$Q$105,COLUMN(Ricavi_Costi!M$4)-1,FALSE)),0,VLOOKUP($A37,Ricavi_Costi!$B$6:$Q$105,COLUMN(Ricavi_Costi!M$4)-1,FALSE))))))","v":""},{"$f":"IF($A37=\"\",\"\",IF(G$4=\"\",\"\",IF($B37=\"X\",INDIRECT(ADDRESS(11,MATCH(CE_PIANO!G$4,BASE!$B$2:$F$2,0)+1,,,\"BASE\")),IF($B37=\"T\",INDIRECT(ADDRESS(13,MATCH(CE_PIANO!G$4,BASE!$B$2:$F$2,0)+1,,,\"BASE\")),IF(ISERROR(VLOOKUP($A37,Ricavi_Costi!$B$6:$Q$105,COLUMN(Ricavi_Costi!N$4)-1,FALSE)),0,VLOOKUP($A37,Ricavi_Costi!$B$6:$Q$105,COLUMN(Ricavi_Costi!N$4)-1,FALSE))))))","v":""},{"$f":"IF($A37=\"\",\"\",IF(H$4=\"\",\"\",IF($B37=\"X\",INDIRECT(ADDRESS(11,MATCH(CE_PIANO!H$4,BASE!$B$2:$F$2,0)+1,,,\"BASE\")),IF($B37=\"T\",INDIRECT(ADDRESS(13,MATCH(CE_PIANO!H$4,BASE!$B$2:$F$2,0)+1,,,\"BASE\")),IF(ISERROR(VLOOKUP($A37,Ricavi_Costi!$B$6:$Q$105,COLUMN(Ricavi_Costi!O$4)-1,FALSE)),0,VLOOKUP($A37,Ricavi_Costi!$B$6:$Q$105,COLUMN(Ricavi_Costi!O$4)-1,FALSE))))))","v":""}]
[{"$f":"IF(CE_STORICO!A38=\"\",\"\",CE_STORICO!A38)","v":"040101_Proventi di natura extra operativa"},{"$f":"IF($A38=\"\",\"\",VLOOKUP(A38,SCHEMA_CE!$E$5:$F$54,2,FALSE))","v":"R"},{"$f":"IF(CE_STORICO!A38=\"\",\"\",CE_STORICO!B38)","v":"Proventi di natura extra operativa"},{"$f":"IF(CE_STORICO!C38=\"\",\"\",CE_STORICO!C38)","v":""},{"$f":"IF(CE_STORICO!D38=\"\",\"\",CE_STORICO!D38)","v":""},{"$f":"IF($A38=\"\",\"\",IF(F$4=\"\",\"\",IF($B38=\"X\",INDIRECT(ADDRESS(11,MATCH(CE_PIANO!F$4,BASE!$B$2:$F$2,0)+1,,,\"BASE\")),IF($B38=\"T\",INDIRECT(ADDRESS(13,MATCH(CE_PIANO!F$4,BASE!$B$2:$F$2,0)+1,,,\"BASE\")),IF(ISERROR(VLOOKUP($A38,Ricavi_Costi!$B$6:$Q$105,COLUMN(Ricavi_Costi!M$4)-1,FALSE)),0,VLOOKUP($A38,Ricavi_Costi!$B$6:$Q$105,COLUMN(Ricavi_Costi!M$4)-1,FALSE))))))","v":700},{"$f":"IF($A38=\"\",\"\",IF(G$4=\"\",\"\",IF($B38=\"X\",INDIRECT(ADDRESS(11,MATCH(CE_PIANO!G$4,BASE!$B$2:$F$2,0)+1,,,\"BASE\")),IF($B38=\"T\",INDIRECT(ADDRESS(13,MATCH(CE_PIANO!G$4,BASE!$B$2:$F$2,0)+1,,,\"BASE\")),IF(ISERROR(VLOOKUP($A38,Ricavi_Costi!$B$6:$Q$105,COLUMN(Ricavi_Costi!N$4)-1,FALSE)),0,VLOOKUP($A38,Ricavi_Costi!$B$6:$Q$105,COLUMN(Ricavi_Costi!N$4)-1,FALSE))))))","v":775},{"$f":"IF($A38=\"\",\"\",IF(H$4=\"\",\"\",IF($B38=\"X\",INDIRECT(ADDRESS(11,MATCH(CE_PIANO!H$4,BASE!$B$2:$F$2,0)+1,,,\"BASE\")),IF($B38=\"T\",INDIRECT(ADDRESS(13,MATCH(CE_PIANO!H$4,BASE!$B$2:$F$2,0)+1,,,\"BASE\")),IF(ISERROR(VLOOKUP($A38,Ricavi_Costi!$B$6:$Q$105,COLUMN(Ricavi_Costi!O$4)-1,FALSE)),0,VLOOKUP($A38,Ricavi_Costi!$B$6:$Q$105,COLUMN(Ricavi_Costi!O$4)-1,FALSE))))))","v":810}]
[{"$f":"IF(CE_STORICO!A39=\"\",\"\",CE_STORICO!A39)","v":"040102_Oneri di natura extra operativa"},{"$f":"IF($A39=\"\",\"\",VLOOKUP(A39,SCHEMA_CE!$E$5:$F$54,2,FALSE))","v":"C"},{"$f":"IF(CE_STORICO!A39=\"\",\"\",CE_STORICO!B39)","v":"Oneri di natura extra operativa"},{"$f":"IF(CE_STORICO!C39=\"\",\"\",CE_STORICO!C39)","v":""},{"$f":"IF(CE_STORICO!D39=\"\",\"\",CE_STORICO!D39)","v":""},{"$f":"IF($A39=\"\",\"\",IF(F$4=\"\",\"\",IF($B39=\"X\",INDIRECT(ADDRESS(11,MATCH(CE_PIANO!F$4,BASE!$B$2:$F$2,0)+1,,,\"BASE\")),IF($B39=\"T\",INDIRECT(ADDRESS(13,MATCH(CE_PIANO!F$4,BASE!$B$2:$F$2,0)+1,,,\"BASE\")),IF(ISERROR(VLOOKUP($A39,Ricavi_Costi!$B$6:$Q$105,COLUMN(Ricavi_Costi!M$4)-1,FALSE)),0,VLOOKUP($A39,Ricavi_Costi!$B$6:$Q$105,COLUMN(Ricavi_Costi!M$4)-1,FALSE))))))","v":-7},{"$f":"IF($A39=\"\",\"\",IF(G$4=\"\",\"\",IF($B39=\"X\",INDIRECT(ADDRESS(11,MATCH(CE_PIANO!G$4,BASE!$B$2:$F$2,0)+1,,,\"BASE\")),IF($B39=\"T\",INDIRECT(ADDRESS(13,MATCH(CE_PIANO!G$4,BASE!$B$2:$F$2,0)+1,,,\"BASE\")),IF(ISERROR(VLOOKUP($A39,Ricavi_Costi!$B$6:$Q$105,COLUMN(Ricavi_Costi!N$4)-1,FALSE)),0,VLOOKUP($A39,Ricavi_Costi!$B$6:$Q$105,COLUMN(Ricavi_Costi!N$4)-1,FALSE))))))","v":-7.75},{"$f":"IF($A39=\"\",\"\",IF(H$4=\"\",\"\",IF($B39=\"X\",INDIRECT(ADDRESS(11,MATCH(CE_PIANO!H$4,BASE!$B$2:$F$2,0)+1,,,\"BASE\")),IF($B39=\"T\",INDIRECT(ADDRESS(13,MATCH(CE_PIANO!H$4,BASE!$B$2:$F$2,0)+1,,,\"BASE\")),IF(ISERROR(VLOOKUP($A39,Ricavi_Costi!$B$6:$Q$105,COLUMN(Ricavi_Costi!O$4)-1,FALSE)),0,VLOOKUP($A39,Ricavi_Costi!$B$6:$Q$105,COLUMN(Ricavi_Costi!O$4)-1,FALSE))))))","v":-8.1}]
[{"$f":"IF(CE_STORICO!A40=\"\",\"\",CE_STORICO!A40)","v":"040199_ALTRI PROVENTI / ONERI"},{"$f":"IF($A40=\"\",\"\",VLOOKUP(A40,SCHEMA_CE!$E$5:$F$54,2,FALSE))","v":0},{"$f":"IF(CE_STORICO!A40=\"\",\"\",CE_STORICO!B40)","v":"ALTRI PROVENTI / ONERI"},{"$f":"IF(CE_STORICO!C40=\"\",\"\",CE_STORICO!C40)","v":0},{"$f":"IF(CE_STORICO!D40=\"\",\"\",CE_STORICO!D40)","v":0},{"$f":"SUM(F38:F39)","v":693},{"$f":"SUM(G38:G39)","v":767.25},{"$f":"SUM(H38:H39)","v":801.9}]
[{"$f":"IF(CE_STORICO!A41=\"\",\"\",CE_STORICO!A41)","v":""},{"$f":"IF($A41=\"\",\"\",VLOOKUP(A41,SCHEMA_CE!$E$5:$F$54,2,FALSE))","v":""},{"$f":"IF(CE_STORICO!A41=\"\",\"\",CE_STORICO!B41)","v":""},{"$f":"IF(CE_STORICO!C41=\"\",\"\",CE_STORICO!C41)","v":""},{"$f":"IF(CE_STORICO!D41=\"\",\"\",CE_STORICO!D41)","v":""},{"$f":"IF($A41=\"\",\"\",IF(F$4=\"\",\"\",IF($B41=\"X\",INDIRECT(ADDRESS(11,MATCH(CE_PIANO!F$4,BASE!$B$2:$F$2,0)+1,,,\"BASE\")),IF($B41=\"T\",INDIRECT(ADDRESS(13,MATCH(CE_PIANO!F$4,BASE!$B$2:$F$2,0)+1,,,\"BASE\")),IF(ISERROR(VLOOKUP($A41,Ricavi_Costi!$B$6:$Q$105,COLUMN(Ricavi_Costi!M$4)-1,FALSE)),0,VLOOKUP($A41,Ricavi_Costi!$B$6:$Q$105,COLUMN(Ricavi_Costi!M$4)-1,FALSE))))))","v":""},{"$f":"IF($A41=\"\",\"\",IF(G$4=\"\",\"\",IF($B41=\"X\",INDIRECT(ADDRESS(11,MATCH(CE_PIANO!G$4,BASE!$B$2:$F$2,0)+1,,,\"BASE\")),IF($B41=\"T\",INDIRECT(ADDRESS(13,MATCH(CE_PIANO!G$4,BASE!$B$2:$F$2,0)+1,,,\"BASE\")),IF(ISERROR(VLOOKUP($A41,Ricavi_Costi!$B$6:$Q$105,COLUMN(Ricavi_Costi!N$4)-1,FALSE)),0,VLOOKUP($A41,Ricavi_Costi!$B$6:$Q$105,COLUMN(Ricavi_Costi!N$4)-1,FALSE))))))","v":""},{"$f":"IF($A41=\"\",\"\",IF(H$4=\"\",\"\",IF($B41=\"X\",INDIRECT(ADDRESS(11,MATCH(CE_PIANO!H$4,BASE!$B$2:$F$2,0)+1,,,\"BASE\")),IF($B41=\"T\",INDIRECT(ADDRESS(13,MATCH(CE_PIANO!H$4,BASE!$B$2:$F$2,0)+1,,,\"BASE\")),IF(ISERROR(VLOOKUP($A41,Ricavi_Costi!$B$6:$Q$105,COLUMN(Ricavi_Costi!O$4)-1,FALSE)),0,VLOOKUP($A41,Ricavi_Costi!$B$6:$Q$105,COLUMN(Ricavi_Costi!O$4)-1,FALSE))))))","v":""}]
[{"$f":"IF(CE_STORICO!A42=\"\",\"\",CE_STORICO!A42)","v":"040201_Proventi finanziari"},{"$f":"IF($A42=\"\",\"\",VLOOKUP(A42,SCHEMA_CE!$E$5:$F$54,2,FALSE))","v":"R"},{"$f":"IF(CE_STORICO!A42=\"\",\"\",CE_STORICO!B42)","v":"Proventi finanziari"},{"$f":"IF(CE_STORICO!C42=\"\",\"\",CE_STORICO!C42)","v":""},{"$f":"IF(CE_STORICO!D42=\"\",\"\",CE_STORICO!D42)","v":""},{"$f":"IF($A42=\"\",\"\",IF(F$4=\"\",\"\",IF($B42=\"X\",INDIRECT(ADDRESS(11,MATCH(CE_PIANO!F$4,BASE!$B$2:$F$2,0)+1,,,\"BASE\")),IF($B42=\"T\",INDIRECT(ADDRESS(13,MATCH(CE_PIANO!F$4,BASE!$B$2:$F$2,0)+1,,,\"BASE\")),IF(ISERROR(VLOOKUP($A42,Ricavi_Costi!$B$6:$Q$105,COLUMN(Ricavi_Costi!M$4)-1,FALSE)),0,VLOOKUP($A42,Ricavi_Costi!$B$6:$Q$105,COLUMN(Ricavi_Costi!M$4)-1,FALSE))))))","v":12},{"$f":"IF($A42=\"\",\"\",IF(G$4=\"\",\"\",IF($B42=\"X\",INDIRECT(ADDRESS(11,MATCH(CE_PIANO!G$4,BASE!$B$2:$F$2,0)+1,,,\"BASE\")),IF($B42=\"T\",INDIRECT(ADDRESS(13,MATCH(CE_PIANO!G$4,BASE!$B$2:$F$2,0)+1,,,\"BASE\")),IF(ISERROR(VLOOKUP($A42,Ricavi_Costi!$B$6:$Q$105,COLUMN(Ricavi_Costi!N$4)-1,FALSE)),0,VLOOKUP($A42,Ricavi_Costi!$B$6:$Q$105,COLUMN(Ricavi_Costi!N$4)-1,FALSE))))))","v":15},{"$f":"IF($A42=\"\",\"\",IF(H$4=\"\",\"\",IF($B42=\"X\",INDIRECT(ADDRESS(11,MATCH(CE_PIANO!H$4,BASE!$B$2:$F$2,0)+1,,,\"BASE\")),IF($B42=\"T\",INDIRECT(ADDRESS(13,MATCH(CE_PIANO!H$4,BASE!$B$2:$F$2,0)+1,,,\"BASE\")),IF(ISERROR(VLOOKUP($A42,Ricavi_Costi!$B$6:$Q$105,COLUMN(Ricavi_Costi!O$4)-1,FALSE)),0,VLOOKUP($A42,Ricavi_Costi!$B$6:$Q$105,COLUMN(Ricavi_Costi!O$4)-1,FALSE))))))","v":20}]
[{"$f":"IF(CE_STORICO!A43=\"\",\"\",CE_STORICO!A43)","v":"040211_Oneri finanziari"},{"$f":"IF($A43=\"\",\"\",VLOOKUP(A43,SCHEMA_CE!$E$5:$F$54,2,FALSE))","v":"C"},{"$f":"IF(CE_STORICO!A43=\"\",\"\",CE_STORICO!B43)","v":"Oneri finanziari"},{"$f":"IF(CE_STORICO!C43=\"\",\"\",CE_STORICO!C43)","v":""},{"$f":"IF(CE_STORICO!D43=\"\",\"\",CE_STORICO!D43)","v":""},{"$f":"IF($A43=\"\",\"\",IF(F$4=\"\",\"\",IF($B43=\"X\",INDIRECT(ADDRESS(11,MATCH(CE_PIANO!F$4,BASE!$B$2:$F$2,0)+1,,,\"BASE\")),IF($B43=\"T\",INDIRECT(ADDRESS(13,MATCH(CE_PIANO!F$4,BASE!$B$2:$F$2,0)+1,,,\"BASE\")),IF(ISERROR(VLOOKUP($A43,Ricavi_Costi!$B$6:$Q$105,COLUMN(Ricavi_Costi!M$4)-1,FALSE)),0,VLOOKUP($A43,Ricavi_Costi!$B$6:$Q$105,COLUMN(Ricavi_Costi!M$4)-1,FALSE))))))","v":-20},{"$f":"IF($A43=\"\",\"\",IF(G$4=\"\",\"\",IF($B43=\"X\",INDIRECT(ADDRESS(11,MATCH(CE_PIANO!G$4,BASE!$B$2:$F$2,0)+1,,,\"BASE\")),IF($B43=\"T\",INDIRECT(ADDRESS(13,MATCH(CE_PIANO!G$4,BASE!$B$2:$F$2,0)+1,,,\"BASE\")),IF(ISERROR(VLOOKUP($A43,Ricavi_Costi!$B$6:$Q$105,COLUMN(Ricavi_Costi!N$4)-1,FALSE)),0,VLOOKUP($A43,Ricavi_Costi!$B$6:$Q$105,COLUMN(Ricavi_Costi!N$4)-1,FALSE))))))","v":-15},{"$f":"IF($A43=\"\",\"\",IF(H$4=\"\",\"\",IF($B43=\"X\",INDIRECT(ADDRESS(11,MATCH(CE_PIANO!H$4,BASE!$B$2:$F$2,0)+1,,,\"BASE\")),IF($B43=\"T\",INDIRECT(ADDRESS(13,MATCH(CE_PIANO!H$4,BASE!$B$2:$F$2,0)+1,,,\"BASE\")),IF(ISERROR(VLOOKUP($A43,Ricavi_Costi!$B$6:$Q$105,COLUMN(Ricavi_Costi!O$4)-1,FALSE)),0,VLOOKUP($A43,Ricavi_Costi!$B$6:$Q$105,COLUMN(Ricavi_Costi!O$4)-1,FALSE))))))","v":-40}]
[{"$f":"IF(CE_STORICO!A44=\"\",\"\",CE_STORICO!A44)","v":"040221_Risultato finanziario a breve"},{"$f":"IF($A44=\"\",\"\",VLOOKUP(A44,SCHEMA_CE!$E$5:$F$54,2,FALSE))","v":"X"},{"$f":"IF(CE_STORICO!A44=\"\",\"\",CE_STORICO!B44)","v":"Risultato finanziario a breve"},{"$f":"IF(CE_STORICO!C44=\"\",\"\",CE_STORICO!C44)","v":""},{"$f":"IF(CE_STORICO!D44=\"\",\"\",CE_STORICO!D44)","v":""},{"$f":"IF($A44=\"\",\"\",IF(F$4=\"\",\"\",IF($B44=\"X\",INDIRECT(ADDRESS(11,MATCH(CE_PIANO!F$4,BASE!$B$2:$F$2,0)+1,,,\"BASE\")),IF($B44=\"T\",INDIRECT(ADDRESS(13,MATCH(CE_PIANO!F$4,BASE!$B$2:$F$2,0)+1,,,\"BASE\")),IF(ISERROR(VLOOKUP($A44,Ricavi_Costi!$B$6:$Q$105,COLUMN(Ricavi_Costi!M$4)-1,FALSE)),0,VLOOKUP($A44,Ricavi_Costi!$B$6:$Q$105,COLUMN(Ricavi_Costi!M$4)-1,FALSE))))))","v":164.625},{"$f":"IF($A44=\"\",\"\",IF(G$4=\"\",\"\",IF($B44=\"X\",INDIRECT(ADDRESS(11,MATCH(CE_PIANO!G$4,BASE!$B$2:$F$2,0)+1,,,\"BASE\")),IF($B44=\"T\",INDIRECT(ADDRESS(13,MATCH(CE_PIANO!G$4,BASE!$B$2:$F$2,0)+1,,,\"BASE\")),IF(ISERROR(VLOOKUP($A44,Ricavi_Costi!$B$6:$Q$105,COLUMN(Ricavi_Costi!N$4)-1,FALSE)),0,VLOOKUP($A44,Ricavi_Costi!$B$6:$Q$105,COLUMN(Ricavi_Costi!N$4)-1,FALSE))))))","v":620.359375},{"$f":"IF($A44=\"\",\"\",IF(H$4=\"\",\"\",IF($B44=\"X\",INDIRECT(ADDRESS(11,MATCH(CE_PIANO!H$4,BASE!$B$2:$F$2,0)+1,,,\"BASE\")),IF($B44=\"T\",INDIRECT(ADDRESS(13,MATCH(CE_PIANO!H$4,BASE!$B$2:$F$2,0)+1,,,\"BASE\")),IF(ISERROR(VLOOKUP($A44,Ricavi_Costi!$B$6:$Q$105,COLUMN(Ricavi_Costi!O$4)-1,FALSE)),0,VLOOKUP($A44,Ricavi_Costi!$B$6:$Q$105,COLUMN(Ricavi_Costi!O$4)-1,FALSE))))))","v":910.8752343750001}]
[{"$f":"IF(CE_STORICO!A45=\"\",\"\",CE_STORICO!A45)","v":"040299_PROVENTI / ONERI FINANZIARI"},{"$f":"IF($A45=\"\",\"\",VLOOKUP(A45,SCHEMA_CE!$E$5:$F$54,2,FALSE))","v":0},{"$f":"IF(CE_STORICO!A45=\"\",\"\",CE_STORICO!B45)","v":"PROVENTI / ONERI FINANZIARI"},{"$f":"IF(CE_STORICO!C45=\"\",\"\",CE_STORICO!C45)","v":0},{"$f":"IF(CE_STORICO!D45=\"\",\"\",CE_STORICO!D45)","v":0},{"$f":"SUM(F42:F44)","v":156.625},{"$f":"SUM(G42:G44)","v":620.359375},{"$f":"SUM(H42:H44)","v":890.8752343750001}]
[{"$f":"IF(CE_STORICO!A46=\"\",\"\",CE_STORICO!A46)","v":""},{"$f":"IF($A46=\"\",\"\",VLOOKUP(A46,SCHEMA_CE!$E$5:$F$54,2,FALSE))","v":""},{"$f":"IF(CE_STORICO!A46=\"\",\"\",CE_STORICO!B46)","v":""},{"$f":"IF(CE_STORICO!C46=\"\",\"\",CE_STORICO!C46)","v":""},{"$f":"IF(CE_STORICO!D46=\"\",\"\",CE_STORICO!D46)","v":""},{"$f":"IF($A46=\"\",\"\",IF(F$4=\"\",\"\",IF($B46=\"X\",INDIRECT(ADDRESS(11,MATCH(CE_PIANO!F$4,BASE!$B$2:$F$2,0)+1,,,\"BASE\")),IF($B46=\"T\",INDIRECT(ADDRESS(13,MATCH(CE_PIANO!F$4,BASE!$B$2:$F$2,0)+1,,,\"BASE\")),IF(ISERROR(VLOOKUP($A46,Ricavi_Costi!$B$6:$Q$105,COLUMN(Ricavi_Costi!M$4)-1,FALSE)),0,VLOOKUP($A46,Ricavi_Costi!$B$6:$Q$105,COLUMN(Ricavi_Costi!M$4)-1,FALSE))))))","v":""},{"$f":"IF($A46=\"\",\"\",IF(G$4=\"\",\"\",IF($B46=\"X\",INDIRECT(ADDRESS(11,MATCH(CE_PIANO!G$4,BASE!$B$2:$F$2,0)+1,,,\"BASE\")),IF($B46=\"T\",INDIRECT(ADDRESS(13,MATCH(CE_PIANO!G$4,BASE!$B$2:$F$2,0)+1,,,\"BASE\")),IF(ISERROR(VLOOKUP($A46,Ricavi_Costi!$B$6:$Q$105,COLUMN(Ricavi_Costi!N$4)-1,FALSE)),0,VLOOKUP($A46,Ricavi_Costi!$B$6:$Q$105,COLUMN(Ricavi_Costi!N$4)-1,FALSE))))))","v":""},{"$f":"IF($A46=\"\",\"\",IF(H$4=\"\",\"\",IF($B46=\"X\",INDIRECT(ADDRESS(11,MATCH(CE_PIANO!H$4,BASE!$B$2:$F$2,0)+1,,,\"BASE\")),IF($B46=\"T\",INDIRECT(ADDRESS(13,MATCH(CE_PIANO!H$4,BASE!$B$2:$F$2,0)+1,,,\"BASE\")),IF(ISERROR(VLOOKUP($A46,Ricavi_Costi!$B$6:$Q$105,COLUMN(Ricavi_Costi!O$4)-1,FALSE)),0,VLOOKUP($A46,Ricavi_Costi!$B$6:$Q$105,COLUMN(Ricavi_Costi!O$4)-1,FALSE))))))","v":""}]
[{"$f":"IF(CE_STORICO!A47=\"\",\"\",CE_STORICO!A47)","v":"049999_UTILE ANTE IMPOSTE"},{"$f":"IF($A47=\"\",\"\",VLOOKUP(A47,SCHEMA_CE!$E$5:$F$54,2,FALSE))","v":0},{"$f":"IF(CE_STORICO!A47=\"\",\"\",CE_STORICO!B47)","v":"UTILE ANTE IMPOSTE"},{"$f":"IF(CE_STORICO!C47=\"\",\"\",CE_STORICO!C47)","v":0},{"$f":"IF(CE_STORICO!D47=\"\",\"\",CE_STORICO!D47)","v":0},{"$f":"+F7+F12+F18+F27+F32+F40+F45","v":5514.625},{"$f":"+G7+G12+G18+G27+G32+G40+G45","v":6100.109375},{"$f":"+H7+H12+H18+H27+H32+H40+H45","v":6325.7752343749999}]
[{"$f":"IF(CE_STORICO!A48=\"\",\"\",CE_STORICO!A48)","v":""},{"$f":"IF($A48=\"\",\"\",VLOOKUP(A48,SCHEMA_CE!$E$5:$F$54,2,FALSE))","v":""},{"$f":"IF(CE_STORICO!A48=\"\",\"\",CE_STORICO!B48)","v":""},{"$f":"IF(CE_STORICO!C48=\"\",\"\",CE_STORICO!C48)","v":""},{"$f":"IF(CE_STORICO!D48=\"\",\"\",CE_STORICO!D48)","v":""},{"$f":"IF($A48=\"\",\"\",IF(F$4=\"\",\"\",IF($B48=\"X\",INDIRECT(ADDRESS(11,MATCH(CE_PIANO!F$4,BASE!$B$2:$F$2,0)+1,,,\"BASE\")),IF($B48=\"T\",INDIRECT(ADDRESS(13,MATCH(CE_PIANO!F$4,BASE!$B$2:$F$2,0)+1,,,\"BASE\")),IF(ISERROR(VLOOKUP($A48,Ricavi_Costi!$B$6:$Q$105,COLUMN(Ricavi_Costi!M$4)-1,FALSE)),0,VLOOKUP($A48,Ricavi_Costi!$B$6:$Q$105,COLUMN(Ricavi_Costi!M$4)-1,FALSE))))))","v":""},{"$f":"IF($A48=\"\",\"\",IF(G$4=\"\",\"\",IF($B48=\"X\",INDIRECT(ADDRESS(11,MATCH(CE_PIANO!G$4,BASE!$B$2:$F$2,0)+1,,,\"BASE\")),IF($B48=\"T\",INDIRECT(ADDRESS(13,MATCH(CE_PIANO!G$4,BASE!$B$2:$F$2,0)+1,,,\"BASE\")),IF(ISERROR(VLOOKUP($A48,Ricavi_Costi!$B$6:$Q$105,COLUMN(Ricavi_Costi!N$4)-1,FALSE)),0,VLOOKUP($A48,Ricavi_Costi!$B$6:$Q$105,COLUMN(Ricavi_Costi!N$4)-1,FALSE))))))","v":""},{"$f":"IF($A48=\"\",\"\",IF(H$4=\"\",\"\",IF($B48=\"X\",INDIRECT(ADDRESS(11,MATCH(CE_PIANO!H$4,BASE!$B$2:$F$2,0)+1,,,\"BASE\")),IF($B48=\"T\",INDIRECT(ADDRESS(13,MATCH(CE_PIANO!H$4,BASE!$B$2:$F$2,0)+1,,,\"BASE\")),IF(ISERROR(VLOOKUP($A48,Ricavi_Costi!$B$6:$Q$105,COLUMN(Ricavi_Costi!O$4)-1,FALSE)),0,VLOOKUP($A48,Ricavi_Costi!$B$6:$Q$105,COLUMN(Ricavi_Costi!O$4)-1,FALSE))))))","v":""}]
[{"$f":"IF(CE_STORICO!A49=\"\",\"\",CE_STORICO!A49)","v":"050101_Imposte"},{"$f":"IF($A49=\"\",\"\",VLOOKUP(A49,SCHEMA_CE!$E$5:$F$54,2,FALSE))","v":"T"},{"$f":"IF(CE_STORICO!A49=\"\",\"\",CE_STORICO!B49)","v":"Imposte"},{"$f":"IF(CE_STORICO!C49=\"\",\"\",CE_STORICO!C49)","v":""},{"$f":"IF(CE_STORICO!D49=\"\",\"\",CE_STORICO!D49)","v":""},{"$f":"IF($A49=\"\",\"\",IF(F$4=\"\",\"\",IF($B49=\"X\",INDIRECT(ADDRESS(11,MATCH(CE_PIANO!F$4,BASE!$B$2:$F$2,0)+1,,,\"BASE\")),IF($B49=\"T\",INDIRECT(ADDRESS(13,MATCH(CE_PIANO!F$4,BASE!$B$2:$F$2,0)+1,,,\"BASE\")),IF(ISERROR(VLOOKUP($A49,Ricavi_Costi!$B$6:$Q$105,COLUMN(Ricavi_Costi!M$4)-1,FALSE)),0,VLOOKUP($A49,Ricavi_Costi!$B$6:$Q$105,COLUMN(Ricavi_Costi!M$4)-1,FALSE))))))","v":-2205.85},{"$f":"IF($A49=\"\",\"\",IF(G$4=\"\",\"\",IF($B49=\"X\",INDIRECT(ADDRESS(11,MATCH(CE_PIANO!G$4,BASE!$B$2:$F$2,0)+1,,,\"BASE\")),IF($B49=\"T\",INDIRECT(ADDRESS(13,MATCH(CE_PIANO!G$4,BASE!$B$2:$F$2,0)+1,,,\"BASE\")),IF(ISERROR(VLOOKUP($A49,Ricavi_Costi!$B$6:$Q$105,COLUMN(Ricavi_Costi!N$4)-1,FALSE)),0,VLOOKUP($A49,Ricavi_Costi!$B$6:$Q$105,COLUMN(Ricavi_Costi!N$4)-1,FALSE))))))","v":-2440.0437500000003},{"$f":"IF($A49=\"\",\"\",IF(H$4=\"\",\"\",IF($B49=\"X\",INDIRECT(ADDRESS(11,MATCH(CE_PIANO!H$4,BASE!$B$2:$F$2,0)+1,,,\"BASE\")),IF($B49=\"T\",INDIRECT(ADDRESS(13,MATCH(CE_PIANO!H$4,BASE!$B$2:$F$2,0)+1,,,\"BASE\")),IF(ISERROR(VLOOKUP($A49,Ricavi_Costi!$B$6:$Q$105,COLUMN(Ricavi_Costi!O$4)-1,FALSE)),0,VLOOKUP($A49,Ricavi_Costi!$B$6:$Q$105,COLUMN(Ricavi_Costi!O$4)-1,FALSE))))))","v":-2530.3100937500003}]
[{"$f":"IF(CE_STORICO!A50=\"\",\"\",CE_STORICO!A50)","v":"050199_IMPOSTE DELL'ESERCIZIO"},{"$f":"IF($A50=\"\",\"\",VLOOKUP(A50,SCHEMA_CE!$E$5:$F$54,2,FALSE))","v":0},{"$f":"IF(CE_STORICO!A50=\"\",\"\",CE_STORICO!B50)","v":"IMPOSTE DELL'ESERCIZIO"},{"$f":"IF(CE_STORICO!C50=\"\",\"\",CE_STORICO!C50)","v":0},{"$f":"IF(CE_STORICO!D50=\"\",\"\",CE_STORICO!D50)","v":0},{"$f":"SUM(F49:F49)","v":-2205.85},{"$f":"SUM(G49:G49)","v":-2440.0437500000003},{"$f":"SUM(H49:H49)","v":-2530.3100937500003}]
[{"$f":"IF(CE_STORICO!A51=\"\",\"\",CE_STORICO!A51)","v":""},{"$f":"IF($A51=\"\",\"\",VLOOKUP(A51,SCHEMA_CE!$E$5:$F$54,2,FALSE))","v":""},{"$f":"IF(CE_STORICO!A51=\"\",\"\",CE_STORICO!B51)","v":""},{"$f":"IF(CE_STORICO!C51=\"\",\"\",CE_STORICO!C51)","v":""},{"$f":"IF(CE_STORICO!D51=\"\",\"\",CE_STORICO!D51)","v":""},{"$f":"IF($A51=\"\",\"\",IF(F$4=\"\",\"\",IF($B51=\"X\",INDIRECT(ADDRESS(11,MATCH(CE_PIANO!F$4,BASE!$B$2:$F$2,0)+1,,,\"BASE\")),IF($B51=\"T\",INDIRECT(ADDRESS(13,MATCH(CE_PIANO!F$4,BASE!$B$2:$F$2,0)+1,,,\"BASE\")),IF(ISERROR(VLOOKUP($A51,Ricavi_Costi!$B$6:$Q$105,COLUMN(Ricavi_Costi!M$4)-1,FALSE)),0,VLOOKUP($A51,Ricavi_Costi!$B$6:$Q$105,COLUMN(Ricavi_Costi!M$4)-1,FALSE))))))","v":""},{"$f":"IF($A51=\"\",\"\",IF(G$4=\"\",\"\",IF($B51=\"X\",INDIRECT(ADDRESS(11,MATCH(CE_PIANO!G$4,BASE!$B$2:$F$2,0)+1,,,\"BASE\")),IF($B51=\"T\",INDIRECT(ADDRESS(13,MATCH(CE_PIANO!G$4,BASE!$B$2:$F$2,0)+1,,,\"BASE\")),IF(ISERROR(VLOOKUP($A51,Ricavi_Costi!$B$6:$Q$105,COLUMN(Ricavi_Costi!N$4)-1,FALSE)),0,VLOOKUP($A51,Ricavi_Costi!$B$6:$Q$105,COLUMN(Ricavi_Costi!N$4)-1,FALSE))))))","v":""},{"$f":"IF($A51=\"\",\"\",IF(H$4=\"\",\"\",IF($B51=\"X\",INDIRECT(ADDRESS(11,MATCH(CE_PIANO!H$4,BASE!$B$2:$F$2,0)+1,,,\"BASE\")),IF($B51=\"T\",INDIRECT(ADDRESS(13,MATCH(CE_PIANO!H$4,BASE!$B$2:$F$2,0)+1,,,\"BASE\")),IF(ISERROR(VLOOKUP($A51,Ricavi_Costi!$B$6:$Q$105,COLUMN(Ricavi_Costi!O$4)-1,FALSE)),0,VLOOKUP($A51,Ricavi_Costi!$B$6:$Q$105,COLUMN(Ricavi_Costi!O$4)-1,FALSE))))))","v":""}]
[{"$f":"IF(CE_STORICO!A52=\"\",\"\",CE_STORICO!A52)","v":"069999_UTILE NETTO"},{"$f":"IF($A52=\"\",\"\",VLOOKUP(A52,SCHEMA_CE!$E$5:$F$54,2,FALSE))","v":"U"},{"$f":"IF(CE_STORICO!A52=\"\",\"\",CE_STORICO!B52)","v":"UTILE NETTO"},{"$f":"IF(CE_STORICO!C52=\"\",\"\",CE_STORICO!C52)","v":0},{"$f":"IF(CE_STORICO!D52=\"\",\"\",CE_STORICO!D52)","v":0},{"$f":"+F7+F12+F18+F27+F32+F40+F45+F50","v":3308.7750000000001},{"$f":"+G7+G12+G18+G27+G32+G40+G45+G50","v":3660.0656249999997},{"$f":"+H7+H12+H18+H27+H32+H40+H45+H50","v":3795.4651406249995}]
[{"$f":"IF(CE_STORICO!A53=\"\",\"\",CE_STORICO!A53)","v":""},{"$f":"IF($A53=\"\",\"\",VLOOKUP(A53,SCHEMA_CE!$E$5:$F$54,2,FALSE))","v":""},{"$f":"IF(CE_STORICO!A53=\"\",\"\",CE_STORICO!B53)","v":""},{"$f":"IF(CE_STORICO!C53=\"\",\"\",CE_STORICO!C53)","v":""},{"$f":"IF(CE_STORICO!D53=\"\",\"\",CE_STORICO!D53)","v":""},{"$f":"IF($A53=\"\",\"\",IF(F$4=\"\",\"\",IF($B53=\"X\",INDIRECT(ADDRESS(11,MATCH(CE_PIANO!F$4,BASE!$B$2:$F$2,0)+1,,,\"BASE\")),IF($B53=\"T\",INDIRECT(ADDRESS(13,MATCH(CE_PIANO!F$4,BASE!$B$2:$F$2,0)+1,,,\"BASE\")),IF(ISERROR(VLOOKUP($A53,Ricavi_Costi!$B$6:$Q$105,COLUMN(Ricavi_Costi!M$4)-1,FALSE)),0,VLOOKUP($A53,Ricavi_Costi!$B$6:$Q$105,COLUMN(Ricavi_Costi!M$4)-1,FALSE))))))","v":""},{"$f":"IF($A53=\"\",\"\",IF(G$4=\"\",\"\",IF($B53=\"X\",INDIRECT(ADDRESS(11,MATCH(CE_PIANO!G$4,BASE!$B$2:$F$2,0)+1,,,\"BASE\")),IF($B53=\"T\",INDIRECT(ADDRESS(13,MATCH(CE_PIANO!G$4,BASE!$B$2:$F$2,0)+1,,,\"BASE\")),IF(ISERROR(VLOOKUP($A53,Ricavi_Costi!$B$6:$Q$105,COLUMN(Ricavi_Costi!N$4)-1,FALSE)),0,VLOOKUP($A53,Ricavi_Costi!$B$6:$Q$105,COLUMN(Ricavi_Costi!N$4)-1,FALSE))))))","v":""},{"$f":"IF($A53=\"\",\"\",IF(H$4=\"\",\"\",IF($B53=\"X\",INDIRECT(ADDRESS(11,MATCH(CE_PIANO!H$4,BASE!$B$2:$F$2,0)+1,,,\"BASE\")),IF($B53=\"T\",INDIRECT(ADDRESS(13,MATCH(CE_PIANO!H$4,BASE!$B$2:$F$2,0)+1,,,\"BASE\")),IF(ISERROR(VLOOKUP($A53,Ricavi_Costi!$B$6:$Q$105,COLUMN(Ricavi_Costi!O$4)-1,FALSE)),0,VLOOKUP($A53,Ricavi_Costi!$B$6:$Q$105,COLUMN(Ricavi_Costi!O$4)-1,FALSE))))))","v":""}]
[{"$f":"IF(CE_STORICO!A54=\"\",\"\",CE_STORICO!A54)","v":""},{"$f":"IF($A54=\"\",\"\",VLOOKUP(A54,SCHEMA_CE!$E$5:$F$54,2,FALSE))","v":""},{"$f":"IF(CE_STORICO!A54=\"\",\"\",CE_STORICO!B54)","v":""},{"$f":"IF(CE_STORICO!C54=\"\",\"\",CE_STORICO!C54)","v":""},{"$f":"IF(CE_STORICO!D54=\"\",\"\",CE_STORICO!D54)","v":""},{"$f":"IF($A54=\"\",\"\",IF(F$4=\"\",\"\",IF($B54=\"X\",INDIRECT(ADDRESS(11,MATCH(CE_PIANO!F$4,BASE!$B$2:$F$2,0)+1,,,\"BASE\")),IF($B54=\"T\",INDIRECT(ADDRESS(13,MATCH(CE_PIANO!F$4,BASE!$B$2:$F$2,0)+1,,,\"BASE\")),IF(ISERROR(VLOOKUP($A54,Ricavi_Costi!$B$6:$Q$105,COLUMN(Ricavi_Costi!M$4)-1,FALSE)),0,VLOOKUP($A54,Ricavi_Costi!$B$6:$Q$105,COLUMN(Ricavi_Costi!M$4)-1,FALSE))))))","v":""},{"$f":"IF($A54=\"\",\"\",IF(G$4=\"\",\"\",IF($B54=\"X\",INDIRECT(ADDRESS(11,MATCH(CE_PIANO!G$4,BASE!$B$2:$F$2,0)+1,,,\"BASE\")),IF($B54=\"T\",INDIRECT(ADDRESS(13,MATCH(CE_PIANO!G$4,BASE!$B$2:$F$2,0)+1,,,\"BASE\")),IF(ISERROR(VLOOKUP($A54,Ricavi_Costi!$B$6:$Q$105,COLUMN(Ricavi_Costi!N$4)-1,FALSE)),0,VLOOKUP($A54,Ricavi_Costi!$B$6:$Q$105,COLUMN(Ricavi_Costi!N$4)-1,FALSE))))))","v":""},{"$f":"IF($A54=\"\",\"\",IF(H$4=\"\",\"\",IF($B54=\"X\",INDIRECT(ADDRESS(11,MATCH(CE_PIANO!H$4,BASE!$B$2:$F$2,0)+1,,,\"BASE\")),IF($B54=\"T\",INDIRECT(ADDRESS(13,MATCH(CE_PIANO!H$4,BASE!$B$2:$F$2,0)+1,,,\"BASE\")),IF(ISERROR(VLOOKUP($A54,Ricavi_Costi!$B$6:$Q$105,COLUMN(Ricavi_Costi!O$4)-1,FALSE)),0,VLOOKUP($A54,Ricavi_Costi!$B$6:$Q$105,COLUMN(Ricavi_Costi!O$4)-1,FALSE))))))","v":""}]
[{"$f":"IF(CE_STORICO!A55=\"\",\"\",CE_STORICO!A55)","v":""},{"$f":"IF($A55=\"\",\"\",VLOOKUP(A55,SCHEMA_CE!$E$5:$F$54,2,FALSE))","v":""},{"$f":"IF(CE_STORICO!A55=\"\",\"\",CE_STORICO!B55)","v":""},{"$f":"IF(CE_STORICO!C55=\"\",\"\",CE_STORICO!C55)","v":""},{"$f":"IF(CE_STORICO!D55=\"\",\"\",CE_STORICO!D55)","v":""},{"$f":"IF($A55=\"\",\"\",IF(F$4=\"\",\"\",IF($B55=\"X\",INDIRECT(ADDRESS(11,MATCH(CE_PIANO!F$4,BASE!$B$2:$F$2,0)+1,,,\"BASE\")),IF($B55=\"T\",INDIRECT(ADDRESS(13,MATCH(CE_PIANO!F$4,BASE!$B$2:$F$2,0)+1,,,\"BASE\")),IF(ISERROR(VLOOKUP($A55,Ricavi_Costi!$B$6:$Q$105,COLUMN(Ricavi_Costi!M$4)-1,FALSE)),0,VLOOKUP($A55,Ricavi_Costi!$B$6:$Q$105,COLUMN(Ricavi_Costi!M$4)-1,FALSE))))))","v":""},{"$f":"IF($A55=\"\",\"\",IF(G$4=\"\",\"\",IF($B55=\"X\",INDIRECT(ADDRESS(11,MATCH(CE_PIANO!G$4,BASE!$B$2:$F$2,0)+1,,,\"BASE\")),IF($B55=\"T\",INDIRECT(ADDRESS(13,MATCH(CE_PIANO!G$4,BASE!$B$2:$F$2,0)+1,,,\"BASE\")),IF(ISERROR(VLOOKUP($A55,Ricavi_Costi!$B$6:$Q$105,COLUMN(Ricavi_Costi!N$4)-1,FALSE)),0,VLOOKUP($A55,Ricavi_Costi!$B$6:$Q$105,COLUMN(Ricavi_Costi!N$4)-1,FALSE))))))","v":""},{"$f":"IF($A55=\"\",\"\",IF(H$4=\"\",\"\",IF($B55=\"X\",INDIRECT(ADDRESS(11,MATCH(CE_PIANO!H$4,BASE!$B$2:$F$2,0)+1,,,\"BASE\")),IF($B55=\"T\",INDIRECT(ADDRESS(13,MATCH(CE_PIANO!H$4,BASE!$B$2:$F$2,0)+1,,,\"BASE\")),IF(ISERROR(VLOOKUP($A55,Ricavi_Costi!$B$6:$Q$105,COLUMN(Ricavi_Costi!O$4)-1,FALSE)),0,VLOOKUP($A55,Ricavi_Costi!$B$6:$Q$105,COLUMN(Ricavi_Costi!O$4)-1,FALSE))))))","v":""}]
[{"$f":"IF(CE_STORICO!A56=\"\",\"\",CE_STORICO!A56)","v":""},{"$f":"IF($A56=\"\",\"\",VLOOKUP(A56,SCHEMA_CE!$E$5:$F$54,2,FALSE))","v":""},{"$f":"IF(CE_STORICO!A56=\"\",\"\",CE_STORICO!B56)","v":""},{"$f":"IF(CE_STORICO!C56=\"\",\"\",CE_STORICO!C56)","v":""},{"$f":"IF(CE_STORICO!D56=\"\",\"\",CE_STORICO!D56)","v":""},{"$f":"IF($A56=\"\",\"\",IF(F$4=\"\",\"\",IF($B56=\"X\",INDIRECT(ADDRESS(11,MATCH(CE_PIANO!F$4,BASE!$B$2:$F$2,0)+1,,,\"BASE\")),IF($B56=\"T\",INDIRECT(ADDRESS(13,MATCH(CE_PIANO!F$4,BASE!$B$2:$F$2,0)+1,,,\"BASE\")),IF(ISERROR(VLOOKUP($A56,Ricavi_Costi!$B$6:$Q$105,COLUMN(Ricavi_Costi!M$4)-1,FALSE)),0,VLOOKUP($A56,Ricavi_Costi!$B$6:$Q$105,COLUMN(Ricavi_Costi!M$4)-1,FALSE))))))","v":""},{"$f":"IF($A56=\"\",\"\",IF(G$4=\"\",\"\",IF($B56=\"X\",INDIRECT(ADDRESS(11,MATCH(CE_PIANO!G$4,BASE!$B$2:$F$2,0)+1,,,\"BASE\")),IF($B56=\"T\",INDIRECT(ADDRESS(13,MATCH(CE_PIANO!G$4,BASE!$B$2:$F$2,0)+1,,,\"BASE\")),IF(ISERROR(VLOOKUP($A56,Ricavi_Costi!$B$6:$Q$105,COLUMN(Ricavi_Costi!N$4)-1,FALSE)),0,VLOOKUP($A56,Ricavi_Costi!$B$6:$Q$105,COLUMN(Ricavi_Costi!N$4)-1,FALSE))))))","v":""},{"$f":"IF($A56=\"\",\"\",IF(H$4=\"\",\"\",IF($B56=\"X\",INDIRECT(ADDRESS(11,MATCH(CE_PIANO!H$4,BASE!$B$2:$F$2,0)+1,,,\"BASE\")),IF($B56=\"T\",INDIRECT(ADDRESS(13,MATCH(CE_PIANO!H$4,BASE!$B$2:$F$2,0)+1,,,\"BASE\")),IF(ISERROR(VLOOKUP($A56,Ricavi_Costi!$B$6:$Q$105,COLUMN(Ricavi_Costi!O$4)-1,FALSE)),0,VLOOKUP($A56,Ricavi_Costi!$B$6:$Q$105,COLUMN(Ricavi_Costi!O$4)-1,FALSE))))))","v":""}]
[{"$f":"IF(CE_STORICO!A57=\"\",\"\",CE_STORICO!A57)","v":""},{"$f":"IF($A57=\"\",\"\",VLOOKUP(A57,SCHEMA_CE!$E$5:$F$54,2,FALSE))","v":""},{"$f":"IF(CE_STORICO!A57=\"\",\"\",CE_STORICO!B57)","v":""},{"$f":"IF(CE_STORICO!C57=\"\",\"\",CE_STORICO!C57)","v":""},{"$f":"IF(CE_STORICO!D57=\"\",\"\",CE_STORICO!D57)","v":""},{"$f":"IF($A57=\"\",\"\",IF(F$4=\"\",\"\",IF($B57=\"X\",INDIRECT(ADDRESS(11,MATCH(CE_PIANO!F$4,BASE!$B$2:$F$2,0)+1,,,\"BASE\")),IF($B57=\"T\",INDIRECT(ADDRESS(13,MATCH(CE_PIANO!F$4,BASE!$B$2:$F$2,0)+1,,,\"BASE\")),IF(ISERROR(VLOOKUP($A57,Ricavi_Costi!$B$6:$Q$105,COLUMN(Ricavi_Costi!M$4)-1,FALSE)),0,VLOOKUP($A57,Ricavi_Costi!$B$6:$Q$105,COLUMN(Ricavi_Costi!M$4)-1,FALSE))))))","v":""},{"$f":"IF($A57=\"\",\"\",IF(G$4=\"\",\"\",IF($B57=\"X\",INDIRECT(ADDRESS(11,MATCH(CE_PIANO!G$4,BASE!$B$2:$F$2,0)+1,,,\"BASE\")),IF($B57=\"T\",INDIRECT(ADDRESS(13,MATCH(CE_PIANO!G$4,BASE!$B$2:$F$2,0)+1,,,\"BASE\")),IF(ISERROR(VLOOKUP($A57,Ricavi_Costi!$B$6:$Q$105,COLUMN(Ricavi_Costi!N$4)-1,FALSE)),0,VLOOKUP($A57,Ricavi_Costi!$B$6:$Q$105,COLUMN(Ricavi_Costi!N$4)-1,FALSE))))))","v":""},{"$f":"IF($A57=\"\",\"\",IF(H$4=\"\",\"\",IF($B57=\"X\",INDIRECT(ADDRESS(11,MATCH(CE_PIANO!H$4,BASE!$B$2:$F$2,0)+1,,,\"BASE\")),IF($B57=\"T\",INDIRECT(ADDRESS(13,MATCH(CE_PIANO!H$4,BASE!$B$2:$F$2,0)+1,,,\"BASE\")),IF(ISERROR(VLOOKUP($A57,Ricavi_Costi!$B$6:$Q$105,COLUMN(Ricavi_Costi!O$4)-1,FALSE)),0,VLOOKUP($A57,Ricavi_Costi!$B$6:$Q$105,COLUMN(Ricavi_Costi!O$4)-1,FALSE))))))","v":""}]
[{"$f":"IF(CE_STORICO!A58=\"\",\"\",CE_STORICO!A58)","v":""},{"$f":"IF($A58=\"\",\"\",VLOOKUP(A58,SCHEMA_CE!$E$5:$F$54,2,FALSE))","v":""},{"$f":"IF(CE_STORICO!A58=\"\",\"\",CE_STORICO!B58)","v":""},{"$f":"IF(CE_STORICO!C58=\"\",\"\",CE_STORICO!C58)","v":""},{"$f":"IF(CE_STORICO!D58=\"\",\"\",CE_STORICO!D58)","v":""},{"$f":"IF($A58=\"\",\"\",IF(F$4=\"\",\"\",IF($B58=\"X\",INDIRECT(ADDRESS(11,MATCH(CE_PIANO!F$4,BASE!$B$2:$F$2,0)+1,,,\"BASE\")),IF($B58=\"T\",INDIRECT(ADDRESS(13,MATCH(CE_PIANO!F$4,BASE!$B$2:$F$2,0)+1,,,\"BASE\")),IF(ISERROR(VLOOKUP($A58,Ricavi_Costi!$B$6:$Q$105,COLUMN(Ricavi_Costi!M$4)-1,FALSE)),0,VLOOKUP($A58,Ricavi_Costi!$B$6:$Q$105,COLUMN(Ricavi_Costi!M$4)-1,FALSE))))))","v":""},{"$f":"IF($A58=\"\",\"\",IF(G$4=\"\",\"\",IF($B58=\"X\",INDIRECT(ADDRESS(11,MATCH(CE_PIANO!G$4,BASE!$B$2:$F$2,0)+1,,,\"BASE\")),IF($B58=\"T\",INDIRECT(ADDRESS(13,MATCH(CE_PIANO!G$4,BASE!$B$2:$F$2,0)+1,,,\"BASE\")),IF(ISERROR(VLOOKUP($A58,Ricavi_Costi!$B$6:$Q$105,COLUMN(Ricavi_Costi!N$4)-1,FALSE)),0,VLOOKUP($A58,Ricavi_Costi!$B$6:$Q$105,COLUMN(Ricavi_Costi!N$4)-1,FALSE))))))","v":""},{"$f":"IF($A58=\"\",\"\",IF(H$4=\"\",\"\",IF($B58=\"X\",INDIRECT(ADDRESS(11,MATCH(CE_PIANO!H$4,BASE!$B$2:$F$2,0)+1,,,\"BASE\")),IF($B58=\"T\",INDIRECT(ADDRESS(13,MATCH(CE_PIANO!H$4,BASE!$B$2:$F$2,0)+1,,,\"BASE\")),IF(ISERROR(VLOOKUP($A58,Ricavi_Costi!$B$6:$Q$105,COLUMN(Ricavi_Costi!O$4)-1,FALSE)),0,VLOOKUP($A58,Ricavi_Costi!$B$6:$Q$105,COLUMN(Ricavi_Costi!O$4)-1,FALSE))))))","v":""}]
[{"$f":"IF(CE_STORICO!A59=\"\",\"\",CE_STORICO!A59)","v":""},{"$f":"IF($A59=\"\",\"\",VLOOKUP(A59,SCHEMA_CE!$E$5:$F$54,2,FALSE))","v":""},{"$f":"IF(CE_STORICO!A59=\"\",\"\",CE_STORICO!B59)","v":""},{"$f":"IF(CE_STORICO!C59=\"\",\"\",CE_STORICO!C59)","v":""},{"$f":"IF(CE_STORICO!D59=\"\",\"\",CE_STORICO!D59)","v":""},{"$f":"IF($A59=\"\",\"\",IF(F$4=\"\",\"\",IF($B59=\"X\",INDIRECT(ADDRESS(11,MATCH(CE_PIANO!F$4,BASE!$B$2:$F$2,0)+1,,,\"BASE\")),IF($B59=\"T\",INDIRECT(ADDRESS(13,MATCH(CE_PIANO!F$4,BASE!$B$2:$F$2,0)+1,,,\"BASE\")),IF(ISERROR(VLOOKUP($A59,Ricavi_Costi!$B$6:$Q$105,COLUMN(Ricavi_Costi!M$4)-1,FALSE)),0,VLOOKUP($A59,Ricavi_Costi!$B$6:$Q$105,COLUMN(Ricavi_Costi!M$4)-1,FALSE))))))","v":""},{"$f":"IF($A59=\"\",\"\",IF(G$4=\"\",\"\",IF($B59=\"X\",INDIRECT(ADDRESS(11,MATCH(CE_PIANO!G$4,BASE!$B$2:$F$2,0)+1,,,\"BASE\")),IF($B59=\"T\",INDIRECT(ADDRESS(13,MATCH(CE_PIANO!G$4,BASE!$B$2:$F$2,0)+1,,,\"BASE\")),IF(ISERROR(VLOOKUP($A59,Ricavi_Costi!$B$6:$Q$105,COLUMN(Ricavi_Costi!N$4)-1,FALSE)),0,VLOOKUP($A59,Ricavi_Costi!$B$6:$Q$105,COLUMN(Ricavi_Costi!N$4)-1,FALSE))))))","v":""},{"$f":"IF($A59=\"\",\"\",IF(H$4=\"\",\"\",IF($B59=\"X\",INDIRECT(ADDRESS(11,MATCH(CE_PIANO!H$4,BASE!$B$2:$F$2,0)+1,,,\"BASE\")),IF($B59=\"T\",INDIRECT(ADDRESS(13,MATCH(CE_PIANO!H$4,BASE!$B$2:$F$2,0)+1,,,\"BASE\")),IF(ISERROR(VLOOKUP($A59,Ricavi_Costi!$B$6:$Q$105,COLUMN(Ricavi_Costi!O$4)-1,FALSE)),0,VLOOKUP($A59,Ricavi_Costi!$B$6:$Q$105,COLUMN(Ricavi_Costi!O$4)-1,FALSE))))))","v":""}]
[{"$f":"IF(CE_STORICO!A60=\"\",\"\",CE_STORICO!A60)","v":""},{"$f":"IF($A60=\"\",\"\",VLOOKUP(A60,SCHEMA_CE!$E$5:$F$54,2,FALSE))","v":""},{"$f":"IF(CE_STORICO!A60=\"\",\"\",CE_STORICO!B60)","v":""},{"$f":"IF(CE_STORICO!C60=\"\",\"\",CE_STORICO!C60)","v":""},{"$f":"IF(CE_STORICO!D60=\"\",\"\",CE_STORICO!D60)","v":""},{"$f":"IF($A60=\"\",\"\",IF(F$4=\"\",\"\",IF($B60=\"X\",INDIRECT(ADDRESS(11,MATCH(CE_PIANO!F$4,BASE!$B$2:$F$2,0)+1,,,\"BASE\")),IF($B60=\"T\",INDIRECT(ADDRESS(13,MATCH(CE_PIANO!F$4,BASE!$B$2:$F$2,0)+1,,,\"BASE\")),IF(ISERROR(VLOOKUP($A60,Ricavi_Costi!$B$6:$Q$105,COLUMN(Ricavi_Costi!M$4)-1,FALSE)),0,VLOOKUP($A60,Ricavi_Costi!$B$6:$Q$105,COLUMN(Ricavi_Costi!M$4)-1,FALSE))))))","v":""},{"$f":"IF($A60=\"\",\"\",IF(G$4=\"\",\"\",IF($B60=\"X\",INDIRECT(ADDRESS(11,MATCH(CE_PIANO!G$4,BASE!$B$2:$F$2,0)+1,,,\"BASE\")),IF($B60=\"T\",INDIRECT(ADDRESS(13,MATCH(CE_PIANO!G$4,BASE!$B$2:$F$2,0)+1,,,\"BASE\")),IF(ISERROR(VLOOKUP($A60,Ricavi_Costi!$B$6:$Q$105,COLUMN(Ricavi_Costi!N$4)-1,FALSE)),0,VLOOKUP($A60,Ricavi_Costi!$B$6:$Q$105,COLUMN(Ricavi_Costi!N$4)-1,FALSE))))))","v":""},{"$f":"IF($A60=\"\",\"\",IF(H$4=\"\",\"\",IF($B60=\"X\",INDIRECT(ADDRESS(11,MATCH(CE_PIANO!H$4,BASE!$B$2:$F$2,0)+1,,,\"BASE\")),IF($B60=\"T\",INDIRECT(ADDRESS(13,MATCH(CE_PIANO!H$4,BASE!$B$2:$F$2,0)+1,,,\"BASE\")),IF(ISERROR(VLOOKUP($A60,Ricavi_Costi!$B$6:$Q$105,COLUMN(Ricavi_Costi!O$4)-1,FALSE)),0,VLOOKUP($A60,Ricavi_Costi!$B$6:$Q$105,COLUMN(Ricavi_Costi!O$4)-1,FALSE))))))","v":""}]
[{"$f":"IF(CE_STORICO!A61=\"\",\"\",CE_STORICO!A61)","v":""},{"$f":"IF($A61=\"\",\"\",VLOOKUP(A61,SCHEMA_CE!$E$5:$F$54,2,FALSE))","v":""},{"$f":"IF(CE_STORICO!A61=\"\",\"\",CE_STORICO!B61)","v":""},{"$f":"IF(CE_STORICO!C61=\"\",\"\",CE_STORICO!C61)","v":""},{"$f":"IF(CE_STORICO!D61=\"\",\"\",CE_STORICO!D61)","v":""},{"$f":"IF($A61=\"\",\"\",IF(F$4=\"\",\"\",IF($B61=\"X\",INDIRECT(ADDRESS(11,MATCH(CE_PIANO!F$4,BASE!$B$2:$F$2,0)+1,,,\"BASE\")),IF($B61=\"T\",INDIRECT(ADDRESS(13,MATCH(CE_PIANO!F$4,BASE!$B$2:$F$2,0)+1,,,\"BASE\")),IF(ISERROR(VLOOKUP($A61,Ricavi_Costi!$B$6:$Q$105,COLUMN(Ricavi_Costi!M$4)-1,FALSE)),0,VLOOKUP($A61,Ricavi_Costi!$B$6:$Q$105,COLUMN(Ricavi_Costi!M$4)-1,FALSE))))))","v":""},{"$f":"IF($A61=\"\",\"\",IF(G$4=\"\",\"\",IF($B61=\"X\",INDIRECT(ADDRESS(11,MATCH(CE_PIANO!G$4,BASE!$B$2:$F$2,0)+1,,,\"BASE\")),IF($B61=\"T\",INDIRECT(ADDRESS(13,MATCH(CE_PIANO!G$4,BASE!$B$2:$F$2,0)+1,,,\"BASE\")),IF(ISERROR(VLOOKUP($A61,Ricavi_Costi!$B$6:$Q$105,COLUMN(Ricavi_Costi!N$4)-1,FALSE)),0,VLOOKUP($A61,Ricavi_Costi!$B$6:$Q$105,COLUMN(Ricavi_Costi!N$4)-1,FALSE))))))","v":""},{"$f":"IF($A61=\"\",\"\",IF(H$4=\"\",\"\",IF($B61=\"X\",INDIRECT(ADDRESS(11,MATCH(CE_PIANO!H$4,BASE!$B$2:$F$2,0)+1,,,\"BASE\")),IF($B61=\"T\",INDIRECT(ADDRESS(13,MATCH(CE_PIANO!H$4,BASE!$B$2:$F$2,0)+1,,,\"BASE\")),IF(ISERROR(VLOOKUP($A61,Ricavi_Costi!$B$6:$Q$105,COLUMN(Ricavi_Costi!O$4)-1,FALSE)),0,VLOOKUP($A61,Ricavi_Costi!$B$6:$Q$105,COLUMN(Ricavi_Costi!O$4)-1,FALSE))))))","v":""}]
[{"$f":"IF(CE_STORICO!A62=\"\",\"\",CE_STORICO!A62)","v":""},{"$f":"IF($A62=\"\",\"\",VLOOKUP(A62,SCHEMA_CE!$E$5:$F$54,2,FALSE))","v":""},{"$f":"IF(CE_STORICO!A62=\"\",\"\",CE_STORICO!B62)","v":""},{"$f":"IF(CE_STORICO!C62=\"\",\"\",CE_STORICO!C62)","v":""},{"$f":"IF(CE_STORICO!D62=\"\",\"\",CE_STORICO!D62)","v":""},{"$f":"IF($A62=\"\",\"\",IF(F$4=\"\",\"\",IF($B62=\"X\",INDIRECT(ADDRESS(11,MATCH(CE_PIANO!F$4,BASE!$B$2:$F$2,0)+1,,,\"BASE\")),IF($B62=\"T\",INDIRECT(ADDRESS(13,MATCH(CE_PIANO!F$4,BASE!$B$2:$F$2,0)+1,,,\"BASE\")),IF(ISERROR(VLOOKUP($A62,Ricavi_Costi!$B$6:$Q$105,COLUMN(Ricavi_Costi!M$4)-1,FALSE)),0,VLOOKUP($A62,Ricavi_Costi!$B$6:$Q$105,COLUMN(Ricavi_Costi!M$4)-1,FALSE))))))","v":""},{"$f":"IF($A62=\"\",\"\",IF(G$4=\"\",\"\",IF($B62=\"X\",INDIRECT(ADDRESS(11,MATCH(CE_PIANO!G$4,BASE!$B$2:$F$2,0)+1,,,\"BASE\")),IF($B62=\"T\",INDIRECT(ADDRESS(13,MATCH(CE_PIANO!G$4,BASE!$B$2:$F$2,0)+1,,,\"BASE\")),IF(ISERROR(VLOOKUP($A62,Ricavi_Costi!$B$6:$Q$105,COLUMN(Ricavi_Costi!N$4)-1,FALSE)),0,VLOOKUP($A62,Ricavi_Costi!$B$6:$Q$105,COLUMN(Ricavi_Costi!N$4)-1,FALSE))))))","v":""},{"$f":"IF($A62=\"\",\"\",IF(H$4=\"\",\"\",IF($B62=\"X\",INDIRECT(ADDRESS(11,MATCH(CE_PIANO!H$4,BASE!$B$2:$F$2,0)+1,,,\"BASE\")),IF($B62=\"T\",INDIRECT(ADDRESS(13,MATCH(CE_PIANO!H$4,BASE!$B$2:$F$2,0)+1,,,\"BASE\")),IF(ISERROR(VLOOKUP($A62,Ricavi_Costi!$B$6:$Q$105,COLUMN(Ricavi_Costi!O$4)-1,FALSE)),0,VLOOKUP($A62,Ricavi_Costi!$B$6:$Q$105,COLUMN(Ricavi_Costi!O$4)-1,FALSE))))))","v":""}]
[{"$f":"IF(CE_STORICO!A63=\"\",\"\",CE_STORICO!A63)","v":""},{"$f":"IF($A63=\"\",\"\",VLOOKUP(A63,SCHEMA_CE!$E$5:$F$54,2,FALSE))","v":""},{"$f":"IF(CE_STORICO!A63=\"\",\"\",CE_STORICO!B63)","v":""},{"$f":"IF(CE_STORICO!C63=\"\",\"\",CE_STORICO!C63)","v":""},{"$f":"IF(CE_STORICO!D63=\"\",\"\",CE_STORICO!D63)","v":""},{"$f":"IF($A63=\"\",\"\",IF(F$4=\"\",\"\",IF($B63=\"X\",INDIRECT(ADDRESS(11,MATCH(CE_PIANO!F$4,BASE!$B$2:$F$2,0)+1,,,\"BASE\")),IF($B63=\"T\",INDIRECT(ADDRESS(13,MATCH(CE_PIANO!F$4,BASE!$B$2:$F$2,0)+1,,,\"BASE\")),IF(ISERROR(VLOOKUP($A63,Ricavi_Costi!$B$6:$Q$105,COLUMN(Ricavi_Costi!M$4)-1,FALSE)),0,VLOOKUP($A63,Ricavi_Costi!$B$6:$Q$105,COLUMN(Ricavi_Costi!M$4)-1,FALSE))))))","v":""},{"$f":"IF($A63=\"\",\"\",IF(G$4=\"\",\"\",IF($B63=\"X\",INDIRECT(ADDRESS(11,MATCH(CE_PIANO!G$4,BASE!$B$2:$F$2,0)+1,,,\"BASE\")),IF($B63=\"T\",INDIRECT(ADDRESS(13,MATCH(CE_PIANO!G$4,BASE!$B$2:$F$2,0)+1,,,\"BASE\")),IF(ISERROR(VLOOKUP($A63,Ricavi_Costi!$B$6:$Q$105,COLUMN(Ricavi_Costi!N$4)-1,FALSE)),0,VLOOKUP($A63,Ricavi_Costi!$B$6:$Q$105,COLUMN(Ricavi_Costi!N$4)-1,FALSE))))))","v":""},{"$f":"IF($A63=\"\",\"\",IF(H$4=\"\",\"\",IF($B63=\"X\",INDIRECT(ADDRESS(11,MATCH(CE_PIANO!H$4,BASE!$B$2:$F$2,0)+1,,,\"BASE\")),IF($B63=\"T\",INDIRECT(ADDRESS(13,MATCH(CE_PIANO!H$4,BASE!$B$2:$F$2,0)+1,,,\"BASE\")),IF(ISERROR(VLOOKUP($A63,Ricavi_Costi!$B$6:$Q$105,COLUMN(Ricavi_Costi!O$4)-1,FALSE)),0,VLOOKUP($A63,Ricavi_Costi!$B$6:$Q$105,COLUMN(Ricavi_Costi!O$4)-1,FALSE))))))","v":""}]
[{"$f":"IF(CE_STORICO!A64=\"\",\"\",CE_STORICO!A64)","v":""},{"$f":"IF($A64=\"\",\"\",VLOOKUP(A64,SCHEMA_CE!$E$5:$F$54,2,FALSE))","v":""},{"$f":"IF(CE_STORICO!A64=\"\",\"\",CE_STORICO!B64)","v":""},{"$f":"IF(CE_STORICO!C64=\"\",\"\",CE_STORICO!C64)","v":""},{"$f":"IF(CE_STORICO!D64=\"\",\"\",CE_STORICO!D64)","v":""},{"$f":"IF($A64=\"\",\"\",IF(F$4=\"\",\"\",IF($B64=\"X\",INDIRECT(ADDRESS(11,MATCH(CE_PIANO!F$4,BASE!$B$2:$F$2,0)+1,,,\"BASE\")),IF($B64=\"T\",INDIRECT(ADDRESS(13,MATCH(CE_PIANO!F$4,BASE!$B$2:$F$2,0)+1,,,\"BASE\")),IF(ISERROR(VLOOKUP($A64,Ricavi_Costi!$B$6:$Q$105,COLUMN(Ricavi_Costi!M$4)-1,FALSE)),0,VLOOKUP($A64,Ricavi_Costi!$B$6:$Q$105,COLUMN(Ricavi_Costi!M$4)-1,FALSE))))))","v":""},{"$f":"IF($A64=\"\",\"\",IF(G$4=\"\",\"\",IF($B64=\"X\",INDIRECT(ADDRESS(11,MATCH(CE_PIANO!G$4,BASE!$B$2:$F$2,0)+1,,,\"BASE\")),IF($B64=\"T\",INDIRECT(ADDRESS(13,MATCH(CE_PIANO!G$4,BASE!$B$2:$F$2,0)+1,,,\"BASE\")),IF(ISERROR(VLOOKUP($A64,Ricavi_Costi!$B$6:$Q$105,COLUMN(Ricavi_Costi!N$4)-1,FALSE)),0,VLOOKUP($A64,Ricavi_Costi!$B$6:$Q$105,COLUMN(Ricavi_Costi!N$4)-1,FALSE))))))","v":""},{"$f":"IF($A64=\"\",\"\",IF(H$4=\"\",\"\",IF($B64=\"X\",INDIRECT(ADDRESS(11,MATCH(CE_PIANO!H$4,BASE!$B$2:$F$2,0)+1,,,\"BASE\")),IF($B64=\"T\",INDIRECT(ADDRESS(13,MATCH(CE_PIANO!H$4,BASE!$B$2:$F$2,0)+1,,,\"BASE\")),IF(ISERROR(VLOOKUP($A64,Ricavi_Costi!$B$6:$Q$105,COLUMN(Ricavi_Costi!O$4)-1,FALSE)),0,VLOOKUP($A64,Ricavi_Costi!$B$6:$Q$105,COLUMN(Ricavi_Costi!O$4)-1,FALSE))))))","v":""}]
[{"$f":"IF(CE_STORICO!A65=\"\",\"\",CE_STORICO!A65)","v":""},{"$f":"IF($A65=\"\",\"\",VLOOKUP(A65,SCHEMA_CE!$E$5:$F$54,2,FALSE))","v":""},{"$f":"IF(CE_STORICO!A65=\"\",\"\",CE_STORICO!B65)","v":""},{"$f":"IF(CE_STORICO!C65=\"\",\"\",CE_STORICO!C65)","v":""},{"$f":"IF(CE_STORICO!D65=\"\",\"\",CE_STORICO!D65)","v":""},{"$f":"IF($A65=\"\",\"\",IF(F$4=\"\",\"\",IF($B65=\"X\",INDIRECT(ADDRESS(11,MATCH(CE_PIANO!F$4,BASE!$B$2:$F$2,0)+1,,,\"BASE\")),IF($B65=\"T\",INDIRECT(ADDRESS(13,MATCH(CE_PIANO!F$4,BASE!$B$2:$F$2,0)+1,,,\"BASE\")),IF(ISERROR(VLOOKUP($A65,Ricavi_Costi!$B$6:$Q$105,COLUMN(Ricavi_Costi!M$4)-1,FALSE)),0,VLOOKUP($A65,Ricavi_Costi!$B$6:$Q$105,COLUMN(Ricavi_Costi!M$4)-1,FALSE))))))","v":""},{"$f":"IF($A65=\"\",\"\",IF(G$4=\"\",\"\",IF($B65=\"X\",INDIRECT(ADDRESS(11,MATCH(CE_PIANO!G$4,BASE!$B$2:$F$2,0)+1,,,\"BASE\")),IF($B65=\"T\",INDIRECT(ADDRESS(13,MATCH(CE_PIANO!G$4,BASE!$B$2:$F$2,0)+1,,,\"BASE\")),IF(ISERROR(VLOOKUP($A65,Ricavi_Costi!$B$6:$Q$105,COLUMN(Ricavi_Costi!N$4)-1,FALSE)),0,VLOOKUP($A65,Ricavi_Costi!$B$6:$Q$105,COLUMN(Ricavi_Costi!N$4)-1,FALSE))))))","v":""},{"$f":"IF($A65=\"\",\"\",IF(H$4=\"\",\"\",IF($B65=\"X\",INDIRECT(ADDRESS(11,MATCH(CE_PIANO!H$4,BASE!$B$2:$F$2,0)+1,,,\"BASE\")),IF($B65=\"T\",INDIRECT(ADDRESS(13,MATCH(CE_PIANO!H$4,BASE!$B$2:$F$2,0)+1,,,\"BASE\")),IF(ISERROR(VLOOKUP($A65,Ricavi_Costi!$B$6:$Q$105,COLUMN(Ricavi_Costi!O$4)-1,FALSE)),0,VLOOKUP($A65,Ricavi_Costi!$B$6:$Q$105,COLUMN(Ricavi_Costi!O$4)-1,FALSE))))))","v":""}]
[{"$f":"IF(CE_STORICO!A66=\"\",\"\",CE_STORICO!A66)","v":""},{"$f":"IF($A66=\"\",\"\",VLOOKUP(A66,SCHEMA_CE!$E$5:$F$54,2,FALSE))","v":""},{"$f":"IF(CE_STORICO!A66=\"\",\"\",CE_STORICO!B66)","v":""},{"$f":"IF(CE_STORICO!C66=\"\",\"\",CE_STORICO!C66)","v":""},{"$f":"IF(CE_STORICO!D66=\"\",\"\",CE_STORICO!D66)","v":""},{"$f":"IF($A66=\"\",\"\",IF(F$4=\"\",\"\",IF($B66=\"X\",INDIRECT(ADDRESS(11,MATCH(CE_PIANO!F$4,BASE!$B$2:$F$2,0)+1,,,\"BASE\")),IF($B66=\"T\",INDIRECT(ADDRESS(13,MATCH(CE_PIANO!F$4,BASE!$B$2:$F$2,0)+1,,,\"BASE\")),IF(ISERROR(VLOOKUP($A66,Ricavi_Costi!$B$6:$Q$105,COLUMN(Ricavi_Costi!M$4)-1,FALSE)),0,VLOOKUP($A66,Ricavi_Costi!$B$6:$Q$105,COLUMN(Ricavi_Costi!M$4)-1,FALSE))))))","v":""},{"$f":"IF($A66=\"\",\"\",IF(G$4=\"\",\"\",IF($B66=\"X\",INDIRECT(ADDRESS(11,MATCH(CE_PIANO!G$4,BASE!$B$2:$F$2,0)+1,,,\"BASE\")),IF($B66=\"T\",INDIRECT(ADDRESS(13,MATCH(CE_PIANO!G$4,BASE!$B$2:$F$2,0)+1,,,\"BASE\")),IF(ISERROR(VLOOKUP($A66,Ricavi_Costi!$B$6:$Q$105,COLUMN(Ricavi_Costi!N$4)-1,FALSE)),0,VLOOKUP($A66,Ricavi_Costi!$B$6:$Q$105,COLUMN(Ricavi_Costi!N$4)-1,FALSE))))))","v":""},{"$f":"IF($A66=\"\",\"\",IF(H$4=\"\",\"\",IF($B66=\"X\",INDIRECT(ADDRESS(11,MATCH(CE_PIANO!H$4,BASE!$B$2:$F$2,0)+1,,,\"BASE\")),IF($B66=\"T\",INDIRECT(ADDRESS(13,MATCH(CE_PIANO!H$4,BASE!$B$2:$F$2,0)+1,,,\"BASE\")),IF(ISERROR(VLOOKUP($A66,Ricavi_Costi!$B$6:$Q$105,COLUMN(Ricavi_Costi!O$4)-1,FALSE)),0,VLOOKUP($A66,Ricavi_Costi!$B$6:$Q$105,COLUMN(Ricavi_Costi!O$4)-1,FALSE))))))","v":""}]
[{"$f":"IF(CE_STORICO!A67=\"\",\"\",CE_STORICO!A67)","v":""},{"$f":"IF($A67=\"\",\"\",VLOOKUP(A67,SCHEMA_CE!$E$5:$F$54,2,FALSE))","v":""},{"$f":"IF(CE_STORICO!A67=\"\",\"\",CE_STORICO!B67)","v":""},{"$f":"IF(CE_STORICO!C67=\"\",\"\",CE_STORICO!C67)","v":""},{"$f":"IF(CE_STORICO!D67=\"\",\"\",CE_STORICO!D67)","v":""},{"$f":"IF($A67=\"\",\"\",IF(F$4=\"\",\"\",IF($B67=\"X\",INDIRECT(ADDRESS(11,MATCH(CE_PIANO!F$4,BASE!$B$2:$F$2,0)+1,,,\"BASE\")),IF($B67=\"T\",INDIRECT(ADDRESS(13,MATCH(CE_PIANO!F$4,BASE!$B$2:$F$2,0)+1,,,\"BASE\")),IF(ISERROR(VLOOKUP($A67,Ricavi_Costi!$B$6:$Q$105,COLUMN(Ricavi_Costi!M$4)-1,FALSE)),0,VLOOKUP($A67,Ricavi_Costi!$B$6:$Q$105,COLUMN(Ricavi_Costi!M$4)-1,FALSE))))))","v":""},{"$f":"IF($A67=\"\",\"\",IF(G$4=\"\",\"\",IF($B67=\"X\",INDIRECT(ADDRESS(11,MATCH(CE_PIANO!G$4,BASE!$B$2:$F$2,0)+1,,,\"BASE\")),IF($B67=\"T\",INDIRECT(ADDRESS(13,MATCH(CE_PIANO!G$4,BASE!$B$2:$F$2,0)+1,,,\"BASE\")),IF(ISERROR(VLOOKUP($A67,Ricavi_Costi!$B$6:$Q$105,COLUMN(Ricavi_Costi!N$4)-1,FALSE)),0,VLOOKUP($A67,Ricavi_Costi!$B$6:$Q$105,COLUMN(Ricavi_Costi!N$4)-1,FALSE))))))","v":""},{"$f":"IF($A67=\"\",\"\",IF(H$4=\"\",\"\",IF($B67=\"X\",INDIRECT(ADDRESS(11,MATCH(CE_PIANO!H$4,BASE!$B$2:$F$2,0)+1,,,\"BASE\")),IF($B67=\"T\",INDIRECT(ADDRESS(13,MATCH(CE_PIANO!H$4,BASE!$B$2:$F$2,0)+1,,,\"BASE\")),IF(ISERROR(VLOOKUP($A67,Ricavi_Costi!$B$6:$Q$105,COLUMN(Ricavi_Costi!O$4)-1,FALSE)),0,VLOOKUP($A67,Ricavi_Costi!$B$6:$Q$105,COLUMN(Ricavi_Costi!O$4)-1,FALSE))))))","v":""}]
[{"$f":"IF(CE_STORICO!A68=\"\",\"\",CE_STORICO!A68)","v":""},{"$f":"IF($A68=\"\",\"\",VLOOKUP(A68,SCHEMA_CE!$E$5:$F$54,2,FALSE))","v":""},{"$f":"IF(CE_STORICO!A68=\"\",\"\",CE_STORICO!B68)","v":""},{"$f":"IF(CE_STORICO!C68=\"\",\"\",CE_STORICO!C68)","v":""},{"$f":"IF(CE_STORICO!D68=\"\",\"\",CE_STORICO!D68)","v":""},{"$f":"IF($A68=\"\",\"\",IF(F$4=\"\",\"\",IF($B68=\"X\",INDIRECT(ADDRESS(11,MATCH(CE_PIANO!F$4,BASE!$B$2:$F$2,0)+1,,,\"BASE\")),IF($B68=\"T\",INDIRECT(ADDRESS(13,MATCH(CE_PIANO!F$4,BASE!$B$2:$F$2,0)+1,,,\"BASE\")),IF(ISERROR(VLOOKUP($A68,Ricavi_Costi!$B$6:$Q$105,COLUMN(Ricavi_Costi!M$4)-1,FALSE)),0,VLOOKUP($A68,Ricavi_Costi!$B$6:$Q$105,COLUMN(Ricavi_Costi!M$4)-1,FALSE))))))","v":""},{"$f":"IF($A68=\"\",\"\",IF(G$4=\"\",\"\",IF($B68=\"X\",INDIRECT(ADDRESS(11,MATCH(CE_PIANO!G$4,BASE!$B$2:$F$2,0)+1,,,\"BASE\")),IF($B68=\"T\",INDIRECT(ADDRESS(13,MATCH(CE_PIANO!G$4,BASE!$B$2:$F$2,0)+1,,,\"BASE\")),IF(ISERROR(VLOOKUP($A68,Ricavi_Costi!$B$6:$Q$105,COLUMN(Ricavi_Costi!N$4)-1,FALSE)),0,VLOOKUP($A68,Ricavi_Costi!$B$6:$Q$105,COLUMN(Ricavi_Costi!N$4)-1,FALSE))))))","v":""},{"$f":"IF($A68=\"\",\"\",IF(H$4=\"\",\"\",IF($B68=\"X\",INDIRECT(ADDRESS(11,MATCH(CE_PIANO!H$4,BASE!$B$2:$F$2,0)+1,,,\"BASE\")),IF($B68=\"T\",INDIRECT(ADDRESS(13,MATCH(CE_PIANO!H$4,BASE!$B$2:$F$2,0)+1,,,\"BASE\")),IF(ISERROR(VLOOKUP($A68,Ricavi_Costi!$B$6:$Q$105,COLUMN(Ricavi_Costi!O$4)-1,FALSE)),0,VLOOKUP($A68,Ricavi_Costi!$B$6:$Q$105,COLUMN(Ricavi_Costi!O$4)-1,FALSE))))))","v":""}]
[{"$f":"IF(CE_STORICO!A69=\"\",\"\",CE_STORICO!A69)","v":""},{"$f":"IF($A69=\"\",\"\",VLOOKUP(A69,SCHEMA_CE!$E$5:$F$54,2,FALSE))","v":""},{"$f":"IF(CE_STORICO!A69=\"\",\"\",CE_STORICO!B69)","v":""},{"$f":"IF(CE_STORICO!C69=\"\",\"\",CE_STORICO!C69)","v":""},{"$f":"IF(CE_STORICO!D69=\"\",\"\",CE_STORICO!D69)","v":""},{"$f":"IF($A69=\"\",\"\",IF(F$4=\"\",\"\",IF($B69=\"X\",INDIRECT(ADDRESS(11,MATCH(CE_PIANO!F$4,BASE!$B$2:$F$2,0)+1,,,\"BASE\")),IF($B69=\"T\",INDIRECT(ADDRESS(13,MATCH(CE_PIANO!F$4,BASE!$B$2:$F$2,0)+1,,,\"BASE\")),IF(ISERROR(VLOOKUP($A69,Ricavi_Costi!$B$6:$Q$105,COLUMN(Ricavi_Costi!M$4)-1,FALSE)),0,VLOOKUP($A69,Ricavi_Costi!$B$6:$Q$105,COLUMN(Ricavi_Costi!M$4)-1,FALSE))))))","v":""},{"$f":"IF($A69=\"\",\"\",IF(G$4=\"\",\"\",IF($B69=\"X\",INDIRECT(ADDRESS(11,MATCH(CE_PIANO!G$4,BASE!$B$2:$F$2,0)+1,,,\"BASE\")),IF($B69=\"T\",INDIRECT(ADDRESS(13,MATCH(CE_PIANO!G$4,BASE!$B$2:$F$2,0)+1,,,\"BASE\")),IF(ISERROR(VLOOKUP($A69,Ricavi_Costi!$B$6:$Q$105,COLUMN(Ricavi_Costi!N$4)-1,FALSE)),0,VLOOKUP($A69,Ricavi_Costi!$B$6:$Q$105,COLUMN(Ricavi_Costi!N$4)-1,FALSE))))))","v":""},{"$f":"IF($A69=\"\",\"\",IF(H$4=\"\",\"\",IF($B69=\"X\",INDIRECT(ADDRESS(11,MATCH(CE_PIANO!H$4,BASE!$B$2:$F$2,0)+1,,,\"BASE\")),IF($B69=\"T\",INDIRECT(ADDRESS(13,MATCH(CE_PIANO!H$4,BASE!$B$2:$F$2,0)+1,,,\"BASE\")),IF(ISERROR(VLOOKUP($A69,Ricavi_Costi!$B$6:$Q$105,COLUMN(Ricavi_Costi!O$4)-1,FALSE)),0,VLOOKUP($A69,Ricavi_Costi!$B$6:$Q$105,COLUMN(Ricavi_Costi!O$4)-1,FALSE))))))","v":""}]
[{"$f":"IF(CE_STORICO!A70=\"\",\"\",CE_STORICO!A70)","v":""},{"$f":"IF($A70=\"\",\"\",VLOOKUP(A70,SCHEMA_CE!$E$5:$F$54,2,FALSE))","v":""},{"$f":"IF(CE_STORICO!A70=\"\",\"\",CE_STORICO!B70)","v":""},{"$f":"IF(CE_STORICO!C70=\"\",\"\",CE_STORICO!C70)","v":""},{"$f":"IF(CE_STORICO!D70=\"\",\"\",CE_STORICO!D70)","v":""},{"$f":"IF($A70=\"\",\"\",IF(F$4=\"\",\"\",IF($B70=\"X\",INDIRECT(ADDRESS(11,MATCH(CE_PIANO!F$4,BASE!$B$2:$F$2,0)+1,,,\"BASE\")),IF($B70=\"T\",INDIRECT(ADDRESS(13,MATCH(CE_PIANO!F$4,BASE!$B$2:$F$2,0)+1,,,\"BASE\")),IF(ISERROR(VLOOKUP($A70,Ricavi_Costi!$B$6:$Q$105,COLUMN(Ricavi_Costi!M$4)-1,FALSE)),0,VLOOKUP($A70,Ricavi_Costi!$B$6:$Q$105,COLUMN(Ricavi_Costi!M$4)-1,FALSE))))))","v":""},{"$f":"IF($A70=\"\",\"\",IF(G$4=\"\",\"\",IF($B70=\"X\",INDIRECT(ADDRESS(11,MATCH(CE_PIANO!G$4,BASE!$B$2:$F$2,0)+1,,,\"BASE\")),IF($B70=\"T\",INDIRECT(ADDRESS(13,MATCH(CE_PIANO!G$4,BASE!$B$2:$F$2,0)+1,,,\"BASE\")),IF(ISERROR(VLOOKUP($A70,Ricavi_Costi!$B$6:$Q$105,COLUMN(Ricavi_Costi!N$4)-1,FALSE)),0,VLOOKUP($A70,Ricavi_Costi!$B$6:$Q$105,COLUMN(Ricavi_Costi!N$4)-1,FALSE))))))","v":""},{"$f":"IF($A70=\"\",\"\",IF(H$4=\"\",\"\",IF($B70=\"X\",INDIRECT(ADDRESS(11,MATCH(CE_PIANO!H$4,BASE!$B$2:$F$2,0)+1,,,\"BASE\")),IF($B70=\"T\",INDIRECT(ADDRESS(13,MATCH(CE_PIANO!H$4,BASE!$B$2:$F$2,0)+1,,,\"BASE\")),IF(ISERROR(VLOOKUP($A70,Ricavi_Costi!$B$6:$Q$105,COLUMN(Ricavi_Costi!O$4)-1,FALSE)),0,VLOOKUP($A70,Ricavi_Costi!$B$6:$Q$105,COLUMN(Ricavi_Costi!O$4)-1,FALSE))))))","v":""}]
[{"$f":"IF(CE_STORICO!A71=\"\",\"\",CE_STORICO!A71)","v":""},{"$f":"IF($A71=\"\",\"\",VLOOKUP(A71,SCHEMA_CE!$E$5:$F$54,2,FALSE))","v":""},{"$f":"IF(CE_STORICO!A71=\"\",\"\",CE_STORICO!B71)","v":""},{"$f":"IF(CE_STORICO!C71=\"\",\"\",CE_STORICO!C71)","v":""},{"$f":"IF(CE_STORICO!D71=\"\",\"\",CE_STORICO!D71)","v":""},{"$f":"IF($A71=\"\",\"\",IF(F$4=\"\",\"\",IF($B71=\"X\",INDIRECT(ADDRESS(11,MATCH(CE_PIANO!F$4,BASE!$B$2:$F$2,0)+1,,,\"BASE\")),IF($B71=\"T\",INDIRECT(ADDRESS(13,MATCH(CE_PIANO!F$4,BASE!$B$2:$F$2,0)+1,,,\"BASE\")),IF(ISERROR(VLOOKUP($A71,Ricavi_Costi!$B$6:$Q$105,COLUMN(Ricavi_Costi!M$4)-1,FALSE)),0,VLOOKUP($A71,Ricavi_Costi!$B$6:$Q$105,COLUMN(Ricavi_Costi!M$4)-1,FALSE))))))","v":""},{"$f":"IF($A71=\"\",\"\",IF(G$4=\"\",\"\",IF($B71=\"X\",INDIRECT(ADDRESS(11,MATCH(CE_PIANO!G$4,BASE!$B$2:$F$2,0)+1,,,\"BASE\")),IF($B71=\"T\",INDIRECT(ADDRESS(13,MATCH(CE_PIANO!G$4,BASE!$B$2:$F$2,0)+1,,,\"BASE\")),IF(ISERROR(VLOOKUP($A71,Ricavi_Costi!$B$6:$Q$105,COLUMN(Ricavi_Costi!N$4)-1,FALSE)),0,VLOOKUP($A71,Ricavi_Costi!$B$6:$Q$105,COLUMN(Ricavi_Costi!N$4)-1,FALSE))))))","v":""},{"$f":"IF($A71=\"\",\"\",IF(H$4=\"\",\"\",IF($B71=\"X\",INDIRECT(ADDRESS(11,MATCH(CE_PIANO!H$4,BASE!$B$2:$F$2,0)+1,,,\"BASE\")),IF($B71=\"T\",INDIRECT(ADDRESS(13,MATCH(CE_PIANO!H$4,BASE!$B$2:$F$2,0)+1,,,\"BASE\")),IF(ISERROR(VLOOKUP($A71,Ricavi_Costi!$B$6:$Q$105,COLUMN(Ricavi_Costi!O$4)-1,FALSE)),0,VLOOKUP($A71,Ricavi_Costi!$B$6:$Q$105,COLUMN(Ricavi_Costi!O$4)-1,FALSE))))))","v":""}]
[{"$f":"IF(CE_STORICO!A72=\"\",\"\",CE_STORICO!A72)","v":""},{"$f":"IF($A72=\"\",\"\",VLOOKUP(A72,SCHEMA_CE!$E$5:$F$54,2,FALSE))","v":""},{"$f":"IF(CE_STORICO!A72=\"\",\"\",CE_STORICO!B72)","v":""},{"$f":"IF(CE_STORICO!C72=\"\",\"\",CE_STORICO!C72)","v":""},{"$f":"IF(CE_STORICO!D72=\"\",\"\",CE_STORICO!D72)","v":""},{"$f":"IF($A72=\"\",\"\",IF(F$4=\"\",\"\",IF($B72=\"X\",INDIRECT(ADDRESS(11,MATCH(CE_PIANO!F$4,BASE!$B$2:$F$2,0)+1,,,\"BASE\")),IF($B72=\"T\",INDIRECT(ADDRESS(13,MATCH(CE_PIANO!F$4,BASE!$B$2:$F$2,0)+1,,,\"BASE\")),IF(ISERROR(VLOOKUP($A72,Ricavi_Costi!$B$6:$Q$105,COLUMN(Ricavi_Costi!M$4)-1,FALSE)),0,VLOOKUP($A72,Ricavi_Costi!$B$6:$Q$105,COLUMN(Ricavi_Costi!M$4)-1,FALSE))))))","v":""},{"$f":"IF($A72=\"\",\"\",IF(G$4=\"\",\"\",IF($B72=\"X\",INDIRECT(ADDRESS(11,MATCH(CE_PIANO!G$4,BASE!$B$2:$F$2,0)+1,,,\"BASE\")),IF($B72=\"T\",INDIRECT(ADDRESS(13,MATCH(CE_PIANO!G$4,BASE!$B$2:$F$2,0)+1,,,\"BASE\")),IF(ISERROR(VLOOKUP($A72,Ricavi_Costi!$B$6:$Q$105,COLUMN(Ricavi_Costi!N$4)-1,FALSE)),0,VLOOKUP($A72,Ricavi_Costi!$B$6:$Q$105,COLUMN(Ricavi_Costi!N$4)-1,FALSE))))))","v":""},{"$f":"IF($A72=\"\",\"\",IF(H$4=\"\",\"\",IF($B72=\"X\",INDIRECT(ADDRESS(11,MATCH(CE_PIANO!H$4,BASE!$B$2:$F$2,0)+1,,,\"BASE\")),IF($B72=\"T\",INDIRECT(ADDRESS(13,MATCH(CE_PIANO!H$4,BASE!$B$2:$F$2,0)+1,,,\"BASE\")),IF(ISERROR(VLOOKUP($A72,Ricavi_Costi!$B$6:$Q$105,COLUMN(Ricavi_Costi!O$4)-1,FALSE)),0,VLOOKUP($A72,Ricavi_Costi!$B$6:$Q$105,COLUMN(Ricavi_Costi!O$4)-1,FALSE))))))","v":""}]
[{"$f":"IF(CE_STORICO!A73=\"\",\"\",CE_STORICO!A73)","v":""},{"$f":"IF($A73=\"\",\"\",VLOOKUP(A73,SCHEMA_CE!$E$5:$F$54,2,FALSE))","v":""},{"$f":"IF(CE_STORICO!A73=\"\",\"\",CE_STORICO!B73)","v":""},{"$f":"IF(CE_STORICO!C73=\"\",\"\",CE_STORICO!C73)","v":""},{"$f":"IF(CE_STORICO!D73=\"\",\"\",CE_STORICO!D73)","v":""},{"$f":"IF($A73=\"\",\"\",IF(F$4=\"\",\"\",IF($B73=\"X\",INDIRECT(ADDRESS(11,MATCH(CE_PIANO!F$4,BASE!$B$2:$F$2,0)+1,,,\"BASE\")),IF($B73=\"T\",INDIRECT(ADDRESS(13,MATCH(CE_PIANO!F$4,BASE!$B$2:$F$2,0)+1,,,\"BASE\")),IF(ISERROR(VLOOKUP($A73,Ricavi_Costi!$B$6:$Q$105,COLUMN(Ricavi_Costi!M$4)-1,FALSE)),0,VLOOKUP($A73,Ricavi_Costi!$B$6:$Q$105,COLUMN(Ricavi_Costi!M$4)-1,FALSE))))))","v":""},{"$f":"IF($A73=\"\",\"\",IF(G$4=\"\",\"\",IF($B73=\"X\",INDIRECT(ADDRESS(11,MATCH(CE_PIANO!G$4,BASE!$B$2:$F$2,0)+1,,,\"BASE\")),IF($B73=\"T\",INDIRECT(ADDRESS(13,MATCH(CE_PIANO!G$4,BASE!$B$2:$F$2,0)+1,,,\"BASE\")),IF(ISERROR(VLOOKUP($A73,Ricavi_Costi!$B$6:$Q$105,COLUMN(Ricavi_Costi!N$4)-1,FALSE)),0,VLOOKUP($A73,Ricavi_Costi!$B$6:$Q$105,COLUMN(Ricavi_Costi!N$4)-1,FALSE))))))","v":""},{"$f":"IF($A73=\"\",\"\",IF(H$4=\"\",\"\",IF($B73=\"X\",INDIRECT(ADDRESS(11,MATCH(CE_PIANO!H$4,BASE!$B$2:$F$2,0)+1,,,\"BASE\")),IF($B73=\"T\",INDIRECT(ADDRESS(13,MATCH(CE_PIANO!H$4,BASE!$B$2:$F$2,0)+1,,,\"BASE\")),IF(ISERROR(VLOOKUP($A73,Ricavi_Costi!$B$6:$Q$105,COLUMN(Ricavi_Costi!O$4)-1,FALSE)),0,VLOOKUP($A73,Ricavi_Costi!$B$6:$Q$105,COLUMN(Ricavi_Costi!O$4)-1,FALSE))))))","v":""}]
[{"$f":"IF(CE_STORICO!A74=\"\",\"\",CE_STORICO!A74)","v":""},{"$f":"IF($A74=\"\",\"\",VLOOKUP(A74,SCHEMA_CE!$E$5:$F$54,2,FALSE))","v":""},{"$f":"IF(CE_STORICO!A74=\"\",\"\",CE_STORICO!B74)","v":""},{"$f":"IF(CE_STORICO!C74=\"\",\"\",CE_STORICO!C74)","v":""},{"$f":"IF(CE_STORICO!D74=\"\",\"\",CE_STORICO!D74)","v":""},{"$f":"IF($A74=\"\",\"\",IF(F$4=\"\",\"\",IF($B74=\"X\",INDIRECT(ADDRESS(11,MATCH(CE_PIANO!F$4,BASE!$B$2:$F$2,0)+1,,,\"BASE\")),IF($B74=\"T\",INDIRECT(ADDRESS(13,MATCH(CE_PIANO!F$4,BASE!$B$2:$F$2,0)+1,,,\"BASE\")),IF(ISERROR(VLOOKUP($A74,Ricavi_Costi!$B$6:$Q$105,COLUMN(Ricavi_Costi!M$4)-1,FALSE)),0,VLOOKUP($A74,Ricavi_Costi!$B$6:$Q$105,COLUMN(Ricavi_Costi!M$4)-1,FALSE))))))","v":""},{"$f":"IF($A74=\"\",\"\",IF(G$4=\"\",\"\",IF($B74=\"X\",INDIRECT(ADDRESS(11,MATCH(CE_PIANO!G$4,BASE!$B$2:$F$2,0)+1,,,\"BASE\")),IF($B74=\"T\",INDIRECT(ADDRESS(13,MATCH(CE_PIANO!G$4,BASE!$B$2:$F$2,0)+1,,,\"BASE\")),IF(ISERROR(VLOOKUP($A74,Ricavi_Costi!$B$6:$Q$105,COLUMN(Ricavi_Costi!N$4)-1,FALSE)),0,VLOOKUP($A74,Ricavi_Costi!$B$6:$Q$105,COLUMN(Ricavi_Costi!N$4)-1,FALSE))))))","v":""},{"$f":"IF($A74=\"\",\"\",IF(H$4=\"\",\"\",IF($B74=\"X\",INDIRECT(ADDRESS(11,MATCH(CE_PIANO!H$4,BASE!$B$2:$F$2,0)+1,,,\"BASE\")),IF($B74=\"T\",INDIRECT(ADDRESS(13,MATCH(CE_PIANO!H$4,BASE!$B$2:$F$2,0)+1,,,\"BASE\")),IF(ISERROR(VLOOKUP($A74,Ricavi_Costi!$B$6:$Q$105,COLUMN(Ricavi_Costi!O$4)-1,FALSE)),0,VLOOKUP($A74,Ricavi_Costi!$B$6:$Q$105,COLUMN(Ricavi_Costi!O$4)-1,FALSE))))))","v":""}]
[{"$f":"IF(CE_STORICO!A75=\"\",\"\",CE_STORICO!A75)","v":""},{"$f":"IF($A75=\"\",\"\",VLOOKUP(A75,SCHEMA_CE!$E$5:$F$54,2,FALSE))","v":""},{"$f":"IF(CE_STORICO!A75=\"\",\"\",CE_STORICO!B75)","v":""},{"$f":"IF(CE_STORICO!C75=\"\",\"\",CE_STORICO!C75)","v":""},{"$f":"IF(CE_STORICO!D75=\"\",\"\",CE_STORICO!D75)","v":""},{"$f":"IF($A75=\"\",\"\",IF(F$4=\"\",\"\",IF($B75=\"X\",INDIRECT(ADDRESS(11,MATCH(CE_PIANO!F$4,BASE!$B$2:$F$2,0)+1,,,\"BASE\")),IF($B75=\"T\",INDIRECT(ADDRESS(13,MATCH(CE_PIANO!F$4,BASE!$B$2:$F$2,0)+1,,,\"BASE\")),IF(ISERROR(VLOOKUP($A75,Ricavi_Costi!$B$6:$Q$105,COLUMN(Ricavi_Costi!M$4)-1,FALSE)),0,VLOOKUP($A75,Ricavi_Costi!$B$6:$Q$105,COLUMN(Ricavi_Costi!M$4)-1,FALSE))))))","v":""},{"$f":"IF($A75=\"\",\"\",IF(G$4=\"\",\"\",IF($B75=\"X\",INDIRECT(ADDRESS(11,MATCH(CE_PIANO!G$4,BASE!$B$2:$F$2,0)+1,,,\"BASE\")),IF($B75=\"T\",INDIRECT(ADDRESS(13,MATCH(CE_PIANO!G$4,BASE!$B$2:$F$2,0)+1,,,\"BASE\")),IF(ISERROR(VLOOKUP($A75,Ricavi_Costi!$B$6:$Q$105,COLUMN(Ricavi_Costi!N$4)-1,FALSE)),0,VLOOKUP($A75,Ricavi_Costi!$B$6:$Q$105,COLUMN(Ricavi_Costi!N$4)-1,FALSE))))))","v":""},{"$f":"IF($A75=\"\",\"\",IF(H$4=\"\",\"\",IF($B75=\"X\",INDIRECT(ADDRESS(11,MATCH(CE_PIANO!H$4,BASE!$B$2:$F$2,0)+1,,,\"BASE\")),IF($B75=\"T\",INDIRECT(ADDRESS(13,MATCH(CE_PIANO!H$4,BASE!$B$2:$F$2,0)+1,,,\"BASE\")),IF(ISERROR(VLOOKUP($A75,Ricavi_Costi!$B$6:$Q$105,COLUMN(Ricavi_Costi!O$4)-1,FALSE)),0,VLOOKUP($A75,Ricavi_Costi!$B$6:$Q$105,COLUMN(Ricavi_Costi!O$4)-1,FALSE))))))","v":""}]
[{"$f":"IF(CE_STORICO!A76=\"\",\"\",CE_STORICO!A76)","v":""},{"$f":"IF($A76=\"\",\"\",VLOOKUP(A76,SCHEMA_CE!$E$5:$F$54,2,FALSE))","v":""},{"$f":"IF(CE_STORICO!A76=\"\",\"\",CE_STORICO!B76)","v":""},{"$f":"IF(CE_STORICO!C76=\"\",\"\",CE_STORICO!C76)","v":""},{"$f":"IF(CE_STORICO!D76=\"\",\"\",CE_STORICO!D76)","v":""},{"$f":"IF($A76=\"\",\"\",IF(F$4=\"\",\"\",IF($B76=\"X\",INDIRECT(ADDRESS(11,MATCH(CE_PIANO!F$4,BASE!$B$2:$F$2,0)+1,,,\"BASE\")),IF($B76=\"T\",INDIRECT(ADDRESS(13,MATCH(CE_PIANO!F$4,BASE!$B$2:$F$2,0)+1,,,\"BASE\")),IF(ISERROR(VLOOKUP($A76,Ricavi_Costi!$B$6:$Q$105,COLUMN(Ricavi_Costi!M$4)-1,FALSE)),0,VLOOKUP($A76,Ricavi_Costi!$B$6:$Q$105,COLUMN(Ricavi_Costi!M$4)-1,FALSE))))))","v":""},{"$f":"IF($A76=\"\",\"\",IF(G$4=\"\",\"\",IF($B76=\"X\",INDIRECT(ADDRESS(11,MATCH(CE_PIANO!G$4,BASE!$B$2:$F$2,0)+1,,,\"BASE\")),IF($B76=\"T\",INDIRECT(ADDRESS(13,MATCH(CE_PIANO!G$4,BASE!$B$2:$F$2,0)+1,,,\"BASE\")),IF(ISERROR(VLOOKUP($A76,Ricavi_Costi!$B$6:$Q$105,COLUMN(Ricavi_Costi!N$4)-1,FALSE)),0,VLOOKUP($A76,Ricavi_Costi!$B$6:$Q$105,COLUMN(Ricavi_Costi!N$4)-1,FALSE))))))","v":""},{"$f":"IF($A76=\"\",\"\",IF(H$4=\"\",\"\",IF($B76=\"X\",INDIRECT(ADDRESS(11,MATCH(CE_PIANO!H$4,BASE!$B$2:$F$2,0)+1,,,\"BASE\")),IF($B76=\"T\",INDIRECT(ADDRESS(13,MATCH(CE_PIANO!H$4,BASE!$B$2:$F$2,0)+1,,,\"BASE\")),IF(ISERROR(VLOOKUP($A76,Ricavi_Costi!$B$6:$Q$105,COLUMN(Ricavi_Costi!O$4)-1,FALSE)),0,VLOOKUP($A76,Ricavi_Costi!$B$6:$Q$105,COLUMN(Ricavi_Costi!O$4)-1,FALSE))))))","v":""}]
[{"$f":"IF(CE_STORICO!A77=\"\",\"\",CE_STORICO!A77)","v":""},{"$f":"IF($A77=\"\",\"\",VLOOKUP(A77,SCHEMA_CE!$E$5:$F$54,2,FALSE))","v":""},{"$f":"IF(CE_STORICO!A77=\"\",\"\",CE_STORICO!B77)","v":""},{"$f":"IF(CE_STORICO!C77=\"\",\"\",CE_STORICO!C77)","v":""},{"$f":"IF(CE_STORICO!D77=\"\",\"\",CE_STORICO!D77)","v":""},{"$f":"IF($A77=\"\",\"\",IF(F$4=\"\",\"\",IF($B77=\"X\",INDIRECT(ADDRESS(11,MATCH(CE_PIANO!F$4,BASE!$B$2:$F$2,0)+1,,,\"BASE\")),IF($B77=\"T\",INDIRECT(ADDRESS(13,MATCH(CE_PIANO!F$4,BASE!$B$2:$F$2,0)+1,,,\"BASE\")),IF(ISERROR(VLOOKUP($A77,Ricavi_Costi!$B$6:$Q$105,COLUMN(Ricavi_Costi!M$4)-1,FALSE)),0,VLOOKUP($A77,Ricavi_Costi!$B$6:$Q$105,COLUMN(Ricavi_Costi!M$4)-1,FALSE))))))","v":""},{"$f":"IF($A77=\"\",\"\",IF(G$4=\"\",\"\",IF($B77=\"X\",INDIRECT(ADDRESS(11,MATCH(CE_PIANO!G$4,BASE!$B$2:$F$2,0)+1,,,\"BASE\")),IF($B77=\"T\",INDIRECT(ADDRESS(13,MATCH(CE_PIANO!G$4,BASE!$B$2:$F$2,0)+1,,,\"BASE\")),IF(ISERROR(VLOOKUP($A77,Ricavi_Costi!$B$6:$Q$105,COLUMN(Ricavi_Costi!N$4)-1,FALSE)),0,VLOOKUP($A77,Ricavi_Costi!$B$6:$Q$105,COLUMN(Ricavi_Costi!N$4)-1,FALSE))))))","v":""},{"$f":"IF($A77=\"\",\"\",IF(H$4=\"\",\"\",IF($B77=\"X\",INDIRECT(ADDRESS(11,MATCH(CE_PIANO!H$4,BASE!$B$2:$F$2,0)+1,,,\"BASE\")),IF($B77=\"T\",INDIRECT(ADDRESS(13,MATCH(CE_PIANO!H$4,BASE!$B$2:$F$2,0)+1,,,\"BASE\")),IF(ISERROR(VLOOKUP($A77,Ricavi_Costi!$B$6:$Q$105,COLUMN(Ricavi_Costi!O$4)-1,FALSE)),0,VLOOKUP($A77,Ricavi_Costi!$B$6:$Q$105,COLUMN(Ricavi_Costi!O$4)-1,FALSE))))))","v":""}]
[{"$f":"IF(CE_STORICO!A78=\"\",\"\",CE_STORICO!A78)","v":""},{"$f":"IF($A78=\"\",\"\",VLOOKUP(A78,SCHEMA_CE!$E$5:$F$54,2,FALSE))","v":""},{"$f":"IF(CE_STORICO!A78=\"\",\"\",CE_STORICO!B78)","v":""},{"$f":"IF(CE_STORICO!C78=\"\",\"\",CE_STORICO!C78)","v":""},{"$f":"IF(CE_STORICO!D78=\"\",\"\",CE_STORICO!D78)","v":""},{"$f":"IF($A78=\"\",\"\",IF(F$4=\"\",\"\",IF($B78=\"X\",INDIRECT(ADDRESS(11,MATCH(CE_PIANO!F$4,BASE!$B$2:$F$2,0)+1,,,\"BASE\")),IF($B78=\"T\",INDIRECT(ADDRESS(13,MATCH(CE_PIANO!F$4,BASE!$B$2:$F$2,0)+1,,,\"BASE\")),IF(ISERROR(VLOOKUP($A78,Ricavi_Costi!$B$6:$Q$105,COLUMN(Ricavi_Costi!M$4)-1,FALSE)),0,VLOOKUP($A78,Ricavi_Costi!$B$6:$Q$105,COLUMN(Ricavi_Costi!M$4)-1,FALSE))))))","v":""},{"$f":"IF($A78=\"\",\"\",IF(G$4=\"\",\"\",IF($B78=\"X\",INDIRECT(ADDRESS(11,MATCH(CE_PIANO!G$4,BASE!$B$2:$F$2,0)+1,,,\"BASE\")),IF($B78=\"T\",INDIRECT(ADDRESS(13,MATCH(CE_PIANO!G$4,BASE!$B$2:$F$2,0)+1,,,\"BASE\")),IF(ISERROR(VLOOKUP($A78,Ricavi_Costi!$B$6:$Q$105,COLUMN(Ricavi_Costi!N$4)-1,FALSE)),0,VLOOKUP($A78,Ricavi_Costi!$B$6:$Q$105,COLUMN(Ricavi_Costi!N$4)-1,FALSE))))))","v":""},{"$f":"IF($A78=\"\",\"\",IF(H$4=\"\",\"\",IF($B78=\"X\",INDIRECT(ADDRESS(11,MATCH(CE_PIANO!H$4,BASE!$B$2:$F$2,0)+1,,,\"BASE\")),IF($B78=\"T\",INDIRECT(ADDRESS(13,MATCH(CE_PIANO!H$4,BASE!$B$2:$F$2,0)+1,,,\"BASE\")),IF(ISERROR(VLOOKUP($A78,Ricavi_Costi!$B$6:$Q$105,COLUMN(Ricavi_Costi!O$4)-1,FALSE)),0,VLOOKUP($A78,Ricavi_Costi!$B$6:$Q$105,COLUMN(Ricavi_Costi!O$4)-1,FALSE))))))","v":""}]
[{"$f":"IF(CE_STORICO!A79=\"\",\"\",CE_STORICO!A79)","v":""},{"$f":"IF($A79=\"\",\"\",VLOOKUP(A79,SCHEMA_CE!$E$5:$F$54,2,FALSE))","v":""},{"$f":"IF(CE_STORICO!A79=\"\",\"\",CE_STORICO!B79)","v":""},{"$f":"IF(CE_STORICO!C79=\"\",\"\",CE_STORICO!C79)","v":""},{"$f":"IF(CE_STORICO!D79=\"\",\"\",CE_STORICO!D79)","v":""},{"$f":"IF($A79=\"\",\"\",IF(F$4=\"\",\"\",IF($B79=\"X\",INDIRECT(ADDRESS(11,MATCH(CE_PIANO!F$4,BASE!$B$2:$F$2,0)+1,,,\"BASE\")),IF($B79=\"T\",INDIRECT(ADDRESS(13,MATCH(CE_PIANO!F$4,BASE!$B$2:$F$2,0)+1,,,\"BASE\")),IF(ISERROR(VLOOKUP($A79,Ricavi_Costi!$B$6:$Q$105,COLUMN(Ricavi_Costi!M$4)-1,FALSE)),0,VLOOKUP($A79,Ricavi_Costi!$B$6:$Q$105,COLUMN(Ricavi_Costi!M$4)-1,FALSE))))))","v":""},{"$f":"IF($A79=\"\",\"\",IF(G$4=\"\",\"\",IF($B79=\"X\",INDIRECT(ADDRESS(11,MATCH(CE_PIANO!G$4,BASE!$B$2:$F$2,0)+1,,,\"BASE\")),IF($B79=\"T\",INDIRECT(ADDRESS(13,MATCH(CE_PIANO!G$4,BASE!$B$2:$F$2,0)+1,,,\"BASE\")),IF(ISERROR(VLOOKUP($A79,Ricavi_Costi!$B$6:$Q$105,COLUMN(Ricavi_Costi!N$4)-1,FALSE)),0,VLOOKUP($A79,Ricavi_Costi!$B$6:$Q$105,COLUMN(Ricavi_Costi!N$4)-1,FALSE))))))","v":""},{"$f":"IF($A79=\"\",\"\",IF(H$4=\"\",\"\",IF($B79=\"X\",INDIRECT(ADDRESS(11,MATCH(CE_PIANO!H$4,BASE!$B$2:$F$2,0)+1,,,\"BASE\")),IF($B79=\"T\",INDIRECT(ADDRESS(13,MATCH(CE_PIANO!H$4,BASE!$B$2:$F$2,0)+1,,,\"BASE\")),IF(ISERROR(VLOOKUP($A79,Ricavi_Costi!$B$6:$Q$105,COLUMN(Ricavi_Costi!O$4)-1,FALSE)),0,VLOOKUP($A79,Ricavi_Costi!$B$6:$Q$105,COLUMN(Ricavi_Costi!O$4)-1,FALSE))))))","v":""}]
[{"$f":"IF(CE_STORICO!A80=\"\",\"\",CE_STORICO!A80)","v":""},{"$f":"IF($A80=\"\",\"\",VLOOKUP(A80,SCHEMA_CE!$E$5:$F$54,2,FALSE))","v":""},{"$f":"IF(CE_STORICO!A80=\"\",\"\",CE_STORICO!B80)","v":""},{"$f":"IF(CE_STORICO!C80=\"\",\"\",CE_STORICO!C80)","v":""},{"$f":"IF(CE_STORICO!D80=\"\",\"\",CE_STORICO!D80)","v":""},{"$f":"IF($A80=\"\",\"\",IF(F$4=\"\",\"\",IF($B80=\"X\",INDIRECT(ADDRESS(11,MATCH(CE_PIANO!F$4,BASE!$B$2:$F$2,0)+1,,,\"BASE\")),IF($B80=\"T\",INDIRECT(ADDRESS(13,MATCH(CE_PIANO!F$4,BASE!$B$2:$F$2,0)+1,,,\"BASE\")),IF(ISERROR(VLOOKUP($A80,Ricavi_Costi!$B$6:$Q$105,COLUMN(Ricavi_Costi!M$4)-1,FALSE)),0,VLOOKUP($A80,Ricavi_Costi!$B$6:$Q$105,COLUMN(Ricavi_Costi!M$4)-1,FALSE))))))","v":""},{"$f":"IF($A80=\"\",\"\",IF(G$4=\"\",\"\",IF($B80=\"X\",INDIRECT(ADDRESS(11,MATCH(CE_PIANO!G$4,BASE!$B$2:$F$2,0)+1,,,\"BASE\")),IF($B80=\"T\",INDIRECT(ADDRESS(13,MATCH(CE_PIANO!G$4,BASE!$B$2:$F$2,0)+1,,,\"BASE\")),IF(ISERROR(VLOOKUP($A80,Ricavi_Costi!$B$6:$Q$105,COLUMN(Ricavi_Costi!N$4)-1,FALSE)),0,VLOOKUP($A80,Ricavi_Costi!$B$6:$Q$105,COLUMN(Ricavi_Costi!N$4)-1,FALSE))))))","v":""},{"$f":"IF($A80=\"\",\"\",IF(H$4=\"\",\"\",IF($B80=\"X\",INDIRECT(ADDRESS(11,MATCH(CE_PIANO!H$4,BASE!$B$2:$F$2,0)+1,,,\"BASE\")),IF($B80=\"T\",INDIRECT(ADDRESS(13,MATCH(CE_PIANO!H$4,BASE!$B$2:$F$2,0)+1,,,\"BASE\")),IF(ISERROR(VLOOKUP($A80,Ricavi_Costi!$B$6:$Q$105,COLUMN(Ricavi_Costi!O$4)-1,FALSE)),0,VLOOKUP($A80,Ricavi_Costi!$B$6:$Q$105,COLUMN(Ricavi_Costi!O$4)-1,FALSE))))))","v":""}]
[{"$f":"IF(CE_STORICO!A81=\"\",\"\",CE_STORICO!A81)","v":""},{"$f":"IF($A81=\"\",\"\",VLOOKUP(A81,SCHEMA_CE!$E$5:$F$54,2,FALSE))","v":""},{"$f":"IF(CE_STORICO!A81=\"\",\"\",CE_STORICO!B81)","v":""},{"$f":"IF(CE_STORICO!C81=\"\",\"\",CE_STORICO!C81)","v":""},{"$f":"IF(CE_STORICO!D81=\"\",\"\",CE_STORICO!D81)","v":""},{"$f":"IF($A81=\"\",\"\",IF(F$4=\"\",\"\",IF($B81=\"X\",INDIRECT(ADDRESS(11,MATCH(CE_PIANO!F$4,BASE!$B$2:$F$2,0)+1,,,\"BASE\")),IF($B81=\"T\",INDIRECT(ADDRESS(13,MATCH(CE_PIANO!F$4,BASE!$B$2:$F$2,0)+1,,,\"BASE\")),IF(ISERROR(VLOOKUP($A81,Ricavi_Costi!$B$6:$Q$105,COLUMN(Ricavi_Costi!M$4)-1,FALSE)),0,VLOOKUP($A81,Ricavi_Costi!$B$6:$Q$105,COLUMN(Ricavi_Costi!M$4)-1,FALSE))))))","v":""},{"$f":"IF($A81=\"\",\"\",IF(G$4=\"\",\"\",IF($B81=\"X\",INDIRECT(ADDRESS(11,MATCH(CE_PIANO!G$4,BASE!$B$2:$F$2,0)+1,,,\"BASE\")),IF($B81=\"T\",INDIRECT(ADDRESS(13,MATCH(CE_PIANO!G$4,BASE!$B$2:$F$2,0)+1,,,\"BASE\")),IF(ISERROR(VLOOKUP($A81,Ricavi_Costi!$B$6:$Q$105,COLUMN(Ricavi_Costi!N$4)-1,FALSE)),0,VLOOKUP($A81,Ricavi_Costi!$B$6:$Q$105,COLUMN(Ricavi_Costi!N$4)-1,FALSE))))))","v":""},{"$f":"IF($A81=\"\",\"\",IF(H$4=\"\",\"\",IF($B81=\"X\",INDIRECT(ADDRESS(11,MATCH(CE_PIANO!H$4,BASE!$B$2:$F$2,0)+1,,,\"BASE\")),IF($B81=\"T\",INDIRECT(ADDRESS(13,MATCH(CE_PIANO!H$4,BASE!$B$2:$F$2,0)+1,,,\"BASE\")),IF(ISERROR(VLOOKUP($A81,Ricavi_Costi!$B$6:$Q$105,COLUMN(Ricavi_Costi!O$4)-1,FALSE)),0,VLOOKUP($A81,Ricavi_Costi!$B$6:$Q$105,COLUMN(Ricavi_Costi!O$4)-1,FALSE))))))","v":""}]
[{"$f":"IF(CE_STORICO!A82=\"\",\"\",CE_STORICO!A82)","v":""},{"$f":"IF($A82=\"\",\"\",VLOOKUP(A82,SCHEMA_CE!$E$5:$F$54,2,FALSE))","v":""},{"$f":"IF(CE_STORICO!A82=\"\",\"\",CE_STORICO!B82)","v":""},{"$f":"IF(CE_STORICO!C82=\"\",\"\",CE_STORICO!C82)","v":""},{"$f":"IF(CE_STORICO!D82=\"\",\"\",CE_STORICO!D82)","v":""},{"$f":"IF($A82=\"\",\"\",IF(F$4=\"\",\"\",IF($B82=\"X\",INDIRECT(ADDRESS(11,MATCH(CE_PIANO!F$4,BASE!$B$2:$F$2,0)+1,,,\"BASE\")),IF($B82=\"T\",INDIRECT(ADDRESS(13,MATCH(CE_PIANO!F$4,BASE!$B$2:$F$2,0)+1,,,\"BASE\")),IF(ISERROR(VLOOKUP($A82,Ricavi_Costi!$B$6:$Q$105,COLUMN(Ricavi_Costi!M$4)-1,FALSE)),0,VLOOKUP($A82,Ricavi_Costi!$B$6:$Q$105,COLUMN(Ricavi_Costi!M$4)-1,FALSE))))))","v":""},{"$f":"IF($A82=\"\",\"\",IF(G$4=\"\",\"\",IF($B82=\"X\",INDIRECT(ADDRESS(11,MATCH(CE_PIANO!G$4,BASE!$B$2:$F$2,0)+1,,,\"BASE\")),IF($B82=\"T\",INDIRECT(ADDRESS(13,MATCH(CE_PIANO!G$4,BASE!$B$2:$F$2,0)+1,,,\"BASE\")),IF(ISERROR(VLOOKUP($A82,Ricavi_Costi!$B$6:$Q$105,COLUMN(Ricavi_Costi!N$4)-1,FALSE)),0,VLOOKUP($A82,Ricavi_Costi!$B$6:$Q$105,COLUMN(Ricavi_Costi!N$4)-1,FALSE))))))","v":""},{"$f":"IF($A82=\"\",\"\",IF(H$4=\"\",\"\",IF($B82=\"X\",INDIRECT(ADDRESS(11,MATCH(CE_PIANO!H$4,BASE!$B$2:$F$2,0)+1,,,\"BASE\")),IF($B82=\"T\",INDIRECT(ADDRESS(13,MATCH(CE_PIANO!H$4,BASE!$B$2:$F$2,0)+1,,,\"BASE\")),IF(ISERROR(VLOOKUP($A82,Ricavi_Costi!$B$6:$Q$105,COLUMN(Ricavi_Costi!O$4)-1,FALSE)),0,VLOOKUP($A82,Ricavi_Costi!$B$6:$Q$105,COLUMN(Ricavi_Costi!O$4)-1,FALSE))))))","v":""}]
[{"$f":"IF(CE_STORICO!A83=\"\",\"\",CE_STORICO!A83)","v":""},{"$f":"IF($A83=\"\",\"\",VLOOKUP(A83,SCHEMA_CE!$E$5:$F$54,2,FALSE))","v":""},{"$f":"IF(CE_STORICO!A83=\"\",\"\",CE_STORICO!B83)","v":""},{"$f":"IF(CE_STORICO!C83=\"\",\"\",CE_STORICO!C83)","v":""},{"$f":"IF(CE_STORICO!D83=\"\",\"\",CE_STORICO!D83)","v":""},{"$f":"IF($A83=\"\",\"\",IF(F$4=\"\",\"\",IF($B83=\"X\",INDIRECT(ADDRESS(11,MATCH(CE_PIANO!F$4,BASE!$B$2:$F$2,0)+1,,,\"BASE\")),IF($B83=\"T\",INDIRECT(ADDRESS(13,MATCH(CE_PIANO!F$4,BASE!$B$2:$F$2,0)+1,,,\"BASE\")),IF(ISERROR(VLOOKUP($A83,Ricavi_Costi!$B$6:$Q$105,COLUMN(Ricavi_Costi!M$4)-1,FALSE)),0,VLOOKUP($A83,Ricavi_Costi!$B$6:$Q$105,COLUMN(Ricavi_Costi!M$4)-1,FALSE))))))","v":""},{"$f":"IF($A83=\"\",\"\",IF(G$4=\"\",\"\",IF($B83=\"X\",INDIRECT(ADDRESS(11,MATCH(CE_PIANO!G$4,BASE!$B$2:$F$2,0)+1,,,\"BASE\")),IF($B83=\"T\",INDIRECT(ADDRESS(13,MATCH(CE_PIANO!G$4,BASE!$B$2:$F$2,0)+1,,,\"BASE\")),IF(ISERROR(VLOOKUP($A83,Ricavi_Costi!$B$6:$Q$105,COLUMN(Ricavi_Costi!N$4)-1,FALSE)),0,VLOOKUP($A83,Ricavi_Costi!$B$6:$Q$105,COLUMN(Ricavi_Costi!N$4)-1,FALSE))))))","v":""},{"$f":"IF($A83=\"\",\"\",IF(H$4=\"\",\"\",IF($B83=\"X\",INDIRECT(ADDRESS(11,MATCH(CE_PIANO!H$4,BASE!$B$2:$F$2,0)+1,,,\"BASE\")),IF($B83=\"T\",INDIRECT(ADDRESS(13,MATCH(CE_PIANO!H$4,BASE!$B$2:$F$2,0)+1,,,\"BASE\")),IF(ISERROR(VLOOKUP($A83,Ricavi_Costi!$B$6:$Q$105,COLUMN(Ricavi_Costi!O$4)-1,FALSE)),0,VLOOKUP($A83,Ricavi_Costi!$B$6:$Q$105,COLUMN(Ricavi_Costi!O$4)-1,FALSE))))))","v":""}]
[{"$f":"IF(CE_STORICO!A84=\"\",\"\",CE_STORICO!A84)","v":""},{"$f":"IF($A84=\"\",\"\",VLOOKUP(A84,SCHEMA_CE!$E$5:$F$54,2,FALSE))","v":""},{"$f":"IF(CE_STORICO!A84=\"\",\"\",CE_STORICO!B84)","v":""},{"$f":"IF(CE_STORICO!C84=\"\",\"\",CE_STORICO!C84)","v":""},{"$f":"IF(CE_STORICO!D84=\"\",\"\",CE_STORICO!D84)","v":""},{"$f":"IF($A84=\"\",\"\",IF(F$4=\"\",\"\",IF($B84=\"X\",INDIRECT(ADDRESS(11,MATCH(CE_PIANO!F$4,BASE!$B$2:$F$2,0)+1,,,\"BASE\")),IF($B84=\"T\",INDIRECT(ADDRESS(13,MATCH(CE_PIANO!F$4,BASE!$B$2:$F$2,0)+1,,,\"BASE\")),IF(ISERROR(VLOOKUP($A84,Ricavi_Costi!$B$6:$Q$105,COLUMN(Ricavi_Costi!M$4)-1,FALSE)),0,VLOOKUP($A84,Ricavi_Costi!$B$6:$Q$105,COLUMN(Ricavi_Costi!M$4)-1,FALSE))))))","v":""},{"$f":"IF($A84=\"\",\"\",IF(G$4=\"\",\"\",IF($B84=\"X\",INDIRECT(ADDRESS(11,MATCH(CE_PIANO!G$4,BASE!$B$2:$F$2,0)+1,,,\"BASE\")),IF($B84=\"T\",INDIRECT(ADDRESS(13,MATCH(CE_PIANO!G$4,BASE!$B$2:$F$2,0)+1,,,\"BASE\")),IF(ISERROR(VLOOKUP($A84,Ricavi_Costi!$B$6:$Q$105,COLUMN(Ricavi_Costi!N$4)-1,FALSE)),0,VLOOKUP($A84,Ricavi_Costi!$B$6:$Q$105,COLUMN(Ricavi_Costi!N$4)-1,FALSE))))))","v":""},{"$f":"IF($A84=\"\",\"\",IF(H$4=\"\",\"\",IF($B84=\"X\",INDIRECT(ADDRESS(11,MATCH(CE_PIANO!H$4,BASE!$B$2:$F$2,0)+1,,,\"BASE\")),IF($B84=\"T\",INDIRECT(ADDRESS(13,MATCH(CE_PIANO!H$4,BASE!$B$2:$F$2,0)+1,,,\"BASE\")),IF(ISERROR(VLOOKUP($A84,Ricavi_Costi!$B$6:$Q$105,COLUMN(Ricavi_Costi!O$4)-1,FALSE)),0,VLOOKUP($A84,Ricavi_Costi!$B$6:$Q$105,COLUMN(Ricavi_Costi!O$4)-1,FALSE))))))","v":""}]
[{"$f":"IF(CE_STORICO!A85=\"\",\"\",CE_STORICO!A85)","v":""},{"$f":"IF($A85=\"\",\"\",VLOOKUP(A85,SCHEMA_CE!$E$5:$F$54,2,FALSE))","v":""},{"$f":"IF(CE_STORICO!A85=\"\",\"\",CE_STORICO!B85)","v":""},{"$f":"IF(CE_STORICO!C85=\"\",\"\",CE_STORICO!C85)","v":""},{"$f":"IF(CE_STORICO!D85=\"\",\"\",CE_STORICO!D85)","v":""},{"$f":"IF($A85=\"\",\"\",IF(F$4=\"\",\"\",IF($B85=\"X\",INDIRECT(ADDRESS(11,MATCH(CE_PIANO!F$4,BASE!$B$2:$F$2,0)+1,,,\"BASE\")),IF($B85=\"T\",INDIRECT(ADDRESS(13,MATCH(CE_PIANO!F$4,BASE!$B$2:$F$2,0)+1,,,\"BASE\")),IF(ISERROR(VLOOKUP($A85,Ricavi_Costi!$B$6:$Q$105,COLUMN(Ricavi_Costi!M$4)-1,FALSE)),0,VLOOKUP($A85,Ricavi_Costi!$B$6:$Q$105,COLUMN(Ricavi_Costi!M$4)-1,FALSE))))))","v":""},{"$f":"IF($A85=\"\",\"\",IF(G$4=\"\",\"\",IF($B85=\"X\",INDIRECT(ADDRESS(11,MATCH(CE_PIANO!G$4,BASE!$B$2:$F$2,0)+1,,,\"BASE\")),IF($B85=\"T\",INDIRECT(ADDRESS(13,MATCH(CE_PIANO!G$4,BASE!$B$2:$F$2,0)+1,,,\"BASE\")),IF(ISERROR(VLOOKUP($A85,Ricavi_Costi!$B$6:$Q$105,COLUMN(Ricavi_Costi!N$4)-1,FALSE)),0,VLOOKUP($A85,Ricavi_Costi!$B$6:$Q$105,COLUMN(Ricavi_Costi!N$4)-1,FALSE))))))","v":""},{"$f":"IF($A85=\"\",\"\",IF(H$4=\"\",\"\",IF($B85=\"X\",INDIRECT(ADDRESS(11,MATCH(CE_PIANO!H$4,BASE!$B$2:$F$2,0)+1,,,\"BASE\")),IF($B85=\"T\",INDIRECT(ADDRESS(13,MATCH(CE_PIANO!H$4,BASE!$B$2:$F$2,0)+1,,,\"BASE\")),IF(ISERROR(VLOOKUP($A85,Ricavi_Costi!$B$6:$Q$105,COLUMN(Ricavi_Costi!O$4)-1,FALSE)),0,VLOOKUP($A85,Ricavi_Costi!$B$6:$Q$105,COLUMN(Ricavi_Costi!O$4)-1,FALSE))))))","v":""}]
[{"$f":"IF(CE_STORICO!A86=\"\",\"\",CE_STORICO!A86)","v":""},{"$f":"IF($A86=\"\",\"\",VLOOKUP(A86,SCHEMA_CE!$E$5:$F$54,2,FALSE))","v":""},{"$f":"IF(CE_STORICO!A86=\"\",\"\",CE_STORICO!B86)","v":""},{"$f":"IF(CE_STORICO!C86=\"\",\"\",CE_STORICO!C86)","v":""},{"$f":"IF(CE_STORICO!D86=\"\",\"\",CE_STORICO!D86)","v":""},{"$f":"IF($A86=\"\",\"\",IF(F$4=\"\",\"\",IF($B86=\"X\",INDIRECT(ADDRESS(11,MATCH(CE_PIANO!F$4,BASE!$B$2:$F$2,0)+1,,,\"BASE\")),IF($B86=\"T\",INDIRECT(ADDRESS(13,MATCH(CE_PIANO!F$4,BASE!$B$2:$F$2,0)+1,,,\"BASE\")),IF(ISERROR(VLOOKUP($A86,Ricavi_Costi!$B$6:$Q$105,COLUMN(Ricavi_Costi!M$4)-1,FALSE)),0,VLOOKUP($A86,Ricavi_Costi!$B$6:$Q$105,COLUMN(Ricavi_Costi!M$4)-1,FALSE))))))","v":""},{"$f":"IF($A86=\"\",\"\",IF(G$4=\"\",\"\",IF($B86=\"X\",INDIRECT(ADDRESS(11,MATCH(CE_PIANO!G$4,BASE!$B$2:$F$2,0)+1,,,\"BASE\")),IF($B86=\"T\",INDIRECT(ADDRESS(13,MATCH(CE_PIANO!G$4,BASE!$B$2:$F$2,0)+1,,,\"BASE\")),IF(ISERROR(VLOOKUP($A86,Ricavi_Costi!$B$6:$Q$105,COLUMN(Ricavi_Costi!N$4)-1,FALSE)),0,VLOOKUP($A86,Ricavi_Costi!$B$6:$Q$105,COLUMN(Ricavi_Costi!N$4)-1,FALSE))))))","v":""},{"$f":"IF($A86=\"\",\"\",IF(H$4=\"\",\"\",IF($B86=\"X\",INDIRECT(ADDRESS(11,MATCH(CE_PIANO!H$4,BASE!$B$2:$F$2,0)+1,,,\"BASE\")),IF($B86=\"T\",INDIRECT(ADDRESS(13,MATCH(CE_PIANO!H$4,BASE!$B$2:$F$2,0)+1,,,\"BASE\")),IF(ISERROR(VLOOKUP($A86,Ricavi_Costi!$B$6:$Q$105,COLUMN(Ricavi_Costi!O$4)-1,FALSE)),0,VLOOKUP($A86,Ricavi_Costi!$B$6:$Q$105,COLUMN(Ricavi_Costi!O$4)-1,FALSE))))))","v":""}]
[{"$f":"IF(CE_STORICO!A87=\"\",\"\",CE_STORICO!A87)","v":""},{"$f":"IF($A87=\"\",\"\",VLOOKUP(A87,SCHEMA_CE!$E$5:$F$54,2,FALSE))","v":""},{"$f":"IF(CE_STORICO!A87=\"\",\"\",CE_STORICO!B87)","v":""},{"$f":"IF(CE_STORICO!C87=\"\",\"\",CE_STORICO!C87)","v":""},{"$f":"IF(CE_STORICO!D87=\"\",\"\",CE_STORICO!D87)","v":""},{"$f":"IF($A87=\"\",\"\",IF(F$4=\"\",\"\",IF($B87=\"X\",INDIRECT(ADDRESS(11,MATCH(CE_PIANO!F$4,BASE!$B$2:$F$2,0)+1,,,\"BASE\")),IF($B87=\"T\",INDIRECT(ADDRESS(13,MATCH(CE_PIANO!F$4,BASE!$B$2:$F$2,0)+1,,,\"BASE\")),IF(ISERROR(VLOOKUP($A87,Ricavi_Costi!$B$6:$Q$105,COLUMN(Ricavi_Costi!M$4)-1,FALSE)),0,VLOOKUP($A87,Ricavi_Costi!$B$6:$Q$105,COLUMN(Ricavi_Costi!M$4)-1,FALSE))))))","v":""},{"$f":"IF($A87=\"\",\"\",IF(G$4=\"\",\"\",IF($B87=\"X\",INDIRECT(ADDRESS(11,MATCH(CE_PIANO!G$4,BASE!$B$2:$F$2,0)+1,,,\"BASE\")),IF($B87=\"T\",INDIRECT(ADDRESS(13,MATCH(CE_PIANO!G$4,BASE!$B$2:$F$2,0)+1,,,\"BASE\")),IF(ISERROR(VLOOKUP($A87,Ricavi_Costi!$B$6:$Q$105,COLUMN(Ricavi_Costi!N$4)-1,FALSE)),0,VLOOKUP($A87,Ricavi_Costi!$B$6:$Q$105,COLUMN(Ricavi_Costi!N$4)-1,FALSE))))))","v":""},{"$f":"IF($A87=\"\",\"\",IF(H$4=\"\",\"\",IF($B87=\"X\",INDIRECT(ADDRESS(11,MATCH(CE_PIANO!H$4,BASE!$B$2:$F$2,0)+1,,,\"BASE\")),IF($B87=\"T\",INDIRECT(ADDRESS(13,MATCH(CE_PIANO!H$4,BASE!$B$2:$F$2,0)+1,,,\"BASE\")),IF(ISERROR(VLOOKUP($A87,Ricavi_Costi!$B$6:$Q$105,COLUMN(Ricavi_Costi!O$4)-1,FALSE)),0,VLOOKUP($A87,Ricavi_Costi!$B$6:$Q$105,COLUMN(Ricavi_Costi!O$4)-1,FALSE))))))","v":""}]
[{"$f":"IF(CE_STORICO!A88=\"\",\"\",CE_STORICO!A88)","v":""},{"$f":"IF($A88=\"\",\"\",VLOOKUP(A88,SCHEMA_CE!$E$5:$F$54,2,FALSE))","v":""},{"$f":"IF(CE_STORICO!A88=\"\",\"\",CE_STORICO!B88)","v":""},{"$f":"IF(CE_STORICO!C88=\"\",\"\",CE_STORICO!C88)","v":""},{"$f":"IF(CE_STORICO!D88=\"\",\"\",CE_STORICO!D88)","v":""},{"$f":"IF($A88=\"\",\"\",IF(F$4=\"\",\"\",IF($B88=\"X\",INDIRECT(ADDRESS(11,MATCH(CE_PIANO!F$4,BASE!$B$2:$F$2,0)+1,,,\"BASE\")),IF($B88=\"T\",INDIRECT(ADDRESS(13,MATCH(CE_PIANO!F$4,BASE!$B$2:$F$2,0)+1,,,\"BASE\")),IF(ISERROR(VLOOKUP($A88,Ricavi_Costi!$B$6:$Q$105,COLUMN(Ricavi_Costi!M$4)-1,FALSE)),0,VLOOKUP($A88,Ricavi_Costi!$B$6:$Q$105,COLUMN(Ricavi_Costi!M$4)-1,FALSE))))))","v":""},{"$f":"IF($A88=\"\",\"\",IF(G$4=\"\",\"\",IF($B88=\"X\",INDIRECT(ADDRESS(11,MATCH(CE_PIANO!G$4,BASE!$B$2:$F$2,0)+1,,,\"BASE\")),IF($B88=\"T\",INDIRECT(ADDRESS(13,MATCH(CE_PIANO!G$4,BASE!$B$2:$F$2,0)+1,,,\"BASE\")),IF(ISERROR(VLOOKUP($A88,Ricavi_Costi!$B$6:$Q$105,COLUMN(Ricavi_Costi!N$4)-1,FALSE)),0,VLOOKUP($A88,Ricavi_Costi!$B$6:$Q$105,COLUMN(Ricavi_Costi!N$4)-1,FALSE))))))","v":""},{"$f":"IF($A88=\"\",\"\",IF(H$4=\"\",\"\",IF($B88=\"X\",INDIRECT(ADDRESS(11,MATCH(CE_PIANO!H$4,BASE!$B$2:$F$2,0)+1,,,\"BASE\")),IF($B88=\"T\",INDIRECT(ADDRESS(13,MATCH(CE_PIANO!H$4,BASE!$B$2:$F$2,0)+1,,,\"BASE\")),IF(ISERROR(VLOOKUP($A88,Ricavi_Costi!$B$6:$Q$105,COLUMN(Ricavi_Costi!O$4)-1,FALSE)),0,VLOOKUP($A88,Ricavi_Costi!$B$6:$Q$105,COLUMN(Ricavi_Costi!O$4)-1,FALSE))))))","v":""}]
[{"$f":"IF(CE_STORICO!A89=\"\",\"\",CE_STORICO!A89)","v":""},{"$f":"IF($A89=\"\",\"\",VLOOKUP(A89,SCHEMA_CE!$E$5:$F$54,2,FALSE))","v":""},{"$f":"IF(CE_STORICO!A89=\"\",\"\",CE_STORICO!B89)","v":""},{"$f":"IF(CE_STORICO!C89=\"\",\"\",CE_STORICO!C89)","v":""},{"$f":"IF(CE_STORICO!D89=\"\",\"\",CE_STORICO!D89)","v":""},{"$f":"IF($A89=\"\",\"\",IF(F$4=\"\",\"\",IF($B89=\"X\",INDIRECT(ADDRESS(11,MATCH(CE_PIANO!F$4,BASE!$B$2:$F$2,0)+1,,,\"BASE\")),IF($B89=\"T\",INDIRECT(ADDRESS(13,MATCH(CE_PIANO!F$4,BASE!$B$2:$F$2,0)+1,,,\"BASE\")),IF(ISERROR(VLOOKUP($A89,Ricavi_Costi!$B$6:$Q$105,COLUMN(Ricavi_Costi!M$4)-1,FALSE)),0,VLOOKUP($A89,Ricavi_Costi!$B$6:$Q$105,COLUMN(Ricavi_Costi!M$4)-1,FALSE))))))","v":""},{"$f":"IF($A89=\"\",\"\",IF(G$4=\"\",\"\",IF($B89=\"X\",INDIRECT(ADDRESS(11,MATCH(CE_PIANO!G$4,BASE!$B$2:$F$2,0)+1,,,\"BASE\")),IF($B89=\"T\",INDIRECT(ADDRESS(13,MATCH(CE_PIANO!G$4,BASE!$B$2:$F$2,0)+1,,,\"BASE\")),IF(ISERROR(VLOOKUP($A89,Ricavi_Costi!$B$6:$Q$105,COLUMN(Ricavi_Costi!N$4)-1,FALSE)),0,VLOOKUP($A89,Ricavi_Costi!$B$6:$Q$105,COLUMN(Ricavi_Costi!N$4)-1,FALSE))))))","v":""},{"$f":"IF($A89=\"\",\"\",IF(H$4=\"\",\"\",IF($B89=\"X\",INDIRECT(ADDRESS(11,MATCH(CE_PIANO!H$4,BASE!$B$2:$F$2,0)+1,,,\"BASE\")),IF($B89=\"T\",INDIRECT(ADDRESS(13,MATCH(CE_PIANO!H$4,BASE!$B$2:$F$2,0)+1,,,\"BASE\")),IF(ISERROR(VLOOKUP($A89,Ricavi_Costi!$B$6:$Q$105,COLUMN(Ricavi_Costi!O$4)-1,FALSE)),0,VLOOKUP($A89,Ricavi_Costi!$B$6:$Q$105,COLUMN(Ricavi_Costi!O$4)-1,FALSE))))))","v":""}]
[{"$f":"IF(CE_STORICO!A90=\"\",\"\",CE_STORICO!A90)","v":""},{"$f":"IF($A90=\"\",\"\",VLOOKUP(A90,SCHEMA_CE!$E$5:$F$54,2,FALSE))","v":""},{"$f":"IF(CE_STORICO!A90=\"\",\"\",CE_STORICO!B90)","v":""},{"$f":"IF(CE_STORICO!C90=\"\",\"\",CE_STORICO!C90)","v":""},{"$f":"IF(CE_STORICO!D90=\"\",\"\",CE_STORICO!D90)","v":""},{"$f":"IF($A90=\"\",\"\",IF(F$4=\"\",\"\",IF($B90=\"X\",INDIRECT(ADDRESS(11,MATCH(CE_PIANO!F$4,BASE!$B$2:$F$2,0)+1,,,\"BASE\")),IF($B90=\"T\",INDIRECT(ADDRESS(13,MATCH(CE_PIANO!F$4,BASE!$B$2:$F$2,0)+1,,,\"BASE\")),IF(ISERROR(VLOOKUP($A90,Ricavi_Costi!$B$6:$Q$105,COLUMN(Ricavi_Costi!M$4)-1,FALSE)),0,VLOOKUP($A90,Ricavi_Costi!$B$6:$Q$105,COLUMN(Ricavi_Costi!M$4)-1,FALSE))))))","v":""},{"$f":"IF($A90=\"\",\"\",IF(G$4=\"\",\"\",IF($B90=\"X\",INDIRECT(ADDRESS(11,MATCH(CE_PIANO!G$4,BASE!$B$2:$F$2,0)+1,,,\"BASE\")),IF($B90=\"T\",INDIRECT(ADDRESS(13,MATCH(CE_PIANO!G$4,BASE!$B$2:$F$2,0)+1,,,\"BASE\")),IF(ISERROR(VLOOKUP($A90,Ricavi_Costi!$B$6:$Q$105,COLUMN(Ricavi_Costi!N$4)-1,FALSE)),0,VLOOKUP($A90,Ricavi_Costi!$B$6:$Q$105,COLUMN(Ricavi_Costi!N$4)-1,FALSE))))))","v":""},{"$f":"IF($A90=\"\",\"\",IF(H$4=\"\",\"\",IF($B90=\"X\",INDIRECT(ADDRESS(11,MATCH(CE_PIANO!H$4,BASE!$B$2:$F$2,0)+1,,,\"BASE\")),IF($B90=\"T\",INDIRECT(ADDRESS(13,MATCH(CE_PIANO!H$4,BASE!$B$2:$F$2,0)+1,,,\"BASE\")),IF(ISERROR(VLOOKUP($A90,Ricavi_Costi!$B$6:$Q$105,COLUMN(Ricavi_Costi!O$4)-1,FALSE)),0,VLOOKUP($A90,Ricavi_Costi!$B$6:$Q$105,COLUMN(Ricavi_Costi!O$4)-1,FALSE))))))","v":""}]
[{"$f":"IF(CE_STORICO!A91=\"\",\"\",CE_STORICO!A91)","v":""},{"$f":"IF($A91=\"\",\"\",VLOOKUP(A91,SCHEMA_CE!$E$5:$F$54,2,FALSE))","v":""},{"$f":"IF(CE_STORICO!A91=\"\",\"\",CE_STORICO!B91)","v":""},{"$f":"IF(CE_STORICO!C91=\"\",\"\",CE_STORICO!C91)","v":""},{"$f":"IF(CE_STORICO!D91=\"\",\"\",CE_STORICO!D91)","v":""},{"$f":"IF($A91=\"\",\"\",IF(F$4=\"\",\"\",IF($B91=\"X\",INDIRECT(ADDRESS(11,MATCH(CE_PIANO!F$4,BASE!$B$2:$F$2,0)+1,,,\"BASE\")),IF($B91=\"T\",INDIRECT(ADDRESS(13,MATCH(CE_PIANO!F$4,BASE!$B$2:$F$2,0)+1,,,\"BASE\")),IF(ISERROR(VLOOKUP($A91,Ricavi_Costi!$B$6:$Q$105,COLUMN(Ricavi_Costi!M$4)-1,FALSE)),0,VLOOKUP($A91,Ricavi_Costi!$B$6:$Q$105,COLUMN(Ricavi_Costi!M$4)-1,FALSE))))))","v":""},{"$f":"IF($A91=\"\",\"\",IF(G$4=\"\",\"\",IF($B91=\"X\",INDIRECT(ADDRESS(11,MATCH(CE_PIANO!G$4,BASE!$B$2:$F$2,0)+1,,,\"BASE\")),IF($B91=\"T\",INDIRECT(ADDRESS(13,MATCH(CE_PIANO!G$4,BASE!$B$2:$F$2,0)+1,,,\"BASE\")),IF(ISERROR(VLOOKUP($A91,Ricavi_Costi!$B$6:$Q$105,COLUMN(Ricavi_Costi!N$4)-1,FALSE)),0,VLOOKUP($A91,Ricavi_Costi!$B$6:$Q$105,COLUMN(Ricavi_Costi!N$4)-1,FALSE))))))","v":""},{"$f":"IF($A91=\"\",\"\",IF(H$4=\"\",\"\",IF($B91=\"X\",INDIRECT(ADDRESS(11,MATCH(CE_PIANO!H$4,BASE!$B$2:$F$2,0)+1,,,\"BASE\")),IF($B91=\"T\",INDIRECT(ADDRESS(13,MATCH(CE_PIANO!H$4,BASE!$B$2:$F$2,0)+1,,,\"BASE\")),IF(ISERROR(VLOOKUP($A91,Ricavi_Costi!$B$6:$Q$105,COLUMN(Ricavi_Costi!O$4)-1,FALSE)),0,VLOOKUP($A91,Ricavi_Costi!$B$6:$Q$105,COLUMN(Ricavi_Costi!O$4)-1,FALSE))))))","v":""}]
[{"$f":"IF(CE_STORICO!A92=\"\",\"\",CE_STORICO!A92)","v":""},{"$f":"IF($A92=\"\",\"\",VLOOKUP(A92,SCHEMA_CE!$E$5:$F$54,2,FALSE))","v":""},{"$f":"IF(CE_STORICO!A92=\"\",\"\",CE_STORICO!B92)","v":""},{"$f":"IF(CE_STORICO!C92=\"\",\"\",CE_STORICO!C92)","v":""},{"$f":"IF(CE_STORICO!D92=\"\",\"\",CE_STORICO!D92)","v":""},{"$f":"IF($A92=\"\",\"\",IF(F$4=\"\",\"\",IF($B92=\"X\",INDIRECT(ADDRESS(11,MATCH(CE_PIANO!F$4,BASE!$B$2:$F$2,0)+1,,,\"BASE\")),IF($B92=\"T\",INDIRECT(ADDRESS(13,MATCH(CE_PIANO!F$4,BASE!$B$2:$F$2,0)+1,,,\"BASE\")),IF(ISERROR(VLOOKUP($A92,Ricavi_Costi!$B$6:$Q$105,COLUMN(Ricavi_Costi!M$4)-1,FALSE)),0,VLOOKUP($A92,Ricavi_Costi!$B$6:$Q$105,COLUMN(Ricavi_Costi!M$4)-1,FALSE))))))","v":""},{"$f":"IF($A92=\"\",\"\",IF(G$4=\"\",\"\",IF($B92=\"X\",INDIRECT(ADDRESS(11,MATCH(CE_PIANO!G$4,BASE!$B$2:$F$2,0)+1,,,\"BASE\")),IF($B92=\"T\",INDIRECT(ADDRESS(13,MATCH(CE_PIANO!G$4,BASE!$B$2:$F$2,0)+1,,,\"BASE\")),IF(ISERROR(VLOOKUP($A92,Ricavi_Costi!$B$6:$Q$105,COLUMN(Ricavi_Costi!N$4)-1,FALSE)),0,VLOOKUP($A92,Ricavi_Costi!$B$6:$Q$105,COLUMN(Ricavi_Costi!N$4)-1,FALSE))))))","v":""},{"$f":"IF($A92=\"\",\"\",IF(H$4=\"\",\"\",IF($B92=\"X\",INDIRECT(ADDRESS(11,MATCH(CE_PIANO!H$4,BASE!$B$2:$F$2,0)+1,,,\"BASE\")),IF($B92=\"T\",INDIRECT(ADDRESS(13,MATCH(CE_PIANO!H$4,BASE!$B$2:$F$2,0)+1,,,\"BASE\")),IF(ISERROR(VLOOKUP($A92,Ricavi_Costi!$B$6:$Q$105,COLUMN(Ricavi_Costi!O$4)-1,FALSE)),0,VLOOKUP($A92,Ricavi_Costi!$B$6:$Q$105,COLUMN(Ricavi_Costi!O$4)-1,FALSE))))))","v":""}]
[{"$f":"IF(CE_STORICO!A93=\"\",\"\",CE_STORICO!A93)","v":""},{"$f":"IF($A93=\"\",\"\",VLOOKUP(A93,SCHEMA_CE!$E$5:$F$54,2,FALSE))","v":""},{"$f":"IF(CE_STORICO!A93=\"\",\"\",CE_STORICO!B93)","v":""},{"$f":"IF(CE_STORICO!C93=\"\",\"\",CE_STORICO!C93)","v":""},{"$f":"IF(CE_STORICO!D93=\"\",\"\",CE_STORICO!D93)","v":""},{"$f":"IF($A93=\"\",\"\",IF(F$4=\"\",\"\",IF($B93=\"X\",INDIRECT(ADDRESS(11,MATCH(CE_PIANO!F$4,BASE!$B$2:$F$2,0)+1,,,\"BASE\")),IF($B93=\"T\",INDIRECT(ADDRESS(13,MATCH(CE_PIANO!F$4,BASE!$B$2:$F$2,0)+1,,,\"BASE\")),IF(ISERROR(VLOOKUP($A93,Ricavi_Costi!$B$6:$Q$105,COLUMN(Ricavi_Costi!M$4)-1,FALSE)),0,VLOOKUP($A93,Ricavi_Costi!$B$6:$Q$105,COLUMN(Ricavi_Costi!M$4)-1,FALSE))))))","v":""},{"$f":"IF($A93=\"\",\"\",IF(G$4=\"\",\"\",IF($B93=\"X\",INDIRECT(ADDRESS(11,MATCH(CE_PIANO!G$4,BASE!$B$2:$F$2,0)+1,,,\"BASE\")),IF($B93=\"T\",INDIRECT(ADDRESS(13,MATCH(CE_PIANO!G$4,BASE!$B$2:$F$2,0)+1,,,\"BASE\")),IF(ISERROR(VLOOKUP($A93,Ricavi_Costi!$B$6:$Q$105,COLUMN(Ricavi_Costi!N$4)-1,FALSE)),0,VLOOKUP($A93,Ricavi_Costi!$B$6:$Q$105,COLUMN(Ricavi_Costi!N$4)-1,FALSE))))))","v":""},{"$f":"IF($A93=\"\",\"\",IF(H$4=\"\",\"\",IF($B93=\"X\",INDIRECT(ADDRESS(11,MATCH(CE_PIANO!H$4,BASE!$B$2:$F$2,0)+1,,,\"BASE\")),IF($B93=\"T\",INDIRECT(ADDRESS(13,MATCH(CE_PIANO!H$4,BASE!$B$2:$F$2,0)+1,,,\"BASE\")),IF(ISERROR(VLOOKUP($A93,Ricavi_Costi!$B$6:$Q$105,COLUMN(Ricavi_Costi!O$4)-1,FALSE)),0,VLOOKUP($A93,Ricavi_Costi!$B$6:$Q$105,COLUMN(Ricavi_Costi!O$4)-1,FALSE))))))","v":""}]
[{"$f":"IF(CE_STORICO!A94=\"\",\"\",CE_STORICO!A94)","v":""},{"$f":"IF($A94=\"\",\"\",VLOOKUP(A94,SCHEMA_CE!$E$5:$F$54,2,FALSE))","v":""},{"$f":"IF(CE_STORICO!A94=\"\",\"\",CE_STORICO!B94)","v":""},{"$f":"IF(CE_STORICO!C94=\"\",\"\",CE_STORICO!C94)","v":""},{"$f":"IF(CE_STORICO!D94=\"\",\"\",CE_STORICO!D94)","v":""},{"$f":"IF($A94=\"\",\"\",IF(F$4=\"\",\"\",IF($B94=\"X\",INDIRECT(ADDRESS(11,MATCH(CE_PIANO!F$4,BASE!$B$2:$F$2,0)+1,,,\"BASE\")),IF($B94=\"T\",INDIRECT(ADDRESS(13,MATCH(CE_PIANO!F$4,BASE!$B$2:$F$2,0)+1,,,\"BASE\")),IF(ISERROR(VLOOKUP($A94,Ricavi_Costi!$B$6:$Q$105,COLUMN(Ricavi_Costi!M$4)-1,FALSE)),0,VLOOKUP($A94,Ricavi_Costi!$B$6:$Q$105,COLUMN(Ricavi_Costi!M$4)-1,FALSE))))))","v":""},{"$f":"IF($A94=\"\",\"\",IF(G$4=\"\",\"\",IF($B94=\"X\",INDIRECT(ADDRESS(11,MATCH(CE_PIANO!G$4,BASE!$B$2:$F$2,0)+1,,,\"BASE\")),IF($B94=\"T\",INDIRECT(ADDRESS(13,MATCH(CE_PIANO!G$4,BASE!$B$2:$F$2,0)+1,,,\"BASE\")),IF(ISERROR(VLOOKUP($A94,Ricavi_Costi!$B$6:$Q$105,COLUMN(Ricavi_Costi!N$4)-1,FALSE)),0,VLOOKUP($A94,Ricavi_Costi!$B$6:$Q$105,COLUMN(Ricavi_Costi!N$4)-1,FALSE))))))","v":""},{"$f":"IF($A94=\"\",\"\",IF(H$4=\"\",\"\",IF($B94=\"X\",INDIRECT(ADDRESS(11,MATCH(CE_PIANO!H$4,BASE!$B$2:$F$2,0)+1,,,\"BASE\")),IF($B94=\"T\",INDIRECT(ADDRESS(13,MATCH(CE_PIANO!H$4,BASE!$B$2:$F$2,0)+1,,,\"BASE\")),IF(ISERROR(VLOOKUP($A94,Ricavi_Costi!$B$6:$Q$105,COLUMN(Ricavi_Costi!O$4)-1,FALSE)),0,VLOOKUP($A94,Ricavi_Costi!$B$6:$Q$105,COLUMN(Ricavi_Costi!O$4)-1,FALSE))))))","v":""}]
[{"$f":"IF(CE_STORICO!A95=\"\",\"\",CE_STORICO!A95)","v":""},{"$f":"IF($A95=\"\",\"\",VLOOKUP(A95,SCHEMA_CE!$E$5:$F$54,2,FALSE))","v":""},{"$f":"IF(CE_STORICO!A95=\"\",\"\",CE_STORICO!B95)","v":""},{"$f":"IF(CE_STORICO!C95=\"\",\"\",CE_STORICO!C95)","v":""},{"$f":"IF(CE_STORICO!D95=\"\",\"\",CE_STORICO!D95)","v":""},{"$f":"IF($A95=\"\",\"\",IF(F$4=\"\",\"\",IF($B95=\"X\",INDIRECT(ADDRESS(11,MATCH(CE_PIANO!F$4,BASE!$B$2:$F$2,0)+1,,,\"BASE\")),IF($B95=\"T\",INDIRECT(ADDRESS(13,MATCH(CE_PIANO!F$4,BASE!$B$2:$F$2,0)+1,,,\"BASE\")),IF(ISERROR(VLOOKUP($A95,Ricavi_Costi!$B$6:$Q$105,COLUMN(Ricavi_Costi!M$4)-1,FALSE)),0,VLOOKUP($A95,Ricavi_Costi!$B$6:$Q$105,COLUMN(Ricavi_Costi!M$4)-1,FALSE))))))","v":""},{"$f":"IF($A95=\"\",\"\",IF(G$4=\"\",\"\",IF($B95=\"X\",INDIRECT(ADDRESS(11,MATCH(CE_PIANO!G$4,BASE!$B$2:$F$2,0)+1,,,\"BASE\")),IF($B95=\"T\",INDIRECT(ADDRESS(13,MATCH(CE_PIANO!G$4,BASE!$B$2:$F$2,0)+1,,,\"BASE\")),IF(ISERROR(VLOOKUP($A95,Ricavi_Costi!$B$6:$Q$105,COLUMN(Ricavi_Costi!N$4)-1,FALSE)),0,VLOOKUP($A95,Ricavi_Costi!$B$6:$Q$105,COLUMN(Ricavi_Costi!N$4)-1,FALSE))))))","v":""},{"$f":"IF($A95=\"\",\"\",IF(H$4=\"\",\"\",IF($B95=\"X\",INDIRECT(ADDRESS(11,MATCH(CE_PIANO!H$4,BASE!$B$2:$F$2,0)+1,,,\"BASE\")),IF($B95=\"T\",INDIRECT(ADDRESS(13,MATCH(CE_PIANO!H$4,BASE!$B$2:$F$2,0)+1,,,\"BASE\")),IF(ISERROR(VLOOKUP($A95,Ricavi_Costi!$B$6:$Q$105,COLUMN(Ricavi_Costi!O$4)-1,FALSE)),0,VLOOKUP($A95,Ricavi_Costi!$B$6:$Q$105,COLUMN(Ricavi_Costi!O$4)-1,FALSE))))))","v":""}]
[{"$f":"IF(CE_STORICO!A96=\"\",\"\",CE_STORICO!A96)","v":""},{"$f":"IF($A96=\"\",\"\",VLOOKUP(A96,SCHEMA_CE!$E$5:$F$54,2,FALSE))","v":""},{"$f":"IF(CE_STORICO!A96=\"\",\"\",CE_STORICO!B96)","v":""},{"$f":"IF(CE_STORICO!C96=\"\",\"\",CE_STORICO!C96)","v":""},{"$f":"IF(CE_STORICO!D96=\"\",\"\",CE_STORICO!D96)","v":""},{"$f":"IF($A96=\"\",\"\",IF(F$4=\"\",\"\",IF($B96=\"X\",INDIRECT(ADDRESS(11,MATCH(CE_PIANO!F$4,BASE!$B$2:$F$2,0)+1,,,\"BASE\")),IF($B96=\"T\",INDIRECT(ADDRESS(13,MATCH(CE_PIANO!F$4,BASE!$B$2:$F$2,0)+1,,,\"BASE\")),IF(ISERROR(VLOOKUP($A96,Ricavi_Costi!$B$6:$Q$105,COLUMN(Ricavi_Costi!M$4)-1,FALSE)),0,VLOOKUP($A96,Ricavi_Costi!$B$6:$Q$105,COLUMN(Ricavi_Costi!M$4)-1,FALSE))))))","v":""},{"$f":"IF($A96=\"\",\"\",IF(G$4=\"\",\"\",IF($B96=\"X\",INDIRECT(ADDRESS(11,MATCH(CE_PIANO!G$4,BASE!$B$2:$F$2,0)+1,,,\"BASE\")),IF($B96=\"T\",INDIRECT(ADDRESS(13,MATCH(CE_PIANO!G$4,BASE!$B$2:$F$2,0)+1,,,\"BASE\")),IF(ISERROR(VLOOKUP($A96,Ricavi_Costi!$B$6:$Q$105,COLUMN(Ricavi_Costi!N$4)-1,FALSE)),0,VLOOKUP($A96,Ricavi_Costi!$B$6:$Q$105,COLUMN(Ricavi_Costi!N$4)-1,FALSE))))))","v":""},{"$f":"IF($A96=\"\",\"\",IF(H$4=\"\",\"\",IF($B96=\"X\",INDIRECT(ADDRESS(11,MATCH(CE_PIANO!H$4,BASE!$B$2:$F$2,0)+1,,,\"BASE\")),IF($B96=\"T\",INDIRECT(ADDRESS(13,MATCH(CE_PIANO!H$4,BASE!$B$2:$F$2,0)+1,,,\"BASE\")),IF(ISERROR(VLOOKUP($A96,Ricavi_Costi!$B$6:$Q$105,COLUMN(Ricavi_Costi!O$4)-1,FALSE)),0,VLOOKUP($A96,Ricavi_Costi!$B$6:$Q$105,COLUMN(Ricavi_Costi!O$4)-1,FALSE))))))","v":""}]
[{"$f":"IF(CE_STORICO!A97=\"\",\"\",CE_STORICO!A97)","v":""},{"$f":"IF($A97=\"\",\"\",VLOOKUP(A97,SCHEMA_CE!$E$5:$F$54,2,FALSE))","v":""},{"$f":"IF(CE_STORICO!A97=\"\",\"\",CE_STORICO!B97)","v":""},{"$f":"IF(CE_STORICO!C97=\"\",\"\",CE_STORICO!C97)","v":""},{"$f":"IF(CE_STORICO!D97=\"\",\"\",CE_STORICO!D97)","v":""},{"$f":"IF($A97=\"\",\"\",IF(F$4=\"\",\"\",IF($B97=\"X\",INDIRECT(ADDRESS(11,MATCH(CE_PIANO!F$4,BASE!$B$2:$F$2,0)+1,,,\"BASE\")),IF($B97=\"T\",INDIRECT(ADDRESS(13,MATCH(CE_PIANO!F$4,BASE!$B$2:$F$2,0)+1,,,\"BASE\")),IF(ISERROR(VLOOKUP($A97,Ricavi_Costi!$B$6:$Q$105,COLUMN(Ricavi_Costi!M$4)-1,FALSE)),0,VLOOKUP($A97,Ricavi_Costi!$B$6:$Q$105,COLUMN(Ricavi_Costi!M$4)-1,FALSE))))))","v":""},{"$f":"IF($A97=\"\",\"\",IF(G$4=\"\",\"\",IF($B97=\"X\",INDIRECT(ADDRESS(11,MATCH(CE_PIANO!G$4,BASE!$B$2:$F$2,0)+1,,,\"BASE\")),IF($B97=\"T\",INDIRECT(ADDRESS(13,MATCH(CE_PIANO!G$4,BASE!$B$2:$F$2,0)+1,,,\"BASE\")),IF(ISERROR(VLOOKUP($A97,Ricavi_Costi!$B$6:$Q$105,COLUMN(Ricavi_Costi!N$4)-1,FALSE)),0,VLOOKUP($A97,Ricavi_Costi!$B$6:$Q$105,COLUMN(Ricavi_Costi!N$4)-1,FALSE))))))","v":""},{"$f":"IF($A97=\"\",\"\",IF(H$4=\"\",\"\",IF($B97=\"X\",INDIRECT(ADDRESS(11,MATCH(CE_PIANO!H$4,BASE!$B$2:$F$2,0)+1,,,\"BASE\")),IF($B97=\"T\",INDIRECT(ADDRESS(13,MATCH(CE_PIANO!H$4,BASE!$B$2:$F$2,0)+1,,,\"BASE\")),IF(ISERROR(VLOOKUP($A97,Ricavi_Costi!$B$6:$Q$105,COLUMN(Ricavi_Costi!O$4)-1,FALSE)),0,VLOOKUP($A97,Ricavi_Costi!$B$6:$Q$105,COLUMN(Ricavi_Costi!O$4)-1,FALSE))))))","v":""}]
[{"$f":"IF(CE_STORICO!A98=\"\",\"\",CE_STORICO!A98)","v":""},{"$f":"IF($A98=\"\",\"\",VLOOKUP(A98,SCHEMA_CE!$E$5:$F$54,2,FALSE))","v":""},{"$f":"IF(CE_STORICO!A98=\"\",\"\",CE_STORICO!B98)","v":""},{"$f":"IF(CE_STORICO!C98=\"\",\"\",CE_STORICO!C98)","v":""},{"$f":"IF(CE_STORICO!D98=\"\",\"\",CE_STORICO!D98)","v":""},{"$f":"IF($A98=\"\",\"\",IF(F$4=\"\",\"\",IF($B98=\"X\",INDIRECT(ADDRESS(11,MATCH(CE_PIANO!F$4,BASE!$B$2:$F$2,0)+1,,,\"BASE\")),IF($B98=\"T\",INDIRECT(ADDRESS(13,MATCH(CE_PIANO!F$4,BASE!$B$2:$F$2,0)+1,,,\"BASE\")),IF(ISERROR(VLOOKUP($A98,Ricavi_Costi!$B$6:$Q$105,COLUMN(Ricavi_Costi!M$4)-1,FALSE)),0,VLOOKUP($A98,Ricavi_Costi!$B$6:$Q$105,COLUMN(Ricavi_Costi!M$4)-1,FALSE))))))","v":""},{"$f":"IF($A98=\"\",\"\",IF(G$4=\"\",\"\",IF($B98=\"X\",INDIRECT(ADDRESS(11,MATCH(CE_PIANO!G$4,BASE!$B$2:$F$2,0)+1,,,\"BASE\")),IF($B98=\"T\",INDIRECT(ADDRESS(13,MATCH(CE_PIANO!G$4,BASE!$B$2:$F$2,0)+1,,,\"BASE\")),IF(ISERROR(VLOOKUP($A98,Ricavi_Costi!$B$6:$Q$105,COLUMN(Ricavi_Costi!N$4)-1,FALSE)),0,VLOOKUP($A98,Ricavi_Costi!$B$6:$Q$105,COLUMN(Ricavi_Costi!N$4)-1,FALSE))))))","v":""},{"$f":"IF($A98=\"\",\"\",IF(H$4=\"\",\"\",IF($B98=\"X\",INDIRECT(ADDRESS(11,MATCH(CE_PIANO!H$4,BASE!$B$2:$F$2,0)+1,,,\"BASE\")),IF($B98=\"T\",INDIRECT(ADDRESS(13,MATCH(CE_PIANO!H$4,BASE!$B$2:$F$2,0)+1,,,\"BASE\")),IF(ISERROR(VLOOKUP($A98,Ricavi_Costi!$B$6:$Q$105,COLUMN(Ricavi_Costi!O$4)-1,FALSE)),0,VLOOKUP($A98,Ricavi_Costi!$B$6:$Q$105,COLUMN(Ricavi_Costi!O$4)-1,FALSE))))))","v":""}]
[{"$f":"IF(CE_STORICO!A99=\"\",\"\",CE_STORICO!A99)","v":""},{"$f":"IF($A99=\"\",\"\",VLOOKUP(A99,SCHEMA_CE!$E$5:$F$54,2,FALSE))","v":""},{"$f":"IF(CE_STORICO!A99=\"\",\"\",CE_STORICO!B99)","v":""},{"$f":"IF(CE_STORICO!C99=\"\",\"\",CE_STORICO!C99)","v":""},{"$f":"IF(CE_STORICO!D99=\"\",\"\",CE_STORICO!D99)","v":""},{"$f":"IF($A99=\"\",\"\",IF(F$4=\"\",\"\",IF($B99=\"X\",INDIRECT(ADDRESS(11,MATCH(CE_PIANO!F$4,BASE!$B$2:$F$2,0)+1,,,\"BASE\")),IF($B99=\"T\",INDIRECT(ADDRESS(13,MATCH(CE_PIANO!F$4,BASE!$B$2:$F$2,0)+1,,,\"BASE\")),IF(ISERROR(VLOOKUP($A99,Ricavi_Costi!$B$6:$Q$105,COLUMN(Ricavi_Costi!M$4)-1,FALSE)),0,VLOOKUP($A99,Ricavi_Costi!$B$6:$Q$105,COLUMN(Ricavi_Costi!M$4)-1,FALSE))))))","v":""},{"$f":"IF($A99=\"\",\"\",IF(G$4=\"\",\"\",IF($B99=\"X\",INDIRECT(ADDRESS(11,MATCH(CE_PIANO!G$4,BASE!$B$2:$F$2,0)+1,,,\"BASE\")),IF($B99=\"T\",INDIRECT(ADDRESS(13,MATCH(CE_PIANO!G$4,BASE!$B$2:$F$2,0)+1,,,\"BASE\")),IF(ISERROR(VLOOKUP($A99,Ricavi_Costi!$B$6:$Q$105,COLUMN(Ricavi_Costi!N$4)-1,FALSE)),0,VLOOKUP($A99,Ricavi_Costi!$B$6:$Q$105,COLUMN(Ricavi_Costi!N$4)-1,FALSE))))))","v":""},{"$f":"IF($A99=\"\",\"\",IF(H$4=\"\",\"\",IF($B99=\"X\",INDIRECT(ADDRESS(11,MATCH(CE_PIANO!H$4,BASE!$B$2:$F$2,0)+1,,,\"BASE\")),IF($B99=\"T\",INDIRECT(ADDRESS(13,MATCH(CE_PIANO!H$4,BASE!$B$2:$F$2,0)+1,,,\"BASE\")),IF(ISERROR(VLOOKUP($A99,Ricavi_Costi!$B$6:$Q$105,COLUMN(Ricavi_Costi!O$4)-1,FALSE)),0,VLOOKUP($A99,Ricavi_Costi!$B$6:$Q$105,COLUMN(Ricavi_Costi!O$4)-1,FALSE))))))","v":""}]
[{"$f":"IF(CE_STORICO!A100=\"\",\"\",CE_STORICO!A100)","v":""},{"$f":"IF($A100=\"\",\"\",VLOOKUP(A100,SCHEMA_CE!$E$5:$F$54,2,FALSE))","v":""},{"$f":"IF(CE_STORICO!A100=\"\",\"\",CE_STORICO!B100)","v":""},{"$f":"IF(CE_STORICO!C100=\"\",\"\",CE_STORICO!C100)","v":""},{"$f":"IF(CE_STORICO!D100=\"\",\"\",CE_STORICO!D100)","v":""},{"$f":"IF($A100=\"\",\"\",IF(F$4=\"\",\"\",IF($B100=\"X\",INDIRECT(ADDRESS(11,MATCH(CE_PIANO!F$4,BASE!$B$2:$F$2,0)+1,,,\"BASE\")),IF($B100=\"T\",INDIRECT(ADDRESS(13,MATCH(CE_PIANO!F$4,BASE!$B$2:$F$2,0)+1,,,\"BASE\")),IF(ISERROR(VLOOKUP($A100,Ricavi_Costi!$B$6:$Q$105,COLUMN(Ricavi_Costi!M$4)-1,FALSE)),0,VLOOKUP($A100,Ricavi_Costi!$B$6:$Q$105,COLUMN(Ricavi_Costi!M$4)-1,FALSE))))))","v":""},{"$f":"IF($A100=\"\",\"\",IF(G$4=\"\",\"\",IF($B100=\"X\",INDIRECT(ADDRESS(11,MATCH(CE_PIANO!G$4,BASE!$B$2:$F$2,0)+1,,,\"BASE\")),IF($B100=\"T\",INDIRECT(ADDRESS(13,MATCH(CE_PIANO!G$4,BASE!$B$2:$F$2,0)+1,,,\"BASE\")),IF(ISERROR(VLOOKUP($A100,Ricavi_Costi!$B$6:$Q$105,COLUMN(Ricavi_Costi!N$4)-1,FALSE)),0,VLOOKUP($A100,Ricavi_Costi!$B$6:$Q$105,COLUMN(Ricavi_Costi!N$4)-1,FALSE))))))","v":""},{"$f":"IF($A100=\"\",\"\",IF(H$4=\"\",\"\",IF($B100=\"X\",INDIRECT(ADDRESS(11,MATCH(CE_PIANO!H$4,BASE!$B$2:$F$2,0)+1,,,\"BASE\")),IF($B100=\"T\",INDIRECT(ADDRESS(13,MATCH(CE_PIANO!H$4,BASE!$B$2:$F$2,0)+1,,,\"BASE\")),IF(ISERROR(VLOOKUP($A100,Ricavi_Costi!$B$6:$Q$105,COLUMN(Ricavi_Costi!O$4)-1,FALSE)),0,VLOOKUP($A100,Ricavi_Costi!$B$6:$Q$105,COLUMN(Ricavi_Costi!O$4)-1,FALSE))))))","v":""}]
[{"$f":"IF(CE_STORICO!A101=\"\",\"\",CE_STORICO!A101)","v":""},{"$f":"IF($A101=\"\",\"\",VLOOKUP(A101,SCHEMA_CE!$E$5:$F$54,2,FALSE))","v":""},{"$f":"IF(CE_STORICO!A101=\"\",\"\",CE_STORICO!B101)","v":""},{"$f":"IF(CE_STORICO!C101=\"\",\"\",CE_STORICO!C101)","v":""},{"$f":"IF(CE_STORICO!D101=\"\",\"\",CE_STORICO!D101)","v":""},{"$f":"IF($A101=\"\",\"\",IF(F$4=\"\",\"\",IF($B101=\"X\",INDIRECT(ADDRESS(11,MATCH(CE_PIANO!F$4,BASE!$B$2:$F$2,0)+1,,,\"BASE\")),IF($B101=\"T\",INDIRECT(ADDRESS(13,MATCH(CE_PIANO!F$4,BASE!$B$2:$F$2,0)+1,,,\"BASE\")),IF(ISERROR(VLOOKUP($A101,Ricavi_Costi!$B$6:$Q$105,COLUMN(Ricavi_Costi!M$4)-1,FALSE)),0,VLOOKUP($A101,Ricavi_Costi!$B$6:$Q$105,COLUMN(Ricavi_Costi!M$4)-1,FALSE))))))","v":""},{"$f":"IF($A101=\"\",\"\",IF(G$4=\"\",\"\",IF($B101=\"X\",INDIRECT(ADDRESS(11,MATCH(CE_PIANO!G$4,BASE!$B$2:$F$2,0)+1,,,\"BASE\")),IF($B101=\"T\",INDIRECT(ADDRESS(13,MATCH(CE_PIANO!G$4,BASE!$B$2:$F$2,0)+1,,,\"BASE\")),IF(ISERROR(VLOOKUP($A101,Ricavi_Costi!$B$6:$Q$105,COLUMN(Ricavi_Costi!N$4)-1,FALSE)),0,VLOOKUP($A101,Ricavi_Costi!$B$6:$Q$105,COLUMN(Ricavi_Costi!N$4)-1,FALSE))))))","v":""},{"$f":"IF($A101=\"\",\"\",IF(H$4=\"\",\"\",IF($B101=\"X\",INDIRECT(ADDRESS(11,MATCH(CE_PIANO!H$4,BASE!$B$2:$F$2,0)+1,,,\"BASE\")),IF($B101=\"T\",INDIRECT(ADDRESS(13,MATCH(CE_PIANO!H$4,BASE!$B$2:$F$2,0)+1,,,\"BASE\")),IF(ISERROR(VLOOKUP($A101,Ricavi_Costi!$B$6:$Q$105,COLUMN(Ricavi_Costi!O$4)-1,FALSE)),0,VLOOKUP($A101,Ricavi_Costi!$B$6:$Q$105,COLUMN(Ricavi_Costi!O$4)-1,FALSE))))))","v":""}]
[{"$f":"IF(CE_STORICO!A102=\"\",\"\",CE_STORICO!A102)","v":""},{"$f":"IF($A102=\"\",\"\",VLOOKUP(A102,SCHEMA_CE!$E$5:$F$54,2,FALSE))","v":""},{"$f":"IF(CE_STORICO!A102=\"\",\"\",CE_STORICO!B102)","v":""},{"$f":"IF(CE_STORICO!C102=\"\",\"\",CE_STORICO!C102)","v":""},{"$f":"IF(CE_STORICO!D102=\"\",\"\",CE_STORICO!D102)","v":""},{"$f":"IF($A102=\"\",\"\",IF(F$4=\"\",\"\",IF($B102=\"X\",INDIRECT(ADDRESS(11,MATCH(CE_PIANO!F$4,BASE!$B$2:$F$2,0)+1,,,\"BASE\")),IF($B102=\"T\",INDIRECT(ADDRESS(13,MATCH(CE_PIANO!F$4,BASE!$B$2:$F$2,0)+1,,,\"BASE\")),IF(ISERROR(VLOOKUP($A102,Ricavi_Costi!$B$6:$Q$105,COLUMN(Ricavi_Costi!M$4)-1,FALSE)),0,VLOOKUP($A102,Ricavi_Costi!$B$6:$Q$105,COLUMN(Ricavi_Costi!M$4)-1,FALSE))))))","v":""},{"$f":"IF($A102=\"\",\"\",IF(G$4=\"\",\"\",IF($B102=\"X\",INDIRECT(ADDRESS(11,MATCH(CE_PIANO!G$4,BASE!$B$2:$F$2,0)+1,,,\"BASE\")),IF($B102=\"T\",INDIRECT(ADDRESS(13,MATCH(CE_PIANO!G$4,BASE!$B$2:$F$2,0)+1,,,\"BASE\")),IF(ISERROR(VLOOKUP($A102,Ricavi_Costi!$B$6:$Q$105,COLUMN(Ricavi_Costi!N$4)-1,FALSE)),0,VLOOKUP($A102,Ricavi_Costi!$B$6:$Q$105,COLUMN(Ricavi_Costi!N$4)-1,FALSE))))))","v":""},{"$f":"IF($A102=\"\",\"\",IF(H$4=\"\",\"\",IF($B102=\"X\",INDIRECT(ADDRESS(11,MATCH(CE_PIANO!H$4,BASE!$B$2:$F$2,0)+1,,,\"BASE\")),IF($B102=\"T\",INDIRECT(ADDRESS(13,MATCH(CE_PIANO!H$4,BASE!$B$2:$F$2,0)+1,,,\"BASE\")),IF(ISERROR(VLOOKUP($A102,Ricavi_Costi!$B$6:$Q$105,COLUMN(Ricavi_Costi!O$4)-1,FALSE)),0,VLOOKUP($A102,Ricavi_Costi!$B$6:$Q$105,COLUMN(Ricavi_Costi!O$4)-1,FALSE))))))","v":""}]
[{"$f":"IF(CE_STORICO!A103=\"\",\"\",CE_STORICO!A103)","v":""},{"$f":"IF($A103=\"\",\"\",VLOOKUP(A103,SCHEMA_CE!$E$5:$F$54,2,FALSE))","v":""},{"$f":"IF(CE_STORICO!A103=\"\",\"\",CE_STORICO!B103)","v":""},{"$f":"IF(CE_STORICO!C103=\"\",\"\",CE_STORICO!C103)","v":""},{"$f":"IF(CE_STORICO!D103=\"\",\"\",CE_STORICO!D103)","v":""},{"$f":"IF($A103=\"\",\"\",IF(F$4=\"\",\"\",IF($B103=\"X\",INDIRECT(ADDRESS(11,MATCH(CE_PIANO!F$4,BASE!$B$2:$F$2,0)+1,,,\"BASE\")),IF($B103=\"T\",INDIRECT(ADDRESS(13,MATCH(CE_PIANO!F$4,BASE!$B$2:$F$2,0)+1,,,\"BASE\")),IF(ISERROR(VLOOKUP($A103,Ricavi_Costi!$B$6:$Q$105,COLUMN(Ricavi_Costi!M$4)-1,FALSE)),0,VLOOKUP($A103,Ricavi_Costi!$B$6:$Q$105,COLUMN(Ricavi_Costi!M$4)-1,FALSE))))))","v":""},{"$f":"IF($A103=\"\",\"\",IF(G$4=\"\",\"\",IF($B103=\"X\",INDIRECT(ADDRESS(11,MATCH(CE_PIANO!G$4,BASE!$B$2:$F$2,0)+1,,,\"BASE\")),IF($B103=\"T\",INDIRECT(ADDRESS(13,MATCH(CE_PIANO!G$4,BASE!$B$2:$F$2,0)+1,,,\"BASE\")),IF(ISERROR(VLOOKUP($A103,Ricavi_Costi!$B$6:$Q$105,COLUMN(Ricavi_Costi!N$4)-1,FALSE)),0,VLOOKUP($A103,Ricavi_Costi!$B$6:$Q$105,COLUMN(Ricavi_Costi!N$4)-1,FALSE))))))","v":""},{"$f":"IF($A103=\"\",\"\",IF(H$4=\"\",\"\",IF($B103=\"X\",INDIRECT(ADDRESS(11,MATCH(CE_PIANO!H$4,BASE!$B$2:$F$2,0)+1,,,\"BASE\")),IF($B103=\"T\",INDIRECT(ADDRESS(13,MATCH(CE_PIANO!H$4,BASE!$B$2:$F$2,0)+1,,,\"BASE\")),IF(ISERROR(VLOOKUP($A103,Ricavi_Costi!$B$6:$Q$105,COLUMN(Ricavi_Costi!O$4)-1,FALSE)),0,VLOOKUP($A103,Ricavi_Costi!$B$6:$Q$105,COLUMN(Ricavi_Costi!O$4)-1,FALSE))))))","v":""}]
[{"$f":"IF(CE_STORICO!A104=\"\",\"\",CE_STORICO!A104)","v":""},{"$f":"IF($A104=\"\",\"\",VLOOKUP(A104,SCHEMA_CE!$E$5:$F$54,2,FALSE))","v":""},{"$f":"IF(CE_STORICO!A104=\"\",\"\",CE_STORICO!B104)","v":""},{"$f":"IF(CE_STORICO!C104=\"\",\"\",CE_STORICO!C104)","v":""},{"$f":"IF(CE_STORICO!D104=\"\",\"\",CE_STORICO!D104)","v":""},{"$f":"IF($A104=\"\",\"\",IF(F$4=\"\",\"\",IF($B104=\"X\",INDIRECT(ADDRESS(11,MATCH(CE_PIANO!F$4,BASE!$B$2:$F$2,0)+1,,,\"BASE\")),IF($B104=\"T\",INDIRECT(ADDRESS(13,MATCH(CE_PIANO!F$4,BASE!$B$2:$F$2,0)+1,,,\"BASE\")),IF(ISERROR(VLOOKUP($A104,Ricavi_Costi!$B$6:$Q$105,COLUMN(Ricavi_Costi!M$4)-1,FALSE)),0,VLOOKUP($A104,Ricavi_Costi!$B$6:$Q$105,COLUMN(Ricavi_Costi!M$4)-1,FALSE))))))","v":""},{"$f":"IF($A104=\"\",\"\",IF(G$4=\"\",\"\",IF($B104=\"X\",INDIRECT(ADDRESS(11,MATCH(CE_PIANO!G$4,BASE!$B$2:$F$2,0)+1,,,\"BASE\")),IF($B104=\"T\",INDIRECT(ADDRESS(13,MATCH(CE_PIANO!G$4,BASE!$B$2:$F$2,0)+1,,,\"BASE\")),IF(ISERROR(VLOOKUP($A104,Ricavi_Costi!$B$6:$Q$105,COLUMN(Ricavi_Costi!N$4)-1,FALSE)),0,VLOOKUP($A104,Ricavi_Costi!$B$6:$Q$105,COLUMN(Ricavi_Costi!N$4)-1,FALSE))))))","v":""},{"$f":"IF($A104=\"\",\"\",IF(H$4=\"\",\"\",IF($B104=\"X\",INDIRECT(ADDRESS(11,MATCH(CE_PIANO!H$4,BASE!$B$2:$F$2,0)+1,,,\"BASE\")),IF($B104=\"T\",INDIRECT(ADDRESS(13,MATCH(CE_PIANO!H$4,BASE!$B$2:$F$2,0)+1,,,\"BASE\")),IF(ISERROR(VLOOKUP($A104,Ricavi_Costi!$B$6:$Q$105,COLUMN(Ricavi_Costi!O$4)-1,FALSE)),0,VLOOKUP($A104,Ricavi_Costi!$B$6:$Q$105,COLUMN(Ricavi_Costi!O$4)-1,FALSE))))))","v":""}]
[{"$f":"IF(CE_STORICO!A105=\"\",\"\",CE_STORICO!A105)","v":""},{"$f":"IF($A105=\"\",\"\",VLOOKUP(A105,SCHEMA_CE!$E$5:$F$54,2,FALSE))","v":""},{"$f":"IF(CE_STORICO!A105=\"\",\"\",CE_STORICO!B105)","v":""},{"$f":"IF(CE_STORICO!C105=\"\",\"\",CE_STORICO!C105)","v":""},{"$f":"IF(CE_STORICO!D105=\"\",\"\",CE_STORICO!D105)","v":""},{"$f":"IF($A105=\"\",\"\",IF(F$4=\"\",\"\",IF($B105=\"X\",INDIRECT(ADDRESS(11,MATCH(CE_PIANO!F$4,BASE!$B$2:$F$2,0)+1,,,\"BASE\")),IF($B105=\"T\",INDIRECT(ADDRESS(13,MATCH(CE_PIANO!F$4,BASE!$B$2:$F$2,0)+1,,,\"BASE\")),IF(ISERROR(VLOOKUP($A105,Ricavi_Costi!$B$6:$Q$105,COLUMN(Ricavi_Costi!M$4)-1,FALSE)),0,VLOOKUP($A105,Ricavi_Costi!$B$6:$Q$105,COLUMN(Ricavi_Costi!M$4)-1,FALSE))))))","v":""},{"$f":"IF($A105=\"\",\"\",IF(G$4=\"\",\"\",IF($B105=\"X\",INDIRECT(ADDRESS(11,MATCH(CE_PIANO!G$4,BASE!$B$2:$F$2,0)+1,,,\"BASE\")),IF($B105=\"T\",INDIRECT(ADDRESS(13,MATCH(CE_PIANO!G$4,BASE!$B$2:$F$2,0)+1,,,\"BASE\")),IF(ISERROR(VLOOKUP($A105,Ricavi_Costi!$B$6:$Q$105,COLUMN(Ricavi_Costi!N$4)-1,FALSE)),0,VLOOKUP($A105,Ricavi_Costi!$B$6:$Q$105,COLUMN(Ricavi_Costi!N$4)-1,FALSE))))))","v":""},{"$f":"IF($A105=\"\",\"\",IF(H$4=\"\",\"\",IF($B105=\"X\",INDIRECT(ADDRESS(11,MATCH(CE_PIANO!H$4,BASE!$B$2:$F$2,0)+1,,,\"BASE\")),IF($B105=\"T\",INDIRECT(ADDRESS(13,MATCH(CE_PIANO!H$4,BASE!$B$2:$F$2,0)+1,,,\"BASE\")),IF(ISERROR(VLOOKUP($A105,Ricavi_Costi!$B$6:$Q$105,COLUMN(Ricavi_Costi!O$4)-1,FALSE)),0,VLOOKUP($A105,Ricavi_Costi!$B$6:$Q$105,COLUMN(Ricavi_Costi!O$4)-1,FALSE))))))","v":""}]
[{"$f":"IF(CE_STORICO!A106=\"\",\"\",CE_STORICO!A106)","v":""},{"$f":"IF($A106=\"\",\"\",VLOOKUP(A106,SCHEMA_CE!$E$5:$F$54,2,FALSE))","v":""},{"$f":"IF(CE_STORICO!A106=\"\",\"\",CE_STORICO!B106)","v":""},{"$f":"IF(CE_STORICO!C106=\"\",\"\",CE_STORICO!C106)","v":""},{"$f":"IF(CE_STORICO!D106=\"\",\"\",CE_STORICO!D106)","v":""},{"$f":"IF($A106=\"\",\"\",IF(F$4=\"\",\"\",IF($B106=\"X\",INDIRECT(ADDRESS(11,MATCH(CE_PIANO!F$4,BASE!$B$2:$F$2,0)+1,,,\"BASE\")),IF($B106=\"T\",INDIRECT(ADDRESS(13,MATCH(CE_PIANO!F$4,BASE!$B$2:$F$2,0)+1,,,\"BASE\")),IF(ISERROR(VLOOKUP($A106,Ricavi_Costi!$B$6:$Q$105,COLUMN(Ricavi_Costi!M$4)-1,FALSE)),0,VLOOKUP($A106,Ricavi_Costi!$B$6:$Q$105,COLUMN(Ricavi_Costi!M$4)-1,FALSE))))))","v":""},{"$f":"IF($A106=\"\",\"\",IF(G$4=\"\",\"\",IF($B106=\"X\",INDIRECT(ADDRESS(11,MATCH(CE_PIANO!G$4,BASE!$B$2:$F$2,0)+1,,,\"BASE\")),IF($B106=\"T\",INDIRECT(ADDRESS(13,MATCH(CE_PIANO!G$4,BASE!$B$2:$F$2,0)+1,,,\"BASE\")),IF(ISERROR(VLOOKUP($A106,Ricavi_Costi!$B$6:$Q$105,COLUMN(Ricavi_Costi!N$4)-1,FALSE)),0,VLOOKUP($A106,Ricavi_Costi!$B$6:$Q$105,COLUMN(Ricavi_Costi!N$4)-1,FALSE))))))","v":""},{"$f":"IF($A106=\"\",\"\",IF(H$4=\"\",\"\",IF($B106=\"X\",INDIRECT(ADDRESS(11,MATCH(CE_PIANO!H$4,BASE!$B$2:$F$2,0)+1,,,\"BASE\")),IF($B106=\"T\",INDIRECT(ADDRESS(13,MATCH(CE_PIANO!H$4,BASE!$B$2:$F$2,0)+1,,,\"BASE\")),IF(ISERROR(VLOOKUP($A106,Ricavi_Costi!$B$6:$Q$105,COLUMN(Ricavi_Costi!O$4)-1,FALSE)),0,VLOOKUP($A106,Ricavi_Costi!$B$6:$Q$105,COLUMN(Ricavi_Costi!O$4)-1,FALSE))))))","v":""}]
[{"$f":"IF(CE_STORICO!A107=\"\",\"\",CE_STORICO!A107)","v":""},{"$f":"IF($A107=\"\",\"\",VLOOKUP(A107,SCHEMA_CE!$E$5:$F$54,2,FALSE))","v":""},{"$f":"IF(CE_STORICO!A107=\"\",\"\",CE_STORICO!B107)","v":""},{"$f":"IF(CE_STORICO!C107=\"\",\"\",CE_STORICO!C107)","v":""},{"$f":"IF(CE_STORICO!D107=\"\",\"\",CE_STORICO!D107)","v":""},{"$f":"IF($A107=\"\",\"\",IF(F$4=\"\",\"\",IF($B107=\"X\",INDIRECT(ADDRESS(11,MATCH(CE_PIANO!F$4,BASE!$B$2:$F$2,0)+1,,,\"BASE\")),IF($B107=\"T\",INDIRECT(ADDRESS(13,MATCH(CE_PIANO!F$4,BASE!$B$2:$F$2,0)+1,,,\"BASE\")),IF(ISERROR(VLOOKUP($A107,Ricavi_Costi!$B$6:$Q$105,COLUMN(Ricavi_Costi!M$4)-1,FALSE)),0,VLOOKUP($A107,Ricavi_Costi!$B$6:$Q$105,COLUMN(Ricavi_Costi!M$4)-1,FALSE))))))","v":""},{"$f":"IF($A107=\"\",\"\",IF(G$4=\"\",\"\",IF($B107=\"X\",INDIRECT(ADDRESS(11,MATCH(CE_PIANO!G$4,BASE!$B$2:$F$2,0)+1,,,\"BASE\")),IF($B107=\"T\",INDIRECT(ADDRESS(13,MATCH(CE_PIANO!G$4,BASE!$B$2:$F$2,0)+1,,,\"BASE\")),IF(ISERROR(VLOOKUP($A107,Ricavi_Costi!$B$6:$Q$105,COLUMN(Ricavi_Costi!N$4)-1,FALSE)),0,VLOOKUP($A107,Ricavi_Costi!$B$6:$Q$105,COLUMN(Ricavi_Costi!N$4)-1,FALSE))))))","v":""},{"$f":"IF($A107=\"\",\"\",IF(H$4=\"\",\"\",IF($B107=\"X\",INDIRECT(ADDRESS(11,MATCH(CE_PIANO!H$4,BASE!$B$2:$F$2,0)+1,,,\"BASE\")),IF($B107=\"T\",INDIRECT(ADDRESS(13,MATCH(CE_PIANO!H$4,BASE!$B$2:$F$2,0)+1,,,\"BASE\")),IF(ISERROR(VLOOKUP($A107,Ricavi_Costi!$B$6:$Q$105,COLUMN(Ricavi_Costi!O$4)-1,FALSE)),0,VLOOKUP($A107,Ricavi_Costi!$B$6:$Q$105,COLUMN(Ricavi_Costi!O$4)-1,FALSE))))))","v":""}]
[{"$f":"IF(CE_STORICO!A108=\"\",\"\",CE_STORICO!A108)","v":""},{"$f":"IF($A108=\"\",\"\",VLOOKUP(A108,SCHEMA_CE!$E$5:$F$54,2,FALSE))","v":""},{"$f":"IF(CE_STORICO!A108=\"\",\"\",CE_STORICO!B108)","v":""},{"$f":"IF(CE_STORICO!C108=\"\",\"\",CE_STORICO!C108)","v":""},{"$f":"IF(CE_STORICO!D108=\"\",\"\",CE_STORICO!D108)","v":""},{"$f":"IF($A108=\"\",\"\",IF(F$4=\"\",\"\",IF($B108=\"X\",INDIRECT(ADDRESS(11,MATCH(CE_PIANO!F$4,BASE!$B$2:$F$2,0)+1,,,\"BASE\")),IF($B108=\"T\",INDIRECT(ADDRESS(13,MATCH(CE_PIANO!F$4,BASE!$B$2:$F$2,0)+1,,,\"BASE\")),IF(ISERROR(VLOOKUP($A108,Ricavi_Costi!$B$6:$Q$105,COLUMN(Ricavi_Costi!M$4)-1,FALSE)),0,VLOOKUP($A108,Ricavi_Costi!$B$6:$Q$105,COLUMN(Ricavi_Costi!M$4)-1,FALSE))))))","v":""},{"$f":"IF($A108=\"\",\"\",IF(G$4=\"\",\"\",IF($B108=\"X\",INDIRECT(ADDRESS(11,MATCH(CE_PIANO!G$4,BASE!$B$2:$F$2,0)+1,,,\"BASE\")),IF($B108=\"T\",INDIRECT(ADDRESS(13,MATCH(CE_PIANO!G$4,BASE!$B$2:$F$2,0)+1,,,\"BASE\")),IF(ISERROR(VLOOKUP($A108,Ricavi_Costi!$B$6:$Q$105,COLUMN(Ricavi_Costi!N$4)-1,FALSE)),0,VLOOKUP($A108,Ricavi_Costi!$B$6:$Q$105,COLUMN(Ricavi_Costi!N$4)-1,FALSE))))))","v":""},{"$f":"IF($A108=\"\",\"\",IF(H$4=\"\",\"\",IF($B108=\"X\",INDIRECT(ADDRESS(11,MATCH(CE_PIANO!H$4,BASE!$B$2:$F$2,0)+1,,,\"BASE\")),IF($B108=\"T\",INDIRECT(ADDRESS(13,MATCH(CE_PIANO!H$4,BASE!$B$2:$F$2,0)+1,,,\"BASE\")),IF(ISERROR(VLOOKUP($A108,Ricavi_Costi!$B$6:$Q$105,COLUMN(Ricavi_Costi!O$4)-1,FALSE)),0,VLOOKUP($A108,Ricavi_Costi!$B$6:$Q$105,COLUMN(Ricavi_Costi!O$4)-1,FALSE))))))","v":""}]
[{"$f":"IF(CE_STORICO!A109=\"\",\"\",CE_STORICO!A109)","v":""},{"$f":"IF($A109=\"\",\"\",VLOOKUP(A109,SCHEMA_CE!$E$5:$F$54,2,FALSE))","v":""},{"$f":"IF(CE_STORICO!A109=\"\",\"\",CE_STORICO!B109)","v":""},{"$f":"IF(CE_STORICO!C109=\"\",\"\",CE_STORICO!C109)","v":""},{"$f":"IF(CE_STORICO!D109=\"\",\"\",CE_STORICO!D109)","v":""},{"$f":"IF($A109=\"\",\"\",IF(F$4=\"\",\"\",IF($B109=\"X\",INDIRECT(ADDRESS(11,MATCH(CE_PIANO!F$4,BASE!$B$2:$F$2,0)+1,,,\"BASE\")),IF($B109=\"T\",INDIRECT(ADDRESS(13,MATCH(CE_PIANO!F$4,BASE!$B$2:$F$2,0)+1,,,\"BASE\")),IF(ISERROR(VLOOKUP($A109,Ricavi_Costi!$B$6:$Q$105,COLUMN(Ricavi_Costi!M$4)-1,FALSE)),0,VLOOKUP($A109,Ricavi_Costi!$B$6:$Q$105,COLUMN(Ricavi_Costi!M$4)-1,FALSE))))))","v":""},{"$f":"IF($A109=\"\",\"\",IF(G$4=\"\",\"\",IF($B109=\"X\",INDIRECT(ADDRESS(11,MATCH(CE_PIANO!G$4,BASE!$B$2:$F$2,0)+1,,,\"BASE\")),IF($B109=\"T\",INDIRECT(ADDRESS(13,MATCH(CE_PIANO!G$4,BASE!$B$2:$F$2,0)+1,,,\"BASE\")),IF(ISERROR(VLOOKUP($A109,Ricavi_Costi!$B$6:$Q$105,COLUMN(Ricavi_Costi!N$4)-1,FALSE)),0,VLOOKUP($A109,Ricavi_Costi!$B$6:$Q$105,COLUMN(Ricavi_Costi!N$4)-1,FALSE))))))","v":""},{"$f":"IF($A109=\"\",\"\",IF(H$4=\"\",\"\",IF($B109=\"X\",INDIRECT(ADDRESS(11,MATCH(CE_PIANO!H$4,BASE!$B$2:$F$2,0)+1,,,\"BASE\")),IF($B109=\"T\",INDIRECT(ADDRESS(13,MATCH(CE_PIANO!H$4,BASE!$B$2:$F$2,0)+1,,,\"BASE\")),IF(ISERROR(VLOOKUP($A109,Ricavi_Costi!$B$6:$Q$105,COLUMN(Ricavi_Costi!O$4)-1,FALSE)),0,VLOOKUP($A109,Ricavi_Costi!$B$6:$Q$105,COLUMN(Ricavi_Costi!O$4)-1,FALSE))))))","v":""}]
[{"$f":"IF(CE_STORICO!A110=\"\",\"\",CE_STORICO!A110)","v":""},{"$f":"IF($A110=\"\",\"\",VLOOKUP(A110,SCHEMA_CE!$E$5:$F$54,2,FALSE))","v":""},{"$f":"IF(CE_STORICO!A110=\"\",\"\",CE_STORICO!B110)","v":""},{"$f":"IF(CE_STORICO!C110=\"\",\"\",CE_STORICO!C110)","v":""},{"$f":"IF(CE_STORICO!D110=\"\",\"\",CE_STORICO!D110)","v":""},{"$f":"IF($A110=\"\",\"\",IF(F$4=\"\",\"\",IF($B110=\"X\",INDIRECT(ADDRESS(11,MATCH(CE_PIANO!F$4,BASE!$B$2:$F$2,0)+1,,,\"BASE\")),IF($B110=\"T\",INDIRECT(ADDRESS(13,MATCH(CE_PIANO!F$4,BASE!$B$2:$F$2,0)+1,,,\"BASE\")),IF(ISERROR(VLOOKUP($A110,Ricavi_Costi!$B$6:$Q$105,COLUMN(Ricavi_Costi!M$4)-1,FALSE)),0,VLOOKUP($A110,Ricavi_Costi!$B$6:$Q$105,COLUMN(Ricavi_Costi!M$4)-1,FALSE))))))","v":""},{"$f":"IF($A110=\"\",\"\",IF(G$4=\"\",\"\",IF($B110=\"X\",INDIRECT(ADDRESS(11,MATCH(CE_PIANO!G$4,BASE!$B$2:$F$2,0)+1,,,\"BASE\")),IF($B110=\"T\",INDIRECT(ADDRESS(13,MATCH(CE_PIANO!G$4,BASE!$B$2:$F$2,0)+1,,,\"BASE\")),IF(ISERROR(VLOOKUP($A110,Ricavi_Costi!$B$6:$Q$105,COLUMN(Ricavi_Costi!N$4)-1,FALSE)),0,VLOOKUP($A110,Ricavi_Costi!$B$6:$Q$105,COLUMN(Ricavi_Costi!N$4)-1,FALSE))))))","v":""},{"$f":"IF($A110=\"\",\"\",IF(H$4=\"\",\"\",IF($B110=\"X\",INDIRECT(ADDRESS(11,MATCH(CE_PIANO!H$4,BASE!$B$2:$F$2,0)+1,,,\"BASE\")),IF($B110=\"T\",INDIRECT(ADDRESS(13,MATCH(CE_PIANO!H$4,BASE!$B$2:$F$2,0)+1,,,\"BASE\")),IF(ISERROR(VLOOKUP($A110,Ricavi_Costi!$B$6:$Q$105,COLUMN(Ricavi_Costi!O$4)-1,FALSE)),0,VLOOKUP($A110,Ricavi_Costi!$B$6:$Q$105,COLUMN(Ricavi_Costi!O$4)-1,FALSE))))))","v":""}]
[{"$f":"IF(CE_STORICO!A111=\"\",\"\",CE_STORICO!A111)","v":""},{"$f":"IF($A111=\"\",\"\",VLOOKUP(A111,SCHEMA_CE!$E$5:$F$54,2,FALSE))","v":""},{"$f":"IF(CE_STORICO!A111=\"\",\"\",CE_STORICO!B111)","v":""},{"$f":"IF(CE_STORICO!C111=\"\",\"\",CE_STORICO!C111)","v":""},{"$f":"IF(CE_STORICO!D111=\"\",\"\",CE_STORICO!D111)","v":""},{"$f":"IF($A111=\"\",\"\",IF(F$4=\"\",\"\",IF($B111=\"X\",INDIRECT(ADDRESS(11,MATCH(CE_PIANO!F$4,BASE!$B$2:$F$2,0)+1,,,\"BASE\")),IF($B111=\"T\",INDIRECT(ADDRESS(13,MATCH(CE_PIANO!F$4,BASE!$B$2:$F$2,0)+1,,,\"BASE\")),IF(ISERROR(VLOOKUP($A111,Ricavi_Costi!$B$6:$Q$105,COLUMN(Ricavi_Costi!M$4)-1,FALSE)),0,VLOOKUP($A111,Ricavi_Costi!$B$6:$Q$105,COLUMN(Ricavi_Costi!M$4)-1,FALSE))))))","v":""},{"$f":"IF($A111=\"\",\"\",IF(G$4=\"\",\"\",IF($B111=\"X\",INDIRECT(ADDRESS(11,MATCH(CE_PIANO!G$4,BASE!$B$2:$F$2,0)+1,,,\"BASE\")),IF($B111=\"T\",INDIRECT(ADDRESS(13,MATCH(CE_PIANO!G$4,BASE!$B$2:$F$2,0)+1,,,\"BASE\")),IF(ISERROR(VLOOKUP($A111,Ricavi_Costi!$B$6:$Q$105,COLUMN(Ricavi_Costi!N$4)-1,FALSE)),0,VLOOKUP($A111,Ricavi_Costi!$B$6:$Q$105,COLUMN(Ricavi_Costi!N$4)-1,FALSE))))))","v":""},{"$f":"IF($A111=\"\",\"\",IF(H$4=\"\",\"\",IF($B111=\"X\",INDIRECT(ADDRESS(11,MATCH(CE_PIANO!H$4,BASE!$B$2:$F$2,0)+1,,,\"BASE\")),IF($B111=\"T\",INDIRECT(ADDRESS(13,MATCH(CE_PIANO!H$4,BASE!$B$2:$F$2,0)+1,,,\"BASE\")),IF(ISERROR(VLOOKUP($A111,Ricavi_Costi!$B$6:$Q$105,COLUMN(Ricavi_Costi!O$4)-1,FALSE)),0,VLOOKUP($A111,Ricavi_Costi!$B$6:$Q$105,COLUMN(Ricavi_Costi!O$4)-1,FALSE))))))","v":""}]
[{"$f":"IF(CE_STORICO!A112=\"\",\"\",CE_STORICO!A112)","v":""},{"$f":"IF($A112=\"\",\"\",VLOOKUP(A112,SCHEMA_CE!$E$5:$F$54,2,FALSE))","v":""},{"$f":"IF(CE_STORICO!A112=\"\",\"\",CE_STORICO!B112)","v":""},{"$f":"IF(CE_STORICO!C112=\"\",\"\",CE_STORICO!C112)","v":""},{"$f":"IF(CE_STORICO!D112=\"\",\"\",CE_STORICO!D112)","v":""},{"$f":"IF($A112=\"\",\"\",IF(F$4=\"\",\"\",IF($B112=\"X\",INDIRECT(ADDRESS(11,MATCH(CE_PIANO!F$4,BASE!$B$2:$F$2,0)+1,,,\"BASE\")),IF($B112=\"T\",INDIRECT(ADDRESS(13,MATCH(CE_PIANO!F$4,BASE!$B$2:$F$2,0)+1,,,\"BASE\")),IF(ISERROR(VLOOKUP($A112,Ricavi_Costi!$B$6:$Q$105,COLUMN(Ricavi_Costi!M$4)-1,FALSE)),0,VLOOKUP($A112,Ricavi_Costi!$B$6:$Q$105,COLUMN(Ricavi_Costi!M$4)-1,FALSE))))))","v":""},{"$f":"IF($A112=\"\",\"\",IF(G$4=\"\",\"\",IF($B112=\"X\",INDIRECT(ADDRESS(11,MATCH(CE_PIANO!G$4,BASE!$B$2:$F$2,0)+1,,,\"BASE\")),IF($B112=\"T\",INDIRECT(ADDRESS(13,MATCH(CE_PIANO!G$4,BASE!$B$2:$F$2,0)+1,,,\"BASE\")),IF(ISERROR(VLOOKUP($A112,Ricavi_Costi!$B$6:$Q$105,COLUMN(Ricavi_Costi!N$4)-1,FALSE)),0,VLOOKUP($A112,Ricavi_Costi!$B$6:$Q$105,COLUMN(Ricavi_Costi!N$4)-1,FALSE))))))","v":""},{"$f":"IF($A112=\"\",\"\",IF(H$4=\"\",\"\",IF($B112=\"X\",INDIRECT(ADDRESS(11,MATCH(CE_PIANO!H$4,BASE!$B$2:$F$2,0)+1,,,\"BASE\")),IF($B112=\"T\",INDIRECT(ADDRESS(13,MATCH(CE_PIANO!H$4,BASE!$B$2:$F$2,0)+1,,,\"BASE\")),IF(ISERROR(VLOOKUP($A112,Ricavi_Costi!$B$6:$Q$105,COLUMN(Ricavi_Costi!O$4)-1,FALSE)),0,VLOOKUP($A112,Ricavi_Costi!$B$6:$Q$105,COLUMN(Ricavi_Costi!O$4)-1,FALSE))))))","v":""}]
[{"$f":"IF(CE_STORICO!A113=\"\",\"\",CE_STORICO!A113)","v":""},{"$f":"IF($A113=\"\",\"\",VLOOKUP(A113,SCHEMA_CE!$E$5:$F$54,2,FALSE))","v":""},{"$f":"IF(CE_STORICO!A113=\"\",\"\",CE_STORICO!B113)","v":""},{"$f":"IF(CE_STORICO!C113=\"\",\"\",CE_STORICO!C113)","v":""},{"$f":"IF(CE_STORICO!D113=\"\",\"\",CE_STORICO!D113)","v":""},{"$f":"IF($A113=\"\",\"\",IF(F$4=\"\",\"\",IF($B113=\"X\",INDIRECT(ADDRESS(11,MATCH(CE_PIANO!F$4,BASE!$B$2:$F$2,0)+1,,,\"BASE\")),IF($B113=\"T\",INDIRECT(ADDRESS(13,MATCH(CE_PIANO!F$4,BASE!$B$2:$F$2,0)+1,,,\"BASE\")),IF(ISERROR(VLOOKUP($A113,Ricavi_Costi!$B$6:$Q$105,COLUMN(Ricavi_Costi!M$4)-1,FALSE)),0,VLOOKUP($A113,Ricavi_Costi!$B$6:$Q$105,COLUMN(Ricavi_Costi!M$4)-1,FALSE))))))","v":""},{"$f":"IF($A113=\"\",\"\",IF(G$4=\"\",\"\",IF($B113=\"X\",INDIRECT(ADDRESS(11,MATCH(CE_PIANO!G$4,BASE!$B$2:$F$2,0)+1,,,\"BASE\")),IF($B113=\"T\",INDIRECT(ADDRESS(13,MATCH(CE_PIANO!G$4,BASE!$B$2:$F$2,0)+1,,,\"BASE\")),IF(ISERROR(VLOOKUP($A113,Ricavi_Costi!$B$6:$Q$105,COLUMN(Ricavi_Costi!N$4)-1,FALSE)),0,VLOOKUP($A113,Ricavi_Costi!$B$6:$Q$105,COLUMN(Ricavi_Costi!N$4)-1,FALSE))))))","v":""},{"$f":"IF($A113=\"\",\"\",IF(H$4=\"\",\"\",IF($B113=\"X\",INDIRECT(ADDRESS(11,MATCH(CE_PIANO!H$4,BASE!$B$2:$F$2,0)+1,,,\"BASE\")),IF($B113=\"T\",INDIRECT(ADDRESS(13,MATCH(CE_PIANO!H$4,BASE!$B$2:$F$2,0)+1,,,\"BASE\")),IF(ISERROR(VLOOKUP($A113,Ricavi_Costi!$B$6:$Q$105,COLUMN(Ricavi_Costi!O$4)-1,FALSE)),0,VLOOKUP($A113,Ricavi_Costi!$B$6:$Q$105,COLUMN(Ricavi_Costi!O$4)-1,FALSE))))))","v":""}]
[{"$f":"IF(CE_STORICO!A114=\"\",\"\",CE_STORICO!A114)","v":""},{"$f":"IF($A114=\"\",\"\",VLOOKUP(A114,SCHEMA_CE!$E$5:$F$54,2,FALSE))","v":""},{"$f":"IF(CE_STORICO!A114=\"\",\"\",CE_STORICO!B114)","v":""},{"$f":"IF(CE_STORICO!C114=\"\",\"\",CE_STORICO!C114)","v":""},{"$f":"IF(CE_STORICO!D114=\"\",\"\",CE_STORICO!D114)","v":""},{"$f":"IF($A114=\"\",\"\",IF(F$4=\"\",\"\",IF($B114=\"X\",INDIRECT(ADDRESS(11,MATCH(CE_PIANO!F$4,BASE!$B$2:$F$2,0)+1,,,\"BASE\")),IF($B114=\"T\",INDIRECT(ADDRESS(13,MATCH(CE_PIANO!F$4,BASE!$B$2:$F$2,0)+1,,,\"BASE\")),IF(ISERROR(VLOOKUP($A114,Ricavi_Costi!$B$6:$Q$105,COLUMN(Ricavi_Costi!M$4)-1,FALSE)),0,VLOOKUP($A114,Ricavi_Costi!$B$6:$Q$105,COLUMN(Ricavi_Costi!M$4)-1,FALSE))))))","v":""},{"$f":"IF($A114=\"\",\"\",IF(G$4=\"\",\"\",IF($B114=\"X\",INDIRECT(ADDRESS(11,MATCH(CE_PIANO!G$4,BASE!$B$2:$F$2,0)+1,,,\"BASE\")),IF($B114=\"T\",INDIRECT(ADDRESS(13,MATCH(CE_PIANO!G$4,BASE!$B$2:$F$2,0)+1,,,\"BASE\")),IF(ISERROR(VLOOKUP($A114,Ricavi_Costi!$B$6:$Q$105,COLUMN(Ricavi_Costi!N$4)-1,FALSE)),0,VLOOKUP($A114,Ricavi_Costi!$B$6:$Q$105,COLUMN(Ricavi_Costi!N$4)-1,FALSE))))))","v":""},{"$f":"IF($A114=\"\",\"\",IF(H$4=\"\",\"\",IF($B114=\"X\",INDIRECT(ADDRESS(11,MATCH(CE_PIANO!H$4,BASE!$B$2:$F$2,0)+1,,,\"BASE\")),IF($B114=\"T\",INDIRECT(ADDRESS(13,MATCH(CE_PIANO!H$4,BASE!$B$2:$F$2,0)+1,,,\"BASE\")),IF(ISERROR(VLOOKUP($A114,Ricavi_Costi!$B$6:$Q$105,COLUMN(Ricavi_Costi!O$4)-1,FALSE)),0,VLOOKUP($A114,Ricavi_Costi!$B$6:$Q$105,COLUMN(Ricavi_Costi!O$4)-1,FALSE))))))","v":""}]
[{"$f":"IF(CE_STORICO!A115=\"\",\"\",CE_STORICO!A115)","v":""},{"$f":"IF($A115=\"\",\"\",VLOOKUP(A115,SCHEMA_CE!$E$5:$F$54,2,FALSE))","v":""},{"$f":"IF(CE_STORICO!A115=\"\",\"\",CE_STORICO!B115)","v":""},{"$f":"IF(CE_STORICO!C115=\"\",\"\",CE_STORICO!C115)","v":""},{"$f":"IF(CE_STORICO!D115=\"\",\"\",CE_STORICO!D115)","v":""},{"$f":"IF($A115=\"\",\"\",IF(F$4=\"\",\"\",IF($B115=\"X\",INDIRECT(ADDRESS(11,MATCH(CE_PIANO!F$4,BASE!$B$2:$F$2,0)+1,,,\"BASE\")),IF($B115=\"T\",INDIRECT(ADDRESS(13,MATCH(CE_PIANO!F$4,BASE!$B$2:$F$2,0)+1,,,\"BASE\")),IF(ISERROR(VLOOKUP($A115,Ricavi_Costi!$B$6:$Q$105,COLUMN(Ricavi_Costi!M$4)-1,FALSE)),0,VLOOKUP($A115,Ricavi_Costi!$B$6:$Q$105,COLUMN(Ricavi_Costi!M$4)-1,FALSE))))))","v":""},{"$f":"IF($A115=\"\",\"\",IF(G$4=\"\",\"\",IF($B115=\"X\",INDIRECT(ADDRESS(11,MATCH(CE_PIANO!G$4,BASE!$B$2:$F$2,0)+1,,,\"BASE\")),IF($B115=\"T\",INDIRECT(ADDRESS(13,MATCH(CE_PIANO!G$4,BASE!$B$2:$F$2,0)+1,,,\"BASE\")),IF(ISERROR(VLOOKUP($A115,Ricavi_Costi!$B$6:$Q$105,COLUMN(Ricavi_Costi!N$4)-1,FALSE)),0,VLOOKUP($A115,Ricavi_Costi!$B$6:$Q$105,COLUMN(Ricavi_Costi!N$4)-1,FALSE))))))","v":""},{"$f":"IF($A115=\"\",\"\",IF(H$4=\"\",\"\",IF($B115=\"X\",INDIRECT(ADDRESS(11,MATCH(CE_PIANO!H$4,BASE!$B$2:$F$2,0)+1,,,\"BASE\")),IF($B115=\"T\",INDIRECT(ADDRESS(13,MATCH(CE_PIANO!H$4,BASE!$B$2:$F$2,0)+1,,,\"BASE\")),IF(ISERROR(VLOOKUP($A115,Ricavi_Costi!$B$6:$Q$105,COLUMN(Ricavi_Costi!O$4)-1,FALSE)),0,VLOOKUP($A115,Ricavi_Costi!$B$6:$Q$105,COLUMN(Ricavi_Costi!O$4)-1,FALSE))))))","v":""}]
[{"$f":"IF(CE_STORICO!A116=\"\",\"\",CE_STORICO!A116)","v":""},{"$f":"IF($A116=\"\",\"\",VLOOKUP(A116,SCHEMA_CE!$E$5:$F$54,2,FALSE))","v":""},{"$f":"IF(CE_STORICO!A116=\"\",\"\",CE_STORICO!B116)","v":""},{"$f":"IF(CE_STORICO!C116=\"\",\"\",CE_STORICO!C116)","v":""},{"$f":"IF(CE_STORICO!D116=\"\",\"\",CE_STORICO!D116)","v":""},{"$f":"IF($A116=\"\",\"\",IF(F$4=\"\",\"\",IF($B116=\"X\",INDIRECT(ADDRESS(11,MATCH(CE_PIANO!F$4,BASE!$B$2:$F$2,0)+1,,,\"BASE\")),IF($B116=\"T\",INDIRECT(ADDRESS(13,MATCH(CE_PIANO!F$4,BASE!$B$2:$F$2,0)+1,,,\"BASE\")),IF(ISERROR(VLOOKUP($A116,Ricavi_Costi!$B$6:$Q$105,COLUMN(Ricavi_Costi!M$4)-1,FALSE)),0,VLOOKUP($A116,Ricavi_Costi!$B$6:$Q$105,COLUMN(Ricavi_Costi!M$4)-1,FALSE))))))","v":""},{"$f":"IF($A116=\"\",\"\",IF(G$4=\"\",\"\",IF($B116=\"X\",INDIRECT(ADDRESS(11,MATCH(CE_PIANO!G$4,BASE!$B$2:$F$2,0)+1,,,\"BASE\")),IF($B116=\"T\",INDIRECT(ADDRESS(13,MATCH(CE_PIANO!G$4,BASE!$B$2:$F$2,0)+1,,,\"BASE\")),IF(ISERROR(VLOOKUP($A116,Ricavi_Costi!$B$6:$Q$105,COLUMN(Ricavi_Costi!N$4)-1,FALSE)),0,VLOOKUP($A116,Ricavi_Costi!$B$6:$Q$105,COLUMN(Ricavi_Costi!N$4)-1,FALSE))))))","v":""},{"$f":"IF($A116=\"\",\"\",IF(H$4=\"\",\"\",IF($B116=\"X\",INDIRECT(ADDRESS(11,MATCH(CE_PIANO!H$4,BASE!$B$2:$F$2,0)+1,,,\"BASE\")),IF($B116=\"T\",INDIRECT(ADDRESS(13,MATCH(CE_PIANO!H$4,BASE!$B$2:$F$2,0)+1,,,\"BASE\")),IF(ISERROR(VLOOKUP($A116,Ricavi_Costi!$B$6:$Q$105,COLUMN(Ricavi_Costi!O$4)-1,FALSE)),0,VLOOKUP($A116,Ricavi_Costi!$B$6:$Q$105,COLUMN(Ricavi_Costi!O$4)-1,FALSE))))))","v":""}]
[{"$f":"IF(CE_STORICO!A117=\"\",\"\",CE_STORICO!A117)","v":""},{"$f":"IF($A117=\"\",\"\",VLOOKUP(A117,SCHEMA_CE!$E$5:$F$54,2,FALSE))","v":""},{"$f":"IF(CE_STORICO!A117=\"\",\"\",CE_STORICO!B117)","v":""},{"$f":"IF(CE_STORICO!C117=\"\",\"\",CE_STORICO!C117)","v":""},{"$f":"IF(CE_STORICO!D117=\"\",\"\",CE_STORICO!D117)","v":""},{"$f":"IF($A117=\"\",\"\",IF(F$4=\"\",\"\",IF($B117=\"X\",INDIRECT(ADDRESS(11,MATCH(CE_PIANO!F$4,BASE!$B$2:$F$2,0)+1,,,\"BASE\")),IF($B117=\"T\",INDIRECT(ADDRESS(13,MATCH(CE_PIANO!F$4,BASE!$B$2:$F$2,0)+1,,,\"BASE\")),IF(ISERROR(VLOOKUP($A117,Ricavi_Costi!$B$6:$Q$105,COLUMN(Ricavi_Costi!M$4)-1,FALSE)),0,VLOOKUP($A117,Ricavi_Costi!$B$6:$Q$105,COLUMN(Ricavi_Costi!M$4)-1,FALSE))))))","v":""},{"$f":"IF($A117=\"\",\"\",IF(G$4=\"\",\"\",IF($B117=\"X\",INDIRECT(ADDRESS(11,MATCH(CE_PIANO!G$4,BASE!$B$2:$F$2,0)+1,,,\"BASE\")),IF($B117=\"T\",INDIRECT(ADDRESS(13,MATCH(CE_PIANO!G$4,BASE!$B$2:$F$2,0)+1,,,\"BASE\")),IF(ISERROR(VLOOKUP($A117,Ricavi_Costi!$B$6:$Q$105,COLUMN(Ricavi_Costi!N$4)-1,FALSE)),0,VLOOKUP($A117,Ricavi_Costi!$B$6:$Q$105,COLUMN(Ricavi_Costi!N$4)-1,FALSE))))))","v":""},{"$f":"IF($A117=\"\",\"\",IF(H$4=\"\",\"\",IF($B117=\"X\",INDIRECT(ADDRESS(11,MATCH(CE_PIANO!H$4,BASE!$B$2:$F$2,0)+1,,,\"BASE\")),IF($B117=\"T\",INDIRECT(ADDRESS(13,MATCH(CE_PIANO!H$4,BASE!$B$2:$F$2,0)+1,,,\"BASE\")),IF(ISERROR(VLOOKUP($A117,Ricavi_Costi!$B$6:$Q$105,COLUMN(Ricavi_Costi!O$4)-1,FALSE)),0,VLOOKUP($A117,Ricavi_Costi!$B$6:$Q$105,COLUMN(Ricavi_Costi!O$4)-1,FALSE))))))","v":""}]
[{"$f":"IF(CE_STORICO!A118=\"\",\"\",CE_STORICO!A118)","v":""},{"$f":"IF($A118=\"\",\"\",VLOOKUP(A118,SCHEMA_CE!$E$5:$F$54,2,FALSE))","v":""},{"$f":"IF(CE_STORICO!A118=\"\",\"\",CE_STORICO!B118)","v":""},{"$f":"IF(CE_STORICO!C118=\"\",\"\",CE_STORICO!C118)","v":""},{"$f":"IF(CE_STORICO!D118=\"\",\"\",CE_STORICO!D118)","v":""},{"$f":"IF($A118=\"\",\"\",IF(F$4=\"\",\"\",IF($B118=\"X\",INDIRECT(ADDRESS(11,MATCH(CE_PIANO!F$4,BASE!$B$2:$F$2,0)+1,,,\"BASE\")),IF($B118=\"T\",INDIRECT(ADDRESS(13,MATCH(CE_PIANO!F$4,BASE!$B$2:$F$2,0)+1,,,\"BASE\")),IF(ISERROR(VLOOKUP($A118,Ricavi_Costi!$B$6:$Q$105,COLUMN(Ricavi_Costi!M$4)-1,FALSE)),0,VLOOKUP($A118,Ricavi_Costi!$B$6:$Q$105,COLUMN(Ricavi_Costi!M$4)-1,FALSE))))))","v":""},{"$f":"IF($A118=\"\",\"\",IF(G$4=\"\",\"\",IF($B118=\"X\",INDIRECT(ADDRESS(11,MATCH(CE_PIANO!G$4,BASE!$B$2:$F$2,0)+1,,,\"BASE\")),IF($B118=\"T\",INDIRECT(ADDRESS(13,MATCH(CE_PIANO!G$4,BASE!$B$2:$F$2,0)+1,,,\"BASE\")),IF(ISERROR(VLOOKUP($A118,Ricavi_Costi!$B$6:$Q$105,COLUMN(Ricavi_Costi!N$4)-1,FALSE)),0,VLOOKUP($A118,Ricavi_Costi!$B$6:$Q$105,COLUMN(Ricavi_Costi!N$4)-1,FALSE))))))","v":""},{"$f":"IF($A118=\"\",\"\",IF(H$4=\"\",\"\",IF($B118=\"X\",INDIRECT(ADDRESS(11,MATCH(CE_PIANO!H$4,BASE!$B$2:$F$2,0)+1,,,\"BASE\")),IF($B118=\"T\",INDIRECT(ADDRESS(13,MATCH(CE_PIANO!H$4,BASE!$B$2:$F$2,0)+1,,,\"BASE\")),IF(ISERROR(VLOOKUP($A118,Ricavi_Costi!$B$6:$Q$105,COLUMN(Ricavi_Costi!O$4)-1,FALSE)),0,VLOOKUP($A118,Ricavi_Costi!$B$6:$Q$105,COLUMN(Ricavi_Costi!O$4)-1,FALSE))))))","v":""}]
[{"$f":"IF(CE_STORICO!A119=\"\",\"\",CE_STORICO!A119)","v":""},{"$f":"IF($A119=\"\",\"\",VLOOKUP(A119,SCHEMA_CE!$E$5:$F$54,2,FALSE))","v":""},{"$f":"IF(CE_STORICO!A119=\"\",\"\",CE_STORICO!B119)","v":""},{"$f":"IF(CE_STORICO!C119=\"\",\"\",CE_STORICO!C119)","v":""},{"$f":"IF(CE_STORICO!D119=\"\",\"\",CE_STORICO!D119)","v":""},{"$f":"IF($A119=\"\",\"\",IF(F$4=\"\",\"\",IF($B119=\"X\",INDIRECT(ADDRESS(11,MATCH(CE_PIANO!F$4,BASE!$B$2:$F$2,0)+1,,,\"BASE\")),IF($B119=\"T\",INDIRECT(ADDRESS(13,MATCH(CE_PIANO!F$4,BASE!$B$2:$F$2,0)+1,,,\"BASE\")),IF(ISERROR(VLOOKUP($A119,Ricavi_Costi!$B$6:$Q$105,COLUMN(Ricavi_Costi!M$4)-1,FALSE)),0,VLOOKUP($A119,Ricavi_Costi!$B$6:$Q$105,COLUMN(Ricavi_Costi!M$4)-1,FALSE))))))","v":""},{"$f":"IF($A119=\"\",\"\",IF(G$4=\"\",\"\",IF($B119=\"X\",INDIRECT(ADDRESS(11,MATCH(CE_PIANO!G$4,BASE!$B$2:$F$2,0)+1,,,\"BASE\")),IF($B119=\"T\",INDIRECT(ADDRESS(13,MATCH(CE_PIANO!G$4,BASE!$B$2:$F$2,0)+1,,,\"BASE\")),IF(ISERROR(VLOOKUP($A119,Ricavi_Costi!$B$6:$Q$105,COLUMN(Ricavi_Costi!N$4)-1,FALSE)),0,VLOOKUP($A119,Ricavi_Costi!$B$6:$Q$105,COLUMN(Ricavi_Costi!N$4)-1,FALSE))))))","v":""},{"$f":"IF($A119=\"\",\"\",IF(H$4=\"\",\"\",IF($B119=\"X\",INDIRECT(ADDRESS(11,MATCH(CE_PIANO!H$4,BASE!$B$2:$F$2,0)+1,,,\"BASE\")),IF($B119=\"T\",INDIRECT(ADDRESS(13,MATCH(CE_PIANO!H$4,BASE!$B$2:$F$2,0)+1,,,\"BASE\")),IF(ISERROR(VLOOKUP($A119,Ricavi_Costi!$B$6:$Q$105,COLUMN(Ricavi_Costi!O$4)-1,FALSE)),0,VLOOKUP($A119,Ricavi_Costi!$B$6:$Q$105,COLUMN(Ricavi_Costi!O$4)-1,FALSE))))))","v":""}]
[{"$f":"IF(CE_STORICO!A120=\"\",\"\",CE_STORICO!A120)","v":""},{"$f":"IF($A120=\"\",\"\",VLOOKUP(A120,SCHEMA_CE!$E$5:$F$54,2,FALSE))","v":""},{"$f":"IF(CE_STORICO!A120=\"\",\"\",CE_STORICO!B120)","v":""},{"$f":"IF(CE_STORICO!C120=\"\",\"\",CE_STORICO!C120)","v":""},{"$f":"IF(CE_STORICO!D120=\"\",\"\",CE_STORICO!D120)","v":""},{"$f":"IF($A120=\"\",\"\",IF(F$4=\"\",\"\",IF($B120=\"X\",INDIRECT(ADDRESS(11,MATCH(CE_PIANO!F$4,BASE!$B$2:$F$2,0)+1,,,\"BASE\")),IF($B120=\"T\",INDIRECT(ADDRESS(13,MATCH(CE_PIANO!F$4,BASE!$B$2:$F$2,0)+1,,,\"BASE\")),IF(ISERROR(VLOOKUP($A120,Ricavi_Costi!$B$6:$Q$105,COLUMN(Ricavi_Costi!M$4)-1,FALSE)),0,VLOOKUP($A120,Ricavi_Costi!$B$6:$Q$105,COLUMN(Ricavi_Costi!M$4)-1,FALSE))))))","v":""},{"$f":"IF($A120=\"\",\"\",IF(G$4=\"\",\"\",IF($B120=\"X\",INDIRECT(ADDRESS(11,MATCH(CE_PIANO!G$4,BASE!$B$2:$F$2,0)+1,,,\"BASE\")),IF($B120=\"T\",INDIRECT(ADDRESS(13,MATCH(CE_PIANO!G$4,BASE!$B$2:$F$2,0)+1,,,\"BASE\")),IF(ISERROR(VLOOKUP($A120,Ricavi_Costi!$B$6:$Q$105,COLUMN(Ricavi_Costi!N$4)-1,FALSE)),0,VLOOKUP($A120,Ricavi_Costi!$B$6:$Q$105,COLUMN(Ricavi_Costi!N$4)-1,FALSE))))))","v":""},{"$f":"IF($A120=\"\",\"\",IF(H$4=\"\",\"\",IF($B120=\"X\",INDIRECT(ADDRESS(11,MATCH(CE_PIANO!H$4,BASE!$B$2:$F$2,0)+1,,,\"BASE\")),IF($B120=\"T\",INDIRECT(ADDRESS(13,MATCH(CE_PIANO!H$4,BASE!$B$2:$F$2,0)+1,,,\"BASE\")),IF(ISERROR(VLOOKUP($A120,Ricavi_Costi!$B$6:$Q$105,COLUMN(Ricavi_Costi!O$4)-1,FALSE)),0,VLOOKUP($A120,Ricavi_Costi!$B$6:$Q$105,COLUMN(Ricavi_Costi!O$4)-1,FALSE))))))","v":""}]
[{"$f":"IF(CE_STORICO!A121=\"\",\"\",CE_STORICO!A121)","v":""},{"$f":"IF($A121=\"\",\"\",VLOOKUP(A121,SCHEMA_CE!$E$5:$F$54,2,FALSE))","v":""},{"$f":"IF(CE_STORICO!A121=\"\",\"\",CE_STORICO!B121)","v":""},{"$f":"IF(CE_STORICO!C121=\"\",\"\",CE_STORICO!C121)","v":""},{"$f":"IF(CE_STORICO!D121=\"\",\"\",CE_STORICO!D121)","v":""},{"$f":"IF($A121=\"\",\"\",IF(F$4=\"\",\"\",IF($B121=\"X\",INDIRECT(ADDRESS(11,MATCH(CE_PIANO!F$4,BASE!$B$2:$F$2,0)+1,,,\"BASE\")),IF($B121=\"T\",INDIRECT(ADDRESS(13,MATCH(CE_PIANO!F$4,BASE!$B$2:$F$2,0)+1,,,\"BASE\")),IF(ISERROR(VLOOKUP($A121,Ricavi_Costi!$B$6:$Q$105,COLUMN(Ricavi_Costi!M$4)-1,FALSE)),0,VLOOKUP($A121,Ricavi_Costi!$B$6:$Q$105,COLUMN(Ricavi_Costi!M$4)-1,FALSE))))))","v":""},{"$f":"IF($A121=\"\",\"\",IF(G$4=\"\",\"\",IF($B121=\"X\",INDIRECT(ADDRESS(11,MATCH(CE_PIANO!G$4,BASE!$B$2:$F$2,0)+1,,,\"BASE\")),IF($B121=\"T\",INDIRECT(ADDRESS(13,MATCH(CE_PIANO!G$4,BASE!$B$2:$F$2,0)+1,,,\"BASE\")),IF(ISERROR(VLOOKUP($A121,Ricavi_Costi!$B$6:$Q$105,COLUMN(Ricavi_Costi!N$4)-1,FALSE)),0,VLOOKUP($A121,Ricavi_Costi!$B$6:$Q$105,COLUMN(Ricavi_Costi!N$4)-1,FALSE))))))","v":""},{"$f":"IF($A121=\"\",\"\",IF(H$4=\"\",\"\",IF($B121=\"X\",INDIRECT(ADDRESS(11,MATCH(CE_PIANO!H$4,BASE!$B$2:$F$2,0)+1,,,\"BASE\")),IF($B121=\"T\",INDIRECT(ADDRESS(13,MATCH(CE_PIANO!H$4,BASE!$B$2:$F$2,0)+1,,,\"BASE\")),IF(ISERROR(VLOOKUP($A121,Ricavi_Costi!$B$6:$Q$105,COLUMN(Ricavi_Costi!O$4)-1,FALSE)),0,VLOOKUP($A121,Ricavi_Costi!$B$6:$Q$105,COLUMN(Ricavi_Costi!O$4)-1,FALSE))))))","v":""}]
[{"$f":"IF(CE_STORICO!A122=\"\",\"\",CE_STORICO!A122)","v":""},{"$f":"IF($A122=\"\",\"\",VLOOKUP(A122,SCHEMA_CE!$E$5:$F$54,2,FALSE))","v":""},{"$f":"IF(CE_STORICO!A122=\"\",\"\",CE_STORICO!B122)","v":""},{"$f":"IF(CE_STORICO!C122=\"\",\"\",CE_STORICO!C122)","v":""},{"$f":"IF(CE_STORICO!D122=\"\",\"\",CE_STORICO!D122)","v":""},{"$f":"IF($A122=\"\",\"\",IF(F$4=\"\",\"\",IF($B122=\"X\",INDIRECT(ADDRESS(11,MATCH(CE_PIANO!F$4,BASE!$B$2:$F$2,0)+1,,,\"BASE\")),IF($B122=\"T\",INDIRECT(ADDRESS(13,MATCH(CE_PIANO!F$4,BASE!$B$2:$F$2,0)+1,,,\"BASE\")),IF(ISERROR(VLOOKUP($A122,Ricavi_Costi!$B$6:$Q$105,COLUMN(Ricavi_Costi!M$4)-1,FALSE)),0,VLOOKUP($A122,Ricavi_Costi!$B$6:$Q$105,COLUMN(Ricavi_Costi!M$4)-1,FALSE))))))","v":""},{"$f":"IF($A122=\"\",\"\",IF(G$4=\"\",\"\",IF($B122=\"X\",INDIRECT(ADDRESS(11,MATCH(CE_PIANO!G$4,BASE!$B$2:$F$2,0)+1,,,\"BASE\")),IF($B122=\"T\",INDIRECT(ADDRESS(13,MATCH(CE_PIANO!G$4,BASE!$B$2:$F$2,0)+1,,,\"BASE\")),IF(ISERROR(VLOOKUP($A122,Ricavi_Costi!$B$6:$Q$105,COLUMN(Ricavi_Costi!N$4)-1,FALSE)),0,VLOOKUP($A122,Ricavi_Costi!$B$6:$Q$105,COLUMN(Ricavi_Costi!N$4)-1,FALSE))))))","v":""},{"$f":"IF($A122=\"\",\"\",IF(H$4=\"\",\"\",IF($B122=\"X\",INDIRECT(ADDRESS(11,MATCH(CE_PIANO!H$4,BASE!$B$2:$F$2,0)+1,,,\"BASE\")),IF($B122=\"T\",INDIRECT(ADDRESS(13,MATCH(CE_PIANO!H$4,BASE!$B$2:$F$2,0)+1,,,\"BASE\")),IF(ISERROR(VLOOKUP($A122,Ricavi_Costi!$B$6:$Q$105,COLUMN(Ricavi_Costi!O$4)-1,FALSE)),0,VLOOKUP($A122,Ricavi_Costi!$B$6:$Q$105,COLUMN(Ricavi_Costi!O$4)-1,FALSE))))))","v":""}]
[{"$f":"IF(CE_STORICO!A123=\"\",\"\",CE_STORICO!A123)","v":""},{"$f":"IF($A123=\"\",\"\",VLOOKUP(A123,SCHEMA_CE!$E$5:$F$54,2,FALSE))","v":""},{"$f":"IF(CE_STORICO!A123=\"\",\"\",CE_STORICO!B123)","v":""},{"$f":"IF(CE_STORICO!C123=\"\",\"\",CE_STORICO!C123)","v":""},{"$f":"IF(CE_STORICO!D123=\"\",\"\",CE_STORICO!D123)","v":""},{"$f":"IF($A123=\"\",\"\",IF(F$4=\"\",\"\",IF($B123=\"X\",INDIRECT(ADDRESS(11,MATCH(CE_PIANO!F$4,BASE!$B$2:$F$2,0)+1,,,\"BASE\")),IF($B123=\"T\",INDIRECT(ADDRESS(13,MATCH(CE_PIANO!F$4,BASE!$B$2:$F$2,0)+1,,,\"BASE\")),IF(ISERROR(VLOOKUP($A123,Ricavi_Costi!$B$6:$Q$105,COLUMN(Ricavi_Costi!M$4)-1,FALSE)),0,VLOOKUP($A123,Ricavi_Costi!$B$6:$Q$105,COLUMN(Ricavi_Costi!M$4)-1,FALSE))))))","v":""},{"$f":"IF($A123=\"\",\"\",IF(G$4=\"\",\"\",IF($B123=\"X\",INDIRECT(ADDRESS(11,MATCH(CE_PIANO!G$4,BASE!$B$2:$F$2,0)+1,,,\"BASE\")),IF($B123=\"T\",INDIRECT(ADDRESS(13,MATCH(CE_PIANO!G$4,BASE!$B$2:$F$2,0)+1,,,\"BASE\")),IF(ISERROR(VLOOKUP($A123,Ricavi_Costi!$B$6:$Q$105,COLUMN(Ricavi_Costi!N$4)-1,FALSE)),0,VLOOKUP($A123,Ricavi_Costi!$B$6:$Q$105,COLUMN(Ricavi_Costi!N$4)-1,FALSE))))))","v":""},{"$f":"IF($A123=\"\",\"\",IF(H$4=\"\",\"\",IF($B123=\"X\",INDIRECT(ADDRESS(11,MATCH(CE_PIANO!H$4,BASE!$B$2:$F$2,0)+1,,,\"BASE\")),IF($B123=\"T\",INDIRECT(ADDRESS(13,MATCH(CE_PIANO!H$4,BASE!$B$2:$F$2,0)+1,,,\"BASE\")),IF(ISERROR(VLOOKUP($A123,Ricavi_Costi!$B$6:$Q$105,COLUMN(Ricavi_Costi!O$4)-1,FALSE)),0,VLOOKUP($A123,Ricavi_Costi!$B$6:$Q$105,COLUMN(Ricavi_Costi!O$4)-1,FALSE))))))","v":""}]
[{"$f":"IF(CE_STORICO!A124=\"\",\"\",CE_STORICO!A124)","v":""},{"$f":"IF($A124=\"\",\"\",VLOOKUP(A124,SCHEMA_CE!$E$5:$F$54,2,FALSE))","v":""},{"$f":"IF(CE_STORICO!A124=\"\",\"\",CE_STORICO!B124)","v":""},{"$f":"IF(CE_STORICO!C124=\"\",\"\",CE_STORICO!C124)","v":""},{"$f":"IF(CE_STORICO!D124=\"\",\"\",CE_STORICO!D124)","v":""},{"$f":"IF($A124=\"\",\"\",IF(F$4=\"\",\"\",IF($B124=\"X\",INDIRECT(ADDRESS(11,MATCH(CE_PIANO!F$4,BASE!$B$2:$F$2,0)+1,,,\"BASE\")),IF($B124=\"T\",INDIRECT(ADDRESS(13,MATCH(CE_PIANO!F$4,BASE!$B$2:$F$2,0)+1,,,\"BASE\")),IF(ISERROR(VLOOKUP($A124,Ricavi_Costi!$B$6:$Q$105,COLUMN(Ricavi_Costi!M$4)-1,FALSE)),0,VLOOKUP($A124,Ricavi_Costi!$B$6:$Q$105,COLUMN(Ricavi_Costi!M$4)-1,FALSE))))))","v":""},{"$f":"IF($A124=\"\",\"\",IF(G$4=\"\",\"\",IF($B124=\"X\",INDIRECT(ADDRESS(11,MATCH(CE_PIANO!G$4,BASE!$B$2:$F$2,0)+1,,,\"BASE\")),IF($B124=\"T\",INDIRECT(ADDRESS(13,MATCH(CE_PIANO!G$4,BASE!$B$2:$F$2,0)+1,,,\"BASE\")),IF(ISERROR(VLOOKUP($A124,Ricavi_Costi!$B$6:$Q$105,COLUMN(Ricavi_Costi!N$4)-1,FALSE)),0,VLOOKUP($A124,Ricavi_Costi!$B$6:$Q$105,COLUMN(Ricavi_Costi!N$4)-1,FALSE))))))","v":""},{"$f":"IF($A124=\"\",\"\",IF(H$4=\"\",\"\",IF($B124=\"X\",INDIRECT(ADDRESS(11,MATCH(CE_PIANO!H$4,BASE!$B$2:$F$2,0)+1,,,\"BASE\")),IF($B124=\"T\",INDIRECT(ADDRESS(13,MATCH(CE_PIANO!H$4,BASE!$B$2:$F$2,0)+1,,,\"BASE\")),IF(ISERROR(VLOOKUP($A124,Ricavi_Costi!$B$6:$Q$105,COLUMN(Ricavi_Costi!O$4)-1,FALSE)),0,VLOOKUP($A124,Ricavi_Costi!$B$6:$Q$105,COLUMN(Ricavi_Costi!O$4)-1,FALSE))))))","v":""}]
[{"$f":"IF(CE_STORICO!A125=\"\",\"\",CE_STORICO!A125)","v":""},{"$f":"IF($A125=\"\",\"\",VLOOKUP(A125,SCHEMA_CE!$E$5:$F$54,2,FALSE))","v":""},{"$f":"IF(CE_STORICO!A125=\"\",\"\",CE_STORICO!B125)","v":""},{"$f":"IF(CE_STORICO!C125=\"\",\"\",CE_STORICO!C125)","v":""},{"$f":"IF(CE_STORICO!D125=\"\",\"\",CE_STORICO!D125)","v":""},{"$f":"IF($A125=\"\",\"\",IF(F$4=\"\",\"\",IF($B125=\"X\",INDIRECT(ADDRESS(11,MATCH(CE_PIANO!F$4,BASE!$B$2:$F$2,0)+1,,,\"BASE\")),IF($B125=\"T\",INDIRECT(ADDRESS(13,MATCH(CE_PIANO!F$4,BASE!$B$2:$F$2,0)+1,,,\"BASE\")),IF(ISERROR(VLOOKUP($A125,Ricavi_Costi!$B$6:$Q$105,COLUMN(Ricavi_Costi!M$4)-1,FALSE)),0,VLOOKUP($A125,Ricavi_Costi!$B$6:$Q$105,COLUMN(Ricavi_Costi!M$4)-1,FALSE))))))","v":""},{"$f":"IF($A125=\"\",\"\",IF(G$4=\"\",\"\",IF($B125=\"X\",INDIRECT(ADDRESS(11,MATCH(CE_PIANO!G$4,BASE!$B$2:$F$2,0)+1,,,\"BASE\")),IF($B125=\"T\",INDIRECT(ADDRESS(13,MATCH(CE_PIANO!G$4,BASE!$B$2:$F$2,0)+1,,,\"BASE\")),IF(ISERROR(VLOOKUP($A125,Ricavi_Costi!$B$6:$Q$105,COLUMN(Ricavi_Costi!N$4)-1,FALSE)),0,VLOOKUP($A125,Ricavi_Costi!$B$6:$Q$105,COLUMN(Ricavi_Costi!N$4)-1,FALSE))))))","v":""},{"$f":"IF($A125=\"\",\"\",IF(H$4=\"\",\"\",IF($B125=\"X\",INDIRECT(ADDRESS(11,MATCH(CE_PIANO!H$4,BASE!$B$2:$F$2,0)+1,,,\"BASE\")),IF($B125=\"T\",INDIRECT(ADDRESS(13,MATCH(CE_PIANO!H$4,BASE!$B$2:$F$2,0)+1,,,\"BASE\")),IF(ISERROR(VLOOKUP($A125,Ricavi_Costi!$B$6:$Q$105,COLUMN(Ricavi_Costi!O$4)-1,FALSE)),0,VLOOKUP($A125,Ricavi_Costi!$B$6:$Q$105,COLUMN(Ricavi_Costi!O$4)-1,FALSE))))))","v":""}]
[{"$f":"IF(CE_STORICO!A126=\"\",\"\",CE_STORICO!A126)","v":""},{"$f":"IF($A126=\"\",\"\",VLOOKUP(A126,SCHEMA_CE!$E$5:$F$54,2,FALSE))","v":""},{"$f":"IF(CE_STORICO!A126=\"\",\"\",CE_STORICO!B126)","v":""},{"$f":"IF(CE_STORICO!C126=\"\",\"\",CE_STORICO!C126)","v":""},{"$f":"IF(CE_STORICO!D126=\"\",\"\",CE_STORICO!D126)","v":""},{"$f":"IF($A126=\"\",\"\",IF(F$4=\"\",\"\",IF($B126=\"X\",INDIRECT(ADDRESS(11,MATCH(CE_PIANO!F$4,BASE!$B$2:$F$2,0)+1,,,\"BASE\")),IF($B126=\"T\",INDIRECT(ADDRESS(13,MATCH(CE_PIANO!F$4,BASE!$B$2:$F$2,0)+1,,,\"BASE\")),IF(ISERROR(VLOOKUP($A126,Ricavi_Costi!$B$6:$Q$105,COLUMN(Ricavi_Costi!M$4)-1,FALSE)),0,VLOOKUP($A126,Ricavi_Costi!$B$6:$Q$105,COLUMN(Ricavi_Costi!M$4)-1,FALSE))))))","v":""},{"$f":"IF($A126=\"\",\"\",IF(G$4=\"\",\"\",IF($B126=\"X\",INDIRECT(ADDRESS(11,MATCH(CE_PIANO!G$4,BASE!$B$2:$F$2,0)+1,,,\"BASE\")),IF($B126=\"T\",INDIRECT(ADDRESS(13,MATCH(CE_PIANO!G$4,BASE!$B$2:$F$2,0)+1,,,\"BASE\")),IF(ISERROR(VLOOKUP($A126,Ricavi_Costi!$B$6:$Q$105,COLUMN(Ricavi_Costi!N$4)-1,FALSE)),0,VLOOKUP($A126,Ricavi_Costi!$B$6:$Q$105,COLUMN(Ricavi_Costi!N$4)-1,FALSE))))))","v":""},{"$f":"IF($A126=\"\",\"\",IF(H$4=\"\",\"\",IF($B126=\"X\",INDIRECT(ADDRESS(11,MATCH(CE_PIANO!H$4,BASE!$B$2:$F$2,0)+1,,,\"BASE\")),IF($B126=\"T\",INDIRECT(ADDRESS(13,MATCH(CE_PIANO!H$4,BASE!$B$2:$F$2,0)+1,,,\"BASE\")),IF(ISERROR(VLOOKUP($A126,Ricavi_Costi!$B$6:$Q$105,COLUMN(Ricavi_Costi!O$4)-1,FALSE)),0,VLOOKUP($A126,Ricavi_Costi!$B$6:$Q$105,COLUMN(Ricavi_Costi!O$4)-1,FALSE))))))","v":""}]
[{"$f":"IF(CE_STORICO!A127=\"\",\"\",CE_STORICO!A127)","v":""},{"$f":"IF($A127=\"\",\"\",VLOOKUP(A127,SCHEMA_CE!$E$5:$F$54,2,FALSE))","v":""},{"$f":"IF(CE_STORICO!A127=\"\",\"\",CE_STORICO!B127)","v":""},{"$f":"IF(CE_STORICO!C127=\"\",\"\",CE_STORICO!C127)","v":""},{"$f":"IF(CE_STORICO!D127=\"\",\"\",CE_STORICO!D127)","v":""},{"$f":"IF($A127=\"\",\"\",IF(F$4=\"\",\"\",IF($B127=\"X\",INDIRECT(ADDRESS(11,MATCH(CE_PIANO!F$4,BASE!$B$2:$F$2,0)+1,,,\"BASE\")),IF($B127=\"T\",INDIRECT(ADDRESS(13,MATCH(CE_PIANO!F$4,BASE!$B$2:$F$2,0)+1,,,\"BASE\")),IF(ISERROR(VLOOKUP($A127,Ricavi_Costi!$B$6:$Q$105,COLUMN(Ricavi_Costi!M$4)-1,FALSE)),0,VLOOKUP($A127,Ricavi_Costi!$B$6:$Q$105,COLUMN(Ricavi_Costi!M$4)-1,FALSE))))))","v":""},{"$f":"IF($A127=\"\",\"\",IF(G$4=\"\",\"\",IF($B127=\"X\",INDIRECT(ADDRESS(11,MATCH(CE_PIANO!G$4,BASE!$B$2:$F$2,0)+1,,,\"BASE\")),IF($B127=\"T\",INDIRECT(ADDRESS(13,MATCH(CE_PIANO!G$4,BASE!$B$2:$F$2,0)+1,,,\"BASE\")),IF(ISERROR(VLOOKUP($A127,Ricavi_Costi!$B$6:$Q$105,COLUMN(Ricavi_Costi!N$4)-1,FALSE)),0,VLOOKUP($A127,Ricavi_Costi!$B$6:$Q$105,COLUMN(Ricavi_Costi!N$4)-1,FALSE))))))","v":""},{"$f":"IF($A127=\"\",\"\",IF(H$4=\"\",\"\",IF($B127=\"X\",INDIRECT(ADDRESS(11,MATCH(CE_PIANO!H$4,BASE!$B$2:$F$2,0)+1,,,\"BASE\")),IF($B127=\"T\",INDIRECT(ADDRESS(13,MATCH(CE_PIANO!H$4,BASE!$B$2:$F$2,0)+1,,,\"BASE\")),IF(ISERROR(VLOOKUP($A127,Ricavi_Costi!$B$6:$Q$105,COLUMN(Ricavi_Costi!O$4)-1,FALSE)),0,VLOOKUP($A127,Ricavi_Costi!$B$6:$Q$105,COLUMN(Ricavi_Costi!O$4)-1,FALSE))))))","v":""}]
[{"$f":"IF(CE_STORICO!A128=\"\",\"\",CE_STORICO!A128)","v":""},{"$f":"IF($A128=\"\",\"\",VLOOKUP(A128,SCHEMA_CE!$E$5:$F$54,2,FALSE))","v":""},{"$f":"IF(CE_STORICO!A128=\"\",\"\",CE_STORICO!B128)","v":""},{"$f":"IF(CE_STORICO!C128=\"\",\"\",CE_STORICO!C128)","v":""},{"$f":"IF(CE_STORICO!D128=\"\",\"\",CE_STORICO!D128)","v":""},{"$f":"IF($A128=\"\",\"\",IF(F$4=\"\",\"\",IF($B128=\"X\",INDIRECT(ADDRESS(11,MATCH(CE_PIANO!F$4,BASE!$B$2:$F$2,0)+1,,,\"BASE\")),IF($B128=\"T\",INDIRECT(ADDRESS(13,MATCH(CE_PIANO!F$4,BASE!$B$2:$F$2,0)+1,,,\"BASE\")),IF(ISERROR(VLOOKUP($A128,Ricavi_Costi!$B$6:$Q$105,COLUMN(Ricavi_Costi!M$4)-1,FALSE)),0,VLOOKUP($A128,Ricavi_Costi!$B$6:$Q$105,COLUMN(Ricavi_Costi!M$4)-1,FALSE))))))","v":""},{"$f":"IF($A128=\"\",\"\",IF(G$4=\"\",\"\",IF($B128=\"X\",INDIRECT(ADDRESS(11,MATCH(CE_PIANO!G$4,BASE!$B$2:$F$2,0)+1,,,\"BASE\")),IF($B128=\"T\",INDIRECT(ADDRESS(13,MATCH(CE_PIANO!G$4,BASE!$B$2:$F$2,0)+1,,,\"BASE\")),IF(ISERROR(VLOOKUP($A128,Ricavi_Costi!$B$6:$Q$105,COLUMN(Ricavi_Costi!N$4)-1,FALSE)),0,VLOOKUP($A128,Ricavi_Costi!$B$6:$Q$105,COLUMN(Ricavi_Costi!N$4)-1,FALSE))))))","v":""},{"$f":"IF($A128=\"\",\"\",IF(H$4=\"\",\"\",IF($B128=\"X\",INDIRECT(ADDRESS(11,MATCH(CE_PIANO!H$4,BASE!$B$2:$F$2,0)+1,,,\"BASE\")),IF($B128=\"T\",INDIRECT(ADDRESS(13,MATCH(CE_PIANO!H$4,BASE!$B$2:$F$2,0)+1,,,\"BASE\")),IF(ISERROR(VLOOKUP($A128,Ricavi_Costi!$B$6:$Q$105,COLUMN(Ricavi_Costi!O$4)-1,FALSE)),0,VLOOKUP($A128,Ricavi_Costi!$B$6:$Q$105,COLUMN(Ricavi_Costi!O$4)-1,FALSE))))))","v":""}]
[{"$f":"IF(CE_STORICO!A129=\"\",\"\",CE_STORICO!A129)","v":""},{"$f":"IF($A129=\"\",\"\",VLOOKUP(A129,SCHEMA_CE!$E$5:$F$54,2,FALSE))","v":""},{"$f":"IF(CE_STORICO!A129=\"\",\"\",CE_STORICO!B129)","v":""},{"$f":"IF(CE_STORICO!C129=\"\",\"\",CE_STORICO!C129)","v":""},{"$f":"IF(CE_STORICO!D129=\"\",\"\",CE_STORICO!D129)","v":""},{"$f":"IF($A129=\"\",\"\",IF(F$4=\"\",\"\",IF($B129=\"X\",INDIRECT(ADDRESS(11,MATCH(CE_PIANO!F$4,BASE!$B$2:$F$2,0)+1,,,\"BASE\")),IF($B129=\"T\",INDIRECT(ADDRESS(13,MATCH(CE_PIANO!F$4,BASE!$B$2:$F$2,0)+1,,,\"BASE\")),IF(ISERROR(VLOOKUP($A129,Ricavi_Costi!$B$6:$Q$105,COLUMN(Ricavi_Costi!M$4)-1,FALSE)),0,VLOOKUP($A129,Ricavi_Costi!$B$6:$Q$105,COLUMN(Ricavi_Costi!M$4)-1,FALSE))))))","v":""},{"$f":"IF($A129=\"\",\"\",IF(G$4=\"\",\"\",IF($B129=\"X\",INDIRECT(ADDRESS(11,MATCH(CE_PIANO!G$4,BASE!$B$2:$F$2,0)+1,,,\"BASE\")),IF($B129=\"T\",INDIRECT(ADDRESS(13,MATCH(CE_PIANO!G$4,BASE!$B$2:$F$2,0)+1,,,\"BASE\")),IF(ISERROR(VLOOKUP($A129,Ricavi_Costi!$B$6:$Q$105,COLUMN(Ricavi_Costi!N$4)-1,FALSE)),0,VLOOKUP($A129,Ricavi_Costi!$B$6:$Q$105,COLUMN(Ricavi_Costi!N$4)-1,FALSE))))))","v":""},{"$f":"IF($A129=\"\",\"\",IF(H$4=\"\",\"\",IF($B129=\"X\",INDIRECT(ADDRESS(11,MATCH(CE_PIANO!H$4,BASE!$B$2:$F$2,0)+1,,,\"BASE\")),IF($B129=\"T\",INDIRECT(ADDRESS(13,MATCH(CE_PIANO!H$4,BASE!$B$2:$F$2,0)+1,,,\"BASE\")),IF(ISERROR(VLOOKUP($A129,Ricavi_Costi!$B$6:$Q$105,COLUMN(Ricavi_Costi!O$4)-1,FALSE)),0,VLOOKUP($A129,Ricavi_Costi!$B$6:$Q$105,COLUMN(Ricavi_Costi!O$4)-1,FALSE))))))","v":""}]
[{"$f":"IF(CE_STORICO!A130=\"\",\"\",CE_STORICO!A130)","v":""},{"$f":"IF($A130=\"\",\"\",VLOOKUP(A130,SCHEMA_CE!$E$5:$F$54,2,FALSE))","v":""},{"$f":"IF(CE_STORICO!A130=\"\",\"\",CE_STORICO!B130)","v":""},{"$f":"IF(CE_STORICO!C130=\"\",\"\",CE_STORICO!C130)","v":""},{"$f":"IF(CE_STORICO!D130=\"\",\"\",CE_STORICO!D130)","v":""},{"$f":"IF($A130=\"\",\"\",IF(F$4=\"\",\"\",IF($B130=\"X\",INDIRECT(ADDRESS(11,MATCH(CE_PIANO!F$4,BASE!$B$2:$F$2,0)+1,,,\"BASE\")),IF($B130=\"T\",INDIRECT(ADDRESS(13,MATCH(CE_PIANO!F$4,BASE!$B$2:$F$2,0)+1,,,\"BASE\")),IF(ISERROR(VLOOKUP($A130,Ricavi_Costi!$B$6:$Q$105,COLUMN(Ricavi_Costi!M$4)-1,FALSE)),0,VLOOKUP($A130,Ricavi_Costi!$B$6:$Q$105,COLUMN(Ricavi_Costi!M$4)-1,FALSE))))))","v":""},{"$f":"IF($A130=\"\",\"\",IF(G$4=\"\",\"\",IF($B130=\"X\",INDIRECT(ADDRESS(11,MATCH(CE_PIANO!G$4,BASE!$B$2:$F$2,0)+1,,,\"BASE\")),IF($B130=\"T\",INDIRECT(ADDRESS(13,MATCH(CE_PIANO!G$4,BASE!$B$2:$F$2,0)+1,,,\"BASE\")),IF(ISERROR(VLOOKUP($A130,Ricavi_Costi!$B$6:$Q$105,COLUMN(Ricavi_Costi!N$4)-1,FALSE)),0,VLOOKUP($A130,Ricavi_Costi!$B$6:$Q$105,COLUMN(Ricavi_Costi!N$4)-1,FALSE))))))","v":""},{"$f":"IF($A130=\"\",\"\",IF(H$4=\"\",\"\",IF($B130=\"X\",INDIRECT(ADDRESS(11,MATCH(CE_PIANO!H$4,BASE!$B$2:$F$2,0)+1,,,\"BASE\")),IF($B130=\"T\",INDIRECT(ADDRESS(13,MATCH(CE_PIANO!H$4,BASE!$B$2:$F$2,0)+1,,,\"BASE\")),IF(ISERROR(VLOOKUP($A130,Ricavi_Costi!$B$6:$Q$105,COLUMN(Ricavi_Costi!O$4)-1,FALSE)),0,VLOOKUP($A130,Ricavi_Costi!$B$6:$Q$105,COLUMN(Ricavi_Costi!O$4)-1,FALSE))))))","v":""}]
[{"$f":"IF(CE_STORICO!A131=\"\",\"\",CE_STORICO!A131)","v":""},{"$f":"IF($A131=\"\",\"\",VLOOKUP(A131,SCHEMA_CE!$E$5:$F$54,2,FALSE))","v":""},{"$f":"IF(CE_STORICO!A131=\"\",\"\",CE_STORICO!B131)","v":""},{"$f":"IF(CE_STORICO!C131=\"\",\"\",CE_STORICO!C131)","v":""},{"$f":"IF(CE_STORICO!D131=\"\",\"\",CE_STORICO!D131)","v":""},{"$f":"IF($A131=\"\",\"\",IF(F$4=\"\",\"\",IF($B131=\"X\",INDIRECT(ADDRESS(11,MATCH(CE_PIANO!F$4,BASE!$B$2:$F$2,0)+1,,,\"BASE\")),IF($B131=\"T\",INDIRECT(ADDRESS(13,MATCH(CE_PIANO!F$4,BASE!$B$2:$F$2,0)+1,,,\"BASE\")),IF(ISERROR(VLOOKUP($A131,Ricavi_Costi!$B$6:$Q$105,COLUMN(Ricavi_Costi!M$4)-1,FALSE)),0,VLOOKUP($A131,Ricavi_Costi!$B$6:$Q$105,COLUMN(Ricavi_Costi!M$4)-1,FALSE))))))","v":""},{"$f":"IF($A131=\"\",\"\",IF(G$4=\"\",\"\",IF($B131=\"X\",INDIRECT(ADDRESS(11,MATCH(CE_PIANO!G$4,BASE!$B$2:$F$2,0)+1,,,\"BASE\")),IF($B131=\"T\",INDIRECT(ADDRESS(13,MATCH(CE_PIANO!G$4,BASE!$B$2:$F$2,0)+1,,,\"BASE\")),IF(ISERROR(VLOOKUP($A131,Ricavi_Costi!$B$6:$Q$105,COLUMN(Ricavi_Costi!N$4)-1,FALSE)),0,VLOOKUP($A131,Ricavi_Costi!$B$6:$Q$105,COLUMN(Ricavi_Costi!N$4)-1,FALSE))))))","v":""},{"$f":"IF($A131=\"\",\"\",IF(H$4=\"\",\"\",IF($B131=\"X\",INDIRECT(ADDRESS(11,MATCH(CE_PIANO!H$4,BASE!$B$2:$F$2,0)+1,,,\"BASE\")),IF($B131=\"T\",INDIRECT(ADDRESS(13,MATCH(CE_PIANO!H$4,BASE!$B$2:$F$2,0)+1,,,\"BASE\")),IF(ISERROR(VLOOKUP($A131,Ricavi_Costi!$B$6:$Q$105,COLUMN(Ricavi_Costi!O$4)-1,FALSE)),0,VLOOKUP($A131,Ricavi_Costi!$B$6:$Q$105,COLUMN(Ricavi_Costi!O$4)-1,FALSE))))))","v":""}]
[{"$f":"IF(CE_STORICO!A132=\"\",\"\",CE_STORICO!A132)","v":""},{"$f":"IF($A132=\"\",\"\",VLOOKUP(A132,SCHEMA_CE!$E$5:$F$54,2,FALSE))","v":""},{"$f":"IF(CE_STORICO!A132=\"\",\"\",CE_STORICO!B132)","v":""},{"$f":"IF(CE_STORICO!C132=\"\",\"\",CE_STORICO!C132)","v":""},{"$f":"IF(CE_STORICO!D132=\"\",\"\",CE_STORICO!D132)","v":""},{"$f":"IF($A132=\"\",\"\",IF(F$4=\"\",\"\",IF($B132=\"X\",INDIRECT(ADDRESS(11,MATCH(CE_PIANO!F$4,BASE!$B$2:$F$2,0)+1,,,\"BASE\")),IF($B132=\"T\",INDIRECT(ADDRESS(13,MATCH(CE_PIANO!F$4,BASE!$B$2:$F$2,0)+1,,,\"BASE\")),IF(ISERROR(VLOOKUP($A132,Ricavi_Costi!$B$6:$Q$105,COLUMN(Ricavi_Costi!M$4)-1,FALSE)),0,VLOOKUP($A132,Ricavi_Costi!$B$6:$Q$105,COLUMN(Ricavi_Costi!M$4)-1,FALSE))))))","v":""},{"$f":"IF($A132=\"\",\"\",IF(G$4=\"\",\"\",IF($B132=\"X\",INDIRECT(ADDRESS(11,MATCH(CE_PIANO!G$4,BASE!$B$2:$F$2,0)+1,,,\"BASE\")),IF($B132=\"T\",INDIRECT(ADDRESS(13,MATCH(CE_PIANO!G$4,BASE!$B$2:$F$2,0)+1,,,\"BASE\")),IF(ISERROR(VLOOKUP($A132,Ricavi_Costi!$B$6:$Q$105,COLUMN(Ricavi_Costi!N$4)-1,FALSE)),0,VLOOKUP($A132,Ricavi_Costi!$B$6:$Q$105,COLUMN(Ricavi_Costi!N$4)-1,FALSE))))))","v":""},{"$f":"IF($A132=\"\",\"\",IF(H$4=\"\",\"\",IF($B132=\"X\",INDIRECT(ADDRESS(11,MATCH(CE_PIANO!H$4,BASE!$B$2:$F$2,0)+1,,,\"BASE\")),IF($B132=\"T\",INDIRECT(ADDRESS(13,MATCH(CE_PIANO!H$4,BASE!$B$2:$F$2,0)+1,,,\"BASE\")),IF(ISERROR(VLOOKUP($A132,Ricavi_Costi!$B$6:$Q$105,COLUMN(Ricavi_Costi!O$4)-1,FALSE)),0,VLOOKUP($A132,Ricavi_Costi!$B$6:$Q$105,COLUMN(Ricavi_Costi!O$4)-1,FALSE))))))","v":""}]
[{"$f":"IF(CE_STORICO!A133=\"\",\"\",CE_STORICO!A133)","v":""},{"$f":"IF($A133=\"\",\"\",VLOOKUP(A133,SCHEMA_CE!$E$5:$F$54,2,FALSE))","v":""},{"$f":"IF(CE_STORICO!A133=\"\",\"\",CE_STORICO!B133)","v":""},{"$f":"IF(CE_STORICO!C133=\"\",\"\",CE_STORICO!C133)","v":""},{"$f":"IF(CE_STORICO!D133=\"\",\"\",CE_STORICO!D133)","v":""},{"$f":"IF($A133=\"\",\"\",IF(F$4=\"\",\"\",IF($B133=\"X\",INDIRECT(ADDRESS(11,MATCH(CE_PIANO!F$4,BASE!$B$2:$F$2,0)+1,,,\"BASE\")),IF($B133=\"T\",INDIRECT(ADDRESS(13,MATCH(CE_PIANO!F$4,BASE!$B$2:$F$2,0)+1,,,\"BASE\")),IF(ISERROR(VLOOKUP($A133,Ricavi_Costi!$B$6:$Q$105,COLUMN(Ricavi_Costi!M$4)-1,FALSE)),0,VLOOKUP($A133,Ricavi_Costi!$B$6:$Q$105,COLUMN(Ricavi_Costi!M$4)-1,FALSE))))))","v":""},{"$f":"IF($A133=\"\",\"\",IF(G$4=\"\",\"\",IF($B133=\"X\",INDIRECT(ADDRESS(11,MATCH(CE_PIANO!G$4,BASE!$B$2:$F$2,0)+1,,,\"BASE\")),IF($B133=\"T\",INDIRECT(ADDRESS(13,MATCH(CE_PIANO!G$4,BASE!$B$2:$F$2,0)+1,,,\"BASE\")),IF(ISERROR(VLOOKUP($A133,Ricavi_Costi!$B$6:$Q$105,COLUMN(Ricavi_Costi!N$4)-1,FALSE)),0,VLOOKUP($A133,Ricavi_Costi!$B$6:$Q$105,COLUMN(Ricavi_Costi!N$4)-1,FALSE))))))","v":""},{"$f":"IF($A133=\"\",\"\",IF(H$4=\"\",\"\",IF($B133=\"X\",INDIRECT(ADDRESS(11,MATCH(CE_PIANO!H$4,BASE!$B$2:$F$2,0)+1,,,\"BASE\")),IF($B133=\"T\",INDIRECT(ADDRESS(13,MATCH(CE_PIANO!H$4,BASE!$B$2:$F$2,0)+1,,,\"BASE\")),IF(ISERROR(VLOOKUP($A133,Ricavi_Costi!$B$6:$Q$105,COLUMN(Ricavi_Costi!O$4)-1,FALSE)),0,VLOOKUP($A133,Ricavi_Costi!$B$6:$Q$105,COLUMN(Ricavi_Costi!O$4)-1,FALSE))))))","v":""}]
[{"$f":"IF(CE_STORICO!A134=\"\",\"\",CE_STORICO!A134)","v":""},{"$f":"IF($A134=\"\",\"\",VLOOKUP(A134,SCHEMA_CE!$E$5:$F$54,2,FALSE))","v":""},{"$f":"IF(CE_STORICO!A134=\"\",\"\",CE_STORICO!B134)","v":""},{"$f":"IF(CE_STORICO!C134=\"\",\"\",CE_STORICO!C134)","v":""},{"$f":"IF(CE_STORICO!D134=\"\",\"\",CE_STORICO!D134)","v":""},{"$f":"IF($A134=\"\",\"\",IF(F$4=\"\",\"\",IF($B134=\"X\",INDIRECT(ADDRESS(11,MATCH(CE_PIANO!F$4,BASE!$B$2:$F$2,0)+1,,,\"BASE\")),IF($B134=\"T\",INDIRECT(ADDRESS(13,MATCH(CE_PIANO!F$4,BASE!$B$2:$F$2,0)+1,,,\"BASE\")),IF(ISERROR(VLOOKUP($A134,Ricavi_Costi!$B$6:$Q$105,COLUMN(Ricavi_Costi!M$4)-1,FALSE)),0,VLOOKUP($A134,Ricavi_Costi!$B$6:$Q$105,COLUMN(Ricavi_Costi!M$4)-1,FALSE))))))","v":""},{"$f":"IF($A134=\"\",\"\",IF(G$4=\"\",\"\",IF($B134=\"X\",INDIRECT(ADDRESS(11,MATCH(CE_PIANO!G$4,BASE!$B$2:$F$2,0)+1,,,\"BASE\")),IF($B134=\"T\",INDIRECT(ADDRESS(13,MATCH(CE_PIANO!G$4,BASE!$B$2:$F$2,0)+1,,,\"BASE\")),IF(ISERROR(VLOOKUP($A134,Ricavi_Costi!$B$6:$Q$105,COLUMN(Ricavi_Costi!N$4)-1,FALSE)),0,VLOOKUP($A134,Ricavi_Costi!$B$6:$Q$105,COLUMN(Ricavi_Costi!N$4)-1,FALSE))))))","v":""},{"$f":"IF($A134=\"\",\"\",IF(H$4=\"\",\"\",IF($B134=\"X\",INDIRECT(ADDRESS(11,MATCH(CE_PIANO!H$4,BASE!$B$2:$F$2,0)+1,,,\"BASE\")),IF($B134=\"T\",INDIRECT(ADDRESS(13,MATCH(CE_PIANO!H$4,BASE!$B$2:$F$2,0)+1,,,\"BASE\")),IF(ISERROR(VLOOKUP($A134,Ricavi_Costi!$B$6:$Q$105,COLUMN(Ricavi_Costi!O$4)-1,FALSE)),0,VLOOKUP($A134,Ricavi_Costi!$B$6:$Q$105,COLUMN(Ricavi_Costi!O$4)-1,FALSE))))))","v":""}]
[{"$f":"IF(CE_STORICO!A135=\"\",\"\",CE_STORICO!A135)","v":""},{"$f":"IF($A135=\"\",\"\",VLOOKUP(A135,SCHEMA_CE!$E$5:$F$54,2,FALSE))","v":""},{"$f":"IF(CE_STORICO!A135=\"\",\"\",CE_STORICO!B135)","v":""},{"$f":"IF(CE_STORICO!C135=\"\",\"\",CE_STORICO!C135)","v":""},{"$f":"IF(CE_STORICO!D135=\"\",\"\",CE_STORICO!D135)","v":""},{"$f":"IF($A135=\"\",\"\",IF(F$4=\"\",\"\",IF($B135=\"X\",INDIRECT(ADDRESS(11,MATCH(CE_PIANO!F$4,BASE!$B$2:$F$2,0)+1,,,\"BASE\")),IF($B135=\"T\",INDIRECT(ADDRESS(13,MATCH(CE_PIANO!F$4,BASE!$B$2:$F$2,0)+1,,,\"BASE\")),IF(ISERROR(VLOOKUP($A135,Ricavi_Costi!$B$6:$Q$105,COLUMN(Ricavi_Costi!M$4)-1,FALSE)),0,VLOOKUP($A135,Ricavi_Costi!$B$6:$Q$105,COLUMN(Ricavi_Costi!M$4)-1,FALSE))))))","v":""},{"$f":"IF($A135=\"\",\"\",IF(G$4=\"\",\"\",IF($B135=\"X\",INDIRECT(ADDRESS(11,MATCH(CE_PIANO!G$4,BASE!$B$2:$F$2,0)+1,,,\"BASE\")),IF($B135=\"T\",INDIRECT(ADDRESS(13,MATCH(CE_PIANO!G$4,BASE!$B$2:$F$2,0)+1,,,\"BASE\")),IF(ISERROR(VLOOKUP($A135,Ricavi_Costi!$B$6:$Q$105,COLUMN(Ricavi_Costi!N$4)-1,FALSE)),0,VLOOKUP($A135,Ricavi_Costi!$B$6:$Q$105,COLUMN(Ricavi_Costi!N$4)-1,FALSE))))))","v":""},{"$f":"IF($A135=\"\",\"\",IF(H$4=\"\",\"\",IF($B135=\"X\",INDIRECT(ADDRESS(11,MATCH(CE_PIANO!H$4,BASE!$B$2:$F$2,0)+1,,,\"BASE\")),IF($B135=\"T\",INDIRECT(ADDRESS(13,MATCH(CE_PIANO!H$4,BASE!$B$2:$F$2,0)+1,,,\"BASE\")),IF(ISERROR(VLOOKUP($A135,Ricavi_Costi!$B$6:$Q$105,COLUMN(Ricavi_Costi!O$4)-1,FALSE)),0,VLOOKUP($A135,Ricavi_Costi!$B$6:$Q$105,COLUMN(Ricavi_Costi!O$4)-1,FALSE))))))","v":""}]
[{"$f":"IF(CE_STORICO!A136=\"\",\"\",CE_STORICO!A136)","v":""},{"$f":"IF($A136=\"\",\"\",VLOOKUP(A136,SCHEMA_CE!$E$5:$F$54,2,FALSE))","v":""},{"$f":"IF(CE_STORICO!A136=\"\",\"\",CE_STORICO!B136)","v":""},{"$f":"IF(CE_STORICO!C136=\"\",\"\",CE_STORICO!C136)","v":""},{"$f":"IF(CE_STORICO!D136=\"\",\"\",CE_STORICO!D136)","v":""},{"$f":"IF($A136=\"\",\"\",IF(F$4=\"\",\"\",IF($B136=\"X\",INDIRECT(ADDRESS(11,MATCH(CE_PIANO!F$4,BASE!$B$2:$F$2,0)+1,,,\"BASE\")),IF($B136=\"T\",INDIRECT(ADDRESS(13,MATCH(CE_PIANO!F$4,BASE!$B$2:$F$2,0)+1,,,\"BASE\")),IF(ISERROR(VLOOKUP($A136,Ricavi_Costi!$B$6:$Q$105,COLUMN(Ricavi_Costi!M$4)-1,FALSE)),0,VLOOKUP($A136,Ricavi_Costi!$B$6:$Q$105,COLUMN(Ricavi_Costi!M$4)-1,FALSE))))))","v":""},{"$f":"IF($A136=\"\",\"\",IF(G$4=\"\",\"\",IF($B136=\"X\",INDIRECT(ADDRESS(11,MATCH(CE_PIANO!G$4,BASE!$B$2:$F$2,0)+1,,,\"BASE\")),IF($B136=\"T\",INDIRECT(ADDRESS(13,MATCH(CE_PIANO!G$4,BASE!$B$2:$F$2,0)+1,,,\"BASE\")),IF(ISERROR(VLOOKUP($A136,Ricavi_Costi!$B$6:$Q$105,COLUMN(Ricavi_Costi!N$4)-1,FALSE)),0,VLOOKUP($A136,Ricavi_Costi!$B$6:$Q$105,COLUMN(Ricavi_Costi!N$4)-1,FALSE))))))","v":""},{"$f":"IF($A136=\"\",\"\",IF(H$4=\"\",\"\",IF($B136=\"X\",INDIRECT(ADDRESS(11,MATCH(CE_PIANO!H$4,BASE!$B$2:$F$2,0)+1,,,\"BASE\")),IF($B136=\"T\",INDIRECT(ADDRESS(13,MATCH(CE_PIANO!H$4,BASE!$B$2:$F$2,0)+1,,,\"BASE\")),IF(ISERROR(VLOOKUP($A136,Ricavi_Costi!$B$6:$Q$105,COLUMN(Ricavi_Costi!O$4)-1,FALSE)),0,VLOOKUP($A136,Ricavi_Costi!$B$6:$Q$105,COLUMN(Ricavi_Costi!O$4)-1,FALSE))))))","v":""}]
[{"$f":"IF(CE_STORICO!A137=\"\",\"\",CE_STORICO!A137)","v":""},{"$f":"IF($A137=\"\",\"\",VLOOKUP(A137,SCHEMA_CE!$E$5:$F$54,2,FALSE))","v":""},{"$f":"IF(CE_STORICO!A137=\"\",\"\",CE_STORICO!B137)","v":""},{"$f":"IF(CE_STORICO!C137=\"\",\"\",CE_STORICO!C137)","v":""},{"$f":"IF(CE_STORICO!D137=\"\",\"\",CE_STORICO!D137)","v":""},{"$f":"IF($A137=\"\",\"\",IF(F$4=\"\",\"\",IF($B137=\"X\",INDIRECT(ADDRESS(11,MATCH(CE_PIANO!F$4,BASE!$B$2:$F$2,0)+1,,,\"BASE\")),IF($B137=\"T\",INDIRECT(ADDRESS(13,MATCH(CE_PIANO!F$4,BASE!$B$2:$F$2,0)+1,,,\"BASE\")),IF(ISERROR(VLOOKUP($A137,Ricavi_Costi!$B$6:$Q$105,COLUMN(Ricavi_Costi!M$4)-1,FALSE)),0,VLOOKUP($A137,Ricavi_Costi!$B$6:$Q$105,COLUMN(Ricavi_Costi!M$4)-1,FALSE))))))","v":""},{"$f":"IF($A137=\"\",\"\",IF(G$4=\"\",\"\",IF($B137=\"X\",INDIRECT(ADDRESS(11,MATCH(CE_PIANO!G$4,BASE!$B$2:$F$2,0)+1,,,\"BASE\")),IF($B137=\"T\",INDIRECT(ADDRESS(13,MATCH(CE_PIANO!G$4,BASE!$B$2:$F$2,0)+1,,,\"BASE\")),IF(ISERROR(VLOOKUP($A137,Ricavi_Costi!$B$6:$Q$105,COLUMN(Ricavi_Costi!N$4)-1,FALSE)),0,VLOOKUP($A137,Ricavi_Costi!$B$6:$Q$105,COLUMN(Ricavi_Costi!N$4)-1,FALSE))))))","v":""},{"$f":"IF($A137=\"\",\"\",IF(H$4=\"\",\"\",IF($B137=\"X\",INDIRECT(ADDRESS(11,MATCH(CE_PIANO!H$4,BASE!$B$2:$F$2,0)+1,,,\"BASE\")),IF($B137=\"T\",INDIRECT(ADDRESS(13,MATCH(CE_PIANO!H$4,BASE!$B$2:$F$2,0)+1,,,\"BASE\")),IF(ISERROR(VLOOKUP($A137,Ricavi_Costi!$B$6:$Q$105,COLUMN(Ricavi_Costi!O$4)-1,FALSE)),0,VLOOKUP($A137,Ricavi_Costi!$B$6:$Q$105,COLUMN(Ricavi_Costi!O$4)-1,FALSE))))))","v":""}]
[{"$f":"IF(CE_STORICO!A138=\"\",\"\",CE_STORICO!A138)","v":""},{"$f":"IF($A138=\"\",\"\",VLOOKUP(A138,SCHEMA_CE!$E$5:$F$54,2,FALSE))","v":""},{"$f":"IF(CE_STORICO!A138=\"\",\"\",CE_STORICO!B138)","v":""},{"$f":"IF(CE_STORICO!C138=\"\",\"\",CE_STORICO!C138)","v":""},{"$f":"IF(CE_STORICO!D138=\"\",\"\",CE_STORICO!D138)","v":""},{"$f":"IF($A138=\"\",\"\",IF(F$4=\"\",\"\",IF($B138=\"X\",INDIRECT(ADDRESS(11,MATCH(CE_PIANO!F$4,BASE!$B$2:$F$2,0)+1,,,\"BASE\")),IF($B138=\"T\",INDIRECT(ADDRESS(13,MATCH(CE_PIANO!F$4,BASE!$B$2:$F$2,0)+1,,,\"BASE\")),IF(ISERROR(VLOOKUP($A138,Ricavi_Costi!$B$6:$Q$105,COLUMN(Ricavi_Costi!M$4)-1,FALSE)),0,VLOOKUP($A138,Ricavi_Costi!$B$6:$Q$105,COLUMN(Ricavi_Costi!M$4)-1,FALSE))))))","v":""},{"$f":"IF($A138=\"\",\"\",IF(G$4=\"\",\"\",IF($B138=\"X\",INDIRECT(ADDRESS(11,MATCH(CE_PIANO!G$4,BASE!$B$2:$F$2,0)+1,,,\"BASE\")),IF($B138=\"T\",INDIRECT(ADDRESS(13,MATCH(CE_PIANO!G$4,BASE!$B$2:$F$2,0)+1,,,\"BASE\")),IF(ISERROR(VLOOKUP($A138,Ricavi_Costi!$B$6:$Q$105,COLUMN(Ricavi_Costi!N$4)-1,FALSE)),0,VLOOKUP($A138,Ricavi_Costi!$B$6:$Q$105,COLUMN(Ricavi_Costi!N$4)-1,FALSE))))))","v":""},{"$f":"IF($A138=\"\",\"\",IF(H$4=\"\",\"\",IF($B138=\"X\",INDIRECT(ADDRESS(11,MATCH(CE_PIANO!H$4,BASE!$B$2:$F$2,0)+1,,,\"BASE\")),IF($B138=\"T\",INDIRECT(ADDRESS(13,MATCH(CE_PIANO!H$4,BASE!$B$2:$F$2,0)+1,,,\"BASE\")),IF(ISERROR(VLOOKUP($A138,Ricavi_Costi!$B$6:$Q$105,COLUMN(Ricavi_Costi!O$4)-1,FALSE)),0,VLOOKUP($A138,Ricavi_Costi!$B$6:$Q$105,COLUMN(Ricavi_Costi!O$4)-1,FALSE))))))","v":""}]
[{"$f":"IF(CE_STORICO!A139=\"\",\"\",CE_STORICO!A139)","v":""},{"$f":"IF($A139=\"\",\"\",VLOOKUP(A139,SCHEMA_CE!$E$5:$F$54,2,FALSE))","v":""},{"$f":"IF(CE_STORICO!A139=\"\",\"\",CE_STORICO!B139)","v":""},{"$f":"IF(CE_STORICO!C139=\"\",\"\",CE_STORICO!C139)","v":""},{"$f":"IF(CE_STORICO!D139=\"\",\"\",CE_STORICO!D139)","v":""},{"$f":"IF($A139=\"\",\"\",IF(F$4=\"\",\"\",IF($B139=\"X\",INDIRECT(ADDRESS(11,MATCH(CE_PIANO!F$4,BASE!$B$2:$F$2,0)+1,,,\"BASE\")),IF($B139=\"T\",INDIRECT(ADDRESS(13,MATCH(CE_PIANO!F$4,BASE!$B$2:$F$2,0)+1,,,\"BASE\")),IF(ISERROR(VLOOKUP($A139,Ricavi_Costi!$B$6:$Q$105,COLUMN(Ricavi_Costi!M$4)-1,FALSE)),0,VLOOKUP($A139,Ricavi_Costi!$B$6:$Q$105,COLUMN(Ricavi_Costi!M$4)-1,FALSE))))))","v":""},{"$f":"IF($A139=\"\",\"\",IF(G$4=\"\",\"\",IF($B139=\"X\",INDIRECT(ADDRESS(11,MATCH(CE_PIANO!G$4,BASE!$B$2:$F$2,0)+1,,,\"BASE\")),IF($B139=\"T\",INDIRECT(ADDRESS(13,MATCH(CE_PIANO!G$4,BASE!$B$2:$F$2,0)+1,,,\"BASE\")),IF(ISERROR(VLOOKUP($A139,Ricavi_Costi!$B$6:$Q$105,COLUMN(Ricavi_Costi!N$4)-1,FALSE)),0,VLOOKUP($A139,Ricavi_Costi!$B$6:$Q$105,COLUMN(Ricavi_Costi!N$4)-1,FALSE))))))","v":""},{"$f":"IF($A139=\"\",\"\",IF(H$4=\"\",\"\",IF($B139=\"X\",INDIRECT(ADDRESS(11,MATCH(CE_PIANO!H$4,BASE!$B$2:$F$2,0)+1,,,\"BASE\")),IF($B139=\"T\",INDIRECT(ADDRESS(13,MATCH(CE_PIANO!H$4,BASE!$B$2:$F$2,0)+1,,,\"BASE\")),IF(ISERROR(VLOOKUP($A139,Ricavi_Costi!$B$6:$Q$105,COLUMN(Ricavi_Costi!O$4)-1,FALSE)),0,VLOOKUP($A139,Ricavi_Costi!$B$6:$Q$105,COLUMN(Ricavi_Costi!O$4)-1,FALSE))))))","v":""}]
[{"$f":"IF(CE_STORICO!A140=\"\",\"\",CE_STORICO!A140)","v":""},{"$f":"IF($A140=\"\",\"\",VLOOKUP(A140,SCHEMA_CE!$E$5:$F$54,2,FALSE))","v":""},{"$f":"IF(CE_STORICO!A140=\"\",\"\",CE_STORICO!B140)","v":""},{"$f":"IF(CE_STORICO!C140=\"\",\"\",CE_STORICO!C140)","v":""},{"$f":"IF(CE_STORICO!D140=\"\",\"\",CE_STORICO!D140)","v":""},{"$f":"IF($A140=\"\",\"\",IF(F$4=\"\",\"\",IF($B140=\"X\",INDIRECT(ADDRESS(11,MATCH(CE_PIANO!F$4,BASE!$B$2:$F$2,0)+1,,,\"BASE\")),IF($B140=\"T\",INDIRECT(ADDRESS(13,MATCH(CE_PIANO!F$4,BASE!$B$2:$F$2,0)+1,,,\"BASE\")),IF(ISERROR(VLOOKUP($A140,Ricavi_Costi!$B$6:$Q$105,COLUMN(Ricavi_Costi!M$4)-1,FALSE)),0,VLOOKUP($A140,Ricavi_Costi!$B$6:$Q$105,COLUMN(Ricavi_Costi!M$4)-1,FALSE))))))","v":""},{"$f":"IF($A140=\"\",\"\",IF(G$4=\"\",\"\",IF($B140=\"X\",INDIRECT(ADDRESS(11,MATCH(CE_PIANO!G$4,BASE!$B$2:$F$2,0)+1,,,\"BASE\")),IF($B140=\"T\",INDIRECT(ADDRESS(13,MATCH(CE_PIANO!G$4,BASE!$B$2:$F$2,0)+1,,,\"BASE\")),IF(ISERROR(VLOOKUP($A140,Ricavi_Costi!$B$6:$Q$105,COLUMN(Ricavi_Costi!N$4)-1,FALSE)),0,VLOOKUP($A140,Ricavi_Costi!$B$6:$Q$105,COLUMN(Ricavi_Costi!N$4)-1,FALSE))))))","v":""},{"$f":"IF($A140=\"\",\"\",IF(H$4=\"\",\"\",IF($B140=\"X\",INDIRECT(ADDRESS(11,MATCH(CE_PIANO!H$4,BASE!$B$2:$F$2,0)+1,,,\"BASE\")),IF($B140=\"T\",INDIRECT(ADDRESS(13,MATCH(CE_PIANO!H$4,BASE!$B$2:$F$2,0)+1,,,\"BASE\")),IF(ISERROR(VLOOKUP($A140,Ricavi_Costi!$B$6:$Q$105,COLUMN(Ricavi_Costi!O$4)-1,FALSE)),0,VLOOKUP($A140,Ricavi_Costi!$B$6:$Q$105,COLUMN(Ricavi_Costi!O$4)-1,FALSE))))))","v":""}]
[{"$f":"IF(CE_STORICO!A141=\"\",\"\",CE_STORICO!A141)","v":""},{"$f":"IF($A141=\"\",\"\",VLOOKUP(A141,SCHEMA_CE!$E$5:$F$54,2,FALSE))","v":""},{"$f":"IF(CE_STORICO!A141=\"\",\"\",CE_STORICO!B141)","v":""},{"$f":"IF(CE_STORICO!C141=\"\",\"\",CE_STORICO!C141)","v":""},{"$f":"IF(CE_STORICO!D141=\"\",\"\",CE_STORICO!D141)","v":""},{"$f":"IF($A141=\"\",\"\",IF(F$4=\"\",\"\",IF($B141=\"X\",INDIRECT(ADDRESS(11,MATCH(CE_PIANO!F$4,BASE!$B$2:$F$2,0)+1,,,\"BASE\")),IF($B141=\"T\",INDIRECT(ADDRESS(13,MATCH(CE_PIANO!F$4,BASE!$B$2:$F$2,0)+1,,,\"BASE\")),IF(ISERROR(VLOOKUP($A141,Ricavi_Costi!$B$6:$Q$105,COLUMN(Ricavi_Costi!M$4)-1,FALSE)),0,VLOOKUP($A141,Ricavi_Costi!$B$6:$Q$105,COLUMN(Ricavi_Costi!M$4)-1,FALSE))))))","v":""},{"$f":"IF($A141=\"\",\"\",IF(G$4=\"\",\"\",IF($B141=\"X\",INDIRECT(ADDRESS(11,MATCH(CE_PIANO!G$4,BASE!$B$2:$F$2,0)+1,,,\"BASE\")),IF($B141=\"T\",INDIRECT(ADDRESS(13,MATCH(CE_PIANO!G$4,BASE!$B$2:$F$2,0)+1,,,\"BASE\")),IF(ISERROR(VLOOKUP($A141,Ricavi_Costi!$B$6:$Q$105,COLUMN(Ricavi_Costi!N$4)-1,FALSE)),0,VLOOKUP($A141,Ricavi_Costi!$B$6:$Q$105,COLUMN(Ricavi_Costi!N$4)-1,FALSE))))))","v":""},{"$f":"IF($A141=\"\",\"\",IF(H$4=\"\",\"\",IF($B141=\"X\",INDIRECT(ADDRESS(11,MATCH(CE_PIANO!H$4,BASE!$B$2:$F$2,0)+1,,,\"BASE\")),IF($B141=\"T\",INDIRECT(ADDRESS(13,MATCH(CE_PIANO!H$4,BASE!$B$2:$F$2,0)+1,,,\"BASE\")),IF(ISERROR(VLOOKUP($A141,Ricavi_Costi!$B$6:$Q$105,COLUMN(Ricavi_Costi!O$4)-1,FALSE)),0,VLOOKUP($A141,Ricavi_Costi!$B$6:$Q$105,COLUMN(Ricavi_Costi!O$4)-1,FALSE))))))","v":""}]
[{"$f":"IF(CE_STORICO!A142=\"\",\"\",CE_STORICO!A142)","v":""},{"$f":"IF($A142=\"\",\"\",VLOOKUP(A142,SCHEMA_CE!$E$5:$F$54,2,FALSE))","v":""},{"$f":"IF(CE_STORICO!A142=\"\",\"\",CE_STORICO!B142)","v":""},{"$f":"IF(CE_STORICO!C142=\"\",\"\",CE_STORICO!C142)","v":""},{"$f":"IF(CE_STORICO!D142=\"\",\"\",CE_STORICO!D142)","v":""},{"$f":"IF($A142=\"\",\"\",IF(F$4=\"\",\"\",IF($B142=\"X\",INDIRECT(ADDRESS(11,MATCH(CE_PIANO!F$4,BASE!$B$2:$F$2,0)+1,,,\"BASE\")),IF($B142=\"T\",INDIRECT(ADDRESS(13,MATCH(CE_PIANO!F$4,BASE!$B$2:$F$2,0)+1,,,\"BASE\")),IF(ISERROR(VLOOKUP($A142,Ricavi_Costi!$B$6:$Q$105,COLUMN(Ricavi_Costi!M$4)-1,FALSE)),0,VLOOKUP($A142,Ricavi_Costi!$B$6:$Q$105,COLUMN(Ricavi_Costi!M$4)-1,FALSE))))))","v":""},{"$f":"IF($A142=\"\",\"\",IF(G$4=\"\",\"\",IF($B142=\"X\",INDIRECT(ADDRESS(11,MATCH(CE_PIANO!G$4,BASE!$B$2:$F$2,0)+1,,,\"BASE\")),IF($B142=\"T\",INDIRECT(ADDRESS(13,MATCH(CE_PIANO!G$4,BASE!$B$2:$F$2,0)+1,,,\"BASE\")),IF(ISERROR(VLOOKUP($A142,Ricavi_Costi!$B$6:$Q$105,COLUMN(Ricavi_Costi!N$4)-1,FALSE)),0,VLOOKUP($A142,Ricavi_Costi!$B$6:$Q$105,COLUMN(Ricavi_Costi!N$4)-1,FALSE))))))","v":""},{"$f":"IF($A142=\"\",\"\",IF(H$4=\"\",\"\",IF($B142=\"X\",INDIRECT(ADDRESS(11,MATCH(CE_PIANO!H$4,BASE!$B$2:$F$2,0)+1,,,\"BASE\")),IF($B142=\"T\",INDIRECT(ADDRESS(13,MATCH(CE_PIANO!H$4,BASE!$B$2:$F$2,0)+1,,,\"BASE\")),IF(ISERROR(VLOOKUP($A142,Ricavi_Costi!$B$6:$Q$105,COLUMN(Ricavi_Costi!O$4)-1,FALSE)),0,VLOOKUP($A142,Ricavi_Costi!$B$6:$Q$105,COLUMN(Ricavi_Costi!O$4)-1,FALSE))))))","v":""}]
[{"$f":"IF(CE_STORICO!A143=\"\",\"\",CE_STORICO!A143)","v":""},{"$f":"IF($A143=\"\",\"\",VLOOKUP(A143,SCHEMA_CE!$E$5:$F$54,2,FALSE))","v":""},{"$f":"IF(CE_STORICO!A143=\"\",\"\",CE_STORICO!B143)","v":""},{"$f":"IF(CE_STORICO!C143=\"\",\"\",CE_STORICO!C143)","v":""},{"$f":"IF(CE_STORICO!D143=\"\",\"\",CE_STORICO!D143)","v":""},{"$f":"IF($A143=\"\",\"\",IF(F$4=\"\",\"\",IF($B143=\"X\",INDIRECT(ADDRESS(11,MATCH(CE_PIANO!F$4,BASE!$B$2:$F$2,0)+1,,,\"BASE\")),IF($B143=\"T\",INDIRECT(ADDRESS(13,MATCH(CE_PIANO!F$4,BASE!$B$2:$F$2,0)+1,,,\"BASE\")),IF(ISERROR(VLOOKUP($A143,Ricavi_Costi!$B$6:$Q$105,COLUMN(Ricavi_Costi!M$4)-1,FALSE)),0,VLOOKUP($A143,Ricavi_Costi!$B$6:$Q$105,COLUMN(Ricavi_Costi!M$4)-1,FALSE))))))","v":""},{"$f":"IF($A143=\"\",\"\",IF(G$4=\"\",\"\",IF($B143=\"X\",INDIRECT(ADDRESS(11,MATCH(CE_PIANO!G$4,BASE!$B$2:$F$2,0)+1,,,\"BASE\")),IF($B143=\"T\",INDIRECT(ADDRESS(13,MATCH(CE_PIANO!G$4,BASE!$B$2:$F$2,0)+1,,,\"BASE\")),IF(ISERROR(VLOOKUP($A143,Ricavi_Costi!$B$6:$Q$105,COLUMN(Ricavi_Costi!N$4)-1,FALSE)),0,VLOOKUP($A143,Ricavi_Costi!$B$6:$Q$105,COLUMN(Ricavi_Costi!N$4)-1,FALSE))))))","v":""},{"$f":"IF($A143=\"\",\"\",IF(H$4=\"\",\"\",IF($B143=\"X\",INDIRECT(ADDRESS(11,MATCH(CE_PIANO!H$4,BASE!$B$2:$F$2,0)+1,,,\"BASE\")),IF($B143=\"T\",INDIRECT(ADDRESS(13,MATCH(CE_PIANO!H$4,BASE!$B$2:$F$2,0)+1,,,\"BASE\")),IF(ISERROR(VLOOKUP($A143,Ricavi_Costi!$B$6:$Q$105,COLUMN(Ricavi_Costi!O$4)-1,FALSE)),0,VLOOKUP($A143,Ricavi_Costi!$B$6:$Q$105,COLUMN(Ricavi_Costi!O$4)-1,FALSE))))))","v":""}]
[{"$f":"IF(CE_STORICO!A144=\"\",\"\",CE_STORICO!A144)","v":""},{"$f":"IF($A144=\"\",\"\",VLOOKUP(A144,SCHEMA_CE!$E$5:$F$54,2,FALSE))","v":""},{"$f":"IF(CE_STORICO!A144=\"\",\"\",CE_STORICO!B144)","v":""},{"$f":"IF(CE_STORICO!C144=\"\",\"\",CE_STORICO!C144)","v":""},{"$f":"IF(CE_STORICO!D144=\"\",\"\",CE_STORICO!D144)","v":""},{"$f":"IF($A144=\"\",\"\",IF(F$4=\"\",\"\",IF($B144=\"X\",INDIRECT(ADDRESS(11,MATCH(CE_PIANO!F$4,BASE!$B$2:$F$2,0)+1,,,\"BASE\")),IF($B144=\"T\",INDIRECT(ADDRESS(13,MATCH(CE_PIANO!F$4,BASE!$B$2:$F$2,0)+1,,,\"BASE\")),IF(ISERROR(VLOOKUP($A144,Ricavi_Costi!$B$6:$Q$105,COLUMN(Ricavi_Costi!M$4)-1,FALSE)),0,VLOOKUP($A144,Ricavi_Costi!$B$6:$Q$105,COLUMN(Ricavi_Costi!M$4)-1,FALSE))))))","v":""},{"$f":"IF($A144=\"\",\"\",IF(G$4=\"\",\"\",IF($B144=\"X\",INDIRECT(ADDRESS(11,MATCH(CE_PIANO!G$4,BASE!$B$2:$F$2,0)+1,,,\"BASE\")),IF($B144=\"T\",INDIRECT(ADDRESS(13,MATCH(CE_PIANO!G$4,BASE!$B$2:$F$2,0)+1,,,\"BASE\")),IF(ISERROR(VLOOKUP($A144,Ricavi_Costi!$B$6:$Q$105,COLUMN(Ricavi_Costi!N$4)-1,FALSE)),0,VLOOKUP($A144,Ricavi_Costi!$B$6:$Q$105,COLUMN(Ricavi_Costi!N$4)-1,FALSE))))))","v":""},{"$f":"IF($A144=\"\",\"\",IF(H$4=\"\",\"\",IF($B144=\"X\",INDIRECT(ADDRESS(11,MATCH(CE_PIANO!H$4,BASE!$B$2:$F$2,0)+1,,,\"BASE\")),IF($B144=\"T\",INDIRECT(ADDRESS(13,MATCH(CE_PIANO!H$4,BASE!$B$2:$F$2,0)+1,,,\"BASE\")),IF(ISERROR(VLOOKUP($A144,Ricavi_Costi!$B$6:$Q$105,COLUMN(Ricavi_Costi!O$4)-1,FALSE)),0,VLOOKUP($A144,Ricavi_Costi!$B$6:$Q$105,COLUMN(Ricavi_Costi!O$4)-1,FALSE))))))","v":""}]
[{"$f":"IF(CE_STORICO!A145=\"\",\"\",CE_STORICO!A145)","v":""},{"$f":"IF($A145=\"\",\"\",VLOOKUP(A145,SCHEMA_CE!$E$5:$F$54,2,FALSE))","v":""},{"$f":"IF(CE_STORICO!A145=\"\",\"\",CE_STORICO!B145)","v":""},{"$f":"IF(CE_STORICO!C145=\"\",\"\",CE_STORICO!C145)","v":""},{"$f":"IF(CE_STORICO!D145=\"\",\"\",CE_STORICO!D145)","v":""},{"$f":"IF($A145=\"\",\"\",IF(F$4=\"\",\"\",IF($B145=\"X\",INDIRECT(ADDRESS(11,MATCH(CE_PIANO!F$4,BASE!$B$2:$F$2,0)+1,,,\"BASE\")),IF($B145=\"T\",INDIRECT(ADDRESS(13,MATCH(CE_PIANO!F$4,BASE!$B$2:$F$2,0)+1,,,\"BASE\")),IF(ISERROR(VLOOKUP($A145,Ricavi_Costi!$B$6:$Q$105,COLUMN(Ricavi_Costi!M$4)-1,FALSE)),0,VLOOKUP($A145,Ricavi_Costi!$B$6:$Q$105,COLUMN(Ricavi_Costi!M$4)-1,FALSE))))))","v":""},{"$f":"IF($A145=\"\",\"\",IF(G$4=\"\",\"\",IF($B145=\"X\",INDIRECT(ADDRESS(11,MATCH(CE_PIANO!G$4,BASE!$B$2:$F$2,0)+1,,,\"BASE\")),IF($B145=\"T\",INDIRECT(ADDRESS(13,MATCH(CE_PIANO!G$4,BASE!$B$2:$F$2,0)+1,,,\"BASE\")),IF(ISERROR(VLOOKUP($A145,Ricavi_Costi!$B$6:$Q$105,COLUMN(Ricavi_Costi!N$4)-1,FALSE)),0,VLOOKUP($A145,Ricavi_Costi!$B$6:$Q$105,COLUMN(Ricavi_Costi!N$4)-1,FALSE))))))","v":""},{"$f":"IF($A145=\"\",\"\",IF(H$4=\"\",\"\",IF($B145=\"X\",INDIRECT(ADDRESS(11,MATCH(CE_PIANO!H$4,BASE!$B$2:$F$2,0)+1,,,\"BASE\")),IF($B145=\"T\",INDIRECT(ADDRESS(13,MATCH(CE_PIANO!H$4,BASE!$B$2:$F$2,0)+1,,,\"BASE\")),IF(ISERROR(VLOOKUP($A145,Ricavi_Costi!$B$6:$Q$105,COLUMN(Ricavi_Costi!O$4)-1,FALSE)),0,VLOOKUP($A145,Ricavi_Costi!$B$6:$Q$105,COLUMN(Ricavi_Costi!O$4)-1,FALSE))))))","v":""}]
[{"$f":"IF(CE_STORICO!A146=\"\",\"\",CE_STORICO!A146)","v":""},{"$f":"IF($A146=\"\",\"\",VLOOKUP(A146,SCHEMA_CE!$E$5:$F$54,2,FALSE))","v":""},{"$f":"IF(CE_STORICO!A146=\"\",\"\",CE_STORICO!B146)","v":""},{"$f":"IF(CE_STORICO!C146=\"\",\"\",CE_STORICO!C146)","v":""},{"$f":"IF(CE_STORICO!D146=\"\",\"\",CE_STORICO!D146)","v":""},{"$f":"IF($A146=\"\",\"\",IF(F$4=\"\",\"\",IF($B146=\"X\",INDIRECT(ADDRESS(11,MATCH(CE_PIANO!F$4,BASE!$B$2:$F$2,0)+1,,,\"BASE\")),IF($B146=\"T\",INDIRECT(ADDRESS(13,MATCH(CE_PIANO!F$4,BASE!$B$2:$F$2,0)+1,,,\"BASE\")),IF(ISERROR(VLOOKUP($A146,Ricavi_Costi!$B$6:$Q$105,COLUMN(Ricavi_Costi!M$4)-1,FALSE)),0,VLOOKUP($A146,Ricavi_Costi!$B$6:$Q$105,COLUMN(Ricavi_Costi!M$4)-1,FALSE))))))","v":""},{"$f":"IF($A146=\"\",\"\",IF(G$4=\"\",\"\",IF($B146=\"X\",INDIRECT(ADDRESS(11,MATCH(CE_PIANO!G$4,BASE!$B$2:$F$2,0)+1,,,\"BASE\")),IF($B146=\"T\",INDIRECT(ADDRESS(13,MATCH(CE_PIANO!G$4,BASE!$B$2:$F$2,0)+1,,,\"BASE\")),IF(ISERROR(VLOOKUP($A146,Ricavi_Costi!$B$6:$Q$105,COLUMN(Ricavi_Costi!N$4)-1,FALSE)),0,VLOOKUP($A146,Ricavi_Costi!$B$6:$Q$105,COLUMN(Ricavi_Costi!N$4)-1,FALSE))))))","v":""},{"$f":"IF($A146=\"\",\"\",IF(H$4=\"\",\"\",IF($B146=\"X\",INDIRECT(ADDRESS(11,MATCH(CE_PIANO!H$4,BASE!$B$2:$F$2,0)+1,,,\"BASE\")),IF($B146=\"T\",INDIRECT(ADDRESS(13,MATCH(CE_PIANO!H$4,BASE!$B$2:$F$2,0)+1,,,\"BASE\")),IF(ISERROR(VLOOKUP($A146,Ricavi_Costi!$B$6:$Q$105,COLUMN(Ricavi_Costi!O$4)-1,FALSE)),0,VLOOKUP($A146,Ricavi_Costi!$B$6:$Q$105,COLUMN(Ricavi_Costi!O$4)-1,FALSE))))))","v":""}]
[{"$f":"IF(CE_STORICO!A147=\"\",\"\",CE_STORICO!A147)","v":""},{"$f":"IF($A147=\"\",\"\",VLOOKUP(A147,SCHEMA_CE!$E$5:$F$54,2,FALSE))","v":""},{"$f":"IF(CE_STORICO!A147=\"\",\"\",CE_STORICO!B147)","v":""},{"$f":"IF(CE_STORICO!C147=\"\",\"\",CE_STORICO!C147)","v":""},{"$f":"IF(CE_STORICO!D147=\"\",\"\",CE_STORICO!D147)","v":""},{"$f":"IF($A147=\"\",\"\",IF(F$4=\"\",\"\",IF($B147=\"X\",INDIRECT(ADDRESS(11,MATCH(CE_PIANO!F$4,BASE!$B$2:$F$2,0)+1,,,\"BASE\")),IF($B147=\"T\",INDIRECT(ADDRESS(13,MATCH(CE_PIANO!F$4,BASE!$B$2:$F$2,0)+1,,,\"BASE\")),IF(ISERROR(VLOOKUP($A147,Ricavi_Costi!$B$6:$Q$105,COLUMN(Ricavi_Costi!M$4)-1,FALSE)),0,VLOOKUP($A147,Ricavi_Costi!$B$6:$Q$105,COLUMN(Ricavi_Costi!M$4)-1,FALSE))))))","v":""},{"$f":"IF($A147=\"\",\"\",IF(G$4=\"\",\"\",IF($B147=\"X\",INDIRECT(ADDRESS(11,MATCH(CE_PIANO!G$4,BASE!$B$2:$F$2,0)+1,,,\"BASE\")),IF($B147=\"T\",INDIRECT(ADDRESS(13,MATCH(CE_PIANO!G$4,BASE!$B$2:$F$2,0)+1,,,\"BASE\")),IF(ISERROR(VLOOKUP($A147,Ricavi_Costi!$B$6:$Q$105,COLUMN(Ricavi_Costi!N$4)-1,FALSE)),0,VLOOKUP($A147,Ricavi_Costi!$B$6:$Q$105,COLUMN(Ricavi_Costi!N$4)-1,FALSE))))))","v":""},{"$f":"IF($A147=\"\",\"\",IF(H$4=\"\",\"\",IF($B147=\"X\",INDIRECT(ADDRESS(11,MATCH(CE_PIANO!H$4,BASE!$B$2:$F$2,0)+1,,,\"BASE\")),IF($B147=\"T\",INDIRECT(ADDRESS(13,MATCH(CE_PIANO!H$4,BASE!$B$2:$F$2,0)+1,,,\"BASE\")),IF(ISERROR(VLOOKUP($A147,Ricavi_Costi!$B$6:$Q$105,COLUMN(Ricavi_Costi!O$4)-1,FALSE)),0,VLOOKUP($A147,Ricavi_Costi!$B$6:$Q$105,COLUMN(Ricavi_Costi!O$4)-1,FALSE))))))","v":""}]
[{"$f":"IF(CE_STORICO!A148=\"\",\"\",CE_STORICO!A148)","v":""},{"$f":"IF($A148=\"\",\"\",VLOOKUP(A148,SCHEMA_CE!$E$5:$F$54,2,FALSE))","v":""},{"$f":"IF(CE_STORICO!A148=\"\",\"\",CE_STORICO!B148)","v":""},{"$f":"IF(CE_STORICO!C148=\"\",\"\",CE_STORICO!C148)","v":""},{"$f":"IF(CE_STORICO!D148=\"\",\"\",CE_STORICO!D148)","v":""},{"$f":"IF($A148=\"\",\"\",IF(F$4=\"\",\"\",IF($B148=\"X\",INDIRECT(ADDRESS(11,MATCH(CE_PIANO!F$4,BASE!$B$2:$F$2,0)+1,,,\"BASE\")),IF($B148=\"T\",INDIRECT(ADDRESS(13,MATCH(CE_PIANO!F$4,BASE!$B$2:$F$2,0)+1,,,\"BASE\")),IF(ISERROR(VLOOKUP($A148,Ricavi_Costi!$B$6:$Q$105,COLUMN(Ricavi_Costi!M$4)-1,FALSE)),0,VLOOKUP($A148,Ricavi_Costi!$B$6:$Q$105,COLUMN(Ricavi_Costi!M$4)-1,FALSE))))))","v":""},{"$f":"IF($A148=\"\",\"\",IF(G$4=\"\",\"\",IF($B148=\"X\",INDIRECT(ADDRESS(11,MATCH(CE_PIANO!G$4,BASE!$B$2:$F$2,0)+1,,,\"BASE\")),IF($B148=\"T\",INDIRECT(ADDRESS(13,MATCH(CE_PIANO!G$4,BASE!$B$2:$F$2,0)+1,,,\"BASE\")),IF(ISERROR(VLOOKUP($A148,Ricavi_Costi!$B$6:$Q$105,COLUMN(Ricavi_Costi!N$4)-1,FALSE)),0,VLOOKUP($A148,Ricavi_Costi!$B$6:$Q$105,COLUMN(Ricavi_Costi!N$4)-1,FALSE))))))","v":""},{"$f":"IF($A148=\"\",\"\",IF(H$4=\"\",\"\",IF($B148=\"X\",INDIRECT(ADDRESS(11,MATCH(CE_PIANO!H$4,BASE!$B$2:$F$2,0)+1,,,\"BASE\")),IF($B148=\"T\",INDIRECT(ADDRESS(13,MATCH(CE_PIANO!H$4,BASE!$B$2:$F$2,0)+1,,,\"BASE\")),IF(ISERROR(VLOOKUP($A148,Ricavi_Costi!$B$6:$Q$105,COLUMN(Ricavi_Costi!O$4)-1,FALSE)),0,VLOOKUP($A148,Ricavi_Costi!$B$6:$Q$105,COLUMN(Ricavi_Costi!O$4)-1,FALSE))))))","v":""}]
[{"$f":"IF(CE_STORICO!A149=\"\",\"\",CE_STORICO!A149)","v":""},{"$f":"IF($A149=\"\",\"\",VLOOKUP(A149,SCHEMA_CE!$E$5:$F$54,2,FALSE))","v":""},{"$f":"IF(CE_STORICO!A149=\"\",\"\",CE_STORICO!B149)","v":""},{"$f":"IF(CE_STORICO!C149=\"\",\"\",CE_STORICO!C149)","v":""},{"$f":"IF(CE_STORICO!D149=\"\",\"\",CE_STORICO!D149)","v":""},{"$f":"IF($A149=\"\",\"\",IF(F$4=\"\",\"\",IF($B149=\"X\",INDIRECT(ADDRESS(11,MATCH(CE_PIANO!F$4,BASE!$B$2:$F$2,0)+1,,,\"BASE\")),IF($B149=\"T\",INDIRECT(ADDRESS(13,MATCH(CE_PIANO!F$4,BASE!$B$2:$F$2,0)+1,,,\"BASE\")),IF(ISERROR(VLOOKUP($A149,Ricavi_Costi!$B$6:$Q$105,COLUMN(Ricavi_Costi!M$4)-1,FALSE)),0,VLOOKUP($A149,Ricavi_Costi!$B$6:$Q$105,COLUMN(Ricavi_Costi!M$4)-1,FALSE))))))","v":""},{"$f":"IF($A149=\"\",\"\",IF(G$4=\"\",\"\",IF($B149=\"X\",INDIRECT(ADDRESS(11,MATCH(CE_PIANO!G$4,BASE!$B$2:$F$2,0)+1,,,\"BASE\")),IF($B149=\"T\",INDIRECT(ADDRESS(13,MATCH(CE_PIANO!G$4,BASE!$B$2:$F$2,0)+1,,,\"BASE\")),IF(ISERROR(VLOOKUP($A149,Ricavi_Costi!$B$6:$Q$105,COLUMN(Ricavi_Costi!N$4)-1,FALSE)),0,VLOOKUP($A149,Ricavi_Costi!$B$6:$Q$105,COLUMN(Ricavi_Costi!N$4)-1,FALSE))))))","v":""},{"$f":"IF($A149=\"\",\"\",IF(H$4=\"\",\"\",IF($B149=\"X\",INDIRECT(ADDRESS(11,MATCH(CE_PIANO!H$4,BASE!$B$2:$F$2,0)+1,,,\"BASE\")),IF($B149=\"T\",INDIRECT(ADDRESS(13,MATCH(CE_PIANO!H$4,BASE!$B$2:$F$2,0)+1,,,\"BASE\")),IF(ISERROR(VLOOKUP($A149,Ricavi_Costi!$B$6:$Q$105,COLUMN(Ricavi_Costi!O$4)-1,FALSE)),0,VLOOKUP($A149,Ricavi_Costi!$B$6:$Q$105,COLUMN(Ricavi_Costi!O$4)-1,FALSE))))))","v":""}]
[{"$f":"IF(CE_STORICO!A150=\"\",\"\",CE_STORICO!A150)","v":""},{"$f":"IF($A150=\"\",\"\",VLOOKUP(A150,SCHEMA_CE!$E$5:$F$54,2,FALSE))","v":""},{"$f":"IF(CE_STORICO!A150=\"\",\"\",CE_STORICO!B150)","v":""},{"$f":"IF(CE_STORICO!C150=\"\",\"\",CE_STORICO!C150)","v":""},{"$f":"IF(CE_STORICO!D150=\"\",\"\",CE_STORICO!D150)","v":""},{"$f":"IF($A150=\"\",\"\",IF(F$4=\"\",\"\",IF($B150=\"X\",INDIRECT(ADDRESS(11,MATCH(CE_PIANO!F$4,BASE!$B$2:$F$2,0)+1,,,\"BASE\")),IF($B150=\"T\",INDIRECT(ADDRESS(13,MATCH(CE_PIANO!F$4,BASE!$B$2:$F$2,0)+1,,,\"BASE\")),IF(ISERROR(VLOOKUP($A150,Ricavi_Costi!$B$6:$Q$105,COLUMN(Ricavi_Costi!M$4)-1,FALSE)),0,VLOOKUP($A150,Ricavi_Costi!$B$6:$Q$105,COLUMN(Ricavi_Costi!M$4)-1,FALSE))))))","v":""},{"$f":"IF($A150=\"\",\"\",IF(G$4=\"\",\"\",IF($B150=\"X\",INDIRECT(ADDRESS(11,MATCH(CE_PIANO!G$4,BASE!$B$2:$F$2,0)+1,,,\"BASE\")),IF($B150=\"T\",INDIRECT(ADDRESS(13,MATCH(CE_PIANO!G$4,BASE!$B$2:$F$2,0)+1,,,\"BASE\")),IF(ISERROR(VLOOKUP($A150,Ricavi_Costi!$B$6:$Q$105,COLUMN(Ricavi_Costi!N$4)-1,FALSE)),0,VLOOKUP($A150,Ricavi_Costi!$B$6:$Q$105,COLUMN(Ricavi_Costi!N$4)-1,FALSE))))))","v":""},{"$f":"IF($A150=\"\",\"\",IF(H$4=\"\",\"\",IF($B150=\"X\",INDIRECT(ADDRESS(11,MATCH(CE_PIANO!H$4,BASE!$B$2:$F$2,0)+1,,,\"BASE\")),IF($B150=\"T\",INDIRECT(ADDRESS(13,MATCH(CE_PIANO!H$4,BASE!$B$2:$F$2,0)+1,,,\"BASE\")),IF(ISERROR(VLOOKUP($A150,Ricavi_Costi!$B$6:$Q$105,COLUMN(Ricavi_Costi!O$4)-1,FALSE)),0,VLOOKUP($A150,Ricavi_Costi!$B$6:$Q$105,COLUMN(Ricavi_Costi!O$4)-1,FALSE))))))","v":""}]
[{"$f":"IF(CE_STORICO!A151=\"\",\"\",CE_STORICO!A151)","v":""},{"$f":"IF($A151=\"\",\"\",VLOOKUP(A151,SCHEMA_CE!$E$5:$F$54,2,FALSE))","v":""},{"$f":"IF(CE_STORICO!A151=\"\",\"\",CE_STORICO!B151)","v":""},{"$f":"IF(CE_STORICO!C151=\"\",\"\",CE_STORICO!C151)","v":""},{"$f":"IF(CE_STORICO!D151=\"\",\"\",CE_STORICO!D151)","v":""},{"$f":"IF($A151=\"\",\"\",IF(F$4=\"\",\"\",IF($B151=\"X\",INDIRECT(ADDRESS(11,MATCH(CE_PIANO!F$4,BASE!$B$2:$F$2,0)+1,,,\"BASE\")),IF($B151=\"T\",INDIRECT(ADDRESS(13,MATCH(CE_PIANO!F$4,BASE!$B$2:$F$2,0)+1,,,\"BASE\")),IF(ISERROR(VLOOKUP($A151,Ricavi_Costi!$B$6:$Q$105,COLUMN(Ricavi_Costi!M$4)-1,FALSE)),0,VLOOKUP($A151,Ricavi_Costi!$B$6:$Q$105,COLUMN(Ricavi_Costi!M$4)-1,FALSE))))))","v":""},{"$f":"IF($A151=\"\",\"\",IF(G$4=\"\",\"\",IF($B151=\"X\",INDIRECT(ADDRESS(11,MATCH(CE_PIANO!G$4,BASE!$B$2:$F$2,0)+1,,,\"BASE\")),IF($B151=\"T\",INDIRECT(ADDRESS(13,MATCH(CE_PIANO!G$4,BASE!$B$2:$F$2,0)+1,,,\"BASE\")),IF(ISERROR(VLOOKUP($A151,Ricavi_Costi!$B$6:$Q$105,COLUMN(Ricavi_Costi!N$4)-1,FALSE)),0,VLOOKUP($A151,Ricavi_Costi!$B$6:$Q$105,COLUMN(Ricavi_Costi!N$4)-1,FALSE))))))","v":""},{"$f":"IF($A151=\"\",\"\",IF(H$4=\"\",\"\",IF($B151=\"X\",INDIRECT(ADDRESS(11,MATCH(CE_PIANO!H$4,BASE!$B$2:$F$2,0)+1,,,\"BASE\")),IF($B151=\"T\",INDIRECT(ADDRESS(13,MATCH(CE_PIANO!H$4,BASE!$B$2:$F$2,0)+1,,,\"BASE\")),IF(ISERROR(VLOOKUP($A151,Ricavi_Costi!$B$6:$Q$105,COLUMN(Ricavi_Costi!O$4)-1,FALSE)),0,VLOOKUP($A151,Ricavi_Costi!$B$6:$Q$105,COLUMN(Ricavi_Costi!O$4)-1,FALSE))))))","v":""}]
[{"$f":"IF(CE_STORICO!A152=\"\",\"\",CE_STORICO!A152)","v":""},{"$f":"IF($A152=\"\",\"\",VLOOKUP(A152,SCHEMA_CE!$E$5:$F$54,2,FALSE))","v":""},{"$f":"IF(CE_STORICO!A152=\"\",\"\",CE_STORICO!B152)","v":""},{"$f":"IF(CE_STORICO!C152=\"\",\"\",CE_STORICO!C152)","v":""},{"$f":"IF(CE_STORICO!D152=\"\",\"\",CE_STORICO!D152)","v":""},{"$f":"IF($A152=\"\",\"\",IF(F$4=\"\",\"\",IF($B152=\"X\",INDIRECT(ADDRESS(11,MATCH(CE_PIANO!F$4,BASE!$B$2:$F$2,0)+1,,,\"BASE\")),IF($B152=\"T\",INDIRECT(ADDRESS(13,MATCH(CE_PIANO!F$4,BASE!$B$2:$F$2,0)+1,,,\"BASE\")),IF(ISERROR(VLOOKUP($A152,Ricavi_Costi!$B$6:$Q$105,COLUMN(Ricavi_Costi!M$4)-1,FALSE)),0,VLOOKUP($A152,Ricavi_Costi!$B$6:$Q$105,COLUMN(Ricavi_Costi!M$4)-1,FALSE))))))","v":""},{"$f":"IF($A152=\"\",\"\",IF(G$4=\"\",\"\",IF($B152=\"X\",INDIRECT(ADDRESS(11,MATCH(CE_PIANO!G$4,BASE!$B$2:$F$2,0)+1,,,\"BASE\")),IF($B152=\"T\",INDIRECT(ADDRESS(13,MATCH(CE_PIANO!G$4,BASE!$B$2:$F$2,0)+1,,,\"BASE\")),IF(ISERROR(VLOOKUP($A152,Ricavi_Costi!$B$6:$Q$105,COLUMN(Ricavi_Costi!N$4)-1,FALSE)),0,VLOOKUP($A152,Ricavi_Costi!$B$6:$Q$105,COLUMN(Ricavi_Costi!N$4)-1,FALSE))))))","v":""},{"$f":"IF($A152=\"\",\"\",IF(H$4=\"\",\"\",IF($B152=\"X\",INDIRECT(ADDRESS(11,MATCH(CE_PIANO!H$4,BASE!$B$2:$F$2,0)+1,,,\"BASE\")),IF($B152=\"T\",INDIRECT(ADDRESS(13,MATCH(CE_PIANO!H$4,BASE!$B$2:$F$2,0)+1,,,\"BASE\")),IF(ISERROR(VLOOKUP($A152,Ricavi_Costi!$B$6:$Q$105,COLUMN(Ricavi_Costi!O$4)-1,FALSE)),0,VLOOKUP($A152,Ricavi_Costi!$B$6:$Q$105,COLUMN(Ricavi_Costi!O$4)-1,FALSE))))))","v":""}]
[{"$f":"IF(CE_STORICO!A153=\"\",\"\",CE_STORICO!A153)","v":""},{"$f":"IF($A153=\"\",\"\",VLOOKUP(A153,SCHEMA_CE!$E$5:$F$54,2,FALSE))","v":""},{"$f":"IF(CE_STORICO!A153=\"\",\"\",CE_STORICO!B153)","v":""},{"$f":"IF(CE_STORICO!C153=\"\",\"\",CE_STORICO!C153)","v":""},{"$f":"IF(CE_STORICO!D153=\"\",\"\",CE_STORICO!D153)","v":""},{"$f":"IF($A153=\"\",\"\",IF(F$4=\"\",\"\",IF($B153=\"X\",INDIRECT(ADDRESS(11,MATCH(CE_PIANO!F$4,BASE!$B$2:$F$2,0)+1,,,\"BASE\")),IF($B153=\"T\",INDIRECT(ADDRESS(13,MATCH(CE_PIANO!F$4,BASE!$B$2:$F$2,0)+1,,,\"BASE\")),IF(ISERROR(VLOOKUP($A153,Ricavi_Costi!$B$6:$Q$105,COLUMN(Ricavi_Costi!M$4)-1,FALSE)),0,VLOOKUP($A153,Ricavi_Costi!$B$6:$Q$105,COLUMN(Ricavi_Costi!M$4)-1,FALSE))))))","v":""},{"$f":"IF($A153=\"\",\"\",IF(G$4=\"\",\"\",IF($B153=\"X\",INDIRECT(ADDRESS(11,MATCH(CE_PIANO!G$4,BASE!$B$2:$F$2,0)+1,,,\"BASE\")),IF($B153=\"T\",INDIRECT(ADDRESS(13,MATCH(CE_PIANO!G$4,BASE!$B$2:$F$2,0)+1,,,\"BASE\")),IF(ISERROR(VLOOKUP($A153,Ricavi_Costi!$B$6:$Q$105,COLUMN(Ricavi_Costi!N$4)-1,FALSE)),0,VLOOKUP($A153,Ricavi_Costi!$B$6:$Q$105,COLUMN(Ricavi_Costi!N$4)-1,FALSE))))))","v":""},{"$f":"IF($A153=\"\",\"\",IF(H$4=\"\",\"\",IF($B153=\"X\",INDIRECT(ADDRESS(11,MATCH(CE_PIANO!H$4,BASE!$B$2:$F$2,0)+1,,,\"BASE\")),IF($B153=\"T\",INDIRECT(ADDRESS(13,MATCH(CE_PIANO!H$4,BASE!$B$2:$F$2,0)+1,,,\"BASE\")),IF(ISERROR(VLOOKUP($A153,Ricavi_Costi!$B$6:$Q$105,COLUMN(Ricavi_Costi!O$4)-1,FALSE)),0,VLOOKUP($A153,Ricavi_Costi!$B$6:$Q$105,COLUMN(Ricavi_Costi!O$4)-1,FALSE))))))","v":""}]
[{"$f":"IF(CE_STORICO!A154=\"\",\"\",CE_STORICO!A154)","v":""},{"$f":"IF($A154=\"\",\"\",VLOOKUP(A154,SCHEMA_CE!$E$5:$F$54,2,FALSE))","v":""},{"$f":"IF(CE_STORICO!A154=\"\",\"\",CE_STORICO!B154)","v":""},{"$f":"IF(CE_STORICO!C154=\"\",\"\",CE_STORICO!C154)","v":""},{"$f":"IF(CE_STORICO!D154=\"\",\"\",CE_STORICO!D154)","v":""},{"$f":"IF($A154=\"\",\"\",IF(F$4=\"\",\"\",IF($B154=\"X\",INDIRECT(ADDRESS(11,MATCH(CE_PIANO!F$4,BASE!$B$2:$F$2,0)+1,,,\"BASE\")),IF($B154=\"T\",INDIRECT(ADDRESS(13,MATCH(CE_PIANO!F$4,BASE!$B$2:$F$2,0)+1,,,\"BASE\")),IF(ISERROR(VLOOKUP($A154,Ricavi_Costi!$B$6:$Q$105,COLUMN(Ricavi_Costi!M$4)-1,FALSE)),0,VLOOKUP($A154,Ricavi_Costi!$B$6:$Q$105,COLUMN(Ricavi_Costi!M$4)-1,FALSE))))))","v":""},{"$f":"IF($A154=\"\",\"\",IF(G$4=\"\",\"\",IF($B154=\"X\",INDIRECT(ADDRESS(11,MATCH(CE_PIANO!G$4,BASE!$B$2:$F$2,0)+1,,,\"BASE\")),IF($B154=\"T\",INDIRECT(ADDRESS(13,MATCH(CE_PIANO!G$4,BASE!$B$2:$F$2,0)+1,,,\"BASE\")),IF(ISERROR(VLOOKUP($A154,Ricavi_Costi!$B$6:$Q$105,COLUMN(Ricavi_Costi!N$4)-1,FALSE)),0,VLOOKUP($A154,Ricavi_Costi!$B$6:$Q$105,COLUMN(Ricavi_Costi!N$4)-1,FALSE))))))","v":""},{"$f":"IF($A154=\"\",\"\",IF(H$4=\"\",\"\",IF($B154=\"X\",INDIRECT(ADDRESS(11,MATCH(CE_PIANO!H$4,BASE!$B$2:$F$2,0)+1,,,\"BASE\")),IF($B154=\"T\",INDIRECT(ADDRESS(13,MATCH(CE_PIANO!H$4,BASE!$B$2:$F$2,0)+1,,,\"BASE\")),IF(ISERROR(VLOOKUP($A154,Ricavi_Costi!$B$6:$Q$105,COLUMN(Ricavi_Costi!O$4)-1,FALSE)),0,VLOOKUP($A154,Ricavi_Costi!$B$6:$Q$105,COLUMN(Ricavi_Costi!O$4)-1,FALSE))))))","v":""}]
[{"$f":"IF(CE_STORICO!A155=\"\",\"\",CE_STORICO!A155)","v":""},{"$f":"IF($A155=\"\",\"\",VLOOKUP(A155,SCHEMA_CE!$E$5:$F$54,2,FALSE))","v":""},{"$f":"IF(CE_STORICO!A155=\"\",\"\",CE_STORICO!B155)","v":""},{"$f":"IF(CE_STORICO!C155=\"\",\"\",CE_STORICO!C155)","v":""},{"$f":"IF(CE_STORICO!D155=\"\",\"\",CE_STORICO!D155)","v":""},{"$f":"IF($A155=\"\",\"\",IF(F$4=\"\",\"\",IF($B155=\"X\",INDIRECT(ADDRESS(11,MATCH(CE_PIANO!F$4,BASE!$B$2:$F$2,0)+1,,,\"BASE\")),IF($B155=\"T\",INDIRECT(ADDRESS(13,MATCH(CE_PIANO!F$4,BASE!$B$2:$F$2,0)+1,,,\"BASE\")),IF(ISERROR(VLOOKUP($A155,Ricavi_Costi!$B$6:$Q$105,COLUMN(Ricavi_Costi!M$4)-1,FALSE)),0,VLOOKUP($A155,Ricavi_Costi!$B$6:$Q$105,COLUMN(Ricavi_Costi!M$4)-1,FALSE))))))","v":""},{"$f":"IF($A155=\"\",\"\",IF(G$4=\"\",\"\",IF($B155=\"X\",INDIRECT(ADDRESS(11,MATCH(CE_PIANO!G$4,BASE!$B$2:$F$2,0)+1,,,\"BASE\")),IF($B155=\"T\",INDIRECT(ADDRESS(13,MATCH(CE_PIANO!G$4,BASE!$B$2:$F$2,0)+1,,,\"BASE\")),IF(ISERROR(VLOOKUP($A155,Ricavi_Costi!$B$6:$Q$105,COLUMN(Ricavi_Costi!N$4)-1,FALSE)),0,VLOOKUP($A155,Ricavi_Costi!$B$6:$Q$105,COLUMN(Ricavi_Costi!N$4)-1,FALSE))))))","v":""},{"$f":"IF($A155=\"\",\"\",IF(H$4=\"\",\"\",IF($B155=\"X\",INDIRECT(ADDRESS(11,MATCH(CE_PIANO!H$4,BASE!$B$2:$F$2,0)+1,,,\"BASE\")),IF($B155=\"T\",INDIRECT(ADDRESS(13,MATCH(CE_PIANO!H$4,BASE!$B$2:$F$2,0)+1,,,\"BASE\")),IF(ISERROR(VLOOKUP($A155,Ricavi_Costi!$B$6:$Q$105,COLUMN(Ricavi_Costi!O$4)-1,FALSE)),0,VLOOKUP($A155,Ricavi_Costi!$B$6:$Q$105,COLUMN(Ricavi_Costi!O$4)-1,FALSE))))))","v":""}]
[{"$f":"IF(CE_STORICO!A156=\"\",\"\",CE_STORICO!A156)","v":""},{"$f":"IF($A156=\"\",\"\",VLOOKUP(A156,SCHEMA_CE!$E$5:$F$54,2,FALSE))","v":""},{"$f":"IF(CE_STORICO!A156=\"\",\"\",CE_STORICO!B156)","v":""},{"$f":"IF(CE_STORICO!C156=\"\",\"\",CE_STORICO!C156)","v":""},{"$f":"IF(CE_STORICO!D156=\"\",\"\",CE_STORICO!D156)","v":""},{"$f":"IF($A156=\"\",\"\",IF(F$4=\"\",\"\",IF($B156=\"X\",INDIRECT(ADDRESS(11,MATCH(CE_PIANO!F$4,BASE!$B$2:$F$2,0)+1,,,\"BASE\")),IF($B156=\"T\",INDIRECT(ADDRESS(13,MATCH(CE_PIANO!F$4,BASE!$B$2:$F$2,0)+1,,,\"BASE\")),IF(ISERROR(VLOOKUP($A156,Ricavi_Costi!$B$6:$Q$105,COLUMN(Ricavi_Costi!M$4)-1,FALSE)),0,VLOOKUP($A156,Ricavi_Costi!$B$6:$Q$105,COLUMN(Ricavi_Costi!M$4)-1,FALSE))))))","v":""},{"$f":"IF($A156=\"\",\"\",IF(G$4=\"\",\"\",IF($B156=\"X\",INDIRECT(ADDRESS(11,MATCH(CE_PIANO!G$4,BASE!$B$2:$F$2,0)+1,,,\"BASE\")),IF($B156=\"T\",INDIRECT(ADDRESS(13,MATCH(CE_PIANO!G$4,BASE!$B$2:$F$2,0)+1,,,\"BASE\")),IF(ISERROR(VLOOKUP($A156,Ricavi_Costi!$B$6:$Q$105,COLUMN(Ricavi_Costi!N$4)-1,FALSE)),0,VLOOKUP($A156,Ricavi_Costi!$B$6:$Q$105,COLUMN(Ricavi_Costi!N$4)-1,FALSE))))))","v":""},{"$f":"IF($A156=\"\",\"\",IF(H$4=\"\",\"\",IF($B156=\"X\",INDIRECT(ADDRESS(11,MATCH(CE_PIANO!H$4,BASE!$B$2:$F$2,0)+1,,,\"BASE\")),IF($B156=\"T\",INDIRECT(ADDRESS(13,MATCH(CE_PIANO!H$4,BASE!$B$2:$F$2,0)+1,,,\"BASE\")),IF(ISERROR(VLOOKUP($A156,Ricavi_Costi!$B$6:$Q$105,COLUMN(Ricavi_Costi!O$4)-1,FALSE)),0,VLOOKUP($A156,Ricavi_Costi!$B$6:$Q$105,COLUMN(Ricavi_Costi!O$4)-1,FALSE))))))","v":""}]
[{"$f":"IF(CE_STORICO!A157=\"\",\"\",CE_STORICO!A157)","v":""},{"$f":"IF($A157=\"\",\"\",VLOOKUP(A157,SCHEMA_CE!$E$5:$F$54,2,FALSE))","v":""},{"$f":"IF(CE_STORICO!A157=\"\",\"\",CE_STORICO!B157)","v":""},{"$f":"IF(CE_STORICO!C157=\"\",\"\",CE_STORICO!C157)","v":""},{"$f":"IF(CE_STORICO!D157=\"\",\"\",CE_STORICO!D157)","v":""},{"$f":"IF($A157=\"\",\"\",IF(F$4=\"\",\"\",IF($B157=\"X\",INDIRECT(ADDRESS(11,MATCH(CE_PIANO!F$4,BASE!$B$2:$F$2,0)+1,,,\"BASE\")),IF($B157=\"T\",INDIRECT(ADDRESS(13,MATCH(CE_PIANO!F$4,BASE!$B$2:$F$2,0)+1,,,\"BASE\")),IF(ISERROR(VLOOKUP($A157,Ricavi_Costi!$B$6:$Q$105,COLUMN(Ricavi_Costi!M$4)-1,FALSE)),0,VLOOKUP($A157,Ricavi_Costi!$B$6:$Q$105,COLUMN(Ricavi_Costi!M$4)-1,FALSE))))))","v":""},{"$f":"IF($A157=\"\",\"\",IF(G$4=\"\",\"\",IF($B157=\"X\",INDIRECT(ADDRESS(11,MATCH(CE_PIANO!G$4,BASE!$B$2:$F$2,0)+1,,,\"BASE\")),IF($B157=\"T\",INDIRECT(ADDRESS(13,MATCH(CE_PIANO!G$4,BASE!$B$2:$F$2,0)+1,,,\"BASE\")),IF(ISERROR(VLOOKUP($A157,Ricavi_Costi!$B$6:$Q$105,COLUMN(Ricavi_Costi!N$4)-1,FALSE)),0,VLOOKUP($A157,Ricavi_Costi!$B$6:$Q$105,COLUMN(Ricavi_Costi!N$4)-1,FALSE))))))","v":""},{"$f":"IF($A157=\"\",\"\",IF(H$4=\"\",\"\",IF($B157=\"X\",INDIRECT(ADDRESS(11,MATCH(CE_PIANO!H$4,BASE!$B$2:$F$2,0)+1,,,\"BASE\")),IF($B157=\"T\",INDIRECT(ADDRESS(13,MATCH(CE_PIANO!H$4,BASE!$B$2:$F$2,0)+1,,,\"BASE\")),IF(ISERROR(VLOOKUP($A157,Ricavi_Costi!$B$6:$Q$105,COLUMN(Ricavi_Costi!O$4)-1,FALSE)),0,VLOOKUP($A157,Ricavi_Costi!$B$6:$Q$105,COLUMN(Ricavi_Costi!O$4)-1,FALSE))))))","v":""}]
[{"$f":"IF(CE_STORICO!A158=\"\",\"\",CE_STORICO!A158)","v":""},{"$f":"IF($A158=\"\",\"\",VLOOKUP(A158,SCHEMA_CE!$E$5:$F$54,2,FALSE))","v":""},{"$f":"IF(CE_STORICO!A158=\"\",\"\",CE_STORICO!B158)","v":""},{"$f":"IF(CE_STORICO!C158=\"\",\"\",CE_STORICO!C158)","v":""},{"$f":"IF(CE_STORICO!D158=\"\",\"\",CE_STORICO!D158)","v":""},{"$f":"IF($A158=\"\",\"\",IF(F$4=\"\",\"\",IF($B158=\"X\",INDIRECT(ADDRESS(11,MATCH(CE_PIANO!F$4,BASE!$B$2:$F$2,0)+1,,,\"BASE\")),IF($B158=\"T\",INDIRECT(ADDRESS(13,MATCH(CE_PIANO!F$4,BASE!$B$2:$F$2,0)+1,,,\"BASE\")),IF(ISERROR(VLOOKUP($A158,Ricavi_Costi!$B$6:$Q$105,COLUMN(Ricavi_Costi!M$4)-1,FALSE)),0,VLOOKUP($A158,Ricavi_Costi!$B$6:$Q$105,COLUMN(Ricavi_Costi!M$4)-1,FALSE))))))","v":""},{"$f":"IF($A158=\"\",\"\",IF(G$4=\"\",\"\",IF($B158=\"X\",INDIRECT(ADDRESS(11,MATCH(CE_PIANO!G$4,BASE!$B$2:$F$2,0)+1,,,\"BASE\")),IF($B158=\"T\",INDIRECT(ADDRESS(13,MATCH(CE_PIANO!G$4,BASE!$B$2:$F$2,0)+1,,,\"BASE\")),IF(ISERROR(VLOOKUP($A158,Ricavi_Costi!$B$6:$Q$105,COLUMN(Ricavi_Costi!N$4)-1,FALSE)),0,VLOOKUP($A158,Ricavi_Costi!$B$6:$Q$105,COLUMN(Ricavi_Costi!N$4)-1,FALSE))))))","v":""},{"$f":"IF($A158=\"\",\"\",IF(H$4=\"\",\"\",IF($B158=\"X\",INDIRECT(ADDRESS(11,MATCH(CE_PIANO!H$4,BASE!$B$2:$F$2,0)+1,,,\"BASE\")),IF($B158=\"T\",INDIRECT(ADDRESS(13,MATCH(CE_PIANO!H$4,BASE!$B$2:$F$2,0)+1,,,\"BASE\")),IF(ISERROR(VLOOKUP($A158,Ricavi_Costi!$B$6:$Q$105,COLUMN(Ricavi_Costi!O$4)-1,FALSE)),0,VLOOKUP($A158,Ricavi_Costi!$B$6:$Q$105,COLUMN(Ricavi_Costi!O$4)-1,FALSE))))))","v":""}]
[{"$f":"IF(CE_STORICO!A159=\"\",\"\",CE_STORICO!A159)","v":""},{"$f":"IF($A159=\"\",\"\",VLOOKUP(A159,SCHEMA_CE!$E$5:$F$54,2,FALSE))","v":""},{"$f":"IF(CE_STORICO!A159=\"\",\"\",CE_STORICO!B159)","v":""},{"$f":"IF(CE_STORICO!C159=\"\",\"\",CE_STORICO!C159)","v":""},{"$f":"IF(CE_STORICO!D159=\"\",\"\",CE_STORICO!D159)","v":""},{"$f":"IF($A159=\"\",\"\",IF(F$4=\"\",\"\",IF($B159=\"X\",INDIRECT(ADDRESS(11,MATCH(CE_PIANO!F$4,BASE!$B$2:$F$2,0)+1,,,\"BASE\")),IF($B159=\"T\",INDIRECT(ADDRESS(13,MATCH(CE_PIANO!F$4,BASE!$B$2:$F$2,0)+1,,,\"BASE\")),IF(ISERROR(VLOOKUP($A159,Ricavi_Costi!$B$6:$Q$105,COLUMN(Ricavi_Costi!M$4)-1,FALSE)),0,VLOOKUP($A159,Ricavi_Costi!$B$6:$Q$105,COLUMN(Ricavi_Costi!M$4)-1,FALSE))))))","v":""},{"$f":"IF($A159=\"\",\"\",IF(G$4=\"\",\"\",IF($B159=\"X\",INDIRECT(ADDRESS(11,MATCH(CE_PIANO!G$4,BASE!$B$2:$F$2,0)+1,,,\"BASE\")),IF($B159=\"T\",INDIRECT(ADDRESS(13,MATCH(CE_PIANO!G$4,BASE!$B$2:$F$2,0)+1,,,\"BASE\")),IF(ISERROR(VLOOKUP($A159,Ricavi_Costi!$B$6:$Q$105,COLUMN(Ricavi_Costi!N$4)-1,FALSE)),0,VLOOKUP($A159,Ricavi_Costi!$B$6:$Q$105,COLUMN(Ricavi_Costi!N$4)-1,FALSE))))))","v":""},{"$f":"IF($A159=\"\",\"\",IF(H$4=\"\",\"\",IF($B159=\"X\",INDIRECT(ADDRESS(11,MATCH(CE_PIANO!H$4,BASE!$B$2:$F$2,0)+1,,,\"BASE\")),IF($B159=\"T\",INDIRECT(ADDRESS(13,MATCH(CE_PIANO!H$4,BASE!$B$2:$F$2,0)+1,,,\"BASE\")),IF(ISERROR(VLOOKUP($A159,Ricavi_Costi!$B$6:$Q$105,COLUMN(Ricavi_Costi!O$4)-1,FALSE)),0,VLOOKUP($A159,Ricavi_Costi!$B$6:$Q$105,COLUMN(Ricavi_Costi!O$4)-1,FALSE))))))","v":""}]
[{"$f":"IF(CE_STORICO!A160=\"\",\"\",CE_STORICO!A160)","v":""},{"$f":"IF($A160=\"\",\"\",VLOOKUP(A160,SCHEMA_CE!$E$5:$F$54,2,FALSE))","v":""},{"$f":"IF(CE_STORICO!A160=\"\",\"\",CE_STORICO!B160)","v":""},{"$f":"IF(CE_STORICO!C160=\"\",\"\",CE_STORICO!C160)","v":""},{"$f":"IF(CE_STORICO!D160=\"\",\"\",CE_STORICO!D160)","v":""},{"$f":"IF($A160=\"\",\"\",IF(F$4=\"\",\"\",IF($B160=\"X\",INDIRECT(ADDRESS(11,MATCH(CE_PIANO!F$4,BASE!$B$2:$F$2,0)+1,,,\"BASE\")),IF($B160=\"T\",INDIRECT(ADDRESS(13,MATCH(CE_PIANO!F$4,BASE!$B$2:$F$2,0)+1,,,\"BASE\")),IF(ISERROR(VLOOKUP($A160,Ricavi_Costi!$B$6:$Q$105,COLUMN(Ricavi_Costi!M$4)-1,FALSE)),0,VLOOKUP($A160,Ricavi_Costi!$B$6:$Q$105,COLUMN(Ricavi_Costi!M$4)-1,FALSE))))))","v":""},{"$f":"IF($A160=\"\",\"\",IF(G$4=\"\",\"\",IF($B160=\"X\",INDIRECT(ADDRESS(11,MATCH(CE_PIANO!G$4,BASE!$B$2:$F$2,0)+1,,,\"BASE\")),IF($B160=\"T\",INDIRECT(ADDRESS(13,MATCH(CE_PIANO!G$4,BASE!$B$2:$F$2,0)+1,,,\"BASE\")),IF(ISERROR(VLOOKUP($A160,Ricavi_Costi!$B$6:$Q$105,COLUMN(Ricavi_Costi!N$4)-1,FALSE)),0,VLOOKUP($A160,Ricavi_Costi!$B$6:$Q$105,COLUMN(Ricavi_Costi!N$4)-1,FALSE))))))","v":""},{"$f":"IF($A160=\"\",\"\",IF(H$4=\"\",\"\",IF($B160=\"X\",INDIRECT(ADDRESS(11,MATCH(CE_PIANO!H$4,BASE!$B$2:$F$2,0)+1,,,\"BASE\")),IF($B160=\"T\",INDIRECT(ADDRESS(13,MATCH(CE_PIANO!H$4,BASE!$B$2:$F$2,0)+1,,,\"BASE\")),IF(ISERROR(VLOOKUP($A160,Ricavi_Costi!$B$6:$Q$105,COLUMN(Ricavi_Costi!O$4)-1,FALSE)),0,VLOOKUP($A160,Ricavi_Costi!$B$6:$Q$105,COLUMN(Ricavi_Costi!O$4)-1,FALSE))))))","v":""}]
[{"$f":"IF(CE_STORICO!A161=\"\",\"\",CE_STORICO!A161)","v":""},{"$f":"IF($A161=\"\",\"\",VLOOKUP(A161,SCHEMA_CE!$E$5:$F$54,2,FALSE))","v":""},{"$f":"IF(CE_STORICO!A161=\"\",\"\",CE_STORICO!B161)","v":""},{"$f":"IF(CE_STORICO!C161=\"\",\"\",CE_STORICO!C161)","v":""},{"$f":"IF(CE_STORICO!D161=\"\",\"\",CE_STORICO!D161)","v":""},{"$f":"IF($A161=\"\",\"\",IF(F$4=\"\",\"\",IF($B161=\"X\",INDIRECT(ADDRESS(11,MATCH(CE_PIANO!F$4,BASE!$B$2:$F$2,0)+1,,,\"BASE\")),IF($B161=\"T\",INDIRECT(ADDRESS(13,MATCH(CE_PIANO!F$4,BASE!$B$2:$F$2,0)+1,,,\"BASE\")),IF(ISERROR(VLOOKUP($A161,Ricavi_Costi!$B$6:$Q$105,COLUMN(Ricavi_Costi!M$4)-1,FALSE)),0,VLOOKUP($A161,Ricavi_Costi!$B$6:$Q$105,COLUMN(Ricavi_Costi!M$4)-1,FALSE))))))","v":""},{"$f":"IF($A161=\"\",\"\",IF(G$4=\"\",\"\",IF($B161=\"X\",INDIRECT(ADDRESS(11,MATCH(CE_PIANO!G$4,BASE!$B$2:$F$2,0)+1,,,\"BASE\")),IF($B161=\"T\",INDIRECT(ADDRESS(13,MATCH(CE_PIANO!G$4,BASE!$B$2:$F$2,0)+1,,,\"BASE\")),IF(ISERROR(VLOOKUP($A161,Ricavi_Costi!$B$6:$Q$105,COLUMN(Ricavi_Costi!N$4)-1,FALSE)),0,VLOOKUP($A161,Ricavi_Costi!$B$6:$Q$105,COLUMN(Ricavi_Costi!N$4)-1,FALSE))))))","v":""},{"$f":"IF($A161=\"\",\"\",IF(H$4=\"\",\"\",IF($B161=\"X\",INDIRECT(ADDRESS(11,MATCH(CE_PIANO!H$4,BASE!$B$2:$F$2,0)+1,,,\"BASE\")),IF($B161=\"T\",INDIRECT(ADDRESS(13,MATCH(CE_PIANO!H$4,BASE!$B$2:$F$2,0)+1,,,\"BASE\")),IF(ISERROR(VLOOKUP($A161,Ricavi_Costi!$B$6:$Q$105,COLUMN(Ricavi_Costi!O$4)-1,FALSE)),0,VLOOKUP($A161,Ricavi_Costi!$B$6:$Q$105,COLUMN(Ricavi_Costi!O$4)-1,FALSE))))))","v":""}]
[{"$f":"IF(CE_STORICO!A162=\"\",\"\",CE_STORICO!A162)","v":""},{"$f":"IF($A162=\"\",\"\",VLOOKUP(A162,SCHEMA_CE!$E$5:$F$54,2,FALSE))","v":""},{"$f":"IF(CE_STORICO!A162=\"\",\"\",CE_STORICO!B162)","v":""},{"$f":"IF(CE_STORICO!C162=\"\",\"\",CE_STORICO!C162)","v":""},{"$f":"IF(CE_STORICO!D162=\"\",\"\",CE_STORICO!D162)","v":""},{"$f":"IF($A162=\"\",\"\",IF(F$4=\"\",\"\",IF($B162=\"X\",INDIRECT(ADDRESS(11,MATCH(CE_PIANO!F$4,BASE!$B$2:$F$2,0)+1,,,\"BASE\")),IF($B162=\"T\",INDIRECT(ADDRESS(13,MATCH(CE_PIANO!F$4,BASE!$B$2:$F$2,0)+1,,,\"BASE\")),IF(ISERROR(VLOOKUP($A162,Ricavi_Costi!$B$6:$Q$105,COLUMN(Ricavi_Costi!M$4)-1,FALSE)),0,VLOOKUP($A162,Ricavi_Costi!$B$6:$Q$105,COLUMN(Ricavi_Costi!M$4)-1,FALSE))))))","v":""},{"$f":"IF($A162=\"\",\"\",IF(G$4=\"\",\"\",IF($B162=\"X\",INDIRECT(ADDRESS(11,MATCH(CE_PIANO!G$4,BASE!$B$2:$F$2,0)+1,,,\"BASE\")),IF($B162=\"T\",INDIRECT(ADDRESS(13,MATCH(CE_PIANO!G$4,BASE!$B$2:$F$2,0)+1,,,\"BASE\")),IF(ISERROR(VLOOKUP($A162,Ricavi_Costi!$B$6:$Q$105,COLUMN(Ricavi_Costi!N$4)-1,FALSE)),0,VLOOKUP($A162,Ricavi_Costi!$B$6:$Q$105,COLUMN(Ricavi_Costi!N$4)-1,FALSE))))))","v":""},{"$f":"IF($A162=\"\",\"\",IF(H$4=\"\",\"\",IF($B162=\"X\",INDIRECT(ADDRESS(11,MATCH(CE_PIANO!H$4,BASE!$B$2:$F$2,0)+1,,,\"BASE\")),IF($B162=\"T\",INDIRECT(ADDRESS(13,MATCH(CE_PIANO!H$4,BASE!$B$2:$F$2,0)+1,,,\"BASE\")),IF(ISERROR(VLOOKUP($A162,Ricavi_Costi!$B$6:$Q$105,COLUMN(Ricavi_Costi!O$4)-1,FALSE)),0,VLOOKUP($A162,Ricavi_Costi!$B$6:$Q$105,COLUMN(Ricavi_Costi!O$4)-1,FALSE))))))","v":""}]
[{"$f":"IF(CE_STORICO!A163=\"\",\"\",CE_STORICO!A163)","v":""},{"$f":"IF($A163=\"\",\"\",VLOOKUP(A163,SCHEMA_CE!$E$5:$F$54,2,FALSE))","v":""},{"$f":"IF(CE_STORICO!A163=\"\",\"\",CE_STORICO!B163)","v":""},{"$f":"IF(CE_STORICO!C163=\"\",\"\",CE_STORICO!C163)","v":""},{"$f":"IF(CE_STORICO!D163=\"\",\"\",CE_STORICO!D163)","v":""},{"$f":"IF($A163=\"\",\"\",IF(F$4=\"\",\"\",IF($B163=\"X\",INDIRECT(ADDRESS(11,MATCH(CE_PIANO!F$4,BASE!$B$2:$F$2,0)+1,,,\"BASE\")),IF($B163=\"T\",INDIRECT(ADDRESS(13,MATCH(CE_PIANO!F$4,BASE!$B$2:$F$2,0)+1,,,\"BASE\")),IF(ISERROR(VLOOKUP($A163,Ricavi_Costi!$B$6:$Q$105,COLUMN(Ricavi_Costi!M$4)-1,FALSE)),0,VLOOKUP($A163,Ricavi_Costi!$B$6:$Q$105,COLUMN(Ricavi_Costi!M$4)-1,FALSE))))))","v":""},{"$f":"IF($A163=\"\",\"\",IF(G$4=\"\",\"\",IF($B163=\"X\",INDIRECT(ADDRESS(11,MATCH(CE_PIANO!G$4,BASE!$B$2:$F$2,0)+1,,,\"BASE\")),IF($B163=\"T\",INDIRECT(ADDRESS(13,MATCH(CE_PIANO!G$4,BASE!$B$2:$F$2,0)+1,,,\"BASE\")),IF(ISERROR(VLOOKUP($A163,Ricavi_Costi!$B$6:$Q$105,COLUMN(Ricavi_Costi!N$4)-1,FALSE)),0,VLOOKUP($A163,Ricavi_Costi!$B$6:$Q$105,COLUMN(Ricavi_Costi!N$4)-1,FALSE))))))","v":""},{"$f":"IF($A163=\"\",\"\",IF(H$4=\"\",\"\",IF($B163=\"X\",INDIRECT(ADDRESS(11,MATCH(CE_PIANO!H$4,BASE!$B$2:$F$2,0)+1,,,\"BASE\")),IF($B163=\"T\",INDIRECT(ADDRESS(13,MATCH(CE_PIANO!H$4,BASE!$B$2:$F$2,0)+1,,,\"BASE\")),IF(ISERROR(VLOOKUP($A163,Ricavi_Costi!$B$6:$Q$105,COLUMN(Ricavi_Costi!O$4)-1,FALSE)),0,VLOOKUP($A163,Ricavi_Costi!$B$6:$Q$105,COLUMN(Ricavi_Costi!O$4)-1,FALSE))))))","v":""}]
[{"$f":"IF(CE_STORICO!A164=\"\",\"\",CE_STORICO!A164)","v":""},{"$f":"IF($A164=\"\",\"\",VLOOKUP(A164,SCHEMA_CE!$E$5:$F$54,2,FALSE))","v":""},{"$f":"IF(CE_STORICO!A164=\"\",\"\",CE_STORICO!B164)","v":""},{"$f":"IF(CE_STORICO!C164=\"\",\"\",CE_STORICO!C164)","v":""},{"$f":"IF(CE_STORICO!D164=\"\",\"\",CE_STORICO!D164)","v":""},{"$f":"IF($A164=\"\",\"\",IF(F$4=\"\",\"\",IF($B164=\"X\",INDIRECT(ADDRESS(11,MATCH(CE_PIANO!F$4,BASE!$B$2:$F$2,0)+1,,,\"BASE\")),IF($B164=\"T\",INDIRECT(ADDRESS(13,MATCH(CE_PIANO!F$4,BASE!$B$2:$F$2,0)+1,,,\"BASE\")),IF(ISERROR(VLOOKUP($A164,Ricavi_Costi!$B$6:$Q$105,COLUMN(Ricavi_Costi!M$4)-1,FALSE)),0,VLOOKUP($A164,Ricavi_Costi!$B$6:$Q$105,COLUMN(Ricavi_Costi!M$4)-1,FALSE))))))","v":""},{"$f":"IF($A164=\"\",\"\",IF(G$4=\"\",\"\",IF($B164=\"X\",INDIRECT(ADDRESS(11,MATCH(CE_PIANO!G$4,BASE!$B$2:$F$2,0)+1,,,\"BASE\")),IF($B164=\"T\",INDIRECT(ADDRESS(13,MATCH(CE_PIANO!G$4,BASE!$B$2:$F$2,0)+1,,,\"BASE\")),IF(ISERROR(VLOOKUP($A164,Ricavi_Costi!$B$6:$Q$105,COLUMN(Ricavi_Costi!N$4)-1,FALSE)),0,VLOOKUP($A164,Ricavi_Costi!$B$6:$Q$105,COLUMN(Ricavi_Costi!N$4)-1,FALSE))))))","v":""},{"$f":"IF($A164=\"\",\"\",IF(H$4=\"\",\"\",IF($B164=\"X\",INDIRECT(ADDRESS(11,MATCH(CE_PIANO!H$4,BASE!$B$2:$F$2,0)+1,,,\"BASE\")),IF($B164=\"T\",INDIRECT(ADDRESS(13,MATCH(CE_PIANO!H$4,BASE!$B$2:$F$2,0)+1,,,\"BASE\")),IF(ISERROR(VLOOKUP($A164,Ricavi_Costi!$B$6:$Q$105,COLUMN(Ricavi_Costi!O$4)-1,FALSE)),0,VLOOKUP($A164,Ricavi_Costi!$B$6:$Q$105,COLUMN(Ricavi_Costi!O$4)-1,FALSE))))))","v":""}]
[{"$f":"IF(CE_STORICO!A165=\"\",\"\",CE_STORICO!A165)","v":""},{"$f":"IF($A165=\"\",\"\",VLOOKUP(A165,SCHEMA_CE!$E$5:$F$54,2,FALSE))","v":""},{"$f":"IF(CE_STORICO!A165=\"\",\"\",CE_STORICO!B165)","v":""},{"$f":"IF(CE_STORICO!C165=\"\",\"\",CE_STORICO!C165)","v":""},{"$f":"IF(CE_STORICO!D165=\"\",\"\",CE_STORICO!D165)","v":""},{"$f":"IF($A165=\"\",\"\",IF(F$4=\"\",\"\",IF($B165=\"X\",INDIRECT(ADDRESS(11,MATCH(CE_PIANO!F$4,BASE!$B$2:$F$2,0)+1,,,\"BASE\")),IF($B165=\"T\",INDIRECT(ADDRESS(13,MATCH(CE_PIANO!F$4,BASE!$B$2:$F$2,0)+1,,,\"BASE\")),IF(ISERROR(VLOOKUP($A165,Ricavi_Costi!$B$6:$Q$105,COLUMN(Ricavi_Costi!M$4)-1,FALSE)),0,VLOOKUP($A165,Ricavi_Costi!$B$6:$Q$105,COLUMN(Ricavi_Costi!M$4)-1,FALSE))))))","v":""},{"$f":"IF($A165=\"\",\"\",IF(G$4=\"\",\"\",IF($B165=\"X\",INDIRECT(ADDRESS(11,MATCH(CE_PIANO!G$4,BASE!$B$2:$F$2,0)+1,,,\"BASE\")),IF($B165=\"T\",INDIRECT(ADDRESS(13,MATCH(CE_PIANO!G$4,BASE!$B$2:$F$2,0)+1,,,\"BASE\")),IF(ISERROR(VLOOKUP($A165,Ricavi_Costi!$B$6:$Q$105,COLUMN(Ricavi_Costi!N$4)-1,FALSE)),0,VLOOKUP($A165,Ricavi_Costi!$B$6:$Q$105,COLUMN(Ricavi_Costi!N$4)-1,FALSE))))))","v":""},{"$f":"IF($A165=\"\",\"\",IF(H$4=\"\",\"\",IF($B165=\"X\",INDIRECT(ADDRESS(11,MATCH(CE_PIANO!H$4,BASE!$B$2:$F$2,0)+1,,,\"BASE\")),IF($B165=\"T\",INDIRECT(ADDRESS(13,MATCH(CE_PIANO!H$4,BASE!$B$2:$F$2,0)+1,,,\"BASE\")),IF(ISERROR(VLOOKUP($A165,Ricavi_Costi!$B$6:$Q$105,COLUMN(Ricavi_Costi!O$4)-1,FALSE)),0,VLOOKUP($A165,Ricavi_Costi!$B$6:$Q$105,COLUMN(Ricavi_Costi!O$4)-1,FALSE))))))","v":""}]
[{"$f":"IF(CE_STORICO!A166=\"\",\"\",CE_STORICO!A166)","v":""},{"$f":"IF($A166=\"\",\"\",VLOOKUP(A166,SCHEMA_CE!$E$5:$F$54,2,FALSE))","v":""},{"$f":"IF(CE_STORICO!A166=\"\",\"\",CE_STORICO!B166)","v":""},{"$f":"IF(CE_STORICO!C166=\"\",\"\",CE_STORICO!C166)","v":""},{"$f":"IF(CE_STORICO!D166=\"\",\"\",CE_STORICO!D166)","v":""},{"$f":"IF($A166=\"\",\"\",IF(F$4=\"\",\"\",IF($B166=\"X\",INDIRECT(ADDRESS(11,MATCH(CE_PIANO!F$4,BASE!$B$2:$F$2,0)+1,,,\"BASE\")),IF($B166=\"T\",INDIRECT(ADDRESS(13,MATCH(CE_PIANO!F$4,BASE!$B$2:$F$2,0)+1,,,\"BASE\")),IF(ISERROR(VLOOKUP($A166,Ricavi_Costi!$B$6:$Q$105,COLUMN(Ricavi_Costi!M$4)-1,FALSE)),0,VLOOKUP($A166,Ricavi_Costi!$B$6:$Q$105,COLUMN(Ricavi_Costi!M$4)-1,FALSE))))))","v":""},{"$f":"IF($A166=\"\",\"\",IF(G$4=\"\",\"\",IF($B166=\"X\",INDIRECT(ADDRESS(11,MATCH(CE_PIANO!G$4,BASE!$B$2:$F$2,0)+1,,,\"BASE\")),IF($B166=\"T\",INDIRECT(ADDRESS(13,MATCH(CE_PIANO!G$4,BASE!$B$2:$F$2,0)+1,,,\"BASE\")),IF(ISERROR(VLOOKUP($A166,Ricavi_Costi!$B$6:$Q$105,COLUMN(Ricavi_Costi!N$4)-1,FALSE)),0,VLOOKUP($A166,Ricavi_Costi!$B$6:$Q$105,COLUMN(Ricavi_Costi!N$4)-1,FALSE))))))","v":""},{"$f":"IF($A166=\"\",\"\",IF(H$4=\"\",\"\",IF($B166=\"X\",INDIRECT(ADDRESS(11,MATCH(CE_PIANO!H$4,BASE!$B$2:$F$2,0)+1,,,\"BASE\")),IF($B166=\"T\",INDIRECT(ADDRESS(13,MATCH(CE_PIANO!H$4,BASE!$B$2:$F$2,0)+1,,,\"BASE\")),IF(ISERROR(VLOOKUP($A166,Ricavi_Costi!$B$6:$Q$105,COLUMN(Ricavi_Costi!O$4)-1,FALSE)),0,VLOOKUP($A166,Ricavi_Costi!$B$6:$Q$105,COLUMN(Ricavi_Costi!O$4)-1,FALSE))))))","v":""}]
[{"$f":"IF(CE_STORICO!A167=\"\",\"\",CE_STORICO!A167)","v":""},{"$f":"IF($A167=\"\",\"\",VLOOKUP(A167,SCHEMA_CE!$E$5:$F$54,2,FALSE))","v":""},{"$f":"IF(CE_STORICO!A167=\"\",\"\",CE_STORICO!B167)","v":""},{"$f":"IF(CE_STORICO!C167=\"\",\"\",CE_STORICO!C167)","v":""},{"$f":"IF(CE_STORICO!D167=\"\",\"\",CE_STORICO!D167)","v":""},{"$f":"IF($A167=\"\",\"\",IF(F$4=\"\",\"\",IF($B167=\"X\",INDIRECT(ADDRESS(11,MATCH(CE_PIANO!F$4,BASE!$B$2:$F$2,0)+1,,,\"BASE\")),IF($B167=\"T\",INDIRECT(ADDRESS(13,MATCH(CE_PIANO!F$4,BASE!$B$2:$F$2,0)+1,,,\"BASE\")),IF(ISERROR(VLOOKUP($A167,Ricavi_Costi!$B$6:$Q$105,COLUMN(Ricavi_Costi!M$4)-1,FALSE)),0,VLOOKUP($A167,Ricavi_Costi!$B$6:$Q$105,COLUMN(Ricavi_Costi!M$4)-1,FALSE))))))","v":""},{"$f":"IF($A167=\"\",\"\",IF(G$4=\"\",\"\",IF($B167=\"X\",INDIRECT(ADDRESS(11,MATCH(CE_PIANO!G$4,BASE!$B$2:$F$2,0)+1,,,\"BASE\")),IF($B167=\"T\",INDIRECT(ADDRESS(13,MATCH(CE_PIANO!G$4,BASE!$B$2:$F$2,0)+1,,,\"BASE\")),IF(ISERROR(VLOOKUP($A167,Ricavi_Costi!$B$6:$Q$105,COLUMN(Ricavi_Costi!N$4)-1,FALSE)),0,VLOOKUP($A167,Ricavi_Costi!$B$6:$Q$105,COLUMN(Ricavi_Costi!N$4)-1,FALSE))))))","v":""},{"$f":"IF($A167=\"\",\"\",IF(H$4=\"\",\"\",IF($B167=\"X\",INDIRECT(ADDRESS(11,MATCH(CE_PIANO!H$4,BASE!$B$2:$F$2,0)+1,,,\"BASE\")),IF($B167=\"T\",INDIRECT(ADDRESS(13,MATCH(CE_PIANO!H$4,BASE!$B$2:$F$2,0)+1,,,\"BASE\")),IF(ISERROR(VLOOKUP($A167,Ricavi_Costi!$B$6:$Q$105,COLUMN(Ricavi_Costi!O$4)-1,FALSE)),0,VLOOKUP($A167,Ricavi_Costi!$B$6:$Q$105,COLUMN(Ricavi_Costi!O$4)-1,FALSE))))))","v":""}]
[{"$f":"IF(CE_STORICO!A168=\"\",\"\",CE_STORICO!A168)","v":""},{"$f":"IF($A168=\"\",\"\",VLOOKUP(A168,SCHEMA_CE!$E$5:$F$54,2,FALSE))","v":""},{"$f":"IF(CE_STORICO!A168=\"\",\"\",CE_STORICO!B168)","v":""},{"$f":"IF(CE_STORICO!C168=\"\",\"\",CE_STORICO!C168)","v":""},{"$f":"IF(CE_STORICO!D168=\"\",\"\",CE_STORICO!D168)","v":""},{"$f":"IF($A168=\"\",\"\",IF(F$4=\"\",\"\",IF($B168=\"X\",INDIRECT(ADDRESS(11,MATCH(CE_PIANO!F$4,BASE!$B$2:$F$2,0)+1,,,\"BASE\")),IF($B168=\"T\",INDIRECT(ADDRESS(13,MATCH(CE_PIANO!F$4,BASE!$B$2:$F$2,0)+1,,,\"BASE\")),IF(ISERROR(VLOOKUP($A168,Ricavi_Costi!$B$6:$Q$105,COLUMN(Ricavi_Costi!M$4)-1,FALSE)),0,VLOOKUP($A168,Ricavi_Costi!$B$6:$Q$105,COLUMN(Ricavi_Costi!M$4)-1,FALSE))))))","v":""},{"$f":"IF($A168=\"\",\"\",IF(G$4=\"\",\"\",IF($B168=\"X\",INDIRECT(ADDRESS(11,MATCH(CE_PIANO!G$4,BASE!$B$2:$F$2,0)+1,,,\"BASE\")),IF($B168=\"T\",INDIRECT(ADDRESS(13,MATCH(CE_PIANO!G$4,BASE!$B$2:$F$2,0)+1,,,\"BASE\")),IF(ISERROR(VLOOKUP($A168,Ricavi_Costi!$B$6:$Q$105,COLUMN(Ricavi_Costi!N$4)-1,FALSE)),0,VLOOKUP($A168,Ricavi_Costi!$B$6:$Q$105,COLUMN(Ricavi_Costi!N$4)-1,FALSE))))))","v":""},{"$f":"IF($A168=\"\",\"\",IF(H$4=\"\",\"\",IF($B168=\"X\",INDIRECT(ADDRESS(11,MATCH(CE_PIANO!H$4,BASE!$B$2:$F$2,0)+1,,,\"BASE\")),IF($B168=\"T\",INDIRECT(ADDRESS(13,MATCH(CE_PIANO!H$4,BASE!$B$2:$F$2,0)+1,,,\"BASE\")),IF(ISERROR(VLOOKUP($A168,Ricavi_Costi!$B$6:$Q$105,COLUMN(Ricavi_Costi!O$4)-1,FALSE)),0,VLOOKUP($A168,Ricavi_Costi!$B$6:$Q$105,COLUMN(Ricavi_Costi!O$4)-1,FALSE))))))","v":""}]
[{"$f":"IF(CE_STORICO!A169=\"\",\"\",CE_STORICO!A169)","v":""},{"$f":"IF($A169=\"\",\"\",VLOOKUP(A169,SCHEMA_CE!$E$5:$F$54,2,FALSE))","v":""},{"$f":"IF(CE_STORICO!A169=\"\",\"\",CE_STORICO!B169)","v":""},{"$f":"IF(CE_STORICO!C169=\"\",\"\",CE_STORICO!C169)","v":""},{"$f":"IF(CE_STORICO!D169=\"\",\"\",CE_STORICO!D169)","v":""},{"$f":"IF($A169=\"\",\"\",IF(F$4=\"\",\"\",IF($B169=\"X\",INDIRECT(ADDRESS(11,MATCH(CE_PIANO!F$4,BASE!$B$2:$F$2,0)+1,,,\"BASE\")),IF($B169=\"T\",INDIRECT(ADDRESS(13,MATCH(CE_PIANO!F$4,BASE!$B$2:$F$2,0)+1,,,\"BASE\")),IF(ISERROR(VLOOKUP($A169,Ricavi_Costi!$B$6:$Q$105,COLUMN(Ricavi_Costi!M$4)-1,FALSE)),0,VLOOKUP($A169,Ricavi_Costi!$B$6:$Q$105,COLUMN(Ricavi_Costi!M$4)-1,FALSE))))))","v":""},{"$f":"IF($A169=\"\",\"\",IF(G$4=\"\",\"\",IF($B169=\"X\",INDIRECT(ADDRESS(11,MATCH(CE_PIANO!G$4,BASE!$B$2:$F$2,0)+1,,,\"BASE\")),IF($B169=\"T\",INDIRECT(ADDRESS(13,MATCH(CE_PIANO!G$4,BASE!$B$2:$F$2,0)+1,,,\"BASE\")),IF(ISERROR(VLOOKUP($A169,Ricavi_Costi!$B$6:$Q$105,COLUMN(Ricavi_Costi!N$4)-1,FALSE)),0,VLOOKUP($A169,Ricavi_Costi!$B$6:$Q$105,COLUMN(Ricavi_Costi!N$4)-1,FALSE))))))","v":""},{"$f":"IF($A169=\"\",\"\",IF(H$4=\"\",\"\",IF($B169=\"X\",INDIRECT(ADDRESS(11,MATCH(CE_PIANO!H$4,BASE!$B$2:$F$2,0)+1,,,\"BASE\")),IF($B169=\"T\",INDIRECT(ADDRESS(13,MATCH(CE_PIANO!H$4,BASE!$B$2:$F$2,0)+1,,,\"BASE\")),IF(ISERROR(VLOOKUP($A169,Ricavi_Costi!$B$6:$Q$105,COLUMN(Ricavi_Costi!O$4)-1,FALSE)),0,VLOOKUP($A169,Ricavi_Costi!$B$6:$Q$105,COLUMN(Ricavi_Costi!O$4)-1,FALSE))))))","v":""}]
[{"$f":"IF(CE_STORICO!A170=\"\",\"\",CE_STORICO!A170)","v":""},{"$f":"IF($A170=\"\",\"\",VLOOKUP(A170,SCHEMA_CE!$E$5:$F$54,2,FALSE))","v":""},{"$f":"IF(CE_STORICO!A170=\"\",\"\",CE_STORICO!B170)","v":""},{"$f":"IF(CE_STORICO!C170=\"\",\"\",CE_STORICO!C170)","v":""},{"$f":"IF(CE_STORICO!D170=\"\",\"\",CE_STORICO!D170)","v":""},{"$f":"IF($A170=\"\",\"\",IF(F$4=\"\",\"\",IF($B170=\"X\",INDIRECT(ADDRESS(11,MATCH(CE_PIANO!F$4,BASE!$B$2:$F$2,0)+1,,,\"BASE\")),IF($B170=\"T\",INDIRECT(ADDRESS(13,MATCH(CE_PIANO!F$4,BASE!$B$2:$F$2,0)+1,,,\"BASE\")),IF(ISERROR(VLOOKUP($A170,Ricavi_Costi!$B$6:$Q$105,COLUMN(Ricavi_Costi!M$4)-1,FALSE)),0,VLOOKUP($A170,Ricavi_Costi!$B$6:$Q$105,COLUMN(Ricavi_Costi!M$4)-1,FALSE))))))","v":""},{"$f":"IF($A170=\"\",\"\",IF(G$4=\"\",\"\",IF($B170=\"X\",INDIRECT(ADDRESS(11,MATCH(CE_PIANO!G$4,BASE!$B$2:$F$2,0)+1,,,\"BASE\")),IF($B170=\"T\",INDIRECT(ADDRESS(13,MATCH(CE_PIANO!G$4,BASE!$B$2:$F$2,0)+1,,,\"BASE\")),IF(ISERROR(VLOOKUP($A170,Ricavi_Costi!$B$6:$Q$105,COLUMN(Ricavi_Costi!N$4)-1,FALSE)),0,VLOOKUP($A170,Ricavi_Costi!$B$6:$Q$105,COLUMN(Ricavi_Costi!N$4)-1,FALSE))))))","v":""},{"$f":"IF($A170=\"\",\"\",IF(H$4=\"\",\"\",IF($B170=\"X\",INDIRECT(ADDRESS(11,MATCH(CE_PIANO!H$4,BASE!$B$2:$F$2,0)+1,,,\"BASE\")),IF($B170=\"T\",INDIRECT(ADDRESS(13,MATCH(CE_PIANO!H$4,BASE!$B$2:$F$2,0)+1,,,\"BASE\")),IF(ISERROR(VLOOKUP($A170,Ricavi_Costi!$B$6:$Q$105,COLUMN(Ricavi_Costi!O$4)-1,FALSE)),0,VLOOKUP($A170,Ricavi_Costi!$B$6:$Q$105,COLUMN(Ricavi_Costi!O$4)-1,FALSE))))))","v":""}]
[{"$f":"IF(CE_STORICO!A171=\"\",\"\",CE_STORICO!A171)","v":""},{"$f":"IF($A171=\"\",\"\",VLOOKUP(A171,SCHEMA_CE!$E$5:$F$54,2,FALSE))","v":""},{"$f":"IF(CE_STORICO!A171=\"\",\"\",CE_STORICO!B171)","v":""},{"$f":"IF(CE_STORICO!C171=\"\",\"\",CE_STORICO!C171)","v":""},{"$f":"IF(CE_STORICO!D171=\"\",\"\",CE_STORICO!D171)","v":""},{"$f":"IF($A171=\"\",\"\",IF(F$4=\"\",\"\",IF($B171=\"X\",INDIRECT(ADDRESS(11,MATCH(CE_PIANO!F$4,BASE!$B$2:$F$2,0)+1,,,\"BASE\")),IF($B171=\"T\",INDIRECT(ADDRESS(13,MATCH(CE_PIANO!F$4,BASE!$B$2:$F$2,0)+1,,,\"BASE\")),IF(ISERROR(VLOOKUP($A171,Ricavi_Costi!$B$6:$Q$105,COLUMN(Ricavi_Costi!M$4)-1,FALSE)),0,VLOOKUP($A171,Ricavi_Costi!$B$6:$Q$105,COLUMN(Ricavi_Costi!M$4)-1,FALSE))))))","v":""},{"$f":"IF($A171=\"\",\"\",IF(G$4=\"\",\"\",IF($B171=\"X\",INDIRECT(ADDRESS(11,MATCH(CE_PIANO!G$4,BASE!$B$2:$F$2,0)+1,,,\"BASE\")),IF($B171=\"T\",INDIRECT(ADDRESS(13,MATCH(CE_PIANO!G$4,BASE!$B$2:$F$2,0)+1,,,\"BASE\")),IF(ISERROR(VLOOKUP($A171,Ricavi_Costi!$B$6:$Q$105,COLUMN(Ricavi_Costi!N$4)-1,FALSE)),0,VLOOKUP($A171,Ricavi_Costi!$B$6:$Q$105,COLUMN(Ricavi_Costi!N$4)-1,FALSE))))))","v":""},{"$f":"IF($A171=\"\",\"\",IF(H$4=\"\",\"\",IF($B171=\"X\",INDIRECT(ADDRESS(11,MATCH(CE_PIANO!H$4,BASE!$B$2:$F$2,0)+1,,,\"BASE\")),IF($B171=\"T\",INDIRECT(ADDRESS(13,MATCH(CE_PIANO!H$4,BASE!$B$2:$F$2,0)+1,,,\"BASE\")),IF(ISERROR(VLOOKUP($A171,Ricavi_Costi!$B$6:$Q$105,COLUMN(Ricavi_Costi!O$4)-1,FALSE)),0,VLOOKUP($A171,Ricavi_Costi!$B$6:$Q$105,COLUMN(Ricavi_Costi!O$4)-1,FALSE))))))","v":""}]
[{"$f":"IF(CE_STORICO!A172=\"\",\"\",CE_STORICO!A172)","v":""},{"$f":"IF($A172=\"\",\"\",VLOOKUP(A172,SCHEMA_CE!$E$5:$F$54,2,FALSE))","v":""},{"$f":"IF(CE_STORICO!A172=\"\",\"\",CE_STORICO!B172)","v":""},{"$f":"IF(CE_STORICO!C172=\"\",\"\",CE_STORICO!C172)","v":""},{"$f":"IF(CE_STORICO!D172=\"\",\"\",CE_STORICO!D172)","v":""},{"$f":"IF($A172=\"\",\"\",IF(F$4=\"\",\"\",IF($B172=\"X\",INDIRECT(ADDRESS(11,MATCH(CE_PIANO!F$4,BASE!$B$2:$F$2,0)+1,,,\"BASE\")),IF($B172=\"T\",INDIRECT(ADDRESS(13,MATCH(CE_PIANO!F$4,BASE!$B$2:$F$2,0)+1,,,\"BASE\")),IF(ISERROR(VLOOKUP($A172,Ricavi_Costi!$B$6:$Q$105,COLUMN(Ricavi_Costi!M$4)-1,FALSE)),0,VLOOKUP($A172,Ricavi_Costi!$B$6:$Q$105,COLUMN(Ricavi_Costi!M$4)-1,FALSE))))))","v":""},{"$f":"IF($A172=\"\",\"\",IF(G$4=\"\",\"\",IF($B172=\"X\",INDIRECT(ADDRESS(11,MATCH(CE_PIANO!G$4,BASE!$B$2:$F$2,0)+1,,,\"BASE\")),IF($B172=\"T\",INDIRECT(ADDRESS(13,MATCH(CE_PIANO!G$4,BASE!$B$2:$F$2,0)+1,,,\"BASE\")),IF(ISERROR(VLOOKUP($A172,Ricavi_Costi!$B$6:$Q$105,COLUMN(Ricavi_Costi!N$4)-1,FALSE)),0,VLOOKUP($A172,Ricavi_Costi!$B$6:$Q$105,COLUMN(Ricavi_Costi!N$4)-1,FALSE))))))","v":""},{"$f":"IF($A172=\"\",\"\",IF(H$4=\"\",\"\",IF($B172=\"X\",INDIRECT(ADDRESS(11,MATCH(CE_PIANO!H$4,BASE!$B$2:$F$2,0)+1,,,\"BASE\")),IF($B172=\"T\",INDIRECT(ADDRESS(13,MATCH(CE_PIANO!H$4,BASE!$B$2:$F$2,0)+1,,,\"BASE\")),IF(ISERROR(VLOOKUP($A172,Ricavi_Costi!$B$6:$Q$105,COLUMN(Ricavi_Costi!O$4)-1,FALSE)),0,VLOOKUP($A172,Ricavi_Costi!$B$6:$Q$105,COLUMN(Ricavi_Costi!O$4)-1,FALSE))))))","v":""}]
[{"$f":"IF(CE_STORICO!A173=\"\",\"\",CE_STORICO!A173)","v":""},{"$f":"IF($A173=\"\",\"\",VLOOKUP(A173,SCHEMA_CE!$E$5:$F$54,2,FALSE))","v":""},{"$f":"IF(CE_STORICO!A173=\"\",\"\",CE_STORICO!B173)","v":""},{"$f":"IF(CE_STORICO!C173=\"\",\"\",CE_STORICO!C173)","v":""},{"$f":"IF(CE_STORICO!D173=\"\",\"\",CE_STORICO!D173)","v":""},{"$f":"IF($A173=\"\",\"\",IF(F$4=\"\",\"\",IF($B173=\"X\",INDIRECT(ADDRESS(11,MATCH(CE_PIANO!F$4,BASE!$B$2:$F$2,0)+1,,,\"BASE\")),IF($B173=\"T\",INDIRECT(ADDRESS(13,MATCH(CE_PIANO!F$4,BASE!$B$2:$F$2,0)+1,,,\"BASE\")),IF(ISERROR(VLOOKUP($A173,Ricavi_Costi!$B$6:$Q$105,COLUMN(Ricavi_Costi!M$4)-1,FALSE)),0,VLOOKUP($A173,Ricavi_Costi!$B$6:$Q$105,COLUMN(Ricavi_Costi!M$4)-1,FALSE))))))","v":""},{"$f":"IF($A173=\"\",\"\",IF(G$4=\"\",\"\",IF($B173=\"X\",INDIRECT(ADDRESS(11,MATCH(CE_PIANO!G$4,BASE!$B$2:$F$2,0)+1,,,\"BASE\")),IF($B173=\"T\",INDIRECT(ADDRESS(13,MATCH(CE_PIANO!G$4,BASE!$B$2:$F$2,0)+1,,,\"BASE\")),IF(ISERROR(VLOOKUP($A173,Ricavi_Costi!$B$6:$Q$105,COLUMN(Ricavi_Costi!N$4)-1,FALSE)),0,VLOOKUP($A173,Ricavi_Costi!$B$6:$Q$105,COLUMN(Ricavi_Costi!N$4)-1,FALSE))))))","v":""},{"$f":"IF($A173=\"\",\"\",IF(H$4=\"\",\"\",IF($B173=\"X\",INDIRECT(ADDRESS(11,MATCH(CE_PIANO!H$4,BASE!$B$2:$F$2,0)+1,,,\"BASE\")),IF($B173=\"T\",INDIRECT(ADDRESS(13,MATCH(CE_PIANO!H$4,BASE!$B$2:$F$2,0)+1,,,\"BASE\")),IF(ISERROR(VLOOKUP($A173,Ricavi_Costi!$B$6:$Q$105,COLUMN(Ricavi_Costi!O$4)-1,FALSE)),0,VLOOKUP($A173,Ricavi_Costi!$B$6:$Q$105,COLUMN(Ricavi_Costi!O$4)-1,FALSE))))))","v":""}]
[{"$f":"IF(CE_STORICO!A174=\"\",\"\",CE_STORICO!A174)","v":""},{"$f":"IF($A174=\"\",\"\",VLOOKUP(A174,SCHEMA_CE!$E$5:$F$54,2,FALSE))","v":""},{"$f":"IF(CE_STORICO!A174=\"\",\"\",CE_STORICO!B174)","v":""},{"$f":"IF(CE_STORICO!C174=\"\",\"\",CE_STORICO!C174)","v":""},{"$f":"IF(CE_STORICO!D174=\"\",\"\",CE_STORICO!D174)","v":""},{"$f":"IF($A174=\"\",\"\",IF(F$4=\"\",\"\",IF($B174=\"X\",INDIRECT(ADDRESS(11,MATCH(CE_PIANO!F$4,BASE!$B$2:$F$2,0)+1,,,\"BASE\")),IF($B174=\"T\",INDIRECT(ADDRESS(13,MATCH(CE_PIANO!F$4,BASE!$B$2:$F$2,0)+1,,,\"BASE\")),IF(ISERROR(VLOOKUP($A174,Ricavi_Costi!$B$6:$Q$105,COLUMN(Ricavi_Costi!M$4)-1,FALSE)),0,VLOOKUP($A174,Ricavi_Costi!$B$6:$Q$105,COLUMN(Ricavi_Costi!M$4)-1,FALSE))))))","v":""},{"$f":"IF($A174=\"\",\"\",IF(G$4=\"\",\"\",IF($B174=\"X\",INDIRECT(ADDRESS(11,MATCH(CE_PIANO!G$4,BASE!$B$2:$F$2,0)+1,,,\"BASE\")),IF($B174=\"T\",INDIRECT(ADDRESS(13,MATCH(CE_PIANO!G$4,BASE!$B$2:$F$2,0)+1,,,\"BASE\")),IF(ISERROR(VLOOKUP($A174,Ricavi_Costi!$B$6:$Q$105,COLUMN(Ricavi_Costi!N$4)-1,FALSE)),0,VLOOKUP($A174,Ricavi_Costi!$B$6:$Q$105,COLUMN(Ricavi_Costi!N$4)-1,FALSE))))))","v":""},{"$f":"IF($A174=\"\",\"\",IF(H$4=\"\",\"\",IF($B174=\"X\",INDIRECT(ADDRESS(11,MATCH(CE_PIANO!H$4,BASE!$B$2:$F$2,0)+1,,,\"BASE\")),IF($B174=\"T\",INDIRECT(ADDRESS(13,MATCH(CE_PIANO!H$4,BASE!$B$2:$F$2,0)+1,,,\"BASE\")),IF(ISERROR(VLOOKUP($A174,Ricavi_Costi!$B$6:$Q$105,COLUMN(Ricavi_Costi!O$4)-1,FALSE)),0,VLOOKUP($A174,Ricavi_Costi!$B$6:$Q$105,COLUMN(Ricavi_Costi!O$4)-1,FALSE))))))","v":""}]
[{"$f":"IF(CE_STORICO!A175=\"\",\"\",CE_STORICO!A175)","v":""},{"$f":"IF($A175=\"\",\"\",VLOOKUP(A175,SCHEMA_CE!$E$5:$F$54,2,FALSE))","v":""},{"$f":"IF(CE_STORICO!A175=\"\",\"\",CE_STORICO!B175)","v":""},{"$f":"IF(CE_STORICO!C175=\"\",\"\",CE_STORICO!C175)","v":""},{"$f":"IF(CE_STORICO!D175=\"\",\"\",CE_STORICO!D175)","v":""},{"$f":"IF($A175=\"\",\"\",IF(F$4=\"\",\"\",IF($B175=\"X\",INDIRECT(ADDRESS(11,MATCH(CE_PIANO!F$4,BASE!$B$2:$F$2,0)+1,,,\"BASE\")),IF($B175=\"T\",INDIRECT(ADDRESS(13,MATCH(CE_PIANO!F$4,BASE!$B$2:$F$2,0)+1,,,\"BASE\")),IF(ISERROR(VLOOKUP($A175,Ricavi_Costi!$B$6:$Q$105,COLUMN(Ricavi_Costi!M$4)-1,FALSE)),0,VLOOKUP($A175,Ricavi_Costi!$B$6:$Q$105,COLUMN(Ricavi_Costi!M$4)-1,FALSE))))))","v":""},{"$f":"IF($A175=\"\",\"\",IF(G$4=\"\",\"\",IF($B175=\"X\",INDIRECT(ADDRESS(11,MATCH(CE_PIANO!G$4,BASE!$B$2:$F$2,0)+1,,,\"BASE\")),IF($B175=\"T\",INDIRECT(ADDRESS(13,MATCH(CE_PIANO!G$4,BASE!$B$2:$F$2,0)+1,,,\"BASE\")),IF(ISERROR(VLOOKUP($A175,Ricavi_Costi!$B$6:$Q$105,COLUMN(Ricavi_Costi!N$4)-1,FALSE)),0,VLOOKUP($A175,Ricavi_Costi!$B$6:$Q$105,COLUMN(Ricavi_Costi!N$4)-1,FALSE))))))","v":""},{"$f":"IF($A175=\"\",\"\",IF(H$4=\"\",\"\",IF($B175=\"X\",INDIRECT(ADDRESS(11,MATCH(CE_PIANO!H$4,BASE!$B$2:$F$2,0)+1,,,\"BASE\")),IF($B175=\"T\",INDIRECT(ADDRESS(13,MATCH(CE_PIANO!H$4,BASE!$B$2:$F$2,0)+1,,,\"BASE\")),IF(ISERROR(VLOOKUP($A175,Ricavi_Costi!$B$6:$Q$105,COLUMN(Ricavi_Costi!O$4)-1,FALSE)),0,VLOOKUP($A175,Ricavi_Costi!$B$6:$Q$105,COLUMN(Ricavi_Costi!O$4)-1,FALSE))))))","v":""}]
[{"$f":"IF(CE_STORICO!A176=\"\",\"\",CE_STORICO!A176)","v":""},{"$f":"IF($A176=\"\",\"\",VLOOKUP(A176,SCHEMA_CE!$E$5:$F$54,2,FALSE))","v":""},{"$f":"IF(CE_STORICO!A176=\"\",\"\",CE_STORICO!B176)","v":""},{"$f":"IF(CE_STORICO!C176=\"\",\"\",CE_STORICO!C176)","v":""},{"$f":"IF(CE_STORICO!D176=\"\",\"\",CE_STORICO!D176)","v":""},{"$f":"IF($A176=\"\",\"\",IF(F$4=\"\",\"\",IF($B176=\"X\",INDIRECT(ADDRESS(11,MATCH(CE_PIANO!F$4,BASE!$B$2:$F$2,0)+1,,,\"BASE\")),IF($B176=\"T\",INDIRECT(ADDRESS(13,MATCH(CE_PIANO!F$4,BASE!$B$2:$F$2,0)+1,,,\"BASE\")),IF(ISERROR(VLOOKUP($A176,Ricavi_Costi!$B$6:$Q$105,COLUMN(Ricavi_Costi!M$4)-1,FALSE)),0,VLOOKUP($A176,Ricavi_Costi!$B$6:$Q$105,COLUMN(Ricavi_Costi!M$4)-1,FALSE))))))","v":""},{"$f":"IF($A176=\"\",\"\",IF(G$4=\"\",\"\",IF($B176=\"X\",INDIRECT(ADDRESS(11,MATCH(CE_PIANO!G$4,BASE!$B$2:$F$2,0)+1,,,\"BASE\")),IF($B176=\"T\",INDIRECT(ADDRESS(13,MATCH(CE_PIANO!G$4,BASE!$B$2:$F$2,0)+1,,,\"BASE\")),IF(ISERROR(VLOOKUP($A176,Ricavi_Costi!$B$6:$Q$105,COLUMN(Ricavi_Costi!N$4)-1,FALSE)),0,VLOOKUP($A176,Ricavi_Costi!$B$6:$Q$105,COLUMN(Ricavi_Costi!N$4)-1,FALSE))))))","v":""},{"$f":"IF($A176=\"\",\"\",IF(H$4=\"\",\"\",IF($B176=\"X\",INDIRECT(ADDRESS(11,MATCH(CE_PIANO!H$4,BASE!$B$2:$F$2,0)+1,,,\"BASE\")),IF($B176=\"T\",INDIRECT(ADDRESS(13,MATCH(CE_PIANO!H$4,BASE!$B$2:$F$2,0)+1,,,\"BASE\")),IF(ISERROR(VLOOKUP($A176,Ricavi_Costi!$B$6:$Q$105,COLUMN(Ricavi_Costi!O$4)-1,FALSE)),0,VLOOKUP($A176,Ricavi_Costi!$B$6:$Q$105,COLUMN(Ricavi_Costi!O$4)-1,FALSE))))))","v":""}]
[{"$f":"IF(CE_STORICO!A177=\"\",\"\",CE_STORICO!A177)","v":""},{"$f":"IF($A177=\"\",\"\",VLOOKUP(A177,SCHEMA_CE!$E$5:$F$54,2,FALSE))","v":""},{"$f":"IF(CE_STORICO!A177=\"\",\"\",CE_STORICO!B177)","v":""},{"$f":"IF(CE_STORICO!C177=\"\",\"\",CE_STORICO!C177)","v":""},{"$f":"IF(CE_STORICO!D177=\"\",\"\",CE_STORICO!D177)","v":""},{"$f":"IF($A177=\"\",\"\",IF(F$4=\"\",\"\",IF($B177=\"X\",INDIRECT(ADDRESS(11,MATCH(CE_PIANO!F$4,BASE!$B$2:$F$2,0)+1,,,\"BASE\")),IF($B177=\"T\",INDIRECT(ADDRESS(13,MATCH(CE_PIANO!F$4,BASE!$B$2:$F$2,0)+1,,,\"BASE\")),IF(ISERROR(VLOOKUP($A177,Ricavi_Costi!$B$6:$Q$105,COLUMN(Ricavi_Costi!M$4)-1,FALSE)),0,VLOOKUP($A177,Ricavi_Costi!$B$6:$Q$105,COLUMN(Ricavi_Costi!M$4)-1,FALSE))))))","v":""},{"$f":"IF($A177=\"\",\"\",IF(G$4=\"\",\"\",IF($B177=\"X\",INDIRECT(ADDRESS(11,MATCH(CE_PIANO!G$4,BASE!$B$2:$F$2,0)+1,,,\"BASE\")),IF($B177=\"T\",INDIRECT(ADDRESS(13,MATCH(CE_PIANO!G$4,BASE!$B$2:$F$2,0)+1,,,\"BASE\")),IF(ISERROR(VLOOKUP($A177,Ricavi_Costi!$B$6:$Q$105,COLUMN(Ricavi_Costi!N$4)-1,FALSE)),0,VLOOKUP($A177,Ricavi_Costi!$B$6:$Q$105,COLUMN(Ricavi_Costi!N$4)-1,FALSE))))))","v":""},{"$f":"IF($A177=\"\",\"\",IF(H$4=\"\",\"\",IF($B177=\"X\",INDIRECT(ADDRESS(11,MATCH(CE_PIANO!H$4,BASE!$B$2:$F$2,0)+1,,,\"BASE\")),IF($B177=\"T\",INDIRECT(ADDRESS(13,MATCH(CE_PIANO!H$4,BASE!$B$2:$F$2,0)+1,,,\"BASE\")),IF(ISERROR(VLOOKUP($A177,Ricavi_Costi!$B$6:$Q$105,COLUMN(Ricavi_Costi!O$4)-1,FALSE)),0,VLOOKUP($A177,Ricavi_Costi!$B$6:$Q$105,COLUMN(Ricavi_Costi!O$4)-1,FALSE))))))","v":""}]
[{"$f":"IF(CE_STORICO!A178=\"\",\"\",CE_STORICO!A178)","v":""},{"$f":"IF($A178=\"\",\"\",VLOOKUP(A178,SCHEMA_CE!$E$5:$F$54,2,FALSE))","v":""},{"$f":"IF(CE_STORICO!A178=\"\",\"\",CE_STORICO!B178)","v":""},{"$f":"IF(CE_STORICO!C178=\"\",\"\",CE_STORICO!C178)","v":""},{"$f":"IF(CE_STORICO!D178=\"\",\"\",CE_STORICO!D178)","v":""},{"$f":"IF($A178=\"\",\"\",IF(F$4=\"\",\"\",IF($B178=\"X\",INDIRECT(ADDRESS(11,MATCH(CE_PIANO!F$4,BASE!$B$2:$F$2,0)+1,,,\"BASE\")),IF($B178=\"T\",INDIRECT(ADDRESS(13,MATCH(CE_PIANO!F$4,BASE!$B$2:$F$2,0)+1,,,\"BASE\")),IF(ISERROR(VLOOKUP($A178,Ricavi_Costi!$B$6:$Q$105,COLUMN(Ricavi_Costi!M$4)-1,FALSE)),0,VLOOKUP($A178,Ricavi_Costi!$B$6:$Q$105,COLUMN(Ricavi_Costi!M$4)-1,FALSE))))))","v":""},{"$f":"IF($A178=\"\",\"\",IF(G$4=\"\",\"\",IF($B178=\"X\",INDIRECT(ADDRESS(11,MATCH(CE_PIANO!G$4,BASE!$B$2:$F$2,0)+1,,,\"BASE\")),IF($B178=\"T\",INDIRECT(ADDRESS(13,MATCH(CE_PIANO!G$4,BASE!$B$2:$F$2,0)+1,,,\"BASE\")),IF(ISERROR(VLOOKUP($A178,Ricavi_Costi!$B$6:$Q$105,COLUMN(Ricavi_Costi!N$4)-1,FALSE)),0,VLOOKUP($A178,Ricavi_Costi!$B$6:$Q$105,COLUMN(Ricavi_Costi!N$4)-1,FALSE))))))","v":""},{"$f":"IF($A178=\"\",\"\",IF(H$4=\"\",\"\",IF($B178=\"X\",INDIRECT(ADDRESS(11,MATCH(CE_PIANO!H$4,BASE!$B$2:$F$2,0)+1,,,\"BASE\")),IF($B178=\"T\",INDIRECT(ADDRESS(13,MATCH(CE_PIANO!H$4,BASE!$B$2:$F$2,0)+1,,,\"BASE\")),IF(ISERROR(VLOOKUP($A178,Ricavi_Costi!$B$6:$Q$105,COLUMN(Ricavi_Costi!O$4)-1,FALSE)),0,VLOOKUP($A178,Ricavi_Costi!$B$6:$Q$105,COLUMN(Ricavi_Costi!O$4)-1,FALSE))))))","v":""}]
[{"$f":"IF(CE_STORICO!A179=\"\",\"\",CE_STORICO!A179)","v":""},{"$f":"IF($A179=\"\",\"\",VLOOKUP(A179,SCHEMA_CE!$E$5:$F$54,2,FALSE))","v":""},{"$f":"IF(CE_STORICO!A179=\"\",\"\",CE_STORICO!B179)","v":""},{"$f":"IF(CE_STORICO!C179=\"\",\"\",CE_STORICO!C179)","v":""},{"$f":"IF(CE_STORICO!D179=\"\",\"\",CE_STORICO!D179)","v":""},{"$f":"IF($A179=\"\",\"\",IF(F$4=\"\",\"\",IF($B179=\"X\",INDIRECT(ADDRESS(11,MATCH(CE_PIANO!F$4,BASE!$B$2:$F$2,0)+1,,,\"BASE\")),IF($B179=\"T\",INDIRECT(ADDRESS(13,MATCH(CE_PIANO!F$4,BASE!$B$2:$F$2,0)+1,,,\"BASE\")),IF(ISERROR(VLOOKUP($A179,Ricavi_Costi!$B$6:$Q$105,COLUMN(Ricavi_Costi!M$4)-1,FALSE)),0,VLOOKUP($A179,Ricavi_Costi!$B$6:$Q$105,COLUMN(Ricavi_Costi!M$4)-1,FALSE))))))","v":""},{"$f":"IF($A179=\"\",\"\",IF(G$4=\"\",\"\",IF($B179=\"X\",INDIRECT(ADDRESS(11,MATCH(CE_PIANO!G$4,BASE!$B$2:$F$2,0)+1,,,\"BASE\")),IF($B179=\"T\",INDIRECT(ADDRESS(13,MATCH(CE_PIANO!G$4,BASE!$B$2:$F$2,0)+1,,,\"BASE\")),IF(ISERROR(VLOOKUP($A179,Ricavi_Costi!$B$6:$Q$105,COLUMN(Ricavi_Costi!N$4)-1,FALSE)),0,VLOOKUP($A179,Ricavi_Costi!$B$6:$Q$105,COLUMN(Ricavi_Costi!N$4)-1,FALSE))))))","v":""},{"$f":"IF($A179=\"\",\"\",IF(H$4=\"\",\"\",IF($B179=\"X\",INDIRECT(ADDRESS(11,MATCH(CE_PIANO!H$4,BASE!$B$2:$F$2,0)+1,,,\"BASE\")),IF($B179=\"T\",INDIRECT(ADDRESS(13,MATCH(CE_PIANO!H$4,BASE!$B$2:$F$2,0)+1,,,\"BASE\")),IF(ISERROR(VLOOKUP($A179,Ricavi_Costi!$B$6:$Q$105,COLUMN(Ricavi_Costi!O$4)-1,FALSE)),0,VLOOKUP($A179,Ricavi_Costi!$B$6:$Q$105,COLUMN(Ricavi_Costi!O$4)-1,FALSE))))))","v":""}]
[{"$f":"IF(CE_STORICO!A180=\"\",\"\",CE_STORICO!A180)","v":""},{"$f":"IF($A180=\"\",\"\",VLOOKUP(A180,SCHEMA_CE!$E$5:$F$54,2,FALSE))","v":""},{"$f":"IF(CE_STORICO!A180=\"\",\"\",CE_STORICO!B180)","v":""},{"$f":"IF(CE_STORICO!C180=\"\",\"\",CE_STORICO!C180)","v":""},{"$f":"IF(CE_STORICO!D180=\"\",\"\",CE_STORICO!D180)","v":""},{"$f":"IF($A180=\"\",\"\",IF(F$4=\"\",\"\",IF($B180=\"X\",INDIRECT(ADDRESS(11,MATCH(CE_PIANO!F$4,BASE!$B$2:$F$2,0)+1,,,\"BASE\")),IF($B180=\"T\",INDIRECT(ADDRESS(13,MATCH(CE_PIANO!F$4,BASE!$B$2:$F$2,0)+1,,,\"BASE\")),IF(ISERROR(VLOOKUP($A180,Ricavi_Costi!$B$6:$Q$105,COLUMN(Ricavi_Costi!M$4)-1,FALSE)),0,VLOOKUP($A180,Ricavi_Costi!$B$6:$Q$105,COLUMN(Ricavi_Costi!M$4)-1,FALSE))))))","v":""},{"$f":"IF($A180=\"\",\"\",IF(G$4=\"\",\"\",IF($B180=\"X\",INDIRECT(ADDRESS(11,MATCH(CE_PIANO!G$4,BASE!$B$2:$F$2,0)+1,,,\"BASE\")),IF($B180=\"T\",INDIRECT(ADDRESS(13,MATCH(CE_PIANO!G$4,BASE!$B$2:$F$2,0)+1,,,\"BASE\")),IF(ISERROR(VLOOKUP($A180,Ricavi_Costi!$B$6:$Q$105,COLUMN(Ricavi_Costi!N$4)-1,FALSE)),0,VLOOKUP($A180,Ricavi_Costi!$B$6:$Q$105,COLUMN(Ricavi_Costi!N$4)-1,FALSE))))))","v":""},{"$f":"IF($A180=\"\",\"\",IF(H$4=\"\",\"\",IF($B180=\"X\",INDIRECT(ADDRESS(11,MATCH(CE_PIANO!H$4,BASE!$B$2:$F$2,0)+1,,,\"BASE\")),IF($B180=\"T\",INDIRECT(ADDRESS(13,MATCH(CE_PIANO!H$4,BASE!$B$2:$F$2,0)+1,,,\"BASE\")),IF(ISERROR(VLOOKUP($A180,Ricavi_Costi!$B$6:$Q$105,COLUMN(Ricavi_Costi!O$4)-1,FALSE)),0,VLOOKUP($A180,Ricavi_Costi!$B$6:$Q$105,COLUMN(Ricavi_Costi!O$4)-1,FALSE))))))","v":""}]
[{"$f":"IF(CE_STORICO!A181=\"\",\"\",CE_STORICO!A181)","v":""},{"$f":"IF($A181=\"\",\"\",VLOOKUP(A181,SCHEMA_CE!$E$5:$F$54,2,FALSE))","v":""},{"$f":"IF(CE_STORICO!A181=\"\",\"\",CE_STORICO!B181)","v":""},{"$f":"IF(CE_STORICO!C181=\"\",\"\",CE_STORICO!C181)","v":""},{"$f":"IF(CE_STORICO!D181=\"\",\"\",CE_STORICO!D181)","v":""},{"$f":"IF($A181=\"\",\"\",IF(F$4=\"\",\"\",IF($B181=\"X\",INDIRECT(ADDRESS(11,MATCH(CE_PIANO!F$4,BASE!$B$2:$F$2,0)+1,,,\"BASE\")),IF($B181=\"T\",INDIRECT(ADDRESS(13,MATCH(CE_PIANO!F$4,BASE!$B$2:$F$2,0)+1,,,\"BASE\")),IF(ISERROR(VLOOKUP($A181,Ricavi_Costi!$B$6:$Q$105,COLUMN(Ricavi_Costi!M$4)-1,FALSE)),0,VLOOKUP($A181,Ricavi_Costi!$B$6:$Q$105,COLUMN(Ricavi_Costi!M$4)-1,FALSE))))))","v":""},{"$f":"IF($A181=\"\",\"\",IF(G$4=\"\",\"\",IF($B181=\"X\",INDIRECT(ADDRESS(11,MATCH(CE_PIANO!G$4,BASE!$B$2:$F$2,0)+1,,,\"BASE\")),IF($B181=\"T\",INDIRECT(ADDRESS(13,MATCH(CE_PIANO!G$4,BASE!$B$2:$F$2,0)+1,,,\"BASE\")),IF(ISERROR(VLOOKUP($A181,Ricavi_Costi!$B$6:$Q$105,COLUMN(Ricavi_Costi!N$4)-1,FALSE)),0,VLOOKUP($A181,Ricavi_Costi!$B$6:$Q$105,COLUMN(Ricavi_Costi!N$4)-1,FALSE))))))","v":""},{"$f":"IF($A181=\"\",\"\",IF(H$4=\"\",\"\",IF($B181=\"X\",INDIRECT(ADDRESS(11,MATCH(CE_PIANO!H$4,BASE!$B$2:$F$2,0)+1,,,\"BASE\")),IF($B181=\"T\",INDIRECT(ADDRESS(13,MATCH(CE_PIANO!H$4,BASE!$B$2:$F$2,0)+1,,,\"BASE\")),IF(ISERROR(VLOOKUP($A181,Ricavi_Costi!$B$6:$Q$105,COLUMN(Ricavi_Costi!O$4)-1,FALSE)),0,VLOOKUP($A181,Ricavi_Costi!$B$6:$Q$105,COLUMN(Ricavi_Costi!O$4)-1,FALSE))))))","v":""}]
[{"$f":"IF(CE_STORICO!A182=\"\",\"\",CE_STORICO!A182)","v":""},{"$f":"IF($A182=\"\",\"\",VLOOKUP(A182,SCHEMA_CE!$E$5:$F$54,2,FALSE))","v":""},{"$f":"IF(CE_STORICO!A182=\"\",\"\",CE_STORICO!B182)","v":""},{"$f":"IF(CE_STORICO!C182=\"\",\"\",CE_STORICO!C182)","v":""},{"$f":"IF(CE_STORICO!D182=\"\",\"\",CE_STORICO!D182)","v":""},{"$f":"IF($A182=\"\",\"\",IF(F$4=\"\",\"\",IF($B182=\"X\",INDIRECT(ADDRESS(11,MATCH(CE_PIANO!F$4,BASE!$B$2:$F$2,0)+1,,,\"BASE\")),IF($B182=\"T\",INDIRECT(ADDRESS(13,MATCH(CE_PIANO!F$4,BASE!$B$2:$F$2,0)+1,,,\"BASE\")),IF(ISERROR(VLOOKUP($A182,Ricavi_Costi!$B$6:$Q$105,COLUMN(Ricavi_Costi!M$4)-1,FALSE)),0,VLOOKUP($A182,Ricavi_Costi!$B$6:$Q$105,COLUMN(Ricavi_Costi!M$4)-1,FALSE))))))","v":""},{"$f":"IF($A182=\"\",\"\",IF(G$4=\"\",\"\",IF($B182=\"X\",INDIRECT(ADDRESS(11,MATCH(CE_PIANO!G$4,BASE!$B$2:$F$2,0)+1,,,\"BASE\")),IF($B182=\"T\",INDIRECT(ADDRESS(13,MATCH(CE_PIANO!G$4,BASE!$B$2:$F$2,0)+1,,,\"BASE\")),IF(ISERROR(VLOOKUP($A182,Ricavi_Costi!$B$6:$Q$105,COLUMN(Ricavi_Costi!N$4)-1,FALSE)),0,VLOOKUP($A182,Ricavi_Costi!$B$6:$Q$105,COLUMN(Ricavi_Costi!N$4)-1,FALSE))))))","v":""},{"$f":"IF($A182=\"\",\"\",IF(H$4=\"\",\"\",IF($B182=\"X\",INDIRECT(ADDRESS(11,MATCH(CE_PIANO!H$4,BASE!$B$2:$F$2,0)+1,,,\"BASE\")),IF($B182=\"T\",INDIRECT(ADDRESS(13,MATCH(CE_PIANO!H$4,BASE!$B$2:$F$2,0)+1,,,\"BASE\")),IF(ISERROR(VLOOKUP($A182,Ricavi_Costi!$B$6:$Q$105,COLUMN(Ricavi_Costi!O$4)-1,FALSE)),0,VLOOKUP($A182,Ricavi_Costi!$B$6:$Q$105,COLUMN(Ricavi_Costi!O$4)-1,FALSE))))))","v":""}]
[{"$f":"IF(CE_STORICO!A183=\"\",\"\",CE_STORICO!A183)","v":""},{"$f":"IF($A183=\"\",\"\",VLOOKUP(A183,SCHEMA_CE!$E$5:$F$54,2,FALSE))","v":""},{"$f":"IF(CE_STORICO!A183=\"\",\"\",CE_STORICO!B183)","v":""},{"$f":"IF(CE_STORICO!C183=\"\",\"\",CE_STORICO!C183)","v":""},{"$f":"IF(CE_STORICO!D183=\"\",\"\",CE_STORICO!D183)","v":""},{"$f":"IF($A183=\"\",\"\",IF(F$4=\"\",\"\",IF($B183=\"X\",INDIRECT(ADDRESS(11,MATCH(CE_PIANO!F$4,BASE!$B$2:$F$2,0)+1,,,\"BASE\")),IF($B183=\"T\",INDIRECT(ADDRESS(13,MATCH(CE_PIANO!F$4,BASE!$B$2:$F$2,0)+1,,,\"BASE\")),IF(ISERROR(VLOOKUP($A183,Ricavi_Costi!$B$6:$Q$105,COLUMN(Ricavi_Costi!M$4)-1,FALSE)),0,VLOOKUP($A183,Ricavi_Costi!$B$6:$Q$105,COLUMN(Ricavi_Costi!M$4)-1,FALSE))))))","v":""},{"$f":"IF($A183=\"\",\"\",IF(G$4=\"\",\"\",IF($B183=\"X\",INDIRECT(ADDRESS(11,MATCH(CE_PIANO!G$4,BASE!$B$2:$F$2,0)+1,,,\"BASE\")),IF($B183=\"T\",INDIRECT(ADDRESS(13,MATCH(CE_PIANO!G$4,BASE!$B$2:$F$2,0)+1,,,\"BASE\")),IF(ISERROR(VLOOKUP($A183,Ricavi_Costi!$B$6:$Q$105,COLUMN(Ricavi_Costi!N$4)-1,FALSE)),0,VLOOKUP($A183,Ricavi_Costi!$B$6:$Q$105,COLUMN(Ricavi_Costi!N$4)-1,FALSE))))))","v":""},{"$f":"IF($A183=\"\",\"\",IF(H$4=\"\",\"\",IF($B183=\"X\",INDIRECT(ADDRESS(11,MATCH(CE_PIANO!H$4,BASE!$B$2:$F$2,0)+1,,,\"BASE\")),IF($B183=\"T\",INDIRECT(ADDRESS(13,MATCH(CE_PIANO!H$4,BASE!$B$2:$F$2,0)+1,,,\"BASE\")),IF(ISERROR(VLOOKUP($A183,Ricavi_Costi!$B$6:$Q$105,COLUMN(Ricavi_Costi!O$4)-1,FALSE)),0,VLOOKUP($A183,Ricavi_Costi!$B$6:$Q$105,COLUMN(Ricavi_Costi!O$4)-1,FALSE))))))","v":""}]
[{"$f":"IF(CE_STORICO!A184=\"\",\"\",CE_STORICO!A184)","v":""},{"$f":"IF($A184=\"\",\"\",VLOOKUP(A184,SCHEMA_CE!$E$5:$F$54,2,FALSE))","v":""},{"$f":"IF(CE_STORICO!A184=\"\",\"\",CE_STORICO!B184)","v":""},{"$f":"IF(CE_STORICO!C184=\"\",\"\",CE_STORICO!C184)","v":""},{"$f":"IF(CE_STORICO!D184=\"\",\"\",CE_STORICO!D184)","v":""},{"$f":"IF($A184=\"\",\"\",IF(F$4=\"\",\"\",IF($B184=\"X\",INDIRECT(ADDRESS(11,MATCH(CE_PIANO!F$4,BASE!$B$2:$F$2,0)+1,,,\"BASE\")),IF($B184=\"T\",INDIRECT(ADDRESS(13,MATCH(CE_PIANO!F$4,BASE!$B$2:$F$2,0)+1,,,\"BASE\")),IF(ISERROR(VLOOKUP($A184,Ricavi_Costi!$B$6:$Q$105,COLUMN(Ricavi_Costi!M$4)-1,FALSE)),0,VLOOKUP($A184,Ricavi_Costi!$B$6:$Q$105,COLUMN(Ricavi_Costi!M$4)-1,FALSE))))))","v":""},{"$f":"IF($A184=\"\",\"\",IF(G$4=\"\",\"\",IF($B184=\"X\",INDIRECT(ADDRESS(11,MATCH(CE_PIANO!G$4,BASE!$B$2:$F$2,0)+1,,,\"BASE\")),IF($B184=\"T\",INDIRECT(ADDRESS(13,MATCH(CE_PIANO!G$4,BASE!$B$2:$F$2,0)+1,,,\"BASE\")),IF(ISERROR(VLOOKUP($A184,Ricavi_Costi!$B$6:$Q$105,COLUMN(Ricavi_Costi!N$4)-1,FALSE)),0,VLOOKUP($A184,Ricavi_Costi!$B$6:$Q$105,COLUMN(Ricavi_Costi!N$4)-1,FALSE))))))","v":""},{"$f":"IF($A184=\"\",\"\",IF(H$4=\"\",\"\",IF($B184=\"X\",INDIRECT(ADDRESS(11,MATCH(CE_PIANO!H$4,BASE!$B$2:$F$2,0)+1,,,\"BASE\")),IF($B184=\"T\",INDIRECT(ADDRESS(13,MATCH(CE_PIANO!H$4,BASE!$B$2:$F$2,0)+1,,,\"BASE\")),IF(ISERROR(VLOOKUP($A184,Ricavi_Costi!$B$6:$Q$105,COLUMN(Ricavi_Costi!O$4)-1,FALSE)),0,VLOOKUP($A184,Ricavi_Costi!$B$6:$Q$105,COLUMN(Ricavi_Costi!O$4)-1,FALSE))))))","v":""}]
[{"$f":"IF(CE_STORICO!A185=\"\",\"\",CE_STORICO!A185)","v":""},{"$f":"IF($A185=\"\",\"\",VLOOKUP(A185,SCHEMA_CE!$E$5:$F$54,2,FALSE))","v":""},{"$f":"IF(CE_STORICO!A185=\"\",\"\",CE_STORICO!B185)","v":""},{"$f":"IF(CE_STORICO!C185=\"\",\"\",CE_STORICO!C185)","v":""},{"$f":"IF(CE_STORICO!D185=\"\",\"\",CE_STORICO!D185)","v":""},{"$f":"IF($A185=\"\",\"\",IF(F$4=\"\",\"\",IF($B185=\"X\",INDIRECT(ADDRESS(11,MATCH(CE_PIANO!F$4,BASE!$B$2:$F$2,0)+1,,,\"BASE\")),IF($B185=\"T\",INDIRECT(ADDRESS(13,MATCH(CE_PIANO!F$4,BASE!$B$2:$F$2,0)+1,,,\"BASE\")),IF(ISERROR(VLOOKUP($A185,Ricavi_Costi!$B$6:$Q$105,COLUMN(Ricavi_Costi!M$4)-1,FALSE)),0,VLOOKUP($A185,Ricavi_Costi!$B$6:$Q$105,COLUMN(Ricavi_Costi!M$4)-1,FALSE))))))","v":""},{"$f":"IF($A185=\"\",\"\",IF(G$4=\"\",\"\",IF($B185=\"X\",INDIRECT(ADDRESS(11,MATCH(CE_PIANO!G$4,BASE!$B$2:$F$2,0)+1,,,\"BASE\")),IF($B185=\"T\",INDIRECT(ADDRESS(13,MATCH(CE_PIANO!G$4,BASE!$B$2:$F$2,0)+1,,,\"BASE\")),IF(ISERROR(VLOOKUP($A185,Ricavi_Costi!$B$6:$Q$105,COLUMN(Ricavi_Costi!N$4)-1,FALSE)),0,VLOOKUP($A185,Ricavi_Costi!$B$6:$Q$105,COLUMN(Ricavi_Costi!N$4)-1,FALSE))))))","v":""},{"$f":"IF($A185=\"\",\"\",IF(H$4=\"\",\"\",IF($B185=\"X\",INDIRECT(ADDRESS(11,MATCH(CE_PIANO!H$4,BASE!$B$2:$F$2,0)+1,,,\"BASE\")),IF($B185=\"T\",INDIRECT(ADDRESS(13,MATCH(CE_PIANO!H$4,BASE!$B$2:$F$2,0)+1,,,\"BASE\")),IF(ISERROR(VLOOKUP($A185,Ricavi_Costi!$B$6:$Q$105,COLUMN(Ricavi_Costi!O$4)-1,FALSE)),0,VLOOKUP($A185,Ricavi_Costi!$B$6:$Q$105,COLUMN(Ricavi_Costi!O$4)-1,FALSE))))))","v":""}]
[{"$f":"IF(CE_STORICO!A186=\"\",\"\",CE_STORICO!A186)","v":""},{"$f":"IF($A186=\"\",\"\",VLOOKUP(A186,SCHEMA_CE!$E$5:$F$54,2,FALSE))","v":""},{"$f":"IF(CE_STORICO!A186=\"\",\"\",CE_STORICO!B186)","v":""},{"$f":"IF(CE_STORICO!C186=\"\",\"\",CE_STORICO!C186)","v":""},{"$f":"IF(CE_STORICO!D186=\"\",\"\",CE_STORICO!D186)","v":""},{"$f":"IF($A186=\"\",\"\",IF(F$4=\"\",\"\",IF($B186=\"X\",INDIRECT(ADDRESS(11,MATCH(CE_PIANO!F$4,BASE!$B$2:$F$2,0)+1,,,\"BASE\")),IF($B186=\"T\",INDIRECT(ADDRESS(13,MATCH(CE_PIANO!F$4,BASE!$B$2:$F$2,0)+1,,,\"BASE\")),IF(ISERROR(VLOOKUP($A186,Ricavi_Costi!$B$6:$Q$105,COLUMN(Ricavi_Costi!M$4)-1,FALSE)),0,VLOOKUP($A186,Ricavi_Costi!$B$6:$Q$105,COLUMN(Ricavi_Costi!M$4)-1,FALSE))))))","v":""},{"$f":"IF($A186=\"\",\"\",IF(G$4=\"\",\"\",IF($B186=\"X\",INDIRECT(ADDRESS(11,MATCH(CE_PIANO!G$4,BASE!$B$2:$F$2,0)+1,,,\"BASE\")),IF($B186=\"T\",INDIRECT(ADDRESS(13,MATCH(CE_PIANO!G$4,BASE!$B$2:$F$2,0)+1,,,\"BASE\")),IF(ISERROR(VLOOKUP($A186,Ricavi_Costi!$B$6:$Q$105,COLUMN(Ricavi_Costi!N$4)-1,FALSE)),0,VLOOKUP($A186,Ricavi_Costi!$B$6:$Q$105,COLUMN(Ricavi_Costi!N$4)-1,FALSE))))))","v":""},{"$f":"IF($A186=\"\",\"\",IF(H$4=\"\",\"\",IF($B186=\"X\",INDIRECT(ADDRESS(11,MATCH(CE_PIANO!H$4,BASE!$B$2:$F$2,0)+1,,,\"BASE\")),IF($B186=\"T\",INDIRECT(ADDRESS(13,MATCH(CE_PIANO!H$4,BASE!$B$2:$F$2,0)+1,,,\"BASE\")),IF(ISERROR(VLOOKUP($A186,Ricavi_Costi!$B$6:$Q$105,COLUMN(Ricavi_Costi!O$4)-1,FALSE)),0,VLOOKUP($A186,Ricavi_Costi!$B$6:$Q$105,COLUMN(Ricavi_Costi!O$4)-1,FALSE))))))","v":""}]
[{"$f":"IF(CE_STORICO!A187=\"\",\"\",CE_STORICO!A187)","v":""},{"$f":"IF($A187=\"\",\"\",VLOOKUP(A187,SCHEMA_CE!$E$5:$F$54,2,FALSE))","v":""},{"$f":"IF(CE_STORICO!A187=\"\",\"\",CE_STORICO!B187)","v":""},{"$f":"IF(CE_STORICO!C187=\"\",\"\",CE_STORICO!C187)","v":""},{"$f":"IF(CE_STORICO!D187=\"\",\"\",CE_STORICO!D187)","v":""},{"$f":"IF($A187=\"\",\"\",IF(F$4=\"\",\"\",IF($B187=\"X\",INDIRECT(ADDRESS(11,MATCH(CE_PIANO!F$4,BASE!$B$2:$F$2,0)+1,,,\"BASE\")),IF($B187=\"T\",INDIRECT(ADDRESS(13,MATCH(CE_PIANO!F$4,BASE!$B$2:$F$2,0)+1,,,\"BASE\")),IF(ISERROR(VLOOKUP($A187,Ricavi_Costi!$B$6:$Q$105,COLUMN(Ricavi_Costi!M$4)-1,FALSE)),0,VLOOKUP($A187,Ricavi_Costi!$B$6:$Q$105,COLUMN(Ricavi_Costi!M$4)-1,FALSE))))))","v":""},{"$f":"IF($A187=\"\",\"\",IF(G$4=\"\",\"\",IF($B187=\"X\",INDIRECT(ADDRESS(11,MATCH(CE_PIANO!G$4,BASE!$B$2:$F$2,0)+1,,,\"BASE\")),IF($B187=\"T\",INDIRECT(ADDRESS(13,MATCH(CE_PIANO!G$4,BASE!$B$2:$F$2,0)+1,,,\"BASE\")),IF(ISERROR(VLOOKUP($A187,Ricavi_Costi!$B$6:$Q$105,COLUMN(Ricavi_Costi!N$4)-1,FALSE)),0,VLOOKUP($A187,Ricavi_Costi!$B$6:$Q$105,COLUMN(Ricavi_Costi!N$4)-1,FALSE))))))","v":""},{"$f":"IF($A187=\"\",\"\",IF(H$4=\"\",\"\",IF($B187=\"X\",INDIRECT(ADDRESS(11,MATCH(CE_PIANO!H$4,BASE!$B$2:$F$2,0)+1,,,\"BASE\")),IF($B187=\"T\",INDIRECT(ADDRESS(13,MATCH(CE_PIANO!H$4,BASE!$B$2:$F$2,0)+1,,,\"BASE\")),IF(ISERROR(VLOOKUP($A187,Ricavi_Costi!$B$6:$Q$105,COLUMN(Ricavi_Costi!O$4)-1,FALSE)),0,VLOOKUP($A187,Ricavi_Costi!$B$6:$Q$105,COLUMN(Ricavi_Costi!O$4)-1,FALSE))))))","v":""}]
[{"$f":"IF(CE_STORICO!A188=\"\",\"\",CE_STORICO!A188)","v":""},{"$f":"IF($A188=\"\",\"\",VLOOKUP(A188,SCHEMA_CE!$E$5:$F$54,2,FALSE))","v":""},{"$f":"IF(CE_STORICO!A188=\"\",\"\",CE_STORICO!B188)","v":""},{"$f":"IF(CE_STORICO!C188=\"\",\"\",CE_STORICO!C188)","v":""},{"$f":"IF(CE_STORICO!D188=\"\",\"\",CE_STORICO!D188)","v":""},{"$f":"IF($A188=\"\",\"\",IF(F$4=\"\",\"\",IF($B188=\"X\",INDIRECT(ADDRESS(11,MATCH(CE_PIANO!F$4,BASE!$B$2:$F$2,0)+1,,,\"BASE\")),IF($B188=\"T\",INDIRECT(ADDRESS(13,MATCH(CE_PIANO!F$4,BASE!$B$2:$F$2,0)+1,,,\"BASE\")),IF(ISERROR(VLOOKUP($A188,Ricavi_Costi!$B$6:$Q$105,COLUMN(Ricavi_Costi!M$4)-1,FALSE)),0,VLOOKUP($A188,Ricavi_Costi!$B$6:$Q$105,COLUMN(Ricavi_Costi!M$4)-1,FALSE))))))","v":""},{"$f":"IF($A188=\"\",\"\",IF(G$4=\"\",\"\",IF($B188=\"X\",INDIRECT(ADDRESS(11,MATCH(CE_PIANO!G$4,BASE!$B$2:$F$2,0)+1,,,\"BASE\")),IF($B188=\"T\",INDIRECT(ADDRESS(13,MATCH(CE_PIANO!G$4,BASE!$B$2:$F$2,0)+1,,,\"BASE\")),IF(ISERROR(VLOOKUP($A188,Ricavi_Costi!$B$6:$Q$105,COLUMN(Ricavi_Costi!N$4)-1,FALSE)),0,VLOOKUP($A188,Ricavi_Costi!$B$6:$Q$105,COLUMN(Ricavi_Costi!N$4)-1,FALSE))))))","v":""},{"$f":"IF($A188=\"\",\"\",IF(H$4=\"\",\"\",IF($B188=\"X\",INDIRECT(ADDRESS(11,MATCH(CE_PIANO!H$4,BASE!$B$2:$F$2,0)+1,,,\"BASE\")),IF($B188=\"T\",INDIRECT(ADDRESS(13,MATCH(CE_PIANO!H$4,BASE!$B$2:$F$2,0)+1,,,\"BASE\")),IF(ISERROR(VLOOKUP($A188,Ricavi_Costi!$B$6:$Q$105,COLUMN(Ricavi_Costi!O$4)-1,FALSE)),0,VLOOKUP($A188,Ricavi_Costi!$B$6:$Q$105,COLUMN(Ricavi_Costi!O$4)-1,FALSE))))))","v":""}]
[{"$f":"IF(CE_STORICO!A189=\"\",\"\",CE_STORICO!A189)","v":""},{"$f":"IF($A189=\"\",\"\",VLOOKUP(A189,SCHEMA_CE!$E$5:$F$54,2,FALSE))","v":""},{"$f":"IF(CE_STORICO!A189=\"\",\"\",CE_STORICO!B189)","v":""},{"$f":"IF(CE_STORICO!C189=\"\",\"\",CE_STORICO!C189)","v":""},{"$f":"IF(CE_STORICO!D189=\"\",\"\",CE_STORICO!D189)","v":""},{"$f":"IF($A189=\"\",\"\",IF(F$4=\"\",\"\",IF($B189=\"X\",INDIRECT(ADDRESS(11,MATCH(CE_PIANO!F$4,BASE!$B$2:$F$2,0)+1,,,\"BASE\")),IF($B189=\"T\",INDIRECT(ADDRESS(13,MATCH(CE_PIANO!F$4,BASE!$B$2:$F$2,0)+1,,,\"BASE\")),IF(ISERROR(VLOOKUP($A189,Ricavi_Costi!$B$6:$Q$105,COLUMN(Ricavi_Costi!M$4)-1,FALSE)),0,VLOOKUP($A189,Ricavi_Costi!$B$6:$Q$105,COLUMN(Ricavi_Costi!M$4)-1,FALSE))))))","v":""},{"$f":"IF($A189=\"\",\"\",IF(G$4=\"\",\"\",IF($B189=\"X\",INDIRECT(ADDRESS(11,MATCH(CE_PIANO!G$4,BASE!$B$2:$F$2,0)+1,,,\"BASE\")),IF($B189=\"T\",INDIRECT(ADDRESS(13,MATCH(CE_PIANO!G$4,BASE!$B$2:$F$2,0)+1,,,\"BASE\")),IF(ISERROR(VLOOKUP($A189,Ricavi_Costi!$B$6:$Q$105,COLUMN(Ricavi_Costi!N$4)-1,FALSE)),0,VLOOKUP($A189,Ricavi_Costi!$B$6:$Q$105,COLUMN(Ricavi_Costi!N$4)-1,FALSE))))))","v":""},{"$f":"IF($A189=\"\",\"\",IF(H$4=\"\",\"\",IF($B189=\"X\",INDIRECT(ADDRESS(11,MATCH(CE_PIANO!H$4,BASE!$B$2:$F$2,0)+1,,,\"BASE\")),IF($B189=\"T\",INDIRECT(ADDRESS(13,MATCH(CE_PIANO!H$4,BASE!$B$2:$F$2,0)+1,,,\"BASE\")),IF(ISERROR(VLOOKUP($A189,Ricavi_Costi!$B$6:$Q$105,COLUMN(Ricavi_Costi!O$4)-1,FALSE)),0,VLOOKUP($A189,Ricavi_Costi!$B$6:$Q$105,COLUMN(Ricavi_Costi!O$4)-1,FALSE))))))","v":""}]
[{"$f":"IF(CE_STORICO!A190=\"\",\"\",CE_STORICO!A190)","v":""},{"$f":"IF($A190=\"\",\"\",VLOOKUP(A190,SCHEMA_CE!$E$5:$F$54,2,FALSE))","v":""},{"$f":"IF(CE_STORICO!A190=\"\",\"\",CE_STORICO!B190)","v":""},{"$f":"IF(CE_STORICO!C190=\"\",\"\",CE_STORICO!C190)","v":""},{"$f":"IF(CE_STORICO!D190=\"\",\"\",CE_STORICO!D190)","v":""},{"$f":"IF($A190=\"\",\"\",IF(F$4=\"\",\"\",IF($B190=\"X\",INDIRECT(ADDRESS(11,MATCH(CE_PIANO!F$4,BASE!$B$2:$F$2,0)+1,,,\"BASE\")),IF($B190=\"T\",INDIRECT(ADDRESS(13,MATCH(CE_PIANO!F$4,BASE!$B$2:$F$2,0)+1,,,\"BASE\")),IF(ISERROR(VLOOKUP($A190,Ricavi_Costi!$B$6:$Q$105,COLUMN(Ricavi_Costi!M$4)-1,FALSE)),0,VLOOKUP($A190,Ricavi_Costi!$B$6:$Q$105,COLUMN(Ricavi_Costi!M$4)-1,FALSE))))))","v":""},{"$f":"IF($A190=\"\",\"\",IF(G$4=\"\",\"\",IF($B190=\"X\",INDIRECT(ADDRESS(11,MATCH(CE_PIANO!G$4,BASE!$B$2:$F$2,0)+1,,,\"BASE\")),IF($B190=\"T\",INDIRECT(ADDRESS(13,MATCH(CE_PIANO!G$4,BASE!$B$2:$F$2,0)+1,,,\"BASE\")),IF(ISERROR(VLOOKUP($A190,Ricavi_Costi!$B$6:$Q$105,COLUMN(Ricavi_Costi!N$4)-1,FALSE)),0,VLOOKUP($A190,Ricavi_Costi!$B$6:$Q$105,COLUMN(Ricavi_Costi!N$4)-1,FALSE))))))","v":""},{"$f":"IF($A190=\"\",\"\",IF(H$4=\"\",\"\",IF($B190=\"X\",INDIRECT(ADDRESS(11,MATCH(CE_PIANO!H$4,BASE!$B$2:$F$2,0)+1,,,\"BASE\")),IF($B190=\"T\",INDIRECT(ADDRESS(13,MATCH(CE_PIANO!H$4,BASE!$B$2:$F$2,0)+1,,,\"BASE\")),IF(ISERROR(VLOOKUP($A190,Ricavi_Costi!$B$6:$Q$105,COLUMN(Ricavi_Costi!O$4)-1,FALSE)),0,VLOOKUP($A190,Ricavi_Costi!$B$6:$Q$105,COLUMN(Ricavi_Costi!O$4)-1,FALSE))))))","v":""}]
[{"$f":"IF(CE_STORICO!A191=\"\",\"\",CE_STORICO!A191)","v":""},{"$f":"IF($A191=\"\",\"\",VLOOKUP(A191,SCHEMA_CE!$E$5:$F$54,2,FALSE))","v":""},{"$f":"IF(CE_STORICO!A191=\"\",\"\",CE_STORICO!B191)","v":""},{"$f":"IF(CE_STORICO!C191=\"\",\"\",CE_STORICO!C191)","v":""},{"$f":"IF(CE_STORICO!D191=\"\",\"\",CE_STORICO!D191)","v":""},{"$f":"IF($A191=\"\",\"\",IF(F$4=\"\",\"\",IF($B191=\"X\",INDIRECT(ADDRESS(11,MATCH(CE_PIANO!F$4,BASE!$B$2:$F$2,0)+1,,,\"BASE\")),IF($B191=\"T\",INDIRECT(ADDRESS(13,MATCH(CE_PIANO!F$4,BASE!$B$2:$F$2,0)+1,,,\"BASE\")),IF(ISERROR(VLOOKUP($A191,Ricavi_Costi!$B$6:$Q$105,COLUMN(Ricavi_Costi!M$4)-1,FALSE)),0,VLOOKUP($A191,Ricavi_Costi!$B$6:$Q$105,COLUMN(Ricavi_Costi!M$4)-1,FALSE))))))","v":""},{"$f":"IF($A191=\"\",\"\",IF(G$4=\"\",\"\",IF($B191=\"X\",INDIRECT(ADDRESS(11,MATCH(CE_PIANO!G$4,BASE!$B$2:$F$2,0)+1,,,\"BASE\")),IF($B191=\"T\",INDIRECT(ADDRESS(13,MATCH(CE_PIANO!G$4,BASE!$B$2:$F$2,0)+1,,,\"BASE\")),IF(ISERROR(VLOOKUP($A191,Ricavi_Costi!$B$6:$Q$105,COLUMN(Ricavi_Costi!N$4)-1,FALSE)),0,VLOOKUP($A191,Ricavi_Costi!$B$6:$Q$105,COLUMN(Ricavi_Costi!N$4)-1,FALSE))))))","v":""},{"$f":"IF($A191=\"\",\"\",IF(H$4=\"\",\"\",IF($B191=\"X\",INDIRECT(ADDRESS(11,MATCH(CE_PIANO!H$4,BASE!$B$2:$F$2,0)+1,,,\"BASE\")),IF($B191=\"T\",INDIRECT(ADDRESS(13,MATCH(CE_PIANO!H$4,BASE!$B$2:$F$2,0)+1,,,\"BASE\")),IF(ISERROR(VLOOKUP($A191,Ricavi_Costi!$B$6:$Q$105,COLUMN(Ricavi_Costi!O$4)-1,FALSE)),0,VLOOKUP($A191,Ricavi_Costi!$B$6:$Q$105,COLUMN(Ricavi_Costi!O$4)-1,FALSE))))))","v":""}]
[{"$f":"IF(CE_STORICO!A192=\"\",\"\",CE_STORICO!A192)","v":""},{"$f":"IF($A192=\"\",\"\",VLOOKUP(A192,SCHEMA_CE!$E$5:$F$54,2,FALSE))","v":""},{"$f":"IF(CE_STORICO!A192=\"\",\"\",CE_STORICO!B192)","v":""},{"$f":"IF(CE_STORICO!C192=\"\",\"\",CE_STORICO!C192)","v":""},{"$f":"IF(CE_STORICO!D192=\"\",\"\",CE_STORICO!D192)","v":""},{"$f":"IF($A192=\"\",\"\",IF(F$4=\"\",\"\",IF($B192=\"X\",INDIRECT(ADDRESS(11,MATCH(CE_PIANO!F$4,BASE!$B$2:$F$2,0)+1,,,\"BASE\")),IF($B192=\"T\",INDIRECT(ADDRESS(13,MATCH(CE_PIANO!F$4,BASE!$B$2:$F$2,0)+1,,,\"BASE\")),IF(ISERROR(VLOOKUP($A192,Ricavi_Costi!$B$6:$Q$105,COLUMN(Ricavi_Costi!M$4)-1,FALSE)),0,VLOOKUP($A192,Ricavi_Costi!$B$6:$Q$105,COLUMN(Ricavi_Costi!M$4)-1,FALSE))))))","v":""},{"$f":"IF($A192=\"\",\"\",IF(G$4=\"\",\"\",IF($B192=\"X\",INDIRECT(ADDRESS(11,MATCH(CE_PIANO!G$4,BASE!$B$2:$F$2,0)+1,,,\"BASE\")),IF($B192=\"T\",INDIRECT(ADDRESS(13,MATCH(CE_PIANO!G$4,BASE!$B$2:$F$2,0)+1,,,\"BASE\")),IF(ISERROR(VLOOKUP($A192,Ricavi_Costi!$B$6:$Q$105,COLUMN(Ricavi_Costi!N$4)-1,FALSE)),0,VLOOKUP($A192,Ricavi_Costi!$B$6:$Q$105,COLUMN(Ricavi_Costi!N$4)-1,FALSE))))))","v":""},{"$f":"IF($A192=\"\",\"\",IF(H$4=\"\",\"\",IF($B192=\"X\",INDIRECT(ADDRESS(11,MATCH(CE_PIANO!H$4,BASE!$B$2:$F$2,0)+1,,,\"BASE\")),IF($B192=\"T\",INDIRECT(ADDRESS(13,MATCH(CE_PIANO!H$4,BASE!$B$2:$F$2,0)+1,,,\"BASE\")),IF(ISERROR(VLOOKUP($A192,Ricavi_Costi!$B$6:$Q$105,COLUMN(Ricavi_Costi!O$4)-1,FALSE)),0,VLOOKUP($A192,Ricavi_Costi!$B$6:$Q$105,COLUMN(Ricavi_Costi!O$4)-1,FALSE))))))","v":""}]
[{"$f":"IF(CE_STORICO!A193=\"\",\"\",CE_STORICO!A193)","v":""},{"$f":"IF($A193=\"\",\"\",VLOOKUP(A193,SCHEMA_CE!$E$5:$F$54,2,FALSE))","v":""},{"$f":"IF(CE_STORICO!A193=\"\",\"\",CE_STORICO!B193)","v":""},{"$f":"IF(CE_STORICO!C193=\"\",\"\",CE_STORICO!C193)","v":""},{"$f":"IF(CE_STORICO!D193=\"\",\"\",CE_STORICO!D193)","v":""},{"$f":"IF($A193=\"\",\"\",IF(F$4=\"\",\"\",IF($B193=\"X\",INDIRECT(ADDRESS(11,MATCH(CE_PIANO!F$4,BASE!$B$2:$F$2,0)+1,,,\"BASE\")),IF($B193=\"T\",INDIRECT(ADDRESS(13,MATCH(CE_PIANO!F$4,BASE!$B$2:$F$2,0)+1,,,\"BASE\")),IF(ISERROR(VLOOKUP($A193,Ricavi_Costi!$B$6:$Q$105,COLUMN(Ricavi_Costi!M$4)-1,FALSE)),0,VLOOKUP($A193,Ricavi_Costi!$B$6:$Q$105,COLUMN(Ricavi_Costi!M$4)-1,FALSE))))))","v":""},{"$f":"IF($A193=\"\",\"\",IF(G$4=\"\",\"\",IF($B193=\"X\",INDIRECT(ADDRESS(11,MATCH(CE_PIANO!G$4,BASE!$B$2:$F$2,0)+1,,,\"BASE\")),IF($B193=\"T\",INDIRECT(ADDRESS(13,MATCH(CE_PIANO!G$4,BASE!$B$2:$F$2,0)+1,,,\"BASE\")),IF(ISERROR(VLOOKUP($A193,Ricavi_Costi!$B$6:$Q$105,COLUMN(Ricavi_Costi!N$4)-1,FALSE)),0,VLOOKUP($A193,Ricavi_Costi!$B$6:$Q$105,COLUMN(Ricavi_Costi!N$4)-1,FALSE))))))","v":""},{"$f":"IF($A193=\"\",\"\",IF(H$4=\"\",\"\",IF($B193=\"X\",INDIRECT(ADDRESS(11,MATCH(CE_PIANO!H$4,BASE!$B$2:$F$2,0)+1,,,\"BASE\")),IF($B193=\"T\",INDIRECT(ADDRESS(13,MATCH(CE_PIANO!H$4,BASE!$B$2:$F$2,0)+1,,,\"BASE\")),IF(ISERROR(VLOOKUP($A193,Ricavi_Costi!$B$6:$Q$105,COLUMN(Ricavi_Costi!O$4)-1,FALSE)),0,VLOOKUP($A193,Ricavi_Costi!$B$6:$Q$105,COLUMN(Ricavi_Costi!O$4)-1,FALSE))))))","v":""}]
[{"$f":"IF(CE_STORICO!A194=\"\",\"\",CE_STORICO!A194)","v":""},{"$f":"IF($A194=\"\",\"\",VLOOKUP(A194,SCHEMA_CE!$E$5:$F$54,2,FALSE))","v":""},{"$f":"IF(CE_STORICO!A194=\"\",\"\",CE_STORICO!B194)","v":""},{"$f":"IF(CE_STORICO!C194=\"\",\"\",CE_STORICO!C194)","v":""},{"$f":"IF(CE_STORICO!D194=\"\",\"\",CE_STORICO!D194)","v":""},{"$f":"IF($A194=\"\",\"\",IF(F$4=\"\",\"\",IF($B194=\"X\",INDIRECT(ADDRESS(11,MATCH(CE_PIANO!F$4,BASE!$B$2:$F$2,0)+1,,,\"BASE\")),IF($B194=\"T\",INDIRECT(ADDRESS(13,MATCH(CE_PIANO!F$4,BASE!$B$2:$F$2,0)+1,,,\"BASE\")),IF(ISERROR(VLOOKUP($A194,Ricavi_Costi!$B$6:$Q$105,COLUMN(Ricavi_Costi!M$4)-1,FALSE)),0,VLOOKUP($A194,Ricavi_Costi!$B$6:$Q$105,COLUMN(Ricavi_Costi!M$4)-1,FALSE))))))","v":""},{"$f":"IF($A194=\"\",\"\",IF(G$4=\"\",\"\",IF($B194=\"X\",INDIRECT(ADDRESS(11,MATCH(CE_PIANO!G$4,BASE!$B$2:$F$2,0)+1,,,\"BASE\")),IF($B194=\"T\",INDIRECT(ADDRESS(13,MATCH(CE_PIANO!G$4,BASE!$B$2:$F$2,0)+1,,,\"BASE\")),IF(ISERROR(VLOOKUP($A194,Ricavi_Costi!$B$6:$Q$105,COLUMN(Ricavi_Costi!N$4)-1,FALSE)),0,VLOOKUP($A194,Ricavi_Costi!$B$6:$Q$105,COLUMN(Ricavi_Costi!N$4)-1,FALSE))))))","v":""},{"$f":"IF($A194=\"\",\"\",IF(H$4=\"\",\"\",IF($B194=\"X\",INDIRECT(ADDRESS(11,MATCH(CE_PIANO!H$4,BASE!$B$2:$F$2,0)+1,,,\"BASE\")),IF($B194=\"T\",INDIRECT(ADDRESS(13,MATCH(CE_PIANO!H$4,BASE!$B$2:$F$2,0)+1,,,\"BASE\")),IF(ISERROR(VLOOKUP($A194,Ricavi_Costi!$B$6:$Q$105,COLUMN(Ricavi_Costi!O$4)-1,FALSE)),0,VLOOKUP($A194,Ricavi_Costi!$B$6:$Q$105,COLUMN(Ricavi_Costi!O$4)-1,FALSE))))))","v":""}]
[{"$f":"IF(CE_STORICO!A195=\"\",\"\",CE_STORICO!A195)","v":""},{"$f":"IF($A195=\"\",\"\",VLOOKUP(A195,SCHEMA_CE!$E$5:$F$54,2,FALSE))","v":""},{"$f":"IF(CE_STORICO!A195=\"\",\"\",CE_STORICO!B195)","v":""},{"$f":"IF(CE_STORICO!C195=\"\",\"\",CE_STORICO!C195)","v":""},{"$f":"IF(CE_STORICO!D195=\"\",\"\",CE_STORICO!D195)","v":""},{"$f":"IF($A195=\"\",\"\",IF(F$4=\"\",\"\",IF($B195=\"X\",INDIRECT(ADDRESS(11,MATCH(CE_PIANO!F$4,BASE!$B$2:$F$2,0)+1,,,\"BASE\")),IF($B195=\"T\",INDIRECT(ADDRESS(13,MATCH(CE_PIANO!F$4,BASE!$B$2:$F$2,0)+1,,,\"BASE\")),IF(ISERROR(VLOOKUP($A195,Ricavi_Costi!$B$6:$Q$105,COLUMN(Ricavi_Costi!M$4)-1,FALSE)),0,VLOOKUP($A195,Ricavi_Costi!$B$6:$Q$105,COLUMN(Ricavi_Costi!M$4)-1,FALSE))))))","v":""},{"$f":"IF($A195=\"\",\"\",IF(G$4=\"\",\"\",IF($B195=\"X\",INDIRECT(ADDRESS(11,MATCH(CE_PIANO!G$4,BASE!$B$2:$F$2,0)+1,,,\"BASE\")),IF($B195=\"T\",INDIRECT(ADDRESS(13,MATCH(CE_PIANO!G$4,BASE!$B$2:$F$2,0)+1,,,\"BASE\")),IF(ISERROR(VLOOKUP($A195,Ricavi_Costi!$B$6:$Q$105,COLUMN(Ricavi_Costi!N$4)-1,FALSE)),0,VLOOKUP($A195,Ricavi_Costi!$B$6:$Q$105,COLUMN(Ricavi_Costi!N$4)-1,FALSE))))))","v":""},{"$f":"IF($A195=\"\",\"\",IF(H$4=\"\",\"\",IF($B195=\"X\",INDIRECT(ADDRESS(11,MATCH(CE_PIANO!H$4,BASE!$B$2:$F$2,0)+1,,,\"BASE\")),IF($B195=\"T\",INDIRECT(ADDRESS(13,MATCH(CE_PIANO!H$4,BASE!$B$2:$F$2,0)+1,,,\"BASE\")),IF(ISERROR(VLOOKUP($A195,Ricavi_Costi!$B$6:$Q$105,COLUMN(Ricavi_Costi!O$4)-1,FALSE)),0,VLOOKUP($A195,Ricavi_Costi!$B$6:$Q$105,COLUMN(Ricavi_Costi!O$4)-1,FALSE))))))","v":""}]
[{"$f":"IF(CE_STORICO!A196=\"\",\"\",CE_STORICO!A196)","v":""},{"$f":"IF($A196=\"\",\"\",VLOOKUP(A196,SCHEMA_CE!$E$5:$F$54,2,FALSE))","v":""},{"$f":"IF(CE_STORICO!A196=\"\",\"\",CE_STORICO!B196)","v":""},{"$f":"IF(CE_STORICO!C196=\"\",\"\",CE_STORICO!C196)","v":""},{"$f":"IF(CE_STORICO!D196=\"\",\"\",CE_STORICO!D196)","v":""},{"$f":"IF($A196=\"\",\"\",IF(F$4=\"\",\"\",IF($B196=\"X\",INDIRECT(ADDRESS(11,MATCH(CE_PIANO!F$4,BASE!$B$2:$F$2,0)+1,,,\"BASE\")),IF($B196=\"T\",INDIRECT(ADDRESS(13,MATCH(CE_PIANO!F$4,BASE!$B$2:$F$2,0)+1,,,\"BASE\")),IF(ISERROR(VLOOKUP($A196,Ricavi_Costi!$B$6:$Q$105,COLUMN(Ricavi_Costi!M$4)-1,FALSE)),0,VLOOKUP($A196,Ricavi_Costi!$B$6:$Q$105,COLUMN(Ricavi_Costi!M$4)-1,FALSE))))))","v":""},{"$f":"IF($A196=\"\",\"\",IF(G$4=\"\",\"\",IF($B196=\"X\",INDIRECT(ADDRESS(11,MATCH(CE_PIANO!G$4,BASE!$B$2:$F$2,0)+1,,,\"BASE\")),IF($B196=\"T\",INDIRECT(ADDRESS(13,MATCH(CE_PIANO!G$4,BASE!$B$2:$F$2,0)+1,,,\"BASE\")),IF(ISERROR(VLOOKUP($A196,Ricavi_Costi!$B$6:$Q$105,COLUMN(Ricavi_Costi!N$4)-1,FALSE)),0,VLOOKUP($A196,Ricavi_Costi!$B$6:$Q$105,COLUMN(Ricavi_Costi!N$4)-1,FALSE))))))","v":""},{"$f":"IF($A196=\"\",\"\",IF(H$4=\"\",\"\",IF($B196=\"X\",INDIRECT(ADDRESS(11,MATCH(CE_PIANO!H$4,BASE!$B$2:$F$2,0)+1,,,\"BASE\")),IF($B196=\"T\",INDIRECT(ADDRESS(13,MATCH(CE_PIANO!H$4,BASE!$B$2:$F$2,0)+1,,,\"BASE\")),IF(ISERROR(VLOOKUP($A196,Ricavi_Costi!$B$6:$Q$105,COLUMN(Ricavi_Costi!O$4)-1,FALSE)),0,VLOOKUP($A196,Ricavi_Costi!$B$6:$Q$105,COLUMN(Ricavi_Costi!O$4)-1,FALSE))))))","v":""}]
[{"$f":"IF(CE_STORICO!A197=\"\",\"\",CE_STORICO!A197)","v":""},{"$f":"IF($A197=\"\",\"\",VLOOKUP(A197,SCHEMA_CE!$E$5:$F$54,2,FALSE))","v":""},{"$f":"IF(CE_STORICO!A197=\"\",\"\",CE_STORICO!B197)","v":""},{"$f":"IF(CE_STORICO!C197=\"\",\"\",CE_STORICO!C197)","v":""},{"$f":"IF(CE_STORICO!D197=\"\",\"\",CE_STORICO!D197)","v":""},{"$f":"IF($A197=\"\",\"\",IF(F$4=\"\",\"\",IF($B197=\"X\",INDIRECT(ADDRESS(11,MATCH(CE_PIANO!F$4,BASE!$B$2:$F$2,0)+1,,,\"BASE\")),IF($B197=\"T\",INDIRECT(ADDRESS(13,MATCH(CE_PIANO!F$4,BASE!$B$2:$F$2,0)+1,,,\"BASE\")),IF(ISERROR(VLOOKUP($A197,Ricavi_Costi!$B$6:$Q$105,COLUMN(Ricavi_Costi!M$4)-1,FALSE)),0,VLOOKUP($A197,Ricavi_Costi!$B$6:$Q$105,COLUMN(Ricavi_Costi!M$4)-1,FALSE))))))","v":""},{"$f":"IF($A197=\"\",\"\",IF(G$4=\"\",\"\",IF($B197=\"X\",INDIRECT(ADDRESS(11,MATCH(CE_PIANO!G$4,BASE!$B$2:$F$2,0)+1,,,\"BASE\")),IF($B197=\"T\",INDIRECT(ADDRESS(13,MATCH(CE_PIANO!G$4,BASE!$B$2:$F$2,0)+1,,,\"BASE\")),IF(ISERROR(VLOOKUP($A197,Ricavi_Costi!$B$6:$Q$105,COLUMN(Ricavi_Costi!N$4)-1,FALSE)),0,VLOOKUP($A197,Ricavi_Costi!$B$6:$Q$105,COLUMN(Ricavi_Costi!N$4)-1,FALSE))))))","v":""},{"$f":"IF($A197=\"\",\"\",IF(H$4=\"\",\"\",IF($B197=\"X\",INDIRECT(ADDRESS(11,MATCH(CE_PIANO!H$4,BASE!$B$2:$F$2,0)+1,,,\"BASE\")),IF($B197=\"T\",INDIRECT(ADDRESS(13,MATCH(CE_PIANO!H$4,BASE!$B$2:$F$2,0)+1,,,\"BASE\")),IF(ISERROR(VLOOKUP($A197,Ricavi_Costi!$B$6:$Q$105,COLUMN(Ricavi_Costi!O$4)-1,FALSE)),0,VLOOKUP($A197,Ricavi_Costi!$B$6:$Q$105,COLUMN(Ricavi_Costi!O$4)-1,FALSE))))))","v":""}]
[{"$f":"IF(CE_STORICO!A198=\"\",\"\",CE_STORICO!A198)","v":""},{"$f":"IF($A198=\"\",\"\",VLOOKUP(A198,SCHEMA_CE!$E$5:$F$54,2,FALSE))","v":""},{"$f":"IF(CE_STORICO!A198=\"\",\"\",CE_STORICO!B198)","v":""},{"$f":"IF(CE_STORICO!C198=\"\",\"\",CE_STORICO!C198)","v":""},{"$f":"IF(CE_STORICO!D198=\"\",\"\",CE_STORICO!D198)","v":""},{"$f":"IF($A198=\"\",\"\",IF(F$4=\"\",\"\",IF($B198=\"X\",INDIRECT(ADDRESS(11,MATCH(CE_PIANO!F$4,BASE!$B$2:$F$2,0)+1,,,\"BASE\")),IF($B198=\"T\",INDIRECT(ADDRESS(13,MATCH(CE_PIANO!F$4,BASE!$B$2:$F$2,0)+1,,,\"BASE\")),IF(ISERROR(VLOOKUP($A198,Ricavi_Costi!$B$6:$Q$105,COLUMN(Ricavi_Costi!M$4)-1,FALSE)),0,VLOOKUP($A198,Ricavi_Costi!$B$6:$Q$105,COLUMN(Ricavi_Costi!M$4)-1,FALSE))))))","v":""},{"$f":"IF($A198=\"\",\"\",IF(G$4=\"\",\"\",IF($B198=\"X\",INDIRECT(ADDRESS(11,MATCH(CE_PIANO!G$4,BASE!$B$2:$F$2,0)+1,,,\"BASE\")),IF($B198=\"T\",INDIRECT(ADDRESS(13,MATCH(CE_PIANO!G$4,BASE!$B$2:$F$2,0)+1,,,\"BASE\")),IF(ISERROR(VLOOKUP($A198,Ricavi_Costi!$B$6:$Q$105,COLUMN(Ricavi_Costi!N$4)-1,FALSE)),0,VLOOKUP($A198,Ricavi_Costi!$B$6:$Q$105,COLUMN(Ricavi_Costi!N$4)-1,FALSE))))))","v":""},{"$f":"IF($A198=\"\",\"\",IF(H$4=\"\",\"\",IF($B198=\"X\",INDIRECT(ADDRESS(11,MATCH(CE_PIANO!H$4,BASE!$B$2:$F$2,0)+1,,,\"BASE\")),IF($B198=\"T\",INDIRECT(ADDRESS(13,MATCH(CE_PIANO!H$4,BASE!$B$2:$F$2,0)+1,,,\"BASE\")),IF(ISERROR(VLOOKUP($A198,Ricavi_Costi!$B$6:$Q$105,COLUMN(Ricavi_Costi!O$4)-1,FALSE)),0,VLOOKUP($A198,Ricavi_Costi!$B$6:$Q$105,COLUMN(Ricavi_Costi!O$4)-1,FALSE))))))","v":""}]
[{"$f":"IF(CE_STORICO!A199=\"\",\"\",CE_STORICO!A199)","v":""},{"$f":"IF($A199=\"\",\"\",VLOOKUP(A199,SCHEMA_CE!$E$5:$F$54,2,FALSE))","v":""},{"$f":"IF(CE_STORICO!A199=\"\",\"\",CE_STORICO!B199)","v":""},{"$f":"IF(CE_STORICO!C199=\"\",\"\",CE_STORICO!C199)","v":""},{"$f":"IF(CE_STORICO!D199=\"\",\"\",CE_STORICO!D199)","v":""},{"$f":"IF($A199=\"\",\"\",IF(F$4=\"\",\"\",IF($B199=\"X\",INDIRECT(ADDRESS(11,MATCH(CE_PIANO!F$4,BASE!$B$2:$F$2,0)+1,,,\"BASE\")),IF($B199=\"T\",INDIRECT(ADDRESS(13,MATCH(CE_PIANO!F$4,BASE!$B$2:$F$2,0)+1,,,\"BASE\")),IF(ISERROR(VLOOKUP($A199,Ricavi_Costi!$B$6:$Q$105,COLUMN(Ricavi_Costi!M$4)-1,FALSE)),0,VLOOKUP($A199,Ricavi_Costi!$B$6:$Q$105,COLUMN(Ricavi_Costi!M$4)-1,FALSE))))))","v":""},{"$f":"IF($A199=\"\",\"\",IF(G$4=\"\",\"\",IF($B199=\"X\",INDIRECT(ADDRESS(11,MATCH(CE_PIANO!G$4,BASE!$B$2:$F$2,0)+1,,,\"BASE\")),IF($B199=\"T\",INDIRECT(ADDRESS(13,MATCH(CE_PIANO!G$4,BASE!$B$2:$F$2,0)+1,,,\"BASE\")),IF(ISERROR(VLOOKUP($A199,Ricavi_Costi!$B$6:$Q$105,COLUMN(Ricavi_Costi!N$4)-1,FALSE)),0,VLOOKUP($A199,Ricavi_Costi!$B$6:$Q$105,COLUMN(Ricavi_Costi!N$4)-1,FALSE))))))","v":""},{"$f":"IF($A199=\"\",\"\",IF(H$4=\"\",\"\",IF($B199=\"X\",INDIRECT(ADDRESS(11,MATCH(CE_PIANO!H$4,BASE!$B$2:$F$2,0)+1,,,\"BASE\")),IF($B199=\"T\",INDIRECT(ADDRESS(13,MATCH(CE_PIANO!H$4,BASE!$B$2:$F$2,0)+1,,,\"BASE\")),IF(ISERROR(VLOOKUP($A199,Ricavi_Costi!$B$6:$Q$105,COLUMN(Ricavi_Costi!O$4)-1,FALSE)),0,VLOOKUP($A199,Ricavi_Costi!$B$6:$Q$105,COLUMN(Ricavi_Costi!O$4)-1,FALSE))))))","v":""}]
[{"$f":"IF(CE_STORICO!A200=\"\",\"\",CE_STORICO!A200)","v":""},{"$f":"IF($A200=\"\",\"\",VLOOKUP(A200,SCHEMA_CE!$E$5:$F$54,2,FALSE))","v":""},{"$f":"IF(CE_STORICO!A200=\"\",\"\",CE_STORICO!B200)","v":""},{"$f":"IF(CE_STORICO!C200=\"\",\"\",CE_STORICO!C200)","v":""},{"$f":"IF(CE_STORICO!D200=\"\",\"\",CE_STORICO!D200)","v":""},{"$f":"IF($A200=\"\",\"\",IF(F$4=\"\",\"\",IF($B200=\"X\",INDIRECT(ADDRESS(11,MATCH(CE_PIANO!F$4,BASE!$B$2:$F$2,0)+1,,,\"BASE\")),IF($B200=\"T\",INDIRECT(ADDRESS(13,MATCH(CE_PIANO!F$4,BASE!$B$2:$F$2,0)+1,,,\"BASE\")),IF(ISERROR(VLOOKUP($A200,Ricavi_Costi!$B$6:$Q$105,COLUMN(Ricavi_Costi!M$4)-1,FALSE)),0,VLOOKUP($A200,Ricavi_Costi!$B$6:$Q$105,COLUMN(Ricavi_Costi!M$4)-1,FALSE))))))","v":""},{"$f":"IF($A200=\"\",\"\",IF(G$4=\"\",\"\",IF($B200=\"X\",INDIRECT(ADDRESS(11,MATCH(CE_PIANO!G$4,BASE!$B$2:$F$2,0)+1,,,\"BASE\")),IF($B200=\"T\",INDIRECT(ADDRESS(13,MATCH(CE_PIANO!G$4,BASE!$B$2:$F$2,0)+1,,,\"BASE\")),IF(ISERROR(VLOOKUP($A200,Ricavi_Costi!$B$6:$Q$105,COLUMN(Ricavi_Costi!N$4)-1,FALSE)),0,VLOOKUP($A200,Ricavi_Costi!$B$6:$Q$105,COLUMN(Ricavi_Costi!N$4)-1,FALSE))))))","v":""},{"$f":"IF($A200=\"\",\"\",IF(H$4=\"\",\"\",IF($B200=\"X\",INDIRECT(ADDRESS(11,MATCH(CE_PIANO!H$4,BASE!$B$2:$F$2,0)+1,,,\"BASE\")),IF($B200=\"T\",INDIRECT(ADDRESS(13,MATCH(CE_PIANO!H$4,BASE!$B$2:$F$2,0)+1,,,\"BASE\")),IF(ISERROR(VLOOKUP($A200,Ricavi_Costi!$B$6:$Q$105,COLUMN(Ricavi_Costi!O$4)-1,FALSE)),0,VLOOKUP($A200,Ricavi_Costi!$B$6:$Q$105,COLUMN(Ricavi_Costi!O$4)-1,FALSE))))))","v":""}]
[{"$f":"IF(CE_STORICO!A201=\"\",\"\",CE_STORICO!A201)","v":""},{"$f":"IF($A201=\"\",\"\",VLOOKUP(A201,SCHEMA_CE!$E$5:$F$54,2,FALSE))","v":""},{"$f":"IF(CE_STORICO!A201=\"\",\"\",CE_STORICO!B201)","v":""},{"$f":"IF(CE_STORICO!C201=\"\",\"\",CE_STORICO!C201)","v":""},{"$f":"IF(CE_STORICO!D201=\"\",\"\",CE_STORICO!D201)","v":""},{"$f":"IF($A201=\"\",\"\",IF(F$4=\"\",\"\",IF($B201=\"X\",INDIRECT(ADDRESS(11,MATCH(CE_PIANO!F$4,BASE!$B$2:$F$2,0)+1,,,\"BASE\")),IF($B201=\"T\",INDIRECT(ADDRESS(13,MATCH(CE_PIANO!F$4,BASE!$B$2:$F$2,0)+1,,,\"BASE\")),IF(ISERROR(VLOOKUP($A201,Ricavi_Costi!$B$6:$Q$105,COLUMN(Ricavi_Costi!M$4)-1,FALSE)),0,VLOOKUP($A201,Ricavi_Costi!$B$6:$Q$105,COLUMN(Ricavi_Costi!M$4)-1,FALSE))))))","v":""},{"$f":"IF($A201=\"\",\"\",IF(G$4=\"\",\"\",IF($B201=\"X\",INDIRECT(ADDRESS(11,MATCH(CE_PIANO!G$4,BASE!$B$2:$F$2,0)+1,,,\"BASE\")),IF($B201=\"T\",INDIRECT(ADDRESS(13,MATCH(CE_PIANO!G$4,BASE!$B$2:$F$2,0)+1,,,\"BASE\")),IF(ISERROR(VLOOKUP($A201,Ricavi_Costi!$B$6:$Q$105,COLUMN(Ricavi_Costi!N$4)-1,FALSE)),0,VLOOKUP($A201,Ricavi_Costi!$B$6:$Q$105,COLUMN(Ricavi_Costi!N$4)-1,FALSE))))))","v":""},{"$f":"IF($A201=\"\",\"\",IF(H$4=\"\",\"\",IF($B201=\"X\",INDIRECT(ADDRESS(11,MATCH(CE_PIANO!H$4,BASE!$B$2:$F$2,0)+1,,,\"BASE\")),IF($B201=\"T\",INDIRECT(ADDRESS(13,MATCH(CE_PIANO!H$4,BASE!$B$2:$F$2,0)+1,,,\"BASE\")),IF(ISERROR(VLOOKUP($A201,Ricavi_Costi!$B$6:$Q$105,COLUMN(Ricavi_Costi!O$4)-1,FALSE)),0,VLOOKUP($A201,Ricavi_Costi!$B$6:$Q$105,COLUMN(Ricavi_Costi!O$4)-1,FALSE))))))","v":""}]
[{"$f":"IF(CE_STORICO!A202=\"\",\"\",CE_STORICO!A202)","v":""},{"$f":"IF($A202=\"\",\"\",VLOOKUP(A202,SCHEMA_CE!$E$5:$F$54,2,FALSE))","v":""},{"$f":"IF(CE_STORICO!A202=\"\",\"\",CE_STORICO!B202)","v":""},{"$f":"IF(CE_STORICO!C202=\"\",\"\",CE_STORICO!C202)","v":""},{"$f":"IF(CE_STORICO!D202=\"\",\"\",CE_STORICO!D202)","v":""},{"$f":"IF($A202=\"\",\"\",IF(F$4=\"\",\"\",IF($B202=\"X\",INDIRECT(ADDRESS(11,MATCH(CE_PIANO!F$4,BASE!$B$2:$F$2,0)+1,,,\"BASE\")),IF($B202=\"T\",INDIRECT(ADDRESS(13,MATCH(CE_PIANO!F$4,BASE!$B$2:$F$2,0)+1,,,\"BASE\")),IF(ISERROR(VLOOKUP($A202,Ricavi_Costi!$B$6:$Q$105,COLUMN(Ricavi_Costi!M$4)-1,FALSE)),0,VLOOKUP($A202,Ricavi_Costi!$B$6:$Q$105,COLUMN(Ricavi_Costi!M$4)-1,FALSE))))))","v":""},{"$f":"IF($A202=\"\",\"\",IF(G$4=\"\",\"\",IF($B202=\"X\",INDIRECT(ADDRESS(11,MATCH(CE_PIANO!G$4,BASE!$B$2:$F$2,0)+1,,,\"BASE\")),IF($B202=\"T\",INDIRECT(ADDRESS(13,MATCH(CE_PIANO!G$4,BASE!$B$2:$F$2,0)+1,,,\"BASE\")),IF(ISERROR(VLOOKUP($A202,Ricavi_Costi!$B$6:$Q$105,COLUMN(Ricavi_Costi!N$4)-1,FALSE)),0,VLOOKUP($A202,Ricavi_Costi!$B$6:$Q$105,COLUMN(Ricavi_Costi!N$4)-1,FALSE))))))","v":""},{"$f":"IF($A202=\"\",\"\",IF(H$4=\"\",\"\",IF($B202=\"X\",INDIRECT(ADDRESS(11,MATCH(CE_PIANO!H$4,BASE!$B$2:$F$2,0)+1,,,\"BASE\")),IF($B202=\"T\",INDIRECT(ADDRESS(13,MATCH(CE_PIANO!H$4,BASE!$B$2:$F$2,0)+1,,,\"BASE\")),IF(ISERROR(VLOOKUP($A202,Ricavi_Costi!$B$6:$Q$105,COLUMN(Ricavi_Costi!O$4)-1,FALSE)),0,VLOOKUP($A202,Ricavi_Costi!$B$6:$Q$105,COLUMN(Ricavi_Costi!O$4)-1,FALSE))))))","v":""}]
[{"$f":"IF(CE_STORICO!A203=\"\",\"\",CE_STORICO!A203)","v":""},{"$f":"IF($A203=\"\",\"\",VLOOKUP(A203,SCHEMA_CE!$E$5:$F$54,2,FALSE))","v":""},{"$f":"IF(CE_STORICO!A203=\"\",\"\",CE_STORICO!B203)","v":""},{"$f":"IF(CE_STORICO!C203=\"\",\"\",CE_STORICO!C203)","v":""},{"$f":"IF(CE_STORICO!D203=\"\",\"\",CE_STORICO!D203)","v":""},{"$f":"IF($A203=\"\",\"\",IF(F$4=\"\",\"\",IF($B203=\"X\",INDIRECT(ADDRESS(11,MATCH(CE_PIANO!F$4,BASE!$B$2:$F$2,0)+1,,,\"BASE\")),IF($B203=\"T\",INDIRECT(ADDRESS(13,MATCH(CE_PIANO!F$4,BASE!$B$2:$F$2,0)+1,,,\"BASE\")),IF(ISERROR(VLOOKUP($A203,Ricavi_Costi!$B$6:$Q$105,COLUMN(Ricavi_Costi!M$4)-1,FALSE)),0,VLOOKUP($A203,Ricavi_Costi!$B$6:$Q$105,COLUMN(Ricavi_Costi!M$4)-1,FALSE))))))","v":""},{"$f":"IF($A203=\"\",\"\",IF(G$4=\"\",\"\",IF($B203=\"X\",INDIRECT(ADDRESS(11,MATCH(CE_PIANO!G$4,BASE!$B$2:$F$2,0)+1,,,\"BASE\")),IF($B203=\"T\",INDIRECT(ADDRESS(13,MATCH(CE_PIANO!G$4,BASE!$B$2:$F$2,0)+1,,,\"BASE\")),IF(ISERROR(VLOOKUP($A203,Ricavi_Costi!$B$6:$Q$105,COLUMN(Ricavi_Costi!N$4)-1,FALSE)),0,VLOOKUP($A203,Ricavi_Costi!$B$6:$Q$105,COLUMN(Ricavi_Costi!N$4)-1,FALSE))))))","v":""},{"$f":"IF($A203=\"\",\"\",IF(H$4=\"\",\"\",IF($B203=\"X\",INDIRECT(ADDRESS(11,MATCH(CE_PIANO!H$4,BASE!$B$2:$F$2,0)+1,,,\"BASE\")),IF($B203=\"T\",INDIRECT(ADDRESS(13,MATCH(CE_PIANO!H$4,BASE!$B$2:$F$2,0)+1,,,\"BASE\")),IF(ISERROR(VLOOKUP($A203,Ricavi_Costi!$B$6:$Q$105,COLUMN(Ricavi_Costi!O$4)-1,FALSE)),0,VLOOKUP($A203,Ricavi_Costi!$B$6:$Q$105,COLUMN(Ricavi_Costi!O$4)-1,FALSE))))))","v":""}]
[{"$f":"IF(CE_STORICO!A204=\"\",\"\",CE_STORICO!A204)","v":""},{"$f":"IF($A204=\"\",\"\",VLOOKUP(A204,SCHEMA_CE!$E$5:$F$54,2,FALSE))","v":""},{"$f":"IF(CE_STORICO!A204=\"\",\"\",CE_STORICO!B204)","v":""},{"$f":"IF(CE_STORICO!C204=\"\",\"\",CE_STORICO!C204)","v":""},{"$f":"IF(CE_STORICO!D204=\"\",\"\",CE_STORICO!D204)","v":""},{"$f":"IF($A204=\"\",\"\",IF(F$4=\"\",\"\",IF($B204=\"X\",INDIRECT(ADDRESS(11,MATCH(CE_PIANO!F$4,BASE!$B$2:$F$2,0)+1,,,\"BASE\")),IF($B204=\"T\",INDIRECT(ADDRESS(13,MATCH(CE_PIANO!F$4,BASE!$B$2:$F$2,0)+1,,,\"BASE\")),IF(ISERROR(VLOOKUP($A204,Ricavi_Costi!$B$6:$Q$105,COLUMN(Ricavi_Costi!M$4)-1,FALSE)),0,VLOOKUP($A204,Ricavi_Costi!$B$6:$Q$105,COLUMN(Ricavi_Costi!M$4)-1,FALSE))))))","v":""},{"$f":"IF($A204=\"\",\"\",IF(G$4=\"\",\"\",IF($B204=\"X\",INDIRECT(ADDRESS(11,MATCH(CE_PIANO!G$4,BASE!$B$2:$F$2,0)+1,,,\"BASE\")),IF($B204=\"T\",INDIRECT(ADDRESS(13,MATCH(CE_PIANO!G$4,BASE!$B$2:$F$2,0)+1,,,\"BASE\")),IF(ISERROR(VLOOKUP($A204,Ricavi_Costi!$B$6:$Q$105,COLUMN(Ricavi_Costi!N$4)-1,FALSE)),0,VLOOKUP($A204,Ricavi_Costi!$B$6:$Q$105,COLUMN(Ricavi_Costi!N$4)-1,FALSE))))))","v":""},{"$f":"IF($A204=\"\",\"\",IF(H$4=\"\",\"\",IF($B204=\"X\",INDIRECT(ADDRESS(11,MATCH(CE_PIANO!H$4,BASE!$B$2:$F$2,0)+1,,,\"BASE\")),IF($B204=\"T\",INDIRECT(ADDRESS(13,MATCH(CE_PIANO!H$4,BASE!$B$2:$F$2,0)+1,,,\"BASE\")),IF(ISERROR(VLOOKUP($A204,Ricavi_Costi!$B$6:$Q$105,COLUMN(Ricavi_Costi!O$4)-1,FALSE)),0,VLOOKUP($A204,Ricavi_Costi!$B$6:$Q$105,COLUMN(Ricavi_Costi!O$4)-1,FALSE))))))","v":""}]
[{"$f":"IF(CE_STORICO!A205=\"\",\"\",CE_STORICO!A205)","v":""},{"$f":"IF($A205=\"\",\"\",VLOOKUP(A205,SCHEMA_CE!$E$5:$F$54,2,FALSE))","v":""},{"$f":"IF(CE_STORICO!A205=\"\",\"\",CE_STORICO!B205)","v":""},{"$f":"IF(CE_STORICO!C205=\"\",\"\",CE_STORICO!C205)","v":""},{"$f":"IF(CE_STORICO!D205=\"\",\"\",CE_STORICO!D205)","v":""}]
[{"$f":"IF(CE_STORICO!A206=\"\",\"\",CE_STORICO!A206)","v":""},{"$f":"IF($A206=\"\",\"\",VLOOKUP(A206,SCHEMA_CE!$E$5:$F$54,2,FALSE))","v":""},{"$f":"IF(CE_STORICO!A206=\"\",\"\",CE_STORICO!B206)","v":""},{"$f":"IF(CE_STORICO!C206=\"\",\"\",CE_STORICO!C206)","v":""},{"$f":"IF(CE_STORICO!D206=\"\",\"\",CE_STORICO!D206)","v":""}]

{"sheet":"SP_PIANO","index":12,"n_rows":261,"n_cols":87,"rows_kept":261,"cut":false,"hidden":false,"merged":[]}
[null,null,{"$f":"MENU!$C$5&\" - STATI PATRIMONIALI DI PIANO\"","v":"XYZ SpA - STATI PATRIMONIALI DI PIANO"}]
[]
[null,null,null,"STORICO",null,"PIANO"]
[null,null,null,{"$f":"SP_STORICO!C4","v":2003},{"$f":"SP_STORICO!D4","v":2004},{"$f":"MENU!C7+MENU!C9","v":2005},{"$f":"IF(F4=\"\",\"\",IF(F4+1-$F$4>MENU!$C$11-1,\"\",SP_PIANO!F4+1))","v":2006},{"$f":"IF(G4=\"\",\"\",IF(G4+1-$F$4>MENU!$C$11-1,\"\",SP_PIANO!G4+1))","v":2007},{"$f":"IF(H4=\"\",\"\",IF(H4+1-$F$4>MENU!$C$11-1,\"\",SP_PIANO!H4+1))","v":""},{"$f":"IF(I4=\"\",\"\",IF(I4+1-$F$4>MENU!$C$11-1,\"\",SP_PIANO!I4+1))","v":""}]
[{"$f":"IF(SP_STORICO!A5=\"\",\"\",SP_STORICO!A5)","v":"010101_Concessioni, licenze, marchi"},{"$f":"IF($A5=\"\",\"\",VLOOKUP(A5,SCHEMA_SP!$E$5:$F$54,2,FALSE))","v":"A"},{"$f":"IF(SP_STORICO!A5=\"\",\"\",SP_STORICO!B5)","v":"Concessioni, licenze, marchi"},{"$f":"IF(SP_STORICO!C5=\"\",\"\",SP_STORICO!C5)","v":""},{"$f":"IF(SP_STORICO!D5=\"\",\"\",SP_STORICO!D5)","v":""},{"$f":"IF($A5=\"\",\"\",IF(F$4=\"\",\"\",IF(OR($B5=\"X\", $B5=\"I\"),INDIRECT(ADDRESS(IF($B5=\"X\",12,13),MATCH(SP_PIANO!F$4,BASE!$B$2:$F$2,0)+1,,,\"BASE\")),IF($B5=\"U\",-INDIRECT(ADDRESS(4+MATCH(\"U\",CE_PIANO!$B$5:$B$206,0),COLUMN(SP_PIANO!F$4),,,\"CE_PIANO\")),IF(ISERROR(VLOOKUP($A5,Attivita_Passivita!$B$6:$Q$105,COLUMN(Attivita_Passivita!M$4)-1,FALSE)),0,VLOOKUP($A5,Attivita_Passivita!$B$6:$Q$105,COLUMN(Attivita_Passivita!M$4)-1,FALSE))))))","v":1300},{"$f":"IF($A5=\"\",\"\",IF(G$4=\"\",\"\",IF(OR($B5=\"X\", $B5=\"I\"),INDIRECT(ADDRESS(IF($B5=\"X\",12,13),MATCH(SP_PIANO!G$4,BASE!$B$2:$F$2,0)+1,,,\"BASE\")),IF($B5=\"U\",-INDIRECT(ADDRESS(4+MATCH(\"U\",CE_PIANO!$B$5:$B$206,0),COLUMN(SP_PIANO!G$4),,,\"CE_PIANO\")),IF(ISERROR(VLOOKUP($A5,Attivita_Passivita!$B$6:$Q$105,COLUMN(Attivita_Passivita!N$4)-1,FALSE)),0,VLOOKUP($A5,Attivita_Passivita!$B$6:$Q$105,COLUMN(Attivita_Passivita!N$4)-1,FALSE))))))","v":1400},{"$f":"IF($A5=\"\",\"\",IF(H$4=\"\",\"\",IF(OR($B5=\"X\", $B5=\"I\"),INDIRECT(ADDRESS(IF($B5=\"X\",12,13),MATCH(SP_PIANO!H$4,BASE!$B$2:$F$2,0)+1,,,\"BASE\")),IF($B5=\"U\",-INDIRECT(ADDRESS(4+MATCH(\"U\",CE_PIANO!$B$5:$B$206,0),COLUMN(SP_PIANO!H$4),,,\"CE_PIANO\")),IF(ISERROR(VLOOKUP($A5,Attivita_Passivita!$B$6:$Q$105,COLUMN(Attivita_Passivita!O$4)-1,FALSE)),0,VLOOKUP($A5,Attivita_Passivita!$B$6:$Q$105,COLUMN(Attivita_Passivita!O$4)-1,FALSE))))))","v":1500}]
[{"$f":"IF(SP_STORICO!A6=\"\",\"\",SP_STORICO!A6)","v":"010111_Software"},{"$f":"IF($A6=\"\",\"\",VLOOKUP(A6,SCHEMA_SP!$E$5:$F$54,2,FALSE))","v":"A"},{"$f":"IF(SP_STORICO!A6=\"\",\"\",SP_STORICO!B6)","v":"Software"},{"$f":"IF(SP_STORICO!C6=\"\",\"\",SP_STORICO!C6)","v":""},{"$f":"IF(SP_STORICO!D6=\"\",\"\",SP_STORICO!D6)","v":""},{"$f":"IF($A6=\"\",\"\",IF(F$4=\"\",\"\",IF(OR($B6=\"X\", $B6=\"I\"),INDIRECT(ADDRESS(IF($B6=\"X\",12,13),MATCH(SP_PIANO!F$4,BASE!$B$2:$F$2,0)+1,,,\"BASE\")),IF($B6=\"U\",-INDIRECT(ADDRESS(4+MATCH(\"U\",CE_PIANO!$B$5:$B$206,0),COLUMN(SP_PIANO!F$4),,,\"CE_PIANO\")),IF(ISERROR(VLOOKUP($A6,Attivita_Passivita!$B$6:$Q$105,COLUMN(Attivita_Passivita!M$4)-1,FALSE)),0,VLOOKUP($A6,Attivita_Passivita!$B$6:$Q$105,COLUMN(Attivita_Passivita!M$4)-1,FALSE))))))","v":1000},{"$f":"IF($A6=\"\",\"\",IF(G$4=\"\",\"\",IF(OR($B6=\"X\", $B6=\"I\"),INDIRECT(ADDRESS(IF($B6=\"X\",12,13),MATCH(SP_PIANO!G$4,BASE!$B$2:$F$2,0)+1,,,\"BASE\")),IF($B6=\"U\",-INDIRECT(ADDRESS(4+MATCH(\"U\",CE_PIANO!$B$5:$B$206,0),COLUMN(SP_PIANO!G$4),,,\"CE_PIANO\")),IF(ISERROR(VLOOKUP($A6,Attivita_Passivita!$B$6:$Q$105,COLUMN(Attivita_Passivita!N$4)-1,FALSE)),0,VLOOKUP($A6,Attivita_Passivita!$B$6:$Q$105,COLUMN(Attivita_Passivita!N$4)-1,FALSE))))))","v":1200},{"$f":"IF($A6=\"\",\"\",IF(H$4=\"\",\"\",IF(OR($B6=\"X\", $B6=\"I\"),INDIRECT(ADDRESS(IF($B6=\"X\",12,13),MATCH(SP_PIANO!H$4,BASE!$B$2:$F$2,0)+1,,,\"BASE\")),IF($B6=\"U\",-INDIRECT(ADDRESS(4+MATCH(\"U\",CE_PIANO!$B$5:$B$206,0),COLUMN(SP_PIANO!H$4),,,\"CE_PIANO\")),IF(ISERROR(VLOOKUP($A6,Attivita_Passivita!$B$6:$Q$105,COLUMN(Attivita_Passivita!O$4)-1,FALSE)),0,VLOOKUP($A6,Attivita_Passivita!$B$6:$Q$105,COLUMN(Attivita_Passivita!O$4)-1,FALSE))))))","v":1300}]
[{"$f":"IF(SP_STORICO!A7=\"\",\"\",SP_STORICO!A7)","v":"010199_IMMOBILIZZAZIONI IMMATERIALI"},{"$f":"IF($A7=\"\",\"\",VLOOKUP(A7,SCHEMA_SP!$E$5:$F$54,2,FALSE))","v":0},{"$f":"IF(SP_STORICO!A7=\"\",\"\",SP_STORICO!B7)","v":"IMMOBILIZZAZIONI IMMATERIALI"},{"$f":"IF(SP_STORICO!C7=\"\",\"\",SP_STORICO!C7)","v":0},{"$f":"IF(SP_STORICO!D7=\"\",\"\",SP_STORICO!D7)","v":0},{"$f":"SUM(F5:F6)","v":2300},{"$f":"SUM(G5:G6)","v":2600},{"$f":"SUM(H5:H6)","v":2800}]
[{"$f":"IF(SP_STORICO!A8=\"\",\"\",SP_STORICO!A8)","v":""},{"$f":"IF($A8=\"\",\"\",VLOOKUP(A8,SCHEMA_SP!$E$5:$F$54,2,FALSE))","v":""},{"$f":"IF(SP_STORICO!A8=\"\",\"\",SP_STORICO!B8)","v":""},{"$f":"IF(SP_STORICO!C8=\"\",\"\",SP_STORICO!C8)","v":""},{"$f":"IF(SP_STORICO!D8=\"\",\"\",SP_STORICO!D8)","v":""},{"$f":"IF($A8=\"\",\"\",IF(F$4=\"\",\"\",IF(OR($B8=\"X\", $B8=\"I\"),INDIRECT(ADDRESS(IF($B8=\"X\",12,13),MATCH(SP_PIANO!F$4,BASE!$B$2:$F$2,0)+1,,,\"BASE\")),IF($B8=\"U\",-INDIRECT(ADDRESS(4+MATCH(\"U\",CE_PIANO!$B$5:$B$206,0),COLUMN(SP_PIANO!F$4),,,\"CE_PIANO\")),IF(ISERROR(VLOOKUP($A8,Attivita_Passivita!$B$6:$Q$105,COLUMN(Attivita_Passivita!M$4)-1,FALSE)),0,VLOOKUP($A8,Attivita_Passivita!$B$6:$Q$105,COLUMN(Attivita_Passivita!M$4)-1,FALSE))))))","v":""},{"$f":"IF($A8=\"\",\"\",IF(G$4=\"\",\"\",IF(OR($B8=\"X\", $B8=\"I\"),INDIRECT(ADDRESS(IF($B8=\"X\",12,13),MATCH(SP_PIANO!G$4,BASE!$B$2:$F$2,0)+1,,,\"BASE\")),IF($B8=\"U\",-INDIRECT(ADDRESS(4+MATCH(\"U\",CE_PIANO!$B$5:$B$206,0),COLUMN(SP_PIANO!G$4),,,\"CE_PIANO\")),IF(ISERROR(VLOOKUP($A8,Attivita_Passivita!$B$6:$Q$105,COLUMN(Attivita_Passivita!N$4)-1,FALSE)),0,VLOOKUP($A8,Attivita_Passivita!$B$6:$Q$105,COLUMN(Attivita_Passivita!N$4)-1,FALSE))))))","v":""},{"$f":"IF($A8=\"\",\"\",IF(H$4=\"\",\"\",IF(OR($B8=\"X\", $B8=\"I\"),INDIRECT(ADDRESS(IF($B8=\"X\",12,13),MATCH(SP_PIANO!H$4,BASE!$B$2:$F$2,0)+1,,,\"BASE\")),IF($B8=\"U\",-INDIRECT(ADDRESS(4+MATCH(\"U\",CE_PIANO!$B$5:$B$206,0),COLUMN(SP_PIANO!H$4),,,\"CE_PIANO\")),IF(ISERROR(VLOOKUP($A8,Attivita_Passivita!$B$6:$Q$105,COLUMN(Attivita_Passivita!O$4)-1,FALSE)),0,VLOOKUP($A8,Attivita_Passivita!$B$6:$Q$105,COLUMN(Attivita_Passivita!O$4)-1,FALSE))))))","v":""}]
[{"$f":"IF(SP_STORICO!A9=\"\",\"\",SP_STORICO!A9)","v":"010201_Terreni e fabbricati"},{"$f":"IF($A9=\"\",\"\",VLOOKUP(A9,SCHEMA_SP!$E$5:$F$54,2,FALSE))","v":"A"},{"$f":"IF(SP_STORICO!A9=\"\",\"\",SP_STORICO!B9)","v":"Terreni e fabbricati"},{"$f":"IF(SP_STORICO!C9=\"\",\"\",SP_STORICO!C9)","v":""},{"$f":"IF(SP_STORICO!D9=\"\",\"\",SP_STORICO!D9)","v":""},{"$f":"IF($A9=\"\",\"\",IF(F$4=\"\",\"\",IF(OR($B9=\"X\", $B9=\"I\"),INDIRECT(ADDRESS(IF($B9=\"X\",12,13),MATCH(SP_PIANO!F$4,BASE!$B$2:$F$2,0)+1,,,\"BASE\")),IF($B9=\"U\",-INDIRECT(ADDRESS(4+MATCH(\"U\",CE_PIANO!$B$5:$B$206,0),COLUMN(SP_PIANO!F$4),,,\"CE_PIANO\")),IF(ISERROR(VLOOKUP($A9,Attivita_Passivita!$B$6:$Q$105,COLUMN(Attivita_Passivita!M$4)-1,FALSE)),0,VLOOKUP($A9,Attivita_Passivita!$B$6:$Q$105,COLUMN(Attivita_Passivita!M$4)-1,FALSE))))))","v":800},{"$f":"IF($A9=\"\",\"\",IF(G$4=\"\",\"\",IF(OR($B9=\"X\", $B9=\"I\"),INDIRECT(ADDRESS(IF($B9=\"X\",12,13),MATCH(SP_PIANO!G$4,BASE!$B$2:$F$2,0)+1,,,\"BASE\")),IF($B9=\"U\",-INDIRECT(ADDRESS(4+MATCH(\"U\",CE_PIANO!$B$5:$B$206,0),COLUMN(SP_PIANO!G$4),,,\"CE_PIANO\")),IF(ISERROR(VLOOKUP($A9,Attivita_Passivita!$B$6:$Q$105,COLUMN(Attivita_Passivita!N$4)-1,FALSE)),0,VLOOKUP($A9,Attivita_Passivita!$B$6:$Q$105,COLUMN(Attivita_Passivita!N$4)-1,FALSE))))))","v":800},{"$f":"IF($A9=\"\",\"\",IF(H$4=\"\",\"\",IF(OR($B9=\"X\", $B9=\"I\"),INDIRECT(ADDRESS(IF($B9=\"X\",12,13),MATCH(SP_PIANO!H$4,BASE!$B$2:$F$2,0)+1,,,\"BASE\")),IF($B9=\"U\",-INDIRECT(ADDRESS(4+MATCH(\"U\",CE_PIANO!$B$5:$B$206,0),COLUMN(SP_PIANO!H$4),,,\"CE_PIANO\")),IF(ISERROR(VLOOKUP($A9,Attivita_Passivita!$B$6:$Q$105,COLUMN(Attivita_Passivita!O$4)-1,FALSE)),0,VLOOKUP($A9,Attivita_Passivita!$B$6:$Q$105,COLUMN(Attivita_Passivita!O$4)-1,FALSE))))))","v":800}]
[{"$f":"IF(SP_STORICO!A10=\"\",\"\",SP_STORICO!A10)","v":"010211_Attrezzature e impianti"},{"$f":"IF($A10=\"\",\"\",VLOOKUP(A10,SCHEMA_SP!$E$5:$F$54,2,FALSE))","v":"A"},{"$f":"IF(SP_STORICO!A10=\"\",\"\",SP_STORICO!B10)","v":"Attrezzature e impianti"},{"$f":"IF(SP_STORICO!C10=\"\",\"\",SP_STORICO!C10)","v":""},{"$f":"IF(SP_STORICO!D10=\"\",\"\",SP_STORICO!D10)","v":""},{"$f":"IF($A10=\"\",\"\",IF(F$4=\"\",\"\",IF(OR($B10=\"X\", $B10=\"I\"),INDIRECT(ADDRESS(IF($B10=\"X\",12,13),MATCH(SP_PIANO!F$4,BASE!$B$2:$F$2,0)+1,,,\"BASE\")),IF($B10=\"U\",-INDIRECT(ADDRESS(4+MATCH(\"U\",CE_PIANO!$B$5:$B$206,0),COLUMN(SP_PIANO!F$4),,,\"CE_PIANO\")),IF(ISERROR(VLOOKUP($A10,Attivita_Passivita!$B$6:$Q$105,COLUMN(Attivita_Passivita!M$4)-1,FALSE)),0,VLOOKUP($A10,Attivita_Passivita!$B$6:$Q$105,COLUMN(Attivita_Passivita!M$4)-1,FALSE))))))","v":8000},{"$f":"IF($A10=\"\",\"\",IF(G$4=\"\",\"\",IF(OR($B10=\"X\", $B10=\"I\"),INDIRECT(ADDRESS(IF($B10=\"X\",12,13),MATCH(SP_PIANO!G$4,BASE!$B$2:$F$2,0)+1,,,\"BASE\")),IF($B10=\"U\",-INDIRECT(ADDRESS(4+MATCH(\"U\",CE_PIANO!$B$5:$B$206,0),COLUMN(SP_PIANO!G$4),,,\"CE_PIANO\")),IF(ISERROR(VLOOKUP($A10,Attivita_Passivita!$B$6:$Q$105,COLUMN(Attivita_Passivita!N$4)-1,FALSE)),0,VLOOKUP($A10,Attivita_Passivita!$B$6:$Q$105,COLUMN(Attivita_Passivita!N$4)-1,FALSE))))))","v":8500},{"$f":"IF($A10=\"\",\"\",IF(H$4=\"\",\"\",IF(OR($B10=\"X\", $B10=\"I\"),INDIRECT(ADDRESS(IF($B10=\"X\",12,13),MATCH(SP_PIANO!H$4,BASE!$B$2:$F$2,0)+1,,,\"BASE\")),IF($B10=\"U\",-INDIRECT(ADDRESS(4+MATCH(\"U\",CE_PIANO!$B$5:$B$206,0),COLUMN(SP_PIANO!H$4),,,\"CE_PIANO\")),IF(ISERROR(VLOOKUP($A10,Attivita_Passivita!$B$6:$Q$105,COLUMN(Attivita_Passivita!O$4)-1,FALSE)),0,VLOOKUP($A10,Attivita_Passivita!$B$6:$Q$105,COLUMN(Attivita_Passivita!O$4)-1,FALSE))))))","v":9000}]
[{"$f":"IF(SP_STORICO!A11=\"\",\"\",SP_STORICO!A11)","v":"010221_Altri beni"},{"$f":"IF($A11=\"\",\"\",VLOOKUP(A11,SCHEMA_SP!$E$5:$F$54,2,FALSE))","v":"A"},{"$f":"IF(SP_STORICO!A11=\"\",\"\",SP_STORICO!B11)","v":"Altri beni"},{"$f":"IF(SP_STORICO!C11=\"\",\"\",SP_STORICO!C11)","v":""},{"$f":"IF(SP_STORICO!D11=\"\",\"\",SP_STORICO!D11)","v":""},{"$f":"IF($A11=\"\",\"\",IF(F$4=\"\",\"\",IF(OR($B11=\"X\", $B11=\"I\"),INDIRECT(ADDRESS(IF($B11=\"X\",12,13),MATCH(SP_PIANO!F$4,BASE!$B$2:$F$2,0)+1,,,\"BASE\")),IF($B11=\"U\",-INDIRECT(ADDRESS(4+MATCH(\"U\",CE_PIANO!$B$5:$B$206,0),COLUMN(SP_PIANO!F$4),,,\"CE_PIANO\")),IF(ISERROR(VLOOKUP($A11,Attivita_Passivita!$B$6:$Q$105,COLUMN(Attivita_Passivita!M$4)-1,FALSE)),0,VLOOKUP($A11,Attivita_Passivita!$B$6:$Q$105,COLUMN(Attivita_Passivita!M$4)-1,FALSE))))))","v":100},{"$f":"IF($A11=\"\",\"\",IF(G$4=\"\",\"\",IF(OR($B11=\"X\", $B11=\"I\"),INDIRECT(ADDRESS(IF($B11=\"X\",12,13),MATCH(SP_PIANO!G$4,BASE!$B$2:$F$2,0)+1,,,\"BASE\")),IF($B11=\"U\",-INDIRECT(ADDRESS(4+MATCH(\"U\",CE_PIANO!$B$5:$B$206,0),COLUMN(SP_PIANO!G$4),,,\"CE_PIANO\")),IF(ISERROR(VLOOKUP($A11,Attivita_Passivita!$B$6:$Q$105,COLUMN(Attivita_Passivita!N$4)-1,FALSE)),0,VLOOKUP($A11,Attivita_Passivita!$B$6:$Q$105,COLUMN(Attivita_Passivita!N$4)-1,FALSE))))))","v":100},{"$f":"IF($A11=\"\",\"\",IF(H$4=\"\",\"\",IF(OR($B11=\"X\", $B11=\"I\"),INDIRECT(ADDRESS(IF($B11=\"X\",12,13),MATCH(SP_PIANO!H$4,BASE!$B$2:$F$2,0)+1,,,\"BASE\")),IF($B11=\"U\",-INDIRECT(ADDRESS(4+MATCH(\"U\",CE_PIANO!$B$5:$B$206,0),COLUMN(SP_PIANO!H$4),,,\"CE_PIANO\")),IF(ISERROR(VLOOKUP($A11,Attivita_Passivita!$B$6:$Q$105,COLUMN(Attivita_Passivita!O$4)-1,FALSE)),0,VLOOKUP($A11,Attivita_Passivita!$B$6:$Q$105,COLUMN(Attivita_Passivita!O$4)-1,FALSE))))))","v":100}]
[{"$f":"IF(SP_STORICO!A12=\"\",\"\",SP_STORICO!A12)","v":"010299_IMMOBILIZZAZIONI MATERIALI"},{"$f":"IF($A12=\"\",\"\",VLOOKUP(A12,SCHEMA_SP!$E$5:$F$54,2,FALSE))","v":0},{"$f":"IF(SP_STORICO!A12=\"\",\"\",SP_STORICO!B12)","v":"IMMOBILIZZAZIONI MATERIALI"},{"$f":"IF(SP_STORICO!C12=\"\",\"\",SP_STORICO!C12)","v":0},{"$f":"IF(SP_STORICO!D12=\"\",\"\",SP_STORICO!D12)","v":0},{"$f":"SUM(F9:F11)","v":8900},{"$f":"SUM(G9:G11)","v":9400},{"$f":"SUM(H9:H11)","v":9900}]
[{"$f":"IF(SP_STORICO!A13=\"\",\"\",SP_STORICO!A13)","v":""},{"$f":"IF($A13=\"\",\"\",VLOOKUP(A13,SCHEMA_SP!$E$5:$F$54,2,FALSE))","v":""},{"$f":"IF(SP_STORICO!A13=\"\",\"\",SP_STORICO!B13)","v":""},{"$f":"IF(SP_STORICO!C13=\"\",\"\",SP_STORICO!C13)","v":""},{"$f":"IF(SP_STORICO!D13=\"\",\"\",SP_STORICO!D13)","v":""},{"$f":"IF($A13=\"\",\"\",IF(F$4=\"\",\"\",IF(OR($B13=\"X\", $B13=\"I\"),INDIRECT(ADDRESS(IF($B13=\"X\",12,13),MATCH(SP_PIANO!F$4,BASE!$B$2:$F$2,0)+1,,,\"BASE\")),IF($B13=\"U\",-INDIRECT(ADDRESS(4+MATCH(\"U\",CE_PIANO!$B$5:$B$206,0),COLUMN(SP_PIANO!F$4),,,\"CE_PIANO\")),IF(ISERROR(VLOOKUP($A13,Attivita_Passivita!$B$6:$Q$105,COLUMN(Attivita_Passivita!M$4)-1,FALSE)),0,VLOOKUP($A13,Attivita_Passivita!$B$6:$Q$105,COLUMN(Attivita_Passivita!M$4)-1,FALSE))))))","v":""},{"$f":"IF($A13=\"\",\"\",IF(G$4=\"\",\"\",IF(OR($B13=\"X\", $B13=\"I\"),INDIRECT(ADDRESS(IF($B13=\"X\",12,13),MATCH(SP_PIANO!G$4,BASE!$B$2:$F$2,0)+1,,,\"BASE\")),IF($B13=\"U\",-INDIRECT(ADDRESS(4+MATCH(\"U\",CE_PIANO!$B$5:$B$206,0),COLUMN(SP_PIANO!G$4),,,\"CE_PIANO\")),IF(ISERROR(VLOOKUP($A13,Attivita_Passivita!$B$6:$Q$105,COLUMN(Attivita_Passivita!N$4)-1,FALSE)),0,VLOOKUP($A13,Attivita_Passivita!$B$6:$Q$105,COLUMN(Attivita_Passivita!N$4)-1,FALSE))))))","v":""},{"$f":"IF($A13=\"\",\"\",IF(H$4=\"\",\"\",IF(OR($B13=\"X\", $B13=\"I\"),INDIRECT(ADDRESS(IF($B13=\"X\",12,13),MATCH(SP_PIANO!H$4,BASE!$B$2:$F$2,0)+1,,,\"BASE\")),IF($B13=\"U\",-INDIRECT(ADDRESS(4+MATCH(\"U\",CE_PIANO!$B$5:$B$206,0),COLUMN(SP_PIANO!H$4),,,\"CE_PIANO\")),IF(ISERROR(VLOOKUP($A13,Attivita_Passivita!$B$6:$Q$105,COLUMN(Attivita_Passivita!O$4)-1,FALSE)),0,VLOOKUP($A13,Attivita_Passivita!$B$6:$Q$105,COLUMN(Attivita_Passivita!O$4)-1,FALSE))))))","v":""}]
[{"$f":"IF(SP_STORICO!A14=\"\",\"\",SP_STORICO!A14)","v":"010301_Partecipazioni"},{"$f":"IF($A14=\"\",\"\",VLOOKUP(A14,SCHEMA_SP!$E$5:$F$54,2,FALSE))","v":"A"},{"$f":"IF(SP_STORICO!A14=\"\",\"\",SP_STORICO!B14)","v":"Partecipazioni"},{"$f":"IF(SP_STORICO!C14=\"\",\"\",SP_STORICO!C14)","v":""},{"$f":"IF(SP_STORICO!D14=\"\",\"\",SP_STORICO!D14)","v":""},{"$f":"IF($A14=\"\",\"\",IF(F$4=\"\",\"\",IF(OR($B14=\"X\", $B14=\"I\"),INDIRECT(ADDRESS(IF($B14=\"X\",12,13),MATCH(SP_PIANO!F$4,BASE!$B$2:$F$2,0)+1,,,\"BASE\")),IF($B14=\"U\",-INDIRECT(ADDRESS(4+MATCH(\"U\",CE_PIANO!$B$5:$B$206,0),COLUMN(SP_PIANO!F$4),,,\"CE_PIANO\")),IF(ISERROR(VLOOKUP($A14,Attivita_Passivita!$B$6:$Q$105,COLUMN(Attivita_Passivita!M$4)-1,FALSE)),0,VLOOKUP($A14,Attivita_Passivita!$B$6:$Q$105,COLUMN(Attivita_Passivita!M$4)-1,FALSE))))))","v":20},{"$f":"IF($A14=\"\",\"\",IF(G$4=\"\",\"\",IF(OR($B14=\"X\", $B14=\"I\"),INDIRECT(ADDRESS(IF($B14=\"X\",12,13),MATCH(SP_PIANO!G$4,BASE!$B$2:$F$2,0)+1,,,\"BASE\")),IF($B14=\"U\",-INDIRECT(ADDRESS(4+MATCH(\"U\",CE_PIANO!$B$5:$B$206,0),COLUMN(SP_PIANO!G$4),,,\"CE_PIANO\")),IF(ISERROR(VLOOKUP($A14,Attivita_Passivita!$B$6:$Q$105,COLUMN(Attivita_Passivita!N$4)-1,FALSE)),0,VLOOKUP($A14,Attivita_Passivita!$B$6:$Q$105,COLUMN(Attivita_Passivita!N$4)-1,FALSE))))))","v":20},{"$f":"IF($A14=\"\",\"\",IF(H$4=\"\",\"\",IF(OR($B14=\"X\", $B14=\"I\"),INDIRECT(ADDRESS(IF($B14=\"X\",12,13),MATCH(SP_PIANO!H$4,BASE!$B$2:$F$2,0)+1,,,\"BASE\")),IF($B14=\"U\",-INDIRECT(ADDRESS(4+MATCH(\"U\",CE_PIANO!$B$5:$B$206,0),COLUMN(SP_PIANO!H$4),,,\"CE_PIANO\")),IF(ISERROR(VLOOKUP($A14,Attivita_Passivita!$B$6:$Q$105,COLUMN(Attivita_Passivita!O$4)-1,FALSE)),0,VLOOKUP($A14,Attivita_Passivita!$B$6:$Q$105,COLUMN(Attivita_Passivita!O$4)-1,FALSE))))))","v":20}]
[{"$f":"IF(SP_STORICO!A15=\"\",\"\",SP_STORICO!A15)","v":"010311_Crediti"},{"$f":"IF($A15=\"\",\"\",VLOOKUP(A15,SCHEMA_SP!$E$5:$F$54,2,FALSE))","v":"A"},{"$f":"IF(SP_STORICO!A15=\"\",\"\",SP_STORICO!B15)","v":"Crediti"},{"$f":"IF(SP_STORICO!C15=\"\",\"\",SP_STORICO!C15)","v":""},{"$f":"IF(SP_STORICO!D15=\"\",\"\",SP_STORICO!D15)","v":""},{"$f":"IF($A15=\"\",\"\",IF(F$4=\"\",\"\",IF(OR($B15=\"X\", $B15=\"I\"),INDIRECT(ADDRESS(IF($B15=\"X\",12,13),MATCH(SP_PIANO!F$4,BASE!$B$2:$F$2,0)+1,,,\"BASE\")),IF($B15=\"U\",-INDIRECT(ADDRESS(4+MATCH(\"U\",CE_PIANO!$B$5:$B$206,0),COLUMN(SP_PIANO!F$4),,,\"CE_PIANO\")),IF(ISERROR(VLOOKUP($A15,Attivita_Passivita!$B$6:$Q$105,COLUMN(Attivita_Passivita!M$4)-1,FALSE)),0,VLOOKUP($A15,Attivita_Passivita!$B$6:$Q$105,COLUMN(Attivita_Passivita!M$4)-1,FALSE))))))","v":10},{"$f":"IF($A15=\"\",\"\",IF(G$4=\"\",\"\",IF(OR($B15=\"X\", $B15=\"I\"),INDIRECT(ADDRESS(IF($B15=\"X\",12,13),MATCH(SP_PIANO!G$4,BASE!$B$2:$F$2,0)+1,,,\"BASE\")),IF($B15=\"U\",-INDIRECT(ADDRESS(4+MATCH(\"U\",CE_PIANO!$B$5:$B$206,0),COLUMN(SP_PIANO!G$4),,,\"CE_PIANO\")),IF(ISERROR(VLOOKUP($A15,Attivita_Passivita!$B$6:$Q$105,COLUMN(Attivita_Passivita!N$4)-1,FALSE)),0,VLOOKUP($A15,Attivita_Passivita!$B$6:$Q$105,COLUMN(Attivita_Passivita!N$4)-1,FALSE))))))","v":10},{"$f":"IF($A15=\"\",\"\",IF(H$4=\"\",\"\",IF(OR($B15=\"X\", $B15=\"I\"),INDIRECT(ADDRESS(IF($B15=\"X\",12,13),MATCH(SP_PIANO!H$4,BASE!$B$2:$F$2,0)+1,,,\"BASE\")),IF($B15=\"U\",-INDIRECT(ADDRESS(4+MATCH(\"U\",CE_PIANO!$B$5:$B$206,0),COLUMN(SP_PIANO!H$4),,,\"CE_PIANO\")),IF(ISERROR(VLOOKUP($A15,Attivita_Passivita!$B$6:$Q$105,COLUMN(Attivita_Passivita!O$4)-1,FALSE)),0,VLOOKUP($A15,Attivita_Passivita!$B$6:$Q$105,COLUMN(Attivita_Passivita!O$4)-1,FALSE))))))","v":10}]
[{"$f":"IF(SP_STORICO!A16=\"\",\"\",SP_STORICO!A16)","v":"010321_Altri"},{"$f":"IF($A16=\"\",\"\",VLOOKUP(A16,SCHEMA_SP!$E$5:$F$54,2,FALSE))","v":"A"},{"$f":"IF(SP_STORICO!A16=\"\",\"\",SP_STORICO!B16)","v":"Altri"},{"$f":"IF(SP_STORICO!C16=\"\",\"\",SP_STORICO!C16)","v":""},{"$f":"IF(SP_STORICO!D16=\"\",\"\",SP_STORICO!D16)","v":""},{"$f":"IF($A16=\"\",\"\",IF(F$4=\"\",\"\",IF(OR($B16=\"X\", $B16=\"I\"),INDIRECT(ADDRESS(IF($B16=\"X\",12,13),MATCH(SP_PIANO!F$4,BASE!$B$2:$F$2,0)+1,,,\"BASE\")),IF($B16=\"U\",-INDIRECT(ADDRESS(4+MATCH(\"U\",CE_PIANO!$B$5:$B$206,0),COLUMN(SP_PIANO!F$4),,,\"CE_PIANO\")),IF(ISERROR(VLOOKUP($A16,Attivita_Passivita!$B$6:$Q$105,COLUMN(Attivita_Passivita!M$4)-1,FALSE)),0,VLOOKUP($A16,Attivita_Passivita!$B$6:$Q$105,COLUMN(Attivita_Passivita!M$4)-1,FALSE))))))","v":20},{"$f":"IF($A16=\"\",\"\",IF(G$4=\"\",\"\",IF(OR($B16=\"X\", $B16=\"I\"),INDIRECT(ADDRESS(IF($B16=\"X\",12,13),MATCH(SP_PIANO!G$4,BASE!$B$2:$F$2,0)+1,,,\"BASE\")),IF($B16=\"U\",-INDIRECT(ADDRESS(4+MATCH(\"U\",CE_PIANO!$B$5:$B$206,0),COLUMN(SP_PIANO!G$4),,,\"CE_PIANO\")),IF(ISERROR(VLOOKUP($A16,Attivita_Passivita!$B$6:$Q$105,COLUMN(Attivita_Passivita!N$4)-1,FALSE)),0,VLOOKUP($A16,Attivita_Passivita!$B$6:$Q$105,COLUMN(Attivita_Passivita!N$4)-1,FALSE))))))","v":20},{"$f":"IF($A16=\"\",\"\",IF(H$4=\"\",\"\",IF(OR($B16=\"X\", $B16=\"I\"),INDIRECT(ADDRESS(IF($B16=\"X\",12,13),MATCH(SP_PIANO!H$4,BASE!$B$2:$F$2,0)+1,,,\"BASE\")),IF($B16=\"U\",-INDIRECT(ADDRESS(4+MATCH(\"U\",CE_PIANO!$B$5:$B$206,0),COLUMN(SP_PIANO!H$4),,,\"CE_PIANO\")),IF(ISERROR(VLOOKUP($A16,Attivita_Passivita!$B$6:$Q$105,COLUMN(Attivita_Passivita!O$4)-1,FALSE)),0,VLOOKUP($A16,Attivita_Passivita!$B$6:$Q$105,COLUMN(Attivita_Passivita!O$4)-1,FALSE))))))","v":20}]
[{"$f":"IF(SP_STORICO!A17=\"\",\"\",SP_STORICO!A17)","v":"010399_IMMOBILIZZAZIONI FINANZIARIE"},{"$f":"IF($A17=\"\",\"\",VLOOKUP(A17,SCHEMA_SP!$E$5:$F$54,2,FALSE))","v":0},{"$f":"IF(SP_STORICO!A17=\"\",\"\",SP_STORICO!B17)","v":"IMMOBILIZZAZIONI FINANZIARIE"},{"$f":"IF(SP_STORICO!C17=\"\",\"\",SP_STORICO!C17)","v":0},{"$f":"IF(SP_STORICO!D17=\"\",\"\",SP_STORICO!D17)","v":0},{"$f":"SUM(F14:F16)","v":50},{"$f":"SUM(G14:G16)","v":50},{"$f":"SUM(H14:H16)","v":50}]
[{"$f":"IF(SP_STORICO!A18=\"\",\"\",SP_STORICO!A18)","v":""},{"$f":"IF($A18=\"\",\"\",VLOOKUP(A18,SCHEMA_SP!$E$5:$F$54,2,FALSE))","v":""},{"$f":"IF(SP_STORICO!A18=\"\",\"\",SP_STORICO!B18)","v":""},{"$f":"IF(SP_STORICO!C18=\"\",\"\",SP_STORICO!C18)","v":""},{"$f":"IF(SP_STORICO!D18=\"\",\"\",SP_STORICO!D18)","v":""},{"$f":"IF($A18=\"\",\"\",IF(F$4=\"\",\"\",IF(OR($B18=\"X\", $B18=\"I\"),INDIRECT(ADDRESS(IF($B18=\"X\",12,13),MATCH(SP_PIANO!F$4,BASE!$B$2:$F$2,0)+1,,,\"BASE\")),IF($B18=\"U\",-INDIRECT(ADDRESS(4+MATCH(\"U\",CE_PIANO!$B$5:$B$206,0),COLUMN(SP_PIANO!F$4),,,\"CE_PIANO\")),IF(ISERROR(VLOOKUP($A18,Attivita_Passivita!$B$6:$Q$105,COLUMN(Attivita_Passivita!M$4)-1,FALSE)),0,VLOOKUP($A18,Attivita_Passivita!$B$6:$Q$105,COLUMN(Attivita_Passivita!M$4)-1,FALSE))))))","v":""},{"$f":"IF($A18=\"\",\"\",IF(G$4=\"\",\"\",IF(OR($B18=\"X\", $B18=\"I\"),INDIRECT(ADDRESS(IF($B18=\"X\",12,13),MATCH(SP_PIANO!G$4,BASE!$B$2:$F$2,0)+1,,,\"BASE\")),IF($B18=\"U\",-INDIRECT(ADDRESS(4+MATCH(\"U\",CE_PIANO!$B$5:$B$206,0),COLUMN(SP_PIANO!G$4),,,\"CE_PIANO\")),IF(ISERROR(VLOOKUP($A18,Attivita_Passivita!$B$6:$Q$105,COLUMN(Attivita_Passivita!N$4)-1,FALSE)),0,VLOOKUP($A18,Attivita_Passivita!$B$6:$Q$105,COLUMN(Attivita_Passivita!N$4)-1,FALSE))))))","v":""},{"$f":"IF($A18=\"\",\"\",IF(H$4=\"\",\"\",IF(OR($B18=\"X\", $B18=\"I\"),INDIRECT(ADDRESS(IF($B18=\"X\",12,13),MATCH(SP_PIANO!H$4,BASE!$B$2:$F$2,0)+1,,,\"BASE\")),IF($B18=\"U\",-INDIRECT(ADDRESS(4+MATCH(\"U\",CE_PIANO!$B$5:$B$206,0),COLUMN(SP_PIANO!H$4),,,\"CE_PIANO\")),IF(ISERROR(VLOOKUP($A18,Attivita_Passivita!$B$6:$Q$105,COLUMN(Attivita_Passivita!O$4)-1,FALSE)),0,VLOOKUP($A18,Attivita_Passivita!$B$6:$Q$105,COLUMN(Attivita_Passivita!O$4)-1,FALSE))))))","v":""}]
[{"$f":"IF(SP_STORICO!A19=\"\",\"\",SP_STORICO!A19)","v":"019901_IMMOBILIZZAZIONI"},{"$f":"IF($A19=\"\",\"\",VLOOKUP(A19,SCHEMA_SP!$E$5:$F$54,2,FALSE))","v":0},{"$f":"IF(SP_STORICO!A19=\"\",\"\",SP_STORICO!B19)","v":"IMMOBILIZZAZIONI"},{"$f":"IF(SP_STORICO!C19=\"\",\"\",SP_STORICO!C19)","v":0},{"$f":"IF(SP_STORICO!D19=\"\",\"\",SP_STORICO!D19)","v":0},{"$f":"+F7+F12+F17","v":11250},{"$f":"+G7+G12+G17","v":12050},{"$f":"+H7+H12+H17","v":12750}]
[{"$f":"IF(SP_STORICO!A20=\"\",\"\",SP_STORICO!A20)","v":""},{"$f":"IF($A20=\"\",\"\",VLOOKUP(A20,SCHEMA_SP!$E$5:$F$54,2,FALSE))","v":""},{"$f":"IF(SP_STORICO!A20=\"\",\"\",SP_STORICO!B20)","v":""},{"$f":"IF(SP_STORICO!C20=\"\",\"\",SP_STORICO!C20)","v":""},{"$f":"IF(SP_STORICO!D20=\"\",\"\",SP_STORICO!D20)","v":""},{"$f":"IF($A20=\"\",\"\",IF(F$4=\"\",\"\",IF(OR($B20=\"X\", $B20=\"I\"),INDIRECT(ADDRESS(IF($B20=\"X\",12,13),MATCH(SP_PIANO!F$4,BASE!$B$2:$F$2,0)+1,,,\"BASE\")),IF($B20=\"U\",-INDIRECT(ADDRESS(4+MATCH(\"U\",CE_PIANO!$B$5:$B$206,0),COLUMN(SP_PIANO!F$4),,,\"CE_PIANO\")),IF(ISERROR(VLOOKUP($A20,Attivita_Passivita!$B$6:$Q$105,COLUMN(Attivita_Passivita!M$4)-1,FALSE)),0,VLOOKUP($A20,Attivita_Passivita!$B$6:$Q$105,COLUMN(Attivita_Passivita!M$4)-1,FALSE))))))","v":""},{"$f":"IF($A20=\"\",\"\",IF(G$4=\"\",\"\",IF(OR($B20=\"X\", $B20=\"I\"),INDIRECT(ADDRESS(IF($B20=\"X\",12,13),MATCH(SP_PIANO!G$4,BASE!$B$2:$F$2,0)+1,,,\"BASE\")),IF($B20=\"U\",-INDIRECT(ADDRESS(4+MATCH(\"U\",CE_PIANO!$B$5:$B$206,0),COLUMN(SP_PIANO!G$4),,,\"CE_PIANO\")),IF(ISERROR(VLOOKUP($A20,Attivita_Passivita!$B$6:$Q$105,COLUMN(Attivita_Passivita!N$4)-1,FALSE)),0,VLOOKUP($A20,Attivita_Passivita!$B$6:$Q$105,COLUMN(Attivita_Passivita!N$4)-1,FALSE))))))","v":""},{"$f":"IF($A20=\"\",\"\",IF(H$4=\"\",\"\",IF(OR($B20=\"X\", $B20=\"I\"),INDIRECT(ADDRESS(IF($B20=\"X\",12,13),MATCH(SP_PIANO!H$4,BASE!$B$2:$F$2,0)+1,,,\"BASE\")),IF($B20=\"U\",-INDIRECT(ADDRESS(4+MATCH(\"U\",CE_PIANO!$B$5:$B$206,0),COLUMN(SP_PIANO!H$4),,,\"CE_PIANO\")),IF(ISERROR(VLOOKUP($A20,Attivita_Passivita!$B$6:$Q$105,COLUMN(Attivita_Passivita!O$4)-1,FALSE)),0,VLOOKUP($A20,Attivita_Passivita!$B$6:$Q$105,COLUMN(Attivita_Passivita!O$4)-1,FALSE))))))","v":""}]
[{"$f":"IF(SP_STORICO!A21=\"\",\"\",SP_STORICO!A21)","v":"020401_Magazzino"},{"$f":"IF($A21=\"\",\"\",VLOOKUP(A21,SCHEMA_SP!$E$5:$F$54,2,FALSE))","v":"A"},{"$f":"IF(SP_STORICO!A21=\"\",\"\",SP_STORICO!B21)","v":"Magazzino"},{"$f":"IF(SP_STORICO!C21=\"\",\"\",SP_STORICO!C21)","v":""},{"$f":"IF(SP_STORICO!D21=\"\",\"\",SP_STORICO!D21)","v":""},{"$f":"IF($A21=\"\",\"\",IF(F$4=\"\",\"\",IF(OR($B21=\"X\", $B21=\"I\"),INDIRECT(ADDRESS(IF($B21=\"X\",12,13),MATCH(SP_PIANO!F$4,BASE!$B$2:$F$2,0)+1,,,\"BASE\")),IF($B21=\"U\",-INDIRECT(ADDRESS(4+MATCH(\"U\",CE_PIANO!$B$5:$B$206,0),COLUMN(SP_PIANO!F$4),,,\"CE_PIANO\")),IF(ISERROR(VLOOKUP($A21,Attivita_Passivita!$B$6:$Q$105,COLUMN(Attivita_Passivita!M$4)-1,FALSE)),0,VLOOKUP($A21,Attivita_Passivita!$B$6:$Q$105,COLUMN(Attivita_Passivita!M$4)-1,FALSE))))))","v":700},{"$f":"IF($A21=\"\",\"\",IF(G$4=\"\",\"\",IF(OR($B21=\"X\", $B21=\"I\"),INDIRECT(ADDRESS(IF($B21=\"X\",12,13),MATCH(SP_PIANO!G$4,BASE!$B$2:$F$2,0)+1,,,\"BASE\")),IF($B21=\"U\",-INDIRECT(ADDRESS(4+MATCH(\"U\",CE_PIANO!$B$5:$B$206,0),COLUMN(SP_PIANO!G$4),,,\"CE_PIANO\")),IF(ISERROR(VLOOKUP($A21,Attivita_Passivita!$B$6:$Q$105,COLUMN(Attivita_Passivita!N$4)-1,FALSE)),0,VLOOKUP($A21,Attivita_Passivita!$B$6:$Q$105,COLUMN(Attivita_Passivita!N$4)-1,FALSE))))))","v":800},{"$f":"IF($A21=\"\",\"\",IF(H$4=\"\",\"\",IF(OR($B21=\"X\", $B21=\"I\"),INDIRECT(ADDRESS(IF($B21=\"X\",12,13),MATCH(SP_PIANO!H$4,BASE!$B$2:$F$2,0)+1,,,\"BASE\")),IF($B21=\"U\",-INDIRECT(ADDRESS(4+MATCH(\"U\",CE_PIANO!$B$5:$B$206,0),COLUMN(SP_PIANO!H$4),,,\"CE_PIANO\")),IF(ISERROR(VLOOKUP($A21,Attivita_Passivita!$B$6:$Q$105,COLUMN(Attivita_Passivita!O$4)-1,FALSE)),0,VLOOKUP($A21,Attivita_Passivita!$B$6:$Q$105,COLUMN(Attivita_Passivita!O$4)-1,FALSE))))))","v":900}]
[{"$f":"IF(SP_STORICO!A22=\"\",\"\",SP_STORICO!A22)","v":"020402_Crediti verso clienti"},{"$f":"IF($A22=\"\",\"\",VLOOKUP(A22,SCHEMA_SP!$E$5:$F$54,2,FALSE))","v":"A"},{"$f":"IF(SP_STORICO!A22=\"\",\"\",SP_STORICO!B22)","v":"Crediti verso clienti"},{"$f":"IF(SP_STORICO!C22=\"\",\"\",SP_STORICO!C22)","v":""},{"$f":"IF(SP_STORICO!D22=\"\",\"\",SP_STORICO!D22)","v":""},{"$f":"IF($A22=\"\",\"\",IF(F$4=\"\",\"\",IF(OR($B22=\"X\", $B22=\"I\"),INDIRECT(ADDRESS(IF($B22=\"X\",12,13),MATCH(SP_PIANO!F$4,BASE!$B$2:$F$2,0)+1,,,\"BASE\")),IF($B22=\"U\",-INDIRECT(ADDRESS(4+MATCH(\"U\",CE_PIANO!$B$5:$B$206,0),COLUMN(SP_PIANO!F$4),,,\"CE_PIANO\")),IF(ISERROR(VLOOKUP($A22,Attivita_Passivita!$B$6:$Q$105,COLUMN(Attivita_Passivita!M$4)-1,FALSE)),0,VLOOKUP($A22,Attivita_Passivita!$B$6:$Q$105,COLUMN(Attivita_Passivita!M$4)-1,FALSE))))))","v":7000},{"$f":"IF($A22=\"\",\"\",IF(G$4=\"\",\"\",IF(OR($B22=\"X\", $B22=\"I\"),INDIRECT(ADDRESS(IF($B22=\"X\",12,13),MATCH(SP_PIANO!G$4,BASE!$B$2:$F$2,0)+1,,,\"BASE\")),IF($B22=\"U\",-INDIRECT(ADDRESS(4+MATCH(\"U\",CE_PIANO!$B$5:$B$206,0),COLUMN(SP_PIANO!G$4),,,\"CE_PIANO\")),IF(ISERROR(VLOOKUP($A22,Attivita_Passivita!$B$6:$Q$105,COLUMN(Attivita_Passivita!N$4)-1,FALSE)),0,VLOOKUP($A22,Attivita_Passivita!$B$6:$Q$105,COLUMN(Attivita_Passivita!N$4)-1,FALSE))))))","v":8000},{"$f":"IF($A22=\"\",\"\",IF(H$4=\"\",\"\",IF(OR($B22=\"X\", $B22=\"I\"),INDIRECT(ADDRESS(IF($B22=\"X\",12,13),MATCH(SP_PIANO!H$4,BASE!$B$2:$F$2,0)+1,,,\"BASE\")),IF($B22=\"U\",-INDIRECT(ADDRESS(4+MATCH(\"U\",CE_PIANO!$B$5:$B$206,0),COLUMN(SP_PIANO!H$4),,,\"CE_PIANO\")),IF(ISERROR(VLOOKUP($A22,Attivita_Passivita!$B$6:$Q$105,COLUMN(Attivita_Passivita!O$4)-1,FALSE)),0,VLOOKUP($A22,Attivita_Passivita!$B$6:$Q$105,COLUMN(Attivita_Passivita!O$4)-1,FALSE))))))","v":9000}]
[{"$f":"IF(SP_STORICO!A23=\"\",\"\",SP_STORICO!A23)","v":"020403_Altri crediti"},{"$f":"IF($A23=\"\",\"\",VLOOKUP(A23,SCHEMA_SP!$E$5:$F$54,2,FALSE))","v":"A"},{"$f":"IF(SP_STORICO!A23=\"\",\"\",SP_STORICO!B23)","v":"Altri crediti"},{"$f":"IF(SP_STORICO!C23=\"\",\"\",SP_STORICO!C23)","v":""},{"$f":"IF(SP_STORICO!D23=\"\",\"\",SP_STORICO!D23)","v":""},{"$f":"IF($A23=\"\",\"\",IF(F$4=\"\",\"\",IF(OR($B23=\"X\", $B23=\"I\"),INDIRECT(ADDRESS(IF($B23=\"X\",12,13),MATCH(SP_PIANO!F$4,BASE!$B$2:$F$2,0)+1,,,\"BASE\")),IF($B23=\"U\",-INDIRECT(ADDRESS(4+MATCH(\"U\",CE_PIANO!$B$5:$B$206,0),COLUMN(SP_PIANO!F$4),,,\"CE_PIANO\")),IF(ISERROR(VLOOKUP($A23,Attivita_Passivita!$B$6:$Q$105,COLUMN(Attivita_Passivita!M$4)-1,FALSE)),0,VLOOKUP($A23,Attivita_Passivita!$B$6:$Q$105,COLUMN(Attivita_Passivita!M$4)-1,FALSE))))))","v":1000},{"$f":"IF($A23=\"\",\"\",IF(G$4=\"\",\"\",IF(OR($B23=\"X\", $B23=\"I\"),INDIRECT(ADDRESS(IF($B23=\"X\",12,13),MATCH(SP_PIANO!G$4,BASE!$B$2:$F$2,0)+1,,,\"BASE\")),IF($B23=\"U\",-INDIRECT(ADDRESS(4+MATCH(\"U\",CE_PIANO!$B$5:$B$206,0),COLUMN(SP_PIANO!G$4),,,\"CE_PIANO\")),IF(ISERROR(VLOOKUP($A23,Attivita_Passivita!$B$6:$Q$105,COLUMN(Attivita_Passivita!N$4)-1,FALSE)),0,VLOOKUP($A23,Attivita_Passivita!$B$6:$Q$105,COLUMN(Attivita_Passivita!N$4)-1,FALSE))))))","v":1000},{"$f":"IF($A23=\"\",\"\",IF(H$4=\"\",\"\",IF(OR($B23=\"X\", $B23=\"I\"),INDIRECT(ADDRESS(IF($B23=\"X\",12,13),MATCH(SP_PIANO!H$4,BASE!$B$2:$F$2,0)+1,,,\"BASE\")),IF($B23=\"U\",-INDIRECT(ADDRESS(4+MATCH(\"U\",CE_PIANO!$B$5:$B$206,0),COLUMN(SP_PIANO!H$4),,,\"CE_PIANO\")),IF(ISERROR(VLOOKUP($A23,Attivita_Passivita!$B$6:$Q$105,COLUMN(Attivita_Passivita!O$4)-1,FALSE)),0,VLOOKUP($A23,Attivita_Passivita!$B$6:$Q$105,COLUMN(Attivita_Passivita!O$4)-1,FALSE))))))","v":1000}]
[{"$f":"IF(SP_STORICO!A24=\"\",\"\",SP_STORICO!A24)","v":"020404_Ratei/risconti attivi"},{"$f":"IF($A24=\"\",\"\",VLOOKUP(A24,SCHEMA_SP!$E$5:$F$54,2,FALSE))","v":"A"},{"$f":"IF(SP_STORICO!A24=\"\",\"\",SP_STORICO!B24)","v":"Ratei/risconti attivi"},{"$f":"IF(SP_STORICO!C24=\"\",\"\",SP_STORICO!C24)","v":""},{"$f":"IF(SP_STORICO!D24=\"\",\"\",SP_STORICO!D24)","v":""},{"$f":"IF($A24=\"\",\"\",IF(F$4=\"\",\"\",IF(OR($B24=\"X\", $B24=\"I\"),INDIRECT(ADDRESS(IF($B24=\"X\",12,13),MATCH(SP_PIANO!F$4,BASE!$B$2:$F$2,0)+1,,,\"BASE\")),IF($B24=\"U\",-INDIRECT(ADDRESS(4+MATCH(\"U\",CE_PIANO!$B$5:$B$206,0),COLUMN(SP_PIANO!F$4),,,\"CE_PIANO\")),IF(ISERROR(VLOOKUP($A24,Attivita_Passivita!$B$6:$Q$105,COLUMN(Attivita_Passivita!M$4)-1,FALSE)),0,VLOOKUP($A24,Attivita_Passivita!$B$6:$Q$105,COLUMN(Attivita_Passivita!M$4)-1,FALSE))))))","v":500},{"$f":"IF($A24=\"\",\"\",IF(G$4=\"\",\"\",IF(OR($B24=\"X\", $B24=\"I\"),INDIRECT(ADDRESS(IF($B24=\"X\",12,13),MATCH(SP_PIANO!G$4,BASE!$B$2:$F$2,0)+1,,,\"BASE\")),IF($B24=\"U\",-INDIRECT(ADDRESS(4+MATCH(\"U\",CE_PIANO!$B$5:$B$206,0),COLUMN(SP_PIANO!G$4),,,\"CE_PIANO\")),IF(ISERROR(VLOOKUP($A24,Attivita_Passivita!$B$6:$Q$105,COLUMN(Attivita_Passivita!N$4)-1,FALSE)),0,VLOOKUP($A24,Attivita_Passivita!$B$6:$Q$105,COLUMN(Attivita_Passivita!N$4)-1,FALSE))))))","v":500},{"$f":"IF($A24=\"\",\"\",IF(H$4=\"\",\"\",IF(OR($B24=\"X\", $B24=\"I\"),INDIRECT(ADDRESS(IF($B24=\"X\",12,13),MATCH(SP_PIANO!H$4,BASE!$B$2:$F$2,0)+1,,,\"BASE\")),IF($B24=\"U\",-INDIRECT(ADDRESS(4+MATCH(\"U\",CE_PIANO!$B$5:$B$206,0),COLUMN(SP_PIANO!H$4),,,\"CE_PIANO\")),IF(ISERROR(VLOOKUP($A24,Attivita_Passivita!$B$6:$Q$105,COLUMN(Attivita_Passivita!O$4)-1,FALSE)),0,VLOOKUP($A24,Attivita_Passivita!$B$6:$Q$105,COLUMN(Attivita_Passivita!O$4)-1,FALSE))))))","v":500}]
[{"$f":"IF(SP_STORICO!A25=\"\",\"\",SP_STORICO!A25)","v":"020499_ATTIVO CIRCOLANTE"},{"$f":"IF($A25=\"\",\"\",VLOOKUP(A25,SCHEMA_SP!$E$5:$F$54,2,FALSE))","v":0},{"$f":"IF(SP_STORICO!A25=\"\",\"\",SP_STORICO!B25)","v":"ATTIVO CIRCOLANTE"},{"$f":"IF(SP_STORICO!C25=\"\",\"\",SP_STORICO!C25)","v":0},{"$f":"IF(SP_STORICO!D25=\"\",\"\",SP_STORICO!D25)","v":0},{"$f":"SUM(F21:F24)","v":9200},{"$f":"SUM(G21:G24)","v":10300},{"$f":"SUM(H21:H24)","v":11400}]
[{"$f":"IF(SP_STORICO!A26=\"\",\"\",SP_STORICO!A26)","v":""},{"$f":"IF($A26=\"\",\"\",VLOOKUP(A26,SCHEMA_SP!$E$5:$F$54,2,FALSE))","v":""},{"$f":"IF(SP_STORICO!A26=\"\",\"\",SP_STORICO!B26)","v":""},{"$f":"IF(SP_STORICO!C26=\"\",\"\",SP_STORICO!C26)","v":""},{"$f":"IF(SP_STORICO!D26=\"\",\"\",SP_STORICO!D26)","v":""},{"$f":"IF($A26=\"\",\"\",IF(F$4=\"\",\"\",IF(OR($B26=\"X\", $B26=\"I\"),INDIRECT(ADDRESS(IF($B26=\"X\",12,13),MATCH(SP_PIANO!F$4,BASE!$B$2:$F$2,0)+1,,,\"BASE\")),IF($B26=\"U\",-INDIRECT(ADDRESS(4+MATCH(\"U\",CE_PIANO!$B$5:$B$206,0),COLUMN(SP_PIANO!F$4),,,\"CE_PIANO\")),IF(ISERROR(VLOOKUP($A26,Attivita_Passivita!$B$6:$Q$105,COLUMN(Attivita_Passivita!M$4)-1,FALSE)),0,VLOOKUP($A26,Attivita_Passivita!$B$6:$Q$105,COLUMN(Attivita_Passivita!M$4)-1,FALSE))))))","v":""},{"$f":"IF($A26=\"\",\"\",IF(G$4=\"\",\"\",IF(OR($B26=\"X\", $B26=\"I\"),INDIRECT(ADDRESS(IF($B26=\"X\",12,13),MATCH(SP_PIANO!G$4,BASE!$B$2:$F$2,0)+1,,,\"BASE\")),IF($B26=\"U\",-INDIRECT(ADDRESS(4+MATCH(\"U\",CE_PIANO!$B$5:$B$206,0),COLUMN(SP_PIANO!G$4),,,\"CE_PIANO\")),IF(ISERROR(VLOOKUP($A26,Attivita_Passivita!$B$6:$Q$105,COLUMN(Attivita_Passivita!N$4)-1,FALSE)),0,VLOOKUP($A26,Attivita_Passivita!$B$6:$Q$105,COLUMN(Attivita_Passivita!N$4)-1,FALSE))))))","v":""},{"$f":"IF($A26=\"\",\"\",IF(H$4=\"\",\"\",IF(OR($B26=\"X\", $B26=\"I\"),INDIRECT(ADDRESS(IF($B26=\"X\",12,13),MATCH(SP_PIANO!H$4,BASE!$B$2:$F$2,0)+1,,,\"BASE\")),IF($B26=\"U\",-INDIRECT(ADDRESS(4+MATCH(\"U\",CE_PIANO!$B$5:$B$206,0),COLUMN(SP_PIANO!H$4),,,\"CE_PIANO\")),IF(ISERROR(VLOOKUP($A26,Attivita_Passivita!$B$6:$Q$105,COLUMN(Attivita_Passivita!O$4)-1,FALSE)),0,VLOOKUP($A26,Attivita_Passivita!$B$6:$Q$105,COLUMN(Attivita_Passivita!O$4)-1,FALSE))))))","v":""}]
[{"$f":"IF(SP_STORICO!A27=\"\",\"\",SP_STORICO!A27)","v":"020505_Debiti verso fornitori"},{"$f":"IF($A27=\"\",\"\",VLOOKUP(A27,SCHEMA_SP!$E$5:$F$54,2,FALSE))","v":"P"},{"$f":"IF(SP_STORICO!A27=\"\",\"\",SP_STORICO!B27)","v":"Debiti verso fornitori"},{"$f":"IF(SP_STORICO!C27=\"\",\"\",SP_STORICO!C27)","v":""},{"$f":"IF(SP_STORICO!D27=\"\",\"\",SP_STORICO!D27)","v":""},{"$f":"IF($A27=\"\",\"\",IF(F$4=\"\",\"\",IF(OR($B27=\"X\", $B27=\"I\"),INDIRECT(ADDRESS(IF($B27=\"X\",12,13),MATCH(SP_PIANO!F$4,BASE!$B$2:$F$2,0)+1,,,\"BASE\")),IF($B27=\"U\",-INDIRECT(ADDRESS(4+MATCH(\"U\",CE_PIANO!$B$5:$B$206,0),COLUMN(SP_PIANO!F$4),,,\"CE_PIANO\")),IF(ISERROR(VLOOKUP($A27,Attivita_Passivita!$B$6:$Q$105,COLUMN(Attivita_Passivita!M$4)-1,FALSE)),0,VLOOKUP($A27,Attivita_Passivita!$B$6:$Q$105,COLUMN(Attivita_Passivita!M$4)-1,FALSE))))))","v":-3000},{"$f":"IF($A27=\"\",\"\",IF(G$4=\"\",\"\",IF(OR($B27=\"X\", $B27=\"I\"),INDIRECT(ADDRESS(IF($B27=\"X\",12,13),MATCH(SP_PIANO!G$4,BASE!$B$2:$F$2,0)+1,,,\"BASE\")),IF($B27=\"U\",-INDIRECT(ADDRESS(4+MATCH(\"U\",CE_PIANO!$B$5:$B$206,0),COLUMN(SP_PIANO!G$4),,,\"CE_PIANO\")),IF(ISERROR(VLOOKUP($A27,Attivita_Passivita!$B$6:$Q$105,COLUMN(Attivita_Passivita!N$4)-1,FALSE)),0,VLOOKUP($A27,Attivita_Passivita!$B$6:$Q$105,COLUMN(Attivita_Passivita!N$4)-1,FALSE))))))","v":-3500},{"$f":"IF($A27=\"\",\"\",IF(H$4=\"\",\"\",IF(OR($B27=\"X\", $B27=\"I\"),INDIRECT(ADDRESS(IF($B27=\"X\",12,13),MATCH(SP_PIANO!H$4,BASE!$B$2:$F$2,0)+1,,,\"BASE\")),IF($B27=\"U\",-INDIRECT(ADDRESS(4+MATCH(\"U\",CE_PIANO!$B$5:$B$206,0),COLUMN(SP_PIANO!H$4),,,\"CE_PIANO\")),IF(ISERROR(VLOOKUP($A27,Attivita_Passivita!$B$6:$Q$105,COLUMN(Attivita_Passivita!O$4)-1,FALSE)),0,VLOOKUP($A27,Attivita_Passivita!$B$6:$Q$105,COLUMN(Attivita_Passivita!O$4)-1,FALSE))))))","v":-4000}]
[{"$f":"IF(SP_STORICO!A28=\"\",\"\",SP_STORICO!A28)","v":"020506_Debiti verso altri"},{"$f":"IF($A28=\"\",\"\",VLOOKUP(A28,SCHEMA_SP!$E$5:$F$54,2,FALSE))","v":"P"},{"$f":"IF(SP_STORICO!A28=\"\",\"\",SP_STORICO!B28)","v":"Debiti verso altri"},{"$f":"IF(SP_STORICO!C28=\"\",\"\",SP_STORICO!C28)","v":""},{"$f":"IF(SP_STORICO!D28=\"\",\"\",SP_STORICO!D28)","v":""},{"$f":"IF($A28=\"\",\"\",IF(F$4=\"\",\"\",IF(OR($B28=\"X\", $B28=\"I\"),INDIRECT(ADDRESS(IF($B28=\"X\",12,13),MATCH(SP_PIANO!F$4,BASE!$B$2:$F$2,0)+1,,,\"BASE\")),IF($B28=\"U\",-INDIRECT(ADDRESS(4+MATCH(\"U\",CE_PIANO!$B$5:$B$206,0),COLUMN(SP_PIANO!F$4),,,\"CE_PIANO\")),IF(ISERROR(VLOOKUP($A28,Attivita_Passivita!$B$6:$Q$105,COLUMN(Attivita_Passivita!M$4)-1,FALSE)),0,VLOOKUP($A28,Attivita_Passivita!$B$6:$Q$105,COLUMN(Attivita_Passivita!M$4)-1,FALSE))))))","v":-1000},{"$f":"IF($A28=\"\",\"\",IF(G$4=\"\",\"\",IF(OR($B28=\"X\", $B28=\"I\"),INDIRECT(ADDRESS(IF($B28=\"X\",12,13),MATCH(SP_PIANO!G$4,BASE!$B$2:$F$2,0)+1,,,\"BASE\")),IF($B28=\"U\",-INDIRECT(ADDRESS(4+MATCH(\"U\",CE_PIANO!$B$5:$B$206,0),COLUMN(SP_PIANO!G$4),,,\"CE_PIANO\")),IF(ISERROR(VLOOKUP($A28,Attivita_Passivita!$B$6:$Q$105,COLUMN(Attivita_Passivita!N$4)-1,FALSE)),0,VLOOKUP($A28,Attivita_Passivita!$B$6:$Q$105,COLUMN(Attivita_Passivita!N$4)-1,FALSE))))))","v":-1000},{"$f":"IF($A28=\"\",\"\",IF(H$4=\"\",\"\",IF(OR($B28=\"X\", $B28=\"I\"),INDIRECT(ADDRESS(IF($B28=\"X\",12,13),MATCH(SP_PIANO!H$4,BASE!$B$2:$F$2,0)+1,,,\"BASE\")),IF($B28=\"U\",-INDIRECT(ADDRESS(4+MATCH(\"U\",CE_PIANO!$B$5:$B$206,0),COLUMN(SP_PIANO!H$4),,,\"CE_PIANO\")),IF(ISERROR(VLOOKUP($A28,Attivita_Passivita!$B$6:$Q$105,COLUMN(Attivita_Passivita!O$4)-1,FALSE)),0,VLOOKUP($A28,Attivita_Passivita!$B$6:$Q$105,COLUMN(Attivita_Passivita!O$4)-1,FALSE))))))","v":-1000}]
[{"$f":"IF(SP_STORICO!A29=\"\",\"\",SP_STORICO!A29)","v":"020507_Debiti tributari"},{"$f":"IF($A29=\"\",\"\",VLOOKUP(A29,SCHEMA_SP!$E$5:$F$54,2,FALSE))","v":"P"},{"$f":"IF(SP_STORICO!A29=\"\",\"\",SP_STORICO!B29)","v":"Debiti tributari"},{"$f":"IF(SP_STORICO!C29=\"\",\"\",SP_STORICO!C29)","v":""},{"$f":"IF(SP_STORICO!D29=\"\",\"\",SP_STORICO!D29)","v":""},{"$f":"IF($A29=\"\",\"\",IF(F$4=\"\",\"\",IF(OR($B29=\"X\", $B29=\"I\"),INDIRECT(ADDRESS(IF($B29=\"X\",12,13),MATCH(SP_PIANO!F$4,BASE!$B$2:$F$2,0)+1,,,\"BASE\")),IF($B29=\"U\",-INDIRECT(ADDRESS(4+MATCH(\"U\",CE_PIANO!$B$5:$B$206,0),COLUMN(SP_PIANO!F$4),,,\"CE_PIANO\")),IF(ISERROR(VLOOKUP($A29,Attivita_Passivita!$B$6:$Q$105,COLUMN(Attivita_Passivita!M$4)-1,FALSE)),0,VLOOKUP($A29,Attivita_Passivita!$B$6:$Q$105,COLUMN(Attivita_Passivita!M$4)-1,FALSE))))))","v":-500},{"$f":"IF($A29=\"\",\"\",IF(G$4=\"\",\"\",IF(OR($B29=\"X\", $B29=\"I\"),INDIRECT(ADDRESS(IF($B29=\"X\",12,13),MATCH(SP_PIANO!G$4,BASE!$B$2:$F$2,0)+1,,,\"BASE\")),IF($B29=\"U\",-INDIRECT(ADDRESS(4+MATCH(\"U\",CE_PIANO!$B$5:$B$206,0),COLUMN(SP_PIANO!G$4),,,\"CE_PIANO\")),IF(ISERROR(VLOOKUP($A29,Attivita_Passivita!$B$6:$Q$105,COLUMN(Attivita_Passivita!N$4)-1,FALSE)),0,VLOOKUP($A29,Attivita_Passivita!$B$6:$Q$105,COLUMN(Attivita_Passivita!N$4)-1,FALSE))))))","v":-500},{"$f":"IF($A29=\"\",\"\",IF(H$4=\"\",\"\",IF(OR($B29=\"X\", $B29=\"I\"),INDIRECT(ADDRESS(IF($B29=\"X\",12,13),MATCH(SP_PIANO!H$4,BASE!$B$2:$F$2,0)+1,,,\"BASE\")),IF($B29=\"U\",-INDIRECT(ADDRESS(4+MATCH(\"U\",CE_PIANO!$B$5:$B$206,0),COLUMN(SP_PIANO!H$4),,,\"CE_PIANO\")),IF(ISERROR(VLOOKUP($A29,Attivita_Passivita!$B$6:$Q$105,COLUMN(Attivita_Passivita!O$4)-1,FALSE)),0,VLOOKUP($A29,Attivita_Passivita!$B$6:$Q$105,COLUMN(Attivita_Passivita!O$4)-1,FALSE))))))","v":-500}]
[{"$f":"IF(SP_STORICO!A30=\"\",\"\",SP_STORICO!A30)","v":"020508_Ratei/risconti passivi"},{"$f":"IF($A30=\"\",\"\",VLOOKUP(A30,SCHEMA_SP!$E$5:$F$54,2,FALSE))","v":"P"},{"$f":"IF(SP_STORICO!A30=\"\",\"\",SP_STORICO!B30)","v":"Ratei/risconti passivi"},{"$f":"IF(SP_STORICO!C30=\"\",\"\",SP_STORICO!C30)","v":""},{"$f":"IF(SP_STORICO!D30=\"\",\"\",SP_STORICO!D30)","v":""},{"$f":"IF($A30=\"\",\"\",IF(F$4=\"\",\"\",IF(OR($B30=\"X\", $B30=\"I\"),INDIRECT(ADDRESS(IF($B30=\"X\",12,13),MATCH(SP_PIANO!F$4,BASE!$B$2:$F$2,0)+1,,,\"BASE\")),IF($B30=\"U\",-INDIRECT(ADDRESS(4+MATCH(\"U\",CE_PIANO!$B$5:$B$206,0),COLUMN(SP_PIANO!F$4),,,\"CE_PIANO\")),IF(ISERROR(VLOOKUP($A30,Attivita_Passivita!$B$6:$Q$105,COLUMN(Attivita_Passivita!M$4)-1,FALSE)),0,VLOOKUP($A30,Attivita_Passivita!$B$6:$Q$105,COLUMN(Attivita_Passivita!M$4)-1,FALSE))))))","v":-200},{"$f":"IF($A30=\"\",\"\",IF(G$4=\"\",\"\",IF(OR($B30=\"X\", $B30=\"I\"),INDIRECT(ADDRESS(IF($B30=\"X\",12,13),MATCH(SP_PIANO!G$4,BASE!$B$2:$F$2,0)+1,,,\"BASE\")),IF($B30=\"U\",-INDIRECT(ADDRESS(4+MATCH(\"U\",CE_PIANO!$B$5:$B$206,0),COLUMN(SP_PIANO!G$4),,,\"CE_PIANO\")),IF(ISERROR(VLOOKUP($A30,Attivita_Passivita!$B$6:$Q$105,COLUMN(Attivita_Passivita!N$4)-1,FALSE)),0,VLOOKUP($A30,Attivita_Passivita!$B$6:$Q$105,COLUMN(Attivita_Passivita!N$4)-1,FALSE))))))","v":-10000},{"$f":"IF($A30=\"\",\"\",IF(H$4=\"\",\"\",IF(OR($B30=\"X\", $B30=\"I\"),INDIRECT(ADDRESS(IF($B30=\"X\",12,13),MATCH(SP_PIANO!H$4,BASE!$B$2:$F$2,0)+1,,,\"BASE\")),IF($B30=\"U\",-INDIRECT(ADDRESS(4+MATCH(\"U\",CE_PIANO!$B$5:$B$206,0),COLUMN(SP_PIANO!H$4),,,\"CE_PIANO\")),IF(ISERROR(VLOOKUP($A30,Attivita_Passivita!$B$6:$Q$105,COLUMN(Attivita_Passivita!O$4)-1,FALSE)),0,VLOOKUP($A30,Attivita_Passivita!$B$6:$Q$105,COLUMN(Attivita_Passivita!O$4)-1,FALSE))))))","v":-10000}]
[{"$f":"IF(SP_STORICO!A31=\"\",\"\",SP_STORICO!A31)","v":"020509_Fondi imposte"},{"$f":"IF($A31=\"\",\"\",VLOOKUP(A31,SCHEMA_SP!$E$5:$F$54,2,FALSE))","v":"I"},{"$f":"IF(SP_STORICO!A31=\"\",\"\",SP_STORICO!B31)","v":"Fondi imposte"},{"$f":"IF(SP_STORICO!C31=\"\",\"\",SP_STORICO!C31)","v":""},{"$f":"IF(SP_STORICO!D31=\"\",\"\",SP_STORICO!D31)","v":""},{"$f":"IF($A31=\"\",\"\",IF(F$4=\"\",\"\",IF(OR($B31=\"X\", $B31=\"I\"),INDIRECT(ADDRESS(IF($B31=\"X\",12,13),MATCH(SP_PIANO!F$4,BASE!$B$2:$F$2,0)+1,,,\"BASE\")),IF($B31=\"U\",-INDIRECT(ADDRESS(4+MATCH(\"U\",CE_PIANO!$B$5:$B$206,0),COLUMN(SP_PIANO!F$4),,,\"CE_PIANO\")),IF(ISERROR(VLOOKUP($A31,Attivita_Passivita!$B$6:$Q$105,COLUMN(Attivita_Passivita!M$4)-1,FALSE)),0,VLOOKUP($A31,Attivita_Passivita!$B$6:$Q$105,COLUMN(Attivita_Passivita!M$4)-1,FALSE))))))","v":-2205.85},{"$f":"IF($A31=\"\",\"\",IF(G$4=\"\",\"\",IF(OR($B31=\"X\", $B31=\"I\"),INDIRECT(ADDRESS(IF($B31=\"X\",12,13),MATCH(SP_PIANO!G$4,BASE!$B$2:$F$2,0)+1,,,\"BASE\")),IF($B31=\"U\",-INDIRECT(ADDRESS(4+MATCH(\"U\",CE_PIANO!$B$5:$B$206,0),COLUMN(SP_PIANO!G$4),,,\"CE_PIANO\")),IF(ISERROR(VLOOKUP($A31,Attivita_Passivita!$B$6:$Q$105,COLUMN(Attivita_Passivita!N$4)-1,FALSE)),0,VLOOKUP($A31,Attivita_Passivita!$B$6:$Q$105,COLUMN(Attivita_Passivita!N$4)-1,FALSE))))))","v":-2440.0437500000003},{"$f":"IF($A31=\"\",\"\",IF(H$4=\"\",\"\",IF(OR($B31=\"X\", $B31=\"I\"),INDIRECT(ADDRESS(IF($B31=\"X\",12,13),MATCH(SP_PIANO!H$4,BASE!$B$2:$F$2,0)+1,,,\"BASE\")),IF($B31=\"U\",-INDIRECT(ADDRESS(4+MATCH(\"U\",CE_PIANO!$B$5:$B$206,0),COLUMN(SP_PIANO!H$4),,,\"CE_PIANO\")),IF(ISERROR(VLOOKUP($A31,Attivita_Passivita!$B$6:$Q$105,COLUMN(Attivita_Passivita!O$4)-1,FALSE)),0,VLOOKUP($A31,Attivita_Passivita!$B$6:$Q$105,COLUMN(Attivita_Passivita!O$4)-1,FALSE))))))","v":-2530.3100937500003}]
[{"$f":"IF(SP_STORICO!A32=\"\",\"\",SP_STORICO!A32)","v":"020599_PASSIVO CIRCOLANTE"},{"$f":"IF($A32=\"\",\"\",VLOOKUP(A32,SCHEMA_SP!$E$5:$F$54,2,FALSE))","v":0},{"$f":"IF(SP_STORICO!A32=\"\",\"\",SP_STORICO!B32)","v":"PASSIVO CIRCOLANTE"},{"$f":"IF(SP_STORICO!C32=\"\",\"\",SP_STORICO!C32)","v":0},{"$f":"IF(SP_STORICO!D32=\"\",\"\",SP_STORICO!D32)","v":0},{"$f":"SUM(F27:F31)","v":-6905.85},{"$f":"SUM(G27:G31)","v":-17440.043750000001},{"$f":"SUM(H27:H31)","v":-18030.310093749998}]
[{"$f":"IF(SP_STORICO!A33=\"\",\"\",SP_STORICO!A33)","v":""},{"$f":"IF($A33=\"\",\"\",VLOOKUP(A33,SCHEMA_SP!$E$5:$F$54,2,FALSE))","v":""},{"$f":"IF(SP_STORICO!A33=\"\",\"\",SP_STORICO!B33)","v":""},{"$f":"IF(SP_STORICO!C33=\"\",\"\",SP_STORICO!C33)","v":""},{"$f":"IF(SP_STORICO!D33=\"\",\"\",SP_STORICO!D33)","v":""},{"$f":"IF($A33=\"\",\"\",IF(F$4=\"\",\"\",IF(OR($B33=\"X\", $B33=\"I\"),INDIRECT(ADDRESS(IF($B33=\"X\",12,13),MATCH(SP_PIANO!F$4,BASE!$B$2:$F$2,0)+1,,,\"BASE\")),IF($B33=\"U\",-INDIRECT(ADDRESS(4+MATCH(\"U\",CE_PIANO!$B$5:$B$206,0),COLUMN(SP_PIANO!F$4),,,\"CE_PIANO\")),IF(ISERROR(VLOOKUP($A33,Attivita_Passivita!$B$6:$Q$105,COLUMN(Attivita_Passivita!M$4)-1,FALSE)),0,VLOOKUP($A33,Attivita_Passivita!$B$6:$Q$105,COLUMN(Attivita_Passivita!M$4)-1,FALSE))))))","v":""},{"$f":"IF($A33=\"\",\"\",IF(G$4=\"\",\"\",IF(OR($B33=\"X\", $B33=\"I\"),INDIRECT(ADDRESS(IF($B33=\"X\",12,13),MATCH(SP_PIANO!G$4,BASE!$B$2:$F$2,0)+1,,,\"BASE\")),IF($B33=\"U\",-INDIRECT(ADDRESS(4+MATCH(\"U\",CE_PIANO!$B$5:$B$206,0),COLUMN(SP_PIANO!G$4),,,\"CE_PIANO\")),IF(ISERROR(VLOOKUP($A33,Attivita_Passivita!$B$6:$Q$105,COLUMN(Attivita_Passivita!N$4)-1,FALSE)),0,VLOOKUP($A33,Attivita_Passivita!$B$6:$Q$105,COLUMN(Attivita_Passivita!N$4)-1,FALSE))))))","v":""},{"$f":"IF($A33=\"\",\"\",IF(H$4=\"\",\"\",IF(OR($B33=\"X\", $B33=\"I\"),INDIRECT(ADDRESS(IF($B33=\"X\",12,13),MATCH(SP_PIANO!H$4,BASE!$B$2:$F$2,0)+1,,,\"BASE\")),IF($B33=\"U\",-INDIRECT(ADDRESS(4+MATCH(\"U\",CE_PIANO!$B$5:$B$206,0),COLUMN(SP_PIANO!H$4),,,\"CE_PIANO\")),IF(ISERROR(VLOOKUP($A33,Attivita_Passivita!$B$6:$Q$105,COLUMN(Attivita_Passivita!O$4)-1,FALSE)),0,VLOOKUP($A33,Attivita_Passivita!$B$6:$Q$105,COLUMN(Attivita_Passivita!O$4)-1,FALSE))))))","v":""}]
[{"$f":"IF(SP_STORICO!A34=\"\",\"\",SP_STORICO!A34)","v":"029901_CAPITALE CIRCOLANTE OPERATIVO"},{"$f":"IF($A34=\"\",\"\",VLOOKUP(A34,SCHEMA_SP!$E$5:$F$54,2,FALSE))","v":0},{"$f":"IF(SP_STORICO!A34=\"\",\"\",SP_STORICO!B34)","v":"CAPITALE CIRCOLANTE OPERATIVO"},{"$f":"IF(SP_STORICO!C34=\"\",\"\",SP_STORICO!C34)","v":0},{"$f":"IF(SP_STORICO!D34=\"\",\"\",SP_STORICO!D34)","v":0},{"$f":"+F25+F32","v":2294.1499999999996},{"$f":"+G25+G32","v":-7140.0437500000007},{"$f":"+H25+H32","v":-6630.3100937499985}]
[{"$f":"IF(SP_STORICO!A35=\"\",\"\",SP_STORICO!A35)","v":""},{"$f":"IF($A35=\"\",\"\",VLOOKUP(A35,SCHEMA_SP!$E$5:$F$54,2,FALSE))","v":""},{"$f":"IF(SP_STORICO!A35=\"\",\"\",SP_STORICO!B35)","v":""},{"$f":"IF(SP_STORICO!C35=\"\",\"\",SP_STORICO!C35)","v":""},{"$f":"IF(SP_STORICO!D35=\"\",\"\",SP_STORICO!D35)","v":""},{"$f":"IF($A35=\"\",\"\",IF(F$4=\"\",\"\",IF(OR($B35=\"X\", $B35=\"I\"),INDIRECT(ADDRESS(IF($B35=\"X\",12,13),MATCH(SP_PIANO!F$4,BASE!$B$2:$F$2,0)+1,,,\"BASE\")),IF($B35=\"U\",-INDIRECT(ADDRESS(4+MATCH(\"U\",CE_PIANO!$B$5:$B$206,0),COLUMN(SP_PIANO!F$4),,,\"CE_PIANO\")),IF(ISERROR(VLOOKUP($A35,Attivita_Passivita!$B$6:$Q$105,COLUMN(Attivita_Passivita!M$4)-1,FALSE)),0,VLOOKUP($A35,Attivita_Passivita!$B$6:$Q$105,COLUMN(Attivita_Passivita!M$4)-1,FALSE))))))","v":""},{"$f":"IF($A35=\"\",\"\",IF(G$4=\"\",\"\",IF(OR($B35=\"X\", $B35=\"I\"),INDIRECT(ADDRESS(IF($B35=\"X\",12,13),MATCH(SP_PIANO!G$4,BASE!$B$2:$F$2,0)+1,,,\"BASE\")),IF($B35=\"U\",-INDIRECT(ADDRESS(4+MATCH(\"U\",CE_PIANO!$B$5:$B$206,0),COLUMN(SP_PIANO!G$4),,,\"CE_PIANO\")),IF(ISERROR(VLOOKUP($A35,Attivita_Passivita!$B$6:$Q$105,COLUMN(Attivita_Passivita!N$4)-1,FALSE)),0,VLOOKUP($A35,Attivita_Passivita!$B$6:$Q$105,COLUMN(Attivita_Passivita!N$4)-1,FALSE))))))","v":""},{"$f":"IF($A35=\"\",\"\",IF(H$4=\"\",\"\",IF(OR($B35=\"X\", $B35=\"I\"),INDIRECT(ADDRESS(IF($B35=\"X\",12,13),MATCH(SP_PIANO!H$4,BASE!$B$2:$F$2,0)+1,,,\"BASE\")),IF($B35=\"U\",-INDIRECT(ADDRESS(4+MATCH(\"U\",CE_PIANO!$B$5:$B$206,0),COLUMN(SP_PIANO!H$4),,,\"CE_PIANO\")),IF(ISERROR(VLOOKUP($A35,Attivita_Passivita!$B$6:$Q$105,COLUMN(Attivita_Passivita!O$4)-1,FALSE)),0,VLOOKUP($A35,Attivita_Passivita!$B$6:$Q$105,COLUMN(Attivita_Passivita!O$4)-1,FALSE))))))","v":""}]
[{"$f":"IF(SP_STORICO!A36=\"\",\"\",SP_STORICO!A36)","v":"030101_Cassa"},{"$f":"IF($A36=\"\",\"\",VLOOKUP(A36,SCHEMA_SP!$E$5:$F$54,2,FALSE))","v":"A"},{"$f":"IF(SP_STORICO!A36=\"\",\"\",SP_STORICO!B36)","v":"Cassa"},{"$f":"IF(SP_STORICO!C36=\"\",\"\",SP_STORICO!C36)","v":""},{"$f":"IF(SP_STORICO!D36=\"\",\"\",SP_STORICO!D36)","v":""},{"$f":"IF($A36=\"\",\"\",IF(F$4=\"\",\"\",IF(OR($B36=\"X\", $B36=\"I\"),INDIRECT(ADDRESS(IF($B36=\"X\",12,13),MATCH(SP_PIANO!F$4,BASE!$B$2:$F$2,0)+1,,,\"BASE\")),IF($B36=\"U\",-INDIRECT(ADDRESS(4+MATCH(\"U\",CE_PIANO!$B$5:$B$206,0),COLUMN(SP_PIANO!F$4),,,\"CE_PIANO\")),IF(ISERROR(VLOOKUP($A36,Attivita_Passivita!$B$6:$Q$105,COLUMN(Attivita_Passivita!M$4)-1,FALSE)),0,VLOOKUP($A36,Attivita_Passivita!$B$6:$Q$105,COLUMN(Attivita_Passivita!M$4)-1,FALSE))))))","v":10},{"$f":"IF($A36=\"\",\"\",IF(G$4=\"\",\"\",IF(OR($B36=\"X\", $B36=\"I\"),INDIRECT(ADDRESS(IF($B36=\"X\",12,13),MATCH(SP_PIANO!G$4,BASE!$B$2:$F$2,0)+1,,,\"BASE\")),IF($B36=\"U\",-INDIRECT(ADDRESS(4+MATCH(\"U\",CE_PIANO!$B$5:$B$206,0),COLUMN(SP_PIANO!G$4),,,\"CE_PIANO\")),IF(ISERROR(VLOOKUP($A36,Attivita_Passivita!$B$6:$Q$105,COLUMN(Attivita_Passivita!N$4)-1,FALSE)),0,VLOOKUP($A36,Attivita_Passivita!$B$6:$Q$105,COLUMN(Attivita_Passivita!N$4)-1,FALSE))))))","v":10},{"$f":"IF($A36=\"\",\"\",IF(H$4=\"\",\"\",IF(OR($B36=\"X\", $B36=\"I\"),INDIRECT(ADDRESS(IF($B36=\"X\",12,13),MATCH(SP_PIANO!H$4,BASE!$B$2:$F$2,0)+1,,,\"BASE\")),IF($B36=\"U\",-INDIRECT(ADDRESS(4+MATCH(\"U\",CE_PIANO!$B$5:$B$206,0),COLUMN(SP_PIANO!H$4),,,\"CE_PIANO\")),IF(ISERROR(VLOOKUP($A36,Attivita_Passivita!$B$6:$Q$105,COLUMN(Attivita_Passivita!O$4)-1,FALSE)),0,VLOOKUP($A36,Attivita_Passivita!$B$6:$Q$105,COLUMN(Attivita_Passivita!O$4)-1,FALSE))))))","v":10}]
[{"$f":"IF(SP_STORICO!A37=\"\",\"\",SP_STORICO!A37)","v":"030111_Banca "},{"$f":"IF($A37=\"\",\"\",VLOOKUP(A37,SCHEMA_SP!$E$5:$F$54,2,FALSE))","v":"A"},{"$f":"IF(SP_STORICO!A37=\"\",\"\",SP_STORICO!B37)","v":"Banca "},{"$f":"IF(SP_STORICO!C37=\"\",\"\",SP_STORICO!C37)","v":""},{"$f":"IF(SP_STORICO!D37=\"\",\"\",SP_STORICO!D37)","v":""},{"$f":"IF($A37=\"\",\"\",IF(F$4=\"\",\"\",IF(OR($B37=\"X\", $B37=\"I\"),INDIRECT(ADDRESS(IF($B37=\"X\",12,13),MATCH(SP_PIANO!F$4,BASE!$B$2:$F$2,0)+1,,,\"BASE\")),IF($B37=\"U\",-INDIRECT(ADDRESS(4+MATCH(\"U\",CE_PIANO!$B$5:$B$206,0),COLUMN(SP_PIANO!F$4),,,\"CE_PIANO\")),IF(ISERROR(VLOOKUP($A37,Attivita_Passivita!$B$6:$Q$105,COLUMN(Attivita_Passivita!M$4)-1,FALSE)),0,VLOOKUP($A37,Attivita_Passivita!$B$6:$Q$105,COLUMN(Attivita_Passivita!M$4)-1,FALSE))))))","v":50},{"$f":"IF($A37=\"\",\"\",IF(G$4=\"\",\"\",IF(OR($B37=\"X\", $B37=\"I\"),INDIRECT(ADDRESS(IF($B37=\"X\",12,13),MATCH(SP_PIANO!G$4,BASE!$B$2:$F$2,0)+1,,,\"BASE\")),IF($B37=\"U\",-INDIRECT(ADDRESS(4+MATCH(\"U\",CE_PIANO!$B$5:$B$206,0),COLUMN(SP_PIANO!G$4),,,\"CE_PIANO\")),IF(ISERROR(VLOOKUP($A37,Attivita_Passivita!$B$6:$Q$105,COLUMN(Attivita_Passivita!N$4)-1,FALSE)),0,VLOOKUP($A37,Attivita_Passivita!$B$6:$Q$105,COLUMN(Attivita_Passivita!N$4)-1,FALSE))))))","v":50},{"$f":"IF($A37=\"\",\"\",IF(H$4=\"\",\"\",IF(OR($B37=\"X\", $B37=\"I\"),INDIRECT(ADDRESS(IF($B37=\"X\",12,13),MATCH(SP_PIANO!H$4,BASE!$B$2:$F$2,0)+1,,,\"BASE\")),IF($B37=\"U\",-INDIRECT(ADDRESS(4+MATCH(\"U\",CE_PIANO!$B$5:$B$206,0),COLUMN(SP_PIANO!H$4),,,\"CE_PIANO\")),IF(ISERROR(VLOOKUP($A37,Attivita_Passivita!$B$6:$Q$105,COLUMN(Attivita_Passivita!O$4)-1,FALSE)),0,VLOOKUP($A37,Attivita_Passivita!$B$6:$Q$105,COLUMN(Attivita_Passivita!O$4)-1,FALSE))))))","v":50}]
[{"$f":"IF(SP_STORICO!A38=\"\",\"\",SP_STORICO!A38)","v":"030121_Titoli "},{"$f":"IF($A38=\"\",\"\",VLOOKUP(A38,SCHEMA_SP!$E$5:$F$54,2,FALSE))","v":"A"},{"$f":"IF(SP_STORICO!A38=\"\",\"\",SP_STORICO!B38)","v":"Titoli "},{"$f":"IF(SP_STORICO!C38=\"\",\"\",SP_STORICO!C38)","v":""},{"$f":"IF(SP_STORICO!D38=\"\",\"\",SP_STORICO!D38)","v":""},{"$f":"IF($A38=\"\",\"\",IF(F$4=\"\",\"\",IF(OR($B38=\"X\", $B38=\"I\"),INDIRECT(ADDRESS(IF($B38=\"X\",12,13),MATCH(SP_PIANO!F$4,BASE!$B$2:$F$2,0)+1,,,\"BASE\")),IF($B38=\"U\",-INDIRECT(ADDRESS(4+MATCH(\"U\",CE_PIANO!$B$5:$B$206,0),COLUMN(SP_PIANO!F$4),,,\"CE_PIANO\")),IF(ISERROR(VLOOKUP($A38,Attivita_Passivita!$B$6:$Q$105,COLUMN(Attivita_Passivita!M$4)-1,FALSE)),0,VLOOKUP($A38,Attivita_Passivita!$B$6:$Q$105,COLUMN(Attivita_Passivita!M$4)-1,FALSE))))))","v":5},{"$f":"IF($A38=\"\",\"\",IF(G$4=\"\",\"\",IF(OR($B38=\"X\", $B38=\"I\"),INDIRECT(ADDRESS(IF($B38=\"X\",12,13),MATCH(SP_PIANO!G$4,BASE!$B$2:$F$2,0)+1,,,\"BASE\")),IF($B38=\"U\",-INDIRECT(ADDRESS(4+MATCH(\"U\",CE_PIANO!$B$5:$B$206,0),COLUMN(SP_PIANO!G$4),,,\"CE_PIANO\")),IF(ISERROR(VLOOKUP($A38,Attivita_Passivita!$B$6:$Q$105,COLUMN(Attivita_Passivita!N$4)-1,FALSE)),0,VLOOKUP($A38,Attivita_Passivita!$B$6:$Q$105,COLUMN(Attivita_Passivita!N$4)-1,FALSE))))))","v":5},{"$f":"IF($A38=\"\",\"\",IF(H$4=\"\",\"\",IF(OR($B38=\"X\", $B38=\"I\"),INDIRECT(ADDRESS(IF($B38=\"X\",12,13),MATCH(SP_PIANO!H$4,BASE!$B$2:$F$2,0)+1,,,\"BASE\")),IF($B38=\"U\",-INDIRECT(ADDRESS(4+MATCH(\"U\",CE_PIANO!$B$5:$B$206,0),COLUMN(SP_PIANO!H$4),,,\"CE_PIANO\")),IF(ISERROR(VLOOKUP($A38,Attivita_Passivita!$B$6:$Q$105,COLUMN(Attivita_Passivita!O$4)-1,FALSE)),0,VLOOKUP($A38,Attivita_Passivita!$B$6:$Q$105,COLUMN(Attivita_Passivita!O$4)-1,FALSE))))))","v":5}]
[{"$f":"IF(SP_STORICO!A39=\"\",\"\",SP_STORICO!A39)","v":"030199_LIQUIDITA'"},{"$f":"IF($A39=\"\",\"\",VLOOKUP(A39,SCHEMA_SP!$E$5:$F$54,2,FALSE))","v":0},{"$f":"IF(SP_STORICO!A39=\"\",\"\",SP_STORICO!B39)","v":"LIQUIDITA'"},{"$f":"IF(SP_STORICO!C39=\"\",\"\",SP_STORICO!C39)","v":0},{"$f":"IF(SP_STORICO!D39=\"\",\"\",SP_STORICO!D39)","v":0},{"$f":"SUM(F36:F38)","v":65},{"$f":"SUM(G36:G38)","v":65},{"$f":"SUM(H36:H38)","v":65}]
[{"$f":"IF(SP_STORICO!A40=\"\",\"\",SP_STORICO!A40)","v":""},{"$f":"IF($A40=\"\",\"\",VLOOKUP(A40,SCHEMA_SP!$E$5:$F$54,2,FALSE))","v":""},{"$f":"IF(SP_STORICO!A40=\"\",\"\",SP_STORICO!B40)","v":""},{"$f":"IF(SP_STORICO!C40=\"\",\"\",SP_STORICO!C40)","v":""},{"$f":"IF(SP_STORICO!D40=\"\",\"\",SP_STORICO!D40)","v":""},{"$f":"IF($A40=\"\",\"\",IF(F$4=\"\",\"\",IF(OR($B40=\"X\", $B40=\"I\"),INDIRECT(ADDRESS(IF($B40=\"X\",12,13),MATCH(SP_PIANO!F$4,BASE!$B$2:$F$2,0)+1,,,\"BASE\")),IF($B40=\"U\",-INDIRECT(ADDRESS(4+MATCH(\"U\",CE_PIANO!$B$5:$B$206,0),COLUMN(SP_PIANO!F$4),,,\"CE_PIANO\")),IF(ISERROR(VLOOKUP($A40,Attivita_Passivita!$B$6:$Q$105,COLUMN(Attivita_Passivita!M$4)-1,FALSE)),0,VLOOKUP($A40,Attivita_Passivita!$B$6:$Q$105,COLUMN(Attivita_Passivita!M$4)-1,FALSE))))))","v":""},{"$f":"IF($A40=\"\",\"\",IF(G$4=\"\",\"\",IF(OR($B40=\"X\", $B40=\"I\"),INDIRECT(ADDRESS(IF($B40=\"X\",12,13),MATCH(SP_PIANO!G$4,BASE!$B$2:$F$2,0)+1,,,\"BASE\")),IF($B40=\"U\",-INDIRECT(ADDRESS(4+MATCH(\"U\",CE_PIANO!$B$5:$B$206,0),COLUMN(SP_PIANO!G$4),,,\"CE_PIANO\")),IF(ISERROR(VLOOKUP($A40,Attivita_Passivita!$B$6:$Q$105,COLUMN(Attivita_Passivita!N$4)-1,FALSE)),0,VLOOKUP($A40,Attivita_Passivita!$B$6:$Q$105,COLUMN(Attivita_Passivita!N$4)-1,FALSE))))))","v":""},{"$f":"IF($A40=\"\",\"\",IF(H$4=\"\",\"\",IF(OR($B40=\"X\", $B40=\"I\"),INDIRECT(ADDRESS(IF($B40=\"X\",12,13),MATCH(SP_PIANO!H$4,BASE!$B$2:$F$2,0)+1,,,\"BASE\")),IF($B40=\"U\",-INDIRECT(ADDRESS(4+MATCH(\"U\",CE_PIANO!$B$5:$B$206,0),COLUMN(SP_PIANO!H$4),,,\"CE_PIANO\")),IF(ISERROR(VLOOKUP($A40,Attivita_Passivita!$B$6:$Q$105,COLUMN(Attivita_Passivita!O$4)-1,FALSE)),0,VLOOKUP($A40,Attivita_Passivita!$B$6:$Q$105,COLUMN(Attivita_Passivita!O$4)-1,FALSE))))))","v":""}]
[{"$f":"IF(SP_STORICO!A41=\"\",\"\",SP_STORICO!A41)","v":"049999_CAPITALE INVESTITO"},{"$f":"IF($A41=\"\",\"\",VLOOKUP(A41,SCHEMA_SP!$E$5:$F$54,2,FALSE))","v":0},{"$f":"IF(SP_STORICO!A41=\"\",\"\",SP_STORICO!B41)","v":"CAPITALE INVESTITO"},{"$f":"IF(SP_STORICO!C41=\"\",\"\",SP_STORICO!C41)","v":0},{"$f":"IF(SP_STORICO!D41=\"\",\"\",SP_STORICO!D41)","v":0},{"$f":"+F7+F12+F17+F25+F32+F39","v":13609.15},{"$f":"+G7+G12+G17+G25+G32+G39","v":4974.9562499999993},{"$f":"+H7+H12+H17+H25+H32+H39","v":6184.6899062500015}]
[{"$f":"IF(SP_STORICO!A42=\"\",\"\",SP_STORICO!A42)","v":""},{"$f":"IF($A42=\"\",\"\",VLOOKUP(A42,SCHEMA_SP!$E$5:$F$54,2,FALSE))","v":""},{"$f":"IF(SP_STORICO!A42=\"\",\"\",SP_STORICO!B42)","v":""},{"$f":"IF(SP_STORICO!C42=\"\",\"\",SP_STORICO!C42)","v":""},{"$f":"IF(SP_STORICO!D42=\"\",\"\",SP_STORICO!D42)","v":""},{"$f":"IF($A42=\"\",\"\",IF(F$4=\"\",\"\",IF(OR($B42=\"X\", $B42=\"I\"),INDIRECT(ADDRESS(IF($B42=\"X\",12,13),MATCH(SP_PIANO!F$4,BASE!$B$2:$F$2,0)+1,,,\"BASE\")),IF($B42=\"U\",-INDIRECT(ADDRESS(4+MATCH(\"U\",CE_PIANO!$B$5:$B$206,0),COLUMN(SP_PIANO!F$4),,,\"CE_PIANO\")),IF(ISERROR(VLOOKUP($A42,Attivita_Passivita!$B$6:$Q$105,COLUMN(Attivita_Passivita!M$4)-1,FALSE)),0,VLOOKUP($A42,Attivita_Passivita!$B$6:$Q$105,COLUMN(Attivita_Passivita!M$4)-1,FALSE))))))","v":""},{"$f":"IF($A42=\"\",\"\",IF(G$4=\"\",\"\",IF(OR($B42=\"X\", $B42=\"I\"),INDIRECT(ADDRESS(IF($B42=\"X\",12,13),MATCH(SP_PIANO!G$4,BASE!$B$2:$F$2,0)+1,,,\"BASE\")),IF($B42=\"U\",-INDIRECT(ADDRESS(4+MATCH(\"U\",CE_PIANO!$B$5:$B$206,0),COLUMN(SP_PIANO!G$4),,,\"CE_PIANO\")),IF(ISERROR(VLOOKUP($A42,Attivita_Passivita!$B$6:$Q$105,COLUMN(Attivita_Passivita!N$4)-1,FALSE)),0,VLOOKUP($A42,Attivita_Passivita!$B$6:$Q$105,COLUMN(Attivita_Passivita!N$4)-1,FALSE))))))","v":""},{"$f":"IF($A42=\"\",\"\",IF(H$4=\"\",\"\",IF(OR($B42=\"X\", $B42=\"I\"),INDIRECT(ADDRESS(IF($B42=\"X\",12,13),MATCH(SP_PIANO!H$4,BASE!$B$2:$F$2,0)+1,,,\"BASE\")),IF($B42=\"U\",-INDIRECT(ADDRESS(4+MATCH(\"U\",CE_PIANO!$B$5:$B$206,0),COLUMN(SP_PIANO!H$4),,,\"CE_PIANO\")),IF(ISERROR(VLOOKUP($A42,Attivita_Passivita!$B$6:$Q$105,COLUMN(Attivita_Passivita!O$4)-1,FALSE)),0,VLOOKUP($A42,Attivita_Passivita!$B$6:$Q$105,COLUMN(Attivita_Passivita!O$4)-1,FALSE))))))","v":""}]
[{"$f":"IF(SP_STORICO!A43=\"\",\"\",SP_STORICO!A43)","v":"110101_Capitale sociale"},{"$f":"IF($A43=\"\",\"\",VLOOKUP(A43,SCHEMA_SP!$E$5:$F$54,2,FALSE))","v":"P"},{"$f":"IF(SP_STORICO!A43=\"\",\"\",SP_STORICO!B43)","v":"Capitale sociale"},{"$f":"IF(SP_STORICO!C43=\"\",\"\",SP_STORICO!C43)","v":""},{"$f":"IF(SP_STORICO!D43=\"\",\"\",SP_STORICO!D43)","v":""},{"$f":"IF($A43=\"\",\"\",IF(F$4=\"\",\"\",IF(OR($B43=\"X\", $B43=\"I\"),INDIRECT(ADDRESS(IF($B43=\"X\",12,13),MATCH(SP_PIANO!F$4,BASE!$B$2:$F$2,0)+1,,,\"BASE\")),IF($B43=\"U\",-INDIRECT(ADDRESS(4+MATCH(\"U\",CE_PIANO!$B$5:$B$206,0),COLUMN(SP_PIANO!F$4),,,\"CE_PIANO\")),IF(ISERROR(VLOOKUP($A43,Attivita_Passivita!$B$6:$Q$105,COLUMN(Attivita_Passivita!M$4)-1,FALSE)),0,VLOOKUP($A43,Attivita_Passivita!$B$6:$Q$105,COLUMN(Attivita_Passivita!M$4)-1,FALSE))))))","v":-2500},{"$f":"IF($A43=\"\",\"\",IF(G$4=\"\",\"\",IF(OR($B43=\"X\", $B43=\"I\"),INDIRECT(ADDRESS(IF($B43=\"X\",12,13),MATCH(SP_PIANO!G$4,BASE!$B$2:$F$2,0)+1,,,\"BASE\")),IF($B43=\"U\",-INDIRECT(ADDRESS(4+MATCH(\"U\",CE_PIANO!$B$5:$B$206,0),COLUMN(SP_PIANO!G$4),,,\"CE_PIANO\")),IF(ISERROR(VLOOKUP($A43,Attivita_Passivita!$B$6:$Q$105,COLUMN(Attivita_Passivita!N$4)-1,FALSE)),0,VLOOKUP($A43,Attivita_Passivita!$B$6:$Q$105,COLUMN(Attivita_Passivita!N$4)-1,FALSE))))))","v":-4000},{"$f":"IF($A43=\"\",\"\",IF(H$4=\"\",\"\",IF(OR($B43=\"X\", $B43=\"I\"),INDIRECT(ADDRESS(IF($B43=\"X\",12,13),MATCH(SP_PIANO!H$4,BASE!$B$2:$F$2,0)+1,,,\"BASE\")),IF($B43=\"U\",-INDIRECT(ADDRESS(4+MATCH(\"U\",CE_PIANO!$B$5:$B$206,0),COLUMN(SP_PIANO!H$4),,,\"CE_PIANO\")),IF(ISERROR(VLOOKUP($A43,Attivita_Passivita!$B$6:$Q$105,COLUMN(Attivita_Passivita!O$4)-1,FALSE)),0,VLOOKUP($A43,Attivita_Passivita!$B$6:$Q$105,COLUMN(Attivita_Passivita!O$4)-1,FALSE))))))","v":-4000}]
[{"$f":"IF(SP_STORICO!A44=\"\",\"\",SP_STORICO!A44)","v":"110102_Riserve"},{"$f":"IF($A44=\"\",\"\",VLOOKUP(A44,SCHEMA_SP!$E$5:$F$54,2,FALSE))","v":"P"},{"$f":"IF(SP_STORICO!A44=\"\",\"\",SP_STORICO!B44)","v":"Riserve"},{"$f":"IF(SP_STORICO!C44=\"\",\"\",SP_STORICO!C44)","v":""},{"$f":"IF(SP_STORICO!D44=\"\",\"\",SP_STORICO!D44)","v":""},{"$f":"IF($A44=\"\",\"\",IF(F$4=\"\",\"\",IF(OR($B44=\"X\", $B44=\"I\"),INDIRECT(ADDRESS(IF($B44=\"X\",12,13),MATCH(SP_PIANO!F$4,BASE!$B$2:$F$2,0)+1,,,\"BASE\")),IF($B44=\"U\",-INDIRECT(ADDRESS(4+MATCH(\"U\",CE_PIANO!$B$5:$B$206,0),COLUMN(SP_PIANO!F$4),,,\"CE_PIANO\")),IF(ISERROR(VLOOKUP($A44,Attivita_Passivita!$B$6:$Q$105,COLUMN(Attivita_Passivita!M$4)-1,FALSE)),0,VLOOKUP($A44,Attivita_Passivita!$B$6:$Q$105,COLUMN(Attivita_Passivita!M$4)-1,FALSE))))))","v":-11300},{"$f":"IF($A44=\"\",\"\",IF(G$4=\"\",\"\",IF(OR($B44=\"X\", $B44=\"I\"),INDIRECT(ADDRESS(IF($B44=\"X\",12,13),MATCH(SP_PIANO!G$4,BASE!$B$2:$F$2,0)+1,,,\"BASE\")),IF($B44=\"U\",-INDIRECT(ADDRESS(4+MATCH(\"U\",CE_PIANO!$B$5:$B$206,0),COLUMN(SP_PIANO!G$4),,,\"CE_PIANO\")),IF(ISERROR(VLOOKUP($A44,Attivita_Passivita!$B$6:$Q$105,COLUMN(Attivita_Passivita!N$4)-1,FALSE)),0,VLOOKUP($A44,Attivita_Passivita!$B$6:$Q$105,COLUMN(Attivita_Passivita!N$4)-1,FALSE))))))","v":-13100},{"$f":"IF($A44=\"\",\"\",IF(H$4=\"\",\"\",IF(OR($B44=\"X\", $B44=\"I\"),INDIRECT(ADDRESS(IF($B44=\"X\",12,13),MATCH(SP_PIANO!H$4,BASE!$B$2:$F$2,0)+1,,,\"BASE\")),IF($B44=\"U\",-INDIRECT(ADDRESS(4+MATCH(\"U\",CE_PIANO!$B$5:$B$206,0),COLUMN(SP_PIANO!H$4),,,\"CE_PIANO\")),IF(ISERROR(VLOOKUP($A44,Attivita_Passivita!$B$6:$Q$105,COLUMN(Attivita_Passivita!O$4)-1,FALSE)),0,VLOOKUP($A44,Attivita_Passivita!$B$6:$Q$105,COLUMN(Attivita_Passivita!O$4)-1,FALSE))))))","v":-14500}]
[{"$f":"IF(SP_STORICO!A45=\"\",\"\",SP_STORICO!A45)","v":"110103_Risultato del periodo"},{"$f":"IF($A45=\"\",\"\",VLOOKUP(A45,SCHEMA_SP!$E$5:$F$54,2,FALSE))","v":"U"},{"$f":"IF(SP_STORICO!A45=\"\",\"\",SP_STORICO!B45)","v":"Risultato del periodo"},{"$f":"IF(SP_STORICO!C45=\"\",\"\",SP_STORICO!C45)","v":""},{"$f":"IF(SP_STORICO!D45=\"\",\"\",SP_STORICO!D45)","v":""},{"$f":"IF($A45=\"\",\"\",IF(F$4=\"\",\"\",IF(OR($B45=\"X\", $B45=\"I\"),INDIRECT(ADDRESS(IF($B45=\"X\",12,13),MATCH(SP_PIANO!F$4,BASE!$B$2:$F$2,0)+1,,,\"BASE\")),IF($B45=\"U\",-INDIRECT(ADDRESS(4+MATCH(\"U\",CE_PIANO!$B$5:$B$206,0),COLUMN(SP_PIANO!F$4),,,\"CE_PIANO\")),IF(ISERROR(VLOOKUP($A45,Attivita_Passivita!$B$6:$Q$105,COLUMN(Attivita_Passivita!M$4)-1,FALSE)),0,VLOOKUP($A45,Attivita_Passivita!$B$6:$Q$105,COLUMN(Attivita_Passivita!M$4)-1,FALSE))))))","v":-3308.7750000000001},{"$f":"IF($A45=\"\",\"\",IF(G$4=\"\",\"\",IF(OR($B45=\"X\", $B45=\"I\"),INDIRECT(ADDRESS(IF($B45=\"X\",12,13),MATCH(SP_PIANO!G$4,BASE!$B$2:$F$2,0)+1,,,\"BASE\")),IF($B45=\"U\",-INDIRECT(ADDRESS(4+MATCH(\"U\",CE_PIANO!$B$5:$B$206,0),COLUMN(SP_PIANO!G$4),,,\"CE_PIANO\")),IF(ISERROR(VLOOKUP($A45,Attivita_Passivita!$B$6:$Q$105,COLUMN(Attivita_Passivita!N$4)-1,FALSE)),0,VLOOKUP($A45,Attivita_Passivita!$B$6:$Q$105,COLUMN(Attivita_Passivita!N$4)-1,FALSE))))))","v":-3660.0656249999997},{"$f":"IF($A45=\"\",\"\",IF(H$4=\"\",\"\",IF(OR($B45=\"X\", $B45=\"I\"),INDIRECT(ADDRESS(IF($B45=\"X\",12,13),MATCH(SP_PIANO!H$4,BASE!$B$2:$F$2,0)+1,,,\"BASE\")),IF($B45=\"U\",-INDIRECT(ADDRESS(4+MATCH(\"U\",CE_PIANO!$B$5:$B$206,0),COLUMN(SP_PIANO!H$4),,,\"CE_PIANO\")),IF(ISERROR(VLOOKUP($A45,Attivita_Passivita!$B$6:$Q$105,COLUMN(Attivita_Passivita!O$4)-1,FALSE)),0,VLOOKUP($A45,Attivita_Passivita!$B$6:$Q$105,COLUMN(Attivita_Passivita!O$4)-1,FALSE))))))","v":-3795.4651406249995}]
[{"$f":"IF(SP_STORICO!A46=\"\",\"\",SP_STORICO!A46)","v":"110199_PATRIMONIO NETTO"},{"$f":"IF($A46=\"\",\"\",VLOOKUP(A46,SCHEMA_SP!$E$5:$F$54,2,FALSE))","v":0},{"$f":"IF(SP_STORICO!A46=\"\",\"\",SP_STORICO!B46)","v":"PATRIMONIO NETTO"},{"$f":"IF(SP_STORICO!C46=\"\",\"\",SP_STORICO!C46)","v":0},{"$f":"IF(SP_STORICO!D46=\"\",\"\",SP_STORICO!D46)","v":0},{"$f":"SUM(F43:F45)","v":-17108.775000000001},{"$f":"SUM(G43:G45)","v":-20760.065624999999},{"$f":"SUM(H43:H45)","v":-22295.465140624998}]
[{"$f":"IF(SP_STORICO!A47=\"\",\"\",SP_STORICO!A47)","v":""},{"$f":"IF($A47=\"\",\"\",VLOOKUP(A47,SCHEMA_SP!$E$5:$F$54,2,FALSE))","v":""},{"$f":"IF(SP_STORICO!A47=\"\",\"\",SP_STORICO!B47)","v":""},{"$f":"IF(SP_STORICO!C47=\"\",\"\",SP_STORICO!C47)","v":""},{"$f":"IF(SP_STORICO!D47=\"\",\"\",SP_STORICO!D47)","v":""},{"$f":"IF($A47=\"\",\"\",IF(F$4=\"\",\"\",IF(OR($B47=\"X\", $B47=\"I\"),INDIRECT(ADDRESS(IF($B47=\"X\",12,13),MATCH(SP_PIANO!F$4,BASE!$B$2:$F$2,0)+1,,,\"BASE\")),IF($B47=\"U\",-INDIRECT(ADDRESS(4+MATCH(\"U\",CE_PIANO!$B$5:$B$206,0),COLUMN(SP_PIANO!F$4),,,\"CE_PIANO\")),IF(ISERROR(VLOOKUP($A47,Attivita_Passivita!$B$6:$Q$105,COLUMN(Attivita_Passivita!M$4)-1,FALSE)),0,VLOOKUP($A47,Attivita_Passivita!$B$6:$Q$105,COLUMN(Attivita_Passivita!M$4)-1,FALSE))))))","v":""},{"$f":"IF($A47=\"\",\"\",IF(G$4=\"\",\"\",IF(OR($B47=\"X\", $B47=\"I\"),INDIRECT(ADDRESS(IF($B47=\"X\",12,13),MATCH(SP_PIANO!G$4,BASE!$B$2:$F$2,0)+1,,,\"BASE\")),IF($B47=\"U\",-INDIRECT(ADDRESS(4+MATCH(\"U\",CE_PIANO!$B$5:$B$206,0),COLUMN(SP_PIANO!G$4),,,\"CE_PIANO\")),IF(ISERROR(VLOOKUP($A47,Attivita_Passivita!$B$6:$Q$105,COLUMN(Attivita_Passivita!N$4)-1,FALSE)),0,VLOOKUP($A47,Attivita_Passivita!$B$6:$Q$105,COLUMN(Attivita_Passivita!N$4)-1,FALSE))))))","v":""},{"$f":"IF($A47=\"\",\"\",IF(H$4=\"\",\"\",IF(OR($B47=\"X\", $B47=\"I\"),INDIRECT(ADDRESS(IF($B47=\"X\",12,13),MATCH(SP_PIANO!H$4,BASE!$B$2:$F$2,0)+1,,,\"BASE\")),IF($B47=\"U\",-INDIRECT(ADDRESS(4+MATCH(\"U\",CE_PIANO!$B$5:$B$206,0),COLUMN(SP_PIANO!H$4),,,\"CE_PIANO\")),IF(ISERROR(VLOOKUP($A47,Attivita_Passivita!$B$6:$Q$105,COLUMN(Attivita_Passivita!O$4)-1,FALSE)),0,VLOOKUP($A47,Attivita_Passivita!$B$6:$Q$105,COLUMN(Attivita_Passivita!O$4)-1,FALSE))))))","v":""}]
[{"$f":"IF(SP_STORICO!A48=\"\",\"\",SP_STORICO!A48)","v":"110201_Debiti a breve verso banche"},{"$f":"IF($A48=\"\",\"\",VLOOKUP(A48,SCHEMA_SP!$E$5:$F$54,2,FALSE))","v":"X"},{"$f":"IF(SP_STORICO!A48=\"\",\"\",SP_STORICO!B48)","v":"Debiti a breve verso banche"},{"$f":"IF(SP_STORICO!C48=\"\",\"\",SP_STORICO!C48)","v":""},{"$f":"IF(SP_STORICO!D48=\"\",\"\",SP_STORICO!D48)","v":""},{"$f":"IF($A48=\"\",\"\",IF(F$4=\"\",\"\",IF(OR($B48=\"X\", $B48=\"I\"),INDIRECT(ADDRESS(IF($B48=\"X\",12,13),MATCH(SP_PIANO!F$4,BASE!$B$2:$F$2,0)+1,,,\"BASE\")),IF($B48=\"U\",-INDIRECT(ADDRESS(4+MATCH(\"U\",CE_PIANO!$B$5:$B$206,0),COLUMN(SP_PIANO!F$4),,,\"CE_PIANO\")),IF(ISERROR(VLOOKUP($A48,Attivita_Passivita!$B$6:$Q$105,COLUMN(Attivita_Passivita!M$4)-1,FALSE)),0,VLOOKUP($A48,Attivita_Passivita!$B$6:$Q$105,COLUMN(Attivita_Passivita!M$4)-1,FALSE))))))","v":6749.625},{"$f":"IF($A48=\"\",\"\",IF(G$4=\"\",\"\",IF(OR($B48=\"X\", $B48=\"I\"),INDIRECT(ADDRESS(IF($B48=\"X\",12,13),MATCH(SP_PIANO!G$4,BASE!$B$2:$F$2,0)+1,,,\"BASE\")),IF($B48=\"U\",-INDIRECT(ADDRESS(4+MATCH(\"U\",CE_PIANO!$B$5:$B$206,0),COLUMN(SP_PIANO!G$4),,,\"CE_PIANO\")),IF(ISERROR(VLOOKUP($A48,Attivita_Passivita!$B$6:$Q$105,COLUMN(Attivita_Passivita!N$4)-1,FALSE)),0,VLOOKUP($A48,Attivita_Passivita!$B$6:$Q$105,COLUMN(Attivita_Passivita!N$4)-1,FALSE))))))","v":18685.109375},{"$f":"IF($A48=\"\",\"\",IF(H$4=\"\",\"\",IF(OR($B48=\"X\", $B48=\"I\"),INDIRECT(ADDRESS(IF($B48=\"X\",12,13),MATCH(SP_PIANO!H$4,BASE!$B$2:$F$2,0)+1,,,\"BASE\")),IF($B48=\"U\",-INDIRECT(ADDRESS(4+MATCH(\"U\",CE_PIANO!$B$5:$B$206,0),COLUMN(SP_PIANO!H$4),,,\"CE_PIANO\")),IF(ISERROR(VLOOKUP($A48,Attivita_Passivita!$B$6:$Q$105,COLUMN(Attivita_Passivita!O$4)-1,FALSE)),0,VLOOKUP($A48,Attivita_Passivita!$B$6:$Q$105,COLUMN(Attivita_Passivita!O$4)-1,FALSE))))))","v":18660.775234375}]
[{"$f":"IF(SP_STORICO!A49=\"\",\"\",SP_STORICO!A49)","v":"110211_Debiti a breve verso altri finanziatori"},{"$f":"IF($A49=\"\",\"\",VLOOKUP(A49,SCHEMA_SP!$E$5:$F$54,2,FALSE))","v":"P"},{"$f":"IF(SP_STORICO!A49=\"\",\"\",SP_STORICO!B49)","v":"Debiti a breve verso altri finanziatori"},{"$f":"IF(SP_STORICO!C49=\"\",\"\",SP_STORICO!C49)","v":""},{"$f":"IF(SP_STORICO!D49=\"\",\"\",SP_STORICO!D49)","v":""},{"$f":"IF($A49=\"\",\"\",IF(F$4=\"\",\"\",IF(OR($B49=\"X\", $B49=\"I\"),INDIRECT(ADDRESS(IF($B49=\"X\",12,13),MATCH(SP_PIANO!F$4,BASE!$B$2:$F$2,0)+1,,,\"BASE\")),IF($B49=\"U\",-INDIRECT(ADDRESS(4+MATCH(\"U\",CE_PIANO!$B$5:$B$206,0),COLUMN(SP_PIANO!F$4),,,\"CE_PIANO\")),IF(ISERROR(VLOOKUP($A49,Attivita_Passivita!$B$6:$Q$105,COLUMN(Attivita_Passivita!M$4)-1,FALSE)),0,VLOOKUP($A49,Attivita_Passivita!$B$6:$Q$105,COLUMN(Attivita_Passivita!M$4)-1,FALSE))))))","v":-500},{"$f":"IF($A49=\"\",\"\",IF(G$4=\"\",\"\",IF(OR($B49=\"X\", $B49=\"I\"),INDIRECT(ADDRESS(IF($B49=\"X\",12,13),MATCH(SP_PIANO!G$4,BASE!$B$2:$F$2,0)+1,,,\"BASE\")),IF($B49=\"U\",-INDIRECT(ADDRESS(4+MATCH(\"U\",CE_PIANO!$B$5:$B$206,0),COLUMN(SP_PIANO!G$4),,,\"CE_PIANO\")),IF(ISERROR(VLOOKUP($A49,Attivita_Passivita!$B$6:$Q$105,COLUMN(Attivita_Passivita!N$4)-1,FALSE)),0,VLOOKUP($A49,Attivita_Passivita!$B$6:$Q$105,COLUMN(Attivita_Passivita!N$4)-1,FALSE))))))","v":-500},{"$f":"IF($A49=\"\",\"\",IF(H$4=\"\",\"\",IF(OR($B49=\"X\", $B49=\"I\"),INDIRECT(ADDRESS(IF($B49=\"X\",12,13),MATCH(SP_PIANO!H$4,BASE!$B$2:$F$2,0)+1,,,\"BASE\")),IF($B49=\"U\",-INDIRECT(ADDRESS(4+MATCH(\"U\",CE_PIANO!$B$5:$B$206,0),COLUMN(SP_PIANO!H$4),,,\"CE_PIANO\")),IF(ISERROR(VLOOKUP($A49,Attivita_Passivita!$B$6:$Q$105,COLUMN(Attivita_Passivita!O$4)-1,FALSE)),0,VLOOKUP($A49,Attivita_Passivita!$B$6:$Q$105,COLUMN(Attivita_Passivita!O$4)-1,FALSE))))))","v":-500}]
[{"$f":"IF(SP_STORICO!A50=\"\",\"\",SP_STORICO!A50)","v":"110299_DEBITI FINANZIARI A BREVE"},{"$f":"IF($A50=\"\",\"\",VLOOKUP(A50,SCHEMA_SP!$E$5:$F$54,2,FALSE))","v":0},{"$f":"IF(SP_STORICO!A50=\"\",\"\",SP_STORICO!B50)","v":"DEBITI FINANZIARI A BREVE"},{"$f":"IF(SP_STORICO!C50=\"\",\"\",SP_STORICO!C50)","v":0},{"$f":"IF(SP_STORICO!D50=\"\",\"\",SP_STORICO!D50)","v":0},{"$f":"SUM(F48:F49)","v":6249.625},{"$f":"SUM(G48:G49)","v":18185.109375},{"$f":"SUM(H48:H49)","v":18160.775234375}]
[{"$f":"IF(SP_STORICO!A51=\"\",\"\",SP_STORICO!A51)","v":""},{"$f":"IF($A51=\"\",\"\",VLOOKUP(A51,SCHEMA_SP!$E$5:$F$54,2,FALSE))","v":""},{"$f":"IF(SP_STORICO!A51=\"\",\"\",SP_STORICO!B51)","v":""},{"$f":"IF(SP_STORICO!C51=\"\",\"\",SP_STORICO!C51)","v":""},{"$f":"IF(SP_STORICO!D51=\"\",\"\",SP_STORICO!D51)","v":""},{"$f":"IF($A51=\"\",\"\",IF(F$4=\"\",\"\",IF(OR($B51=\"X\", $B51=\"I\"),INDIRECT(ADDRESS(IF($B51=\"X\",12,13),MATCH(SP_PIANO!F$4,BASE!$B$2:$F$2,0)+1,,,\"BASE\")),IF($B51=\"U\",-INDIRECT(ADDRESS(4+MATCH(\"U\",CE_PIANO!$B$5:$B$206,0),COLUMN(SP_PIANO!F$4),,,\"CE_PIANO\")),IF(ISERROR(VLOOKUP($A51,Attivita_Passivita!$B$6:$Q$105,COLUMN(Attivita_Passivita!M$4)-1,FALSE)),0,VLOOKUP($A51,Attivita_Passivita!$B$6:$Q$105,COLUMN(Attivita_Passivita!M$4)-1,FALSE))))))","v":""},{"$f":"IF($A51=\"\",\"\",IF(G$4=\"\",\"\",IF(OR($B51=\"X\", $B51=\"I\"),INDIRECT(ADDRESS(IF($B51=\"X\",12,13),MATCH(SP_PIANO!G$4,BASE!$B$2:$F$2,0)+1,,,\"BASE\")),IF($B51=\"U\",-INDIRECT(ADDRESS(4+MATCH(\"U\",CE_PIANO!$B$5:$B$206,0),COLUMN(SP_PIANO!G$4),,,\"CE_PIANO\")),IF(ISERROR(VLOOKUP($A51,Attivita_Passivita!$B$6:$Q$105,COLUMN(Attivita_Passivita!N$4)-1,FALSE)),0,VLOOKUP($A51,Attivita_Passivita!$B$6:$Q$105,COLUMN(Attivita_Passivita!N$4)-1,FALSE))))))","v":""},{"$f":"IF($A51=\"\",\"\",IF(H$4=\"\",\"\",IF(OR($B51=\"X\", $B51=\"I\"),INDIRECT(ADDRESS(IF($B51=\"X\",12,13),MATCH(SP_PIANO!H$4,BASE!$B$2:$F$2,0)+1,,,\"BASE\")),IF($B51=\"U\",-INDIRECT(ADDRESS(4+MATCH(\"U\",CE_PIANO!$B$5:$B$206,0),COLUMN(SP_PIANO!H$4),,,\"CE_PIANO\")),IF(ISERROR(VLOOKUP($A51,Attivita_Passivita!$B$6:$Q$105,COLUMN(Attivita_Passivita!O$4)-1,FALSE)),0,VLOOKUP($A51,Attivita_Passivita!$B$6:$Q$105,COLUMN(Attivita_Passivita!O$4)-1,FALSE))))))","v":""}]
[{"$f":"IF(SP_STORICO!A52=\"\",\"\",SP_STORICO!A52)","v":"110301_Debiti a medio termine verso banche"},{"$f":"IF($A52=\"\",\"\",VLOOKUP(A52,SCHEMA_SP!$E$5:$F$54,2,FALSE))","v":"P"},{"$f":"IF(SP_STORICO!A52=\"\",\"\",SP_STORICO!B52)","v":"Debiti a medio termine verso banche"},{"$f":"IF(SP_STORICO!C52=\"\",\"\",SP_STORICO!C52)","v":""},{"$f":"IF(SP_STORICO!D52=\"\",\"\",SP_STORICO!D52)","v":""},{"$f":"IF($A52=\"\",\"\",IF(F$4=\"\",\"\",IF(OR($B52=\"X\", $B52=\"I\"),INDIRECT(ADDRESS(IF($B52=\"X\",12,13),MATCH(SP_PIANO!F$4,BASE!$B$2:$F$2,0)+1,,,\"BASE\")),IF($B52=\"U\",-INDIRECT(ADDRESS(4+MATCH(\"U\",CE_PIANO!$B$5:$B$206,0),COLUMN(SP_PIANO!F$4),,,\"CE_PIANO\")),IF(ISERROR(VLOOKUP($A52,Attivita_Passivita!$B$6:$Q$105,COLUMN(Attivita_Passivita!M$4)-1,FALSE)),0,VLOOKUP($A52,Attivita_Passivita!$B$6:$Q$105,COLUMN(Attivita_Passivita!M$4)-1,FALSE))))))","v":-2000},{"$f":"IF($A52=\"\",\"\",IF(G$4=\"\",\"\",IF(OR($B52=\"X\", $B52=\"I\"),INDIRECT(ADDRESS(IF($B52=\"X\",12,13),MATCH(SP_PIANO!G$4,BASE!$B$2:$F$2,0)+1,,,\"BASE\")),IF($B52=\"U\",-INDIRECT(ADDRESS(4+MATCH(\"U\",CE_PIANO!$B$5:$B$206,0),COLUMN(SP_PIANO!G$4),,,\"CE_PIANO\")),IF(ISERROR(VLOOKUP($A52,Attivita_Passivita!$B$6:$Q$105,COLUMN(Attivita_Passivita!N$4)-1,FALSE)),0,VLOOKUP($A52,Attivita_Passivita!$B$6:$Q$105,COLUMN(Attivita_Passivita!N$4)-1,FALSE))))))","v":-1500},{"$f":"IF($A52=\"\",\"\",IF(H$4=\"\",\"\",IF(OR($B52=\"X\", $B52=\"I\"),INDIRECT(ADDRESS(IF($B52=\"X\",12,13),MATCH(SP_PIANO!H$4,BASE!$B$2:$F$2,0)+1,,,\"BASE\")),IF($B52=\"U\",-INDIRECT(ADDRESS(4+MATCH(\"U\",CE_PIANO!$B$5:$B$206,0),COLUMN(SP_PIANO!H$4),,,\"CE_PIANO\")),IF(ISERROR(VLOOKUP($A52,Attivita_Passivita!$B$6:$Q$105,COLUMN(Attivita_Passivita!O$4)-1,FALSE)),0,VLOOKUP($A52,Attivita_Passivita!$B$6:$Q$105,COLUMN(Attivita_Passivita!O$4)-1,FALSE))))))","v":-1000}]
[{"$f":"IF(SP_STORICO!A53=\"\",\"\",SP_STORICO!A53)","v":"110311_Debiti a medio termine verso altri finanziatori"},{"$f":"IF($A53=\"\",\"\",VLOOKUP(A53,SCHEMA_SP!$E$5:$F$54,2,FALSE))","v":"P"},{"$f":"IF(SP_STORICO!A53=\"\",\"\",SP_STORICO!B53)","v":"Debiti a medio termine verso altri finanziatori"},{"$f":"IF(SP_STORICO!C53=\"\",\"\",SP_STORICO!C53)","v":""},{"$f":"IF(SP_STORICO!D53=\"\",\"\",SP_STORICO!D53)","v":""},{"$f":"IF($A53=\"\",\"\",IF(F$4=\"\",\"\",IF(OR($B53=\"X\", $B53=\"I\"),INDIRECT(ADDRESS(IF($B53=\"X\",12,13),MATCH(SP_PIANO!F$4,BASE!$B$2:$F$2,0)+1,,,\"BASE\")),IF($B53=\"U\",-INDIRECT(ADDRESS(4+MATCH(\"U\",CE_PIANO!$B$5:$B$206,0),COLUMN(SP_PIANO!F$4),,,\"CE_PIANO\")),IF(ISERROR(VLOOKUP($A53,Attivita_Passivita!$B$6:$Q$105,COLUMN(Attivita_Passivita!M$4)-1,FALSE)),0,VLOOKUP($A53,Attivita_Passivita!$B$6:$Q$105,COLUMN(Attivita_Passivita!M$4)-1,FALSE))))))","v":-300},{"$f":"IF($A53=\"\",\"\",IF(G$4=\"\",\"\",IF(OR($B53=\"X\", $B53=\"I\"),INDIRECT(ADDRESS(IF($B53=\"X\",12,13),MATCH(SP_PIANO!G$4,BASE!$B$2:$F$2,0)+1,,,\"BASE\")),IF($B53=\"U\",-INDIRECT(ADDRESS(4+MATCH(\"U\",CE_PIANO!$B$5:$B$206,0),COLUMN(SP_PIANO!G$4),,,\"CE_PIANO\")),IF(ISERROR(VLOOKUP($A53,Attivita_Passivita!$B$6:$Q$105,COLUMN(Attivita_Passivita!N$4)-1,FALSE)),0,VLOOKUP($A53,Attivita_Passivita!$B$6:$Q$105,COLUMN(Attivita_Passivita!N$4)-1,FALSE))))))","v":-400},{"$f":"IF($A53=\"\",\"\",IF(H$4=\"\",\"\",IF(OR($B53=\"X\", $B53=\"I\"),INDIRECT(ADDRESS(IF($B53=\"X\",12,13),MATCH(SP_PIANO!H$4,BASE!$B$2:$F$2,0)+1,,,\"BASE\")),IF($B53=\"U\",-INDIRECT(ADDRESS(4+MATCH(\"U\",CE_PIANO!$B$5:$B$206,0),COLUMN(SP_PIANO!H$4),,,\"CE_PIANO\")),IF(ISERROR(VLOOKUP($A53,Attivita_Passivita!$B$6:$Q$105,COLUMN(Attivita_Passivita!O$4)-1,FALSE)),0,VLOOKUP($A53,Attivita_Passivita!$B$6:$Q$105,COLUMN(Attivita_Passivita!O$4)-1,FALSE))))))","v":-500}]
[{"$f":"IF(SP_STORICO!A54=\"\",\"\",SP_STORICO!A54)","v":"110399_DEBITI FINANZIARI A MEDIO"},{"$f":"IF($A54=\"\",\"\",VLOOKUP(A54,SCHEMA_SP!$E$5:$F$54,2,FALSE))","v":0},{"$f":"IF(SP_STORICO!A54=\"\",\"\",SP_STORICO!B54)","v":"DEBITI FINANZIARI A MEDIO"},{"$f":"IF(SP_STORICO!C54=\"\",\"\",SP_STORICO!C54)","v":0},{"$f":"IF(SP_STORICO!D54=\"\",\"\",SP_STORICO!D54)","v":0},{"$f":"SUM(F52:F53)","v":-2300},{"$f":"SUM(G52:G53)","v":-1900},{"$f":"SUM(H52:H53)","v":-1500}]
[{"$f":"IF(SP_STORICO!A55=\"\",\"\",SP_STORICO!A55)","v":""},{"$f":"IF($A55=\"\",\"\",VLOOKUP(A55,SCHEMA_SP!$E$5:$F$54,2,FALSE))","v":""},{"$f":"IF(SP_STORICO!A55=\"\",\"\",SP_STORICO!B55)","v":""},{"$f":"IF(SP_STORICO!C55=\"\",\"\",SP_STORICO!C55)","v":""},{"$f":"IF(SP_STORICO!D55=\"\",\"\",SP_STORICO!D55)","v":""},{"$f":"IF($A55=\"\",\"\",IF(F$4=\"\",\"\",IF(OR($B55=\"X\", $B55=\"I\"),INDIRECT(ADDRESS(IF($B55=\"X\",12,13),MATCH(SP_PIANO!F$4,BASE!$B$2:$F$2,0)+1,,,\"BASE\")),IF($B55=\"U\",-INDIRECT(ADDRESS(4+MATCH(\"U\",CE_PIANO!$B$5:$B$206,0),COLUMN(SP_PIANO!F$4),,,\"CE_PIANO\")),IF(ISERROR(VLOOKUP($A55,Attivita_Passivita!$B$6:$Q$105,COLUMN(Attivita_Passivita!M$4)-1,FALSE)),0,VLOOKUP($A55,Attivita_Passivita!$B$6:$Q$105,COLUMN(Attivita_Passivita!M$4)-1,FALSE))))))","v":""},{"$f":"IF($A55=\"\",\"\",IF(G$4=\"\",\"\",IF(OR($B55=\"X\", $B55=\"I\"),INDIRECT(ADDRESS(IF($B55=\"X\",12,13),MATCH(SP_PIANO!G$4,BASE!$B$2:$F$2,0)+1,,,\"BASE\")),IF($B55=\"U\",-INDIRECT(ADDRESS(4+MATCH(\"U\",CE_PIANO!$B$5:$B$206,0),COLUMN(SP_PIANO!G$4),,,\"CE_PIANO\")),IF(ISERROR(VLOOKUP($A55,Attivita_Passivita!$B$6:$Q$105,COLUMN(Attivita_Passivita!N$4)-1,FALSE)),0,VLOOKUP($A55,Attivita_Passivita!$B$6:$Q$105,COLUMN(Attivita_Passivita!N$4)-1,FALSE))))))","v":""},{"$f":"IF($A55=\"\",\"\",IF(H$4=\"\",\"\",IF(OR($B55=\"X\", $B55=\"I\"),INDIRECT(ADDRESS(IF($B55=\"X\",12,13),MATCH(SP_PIANO!H$4,BASE!$B$2:$F$2,0)+1,,,\"BASE\")),IF($B55=\"U\",-INDIRECT(ADDRESS(4+MATCH(\"U\",CE_PIANO!$B$5:$B$206,0),COLUMN(SP_PIANO!H$4),,,\"CE_PIANO\")),IF(ISERROR(VLOOKUP($A55,Attivita_Passivita!$B$6:$Q$105,COLUMN(Attivita_Passivita!O$4)-1,FALSE)),0,VLOOKUP($A55,Attivita_Passivita!$B$6:$Q$105,COLUMN(Attivita_Passivita!O$4)-1,FALSE))))))","v":""}]
[{"$f":"IF(SP_STORICO!A56=\"\",\"\",SP_STORICO!A56)","v":"110401_TFR"},{"$f":"IF($A56=\"\",\"\",VLOOKUP(A56,SCHEMA_SP!$E$5:$F$54,2,FALSE))","v":"P"},{"$f":"IF(SP_STORICO!A56=\"\",\"\",SP_STORICO!B56)","v":"TFR"},{"$f":"IF(SP_STORICO!C56=\"\",\"\",SP_STORICO!C56)","v":""},{"$f":"IF(SP_STORICO!D56=\"\",\"\",SP_STORICO!D56)","v":""},{"$f":"IF($A56=\"\",\"\",IF(F$4=\"\",\"\",IF(OR($B56=\"X\", $B56=\"I\"),INDIRECT(ADDRESS(IF($B56=\"X\",12,13),MATCH(SP_PIANO!F$4,BASE!$B$2:$F$2,0)+1,,,\"BASE\")),IF($B56=\"U\",-INDIRECT(ADDRESS(4+MATCH(\"U\",CE_PIANO!$B$5:$B$206,0),COLUMN(SP_PIANO!F$4),,,\"CE_PIANO\")),IF(ISERROR(VLOOKUP($A56,Attivita_Passivita!$B$6:$Q$105,COLUMN(Attivita_Passivita!M$4)-1,FALSE)),0,VLOOKUP($A56,Attivita_Passivita!$B$6:$Q$105,COLUMN(Attivita_Passivita!M$4)-1,FALSE))))))","v":-450},{"$f":"IF($A56=\"\",\"\",IF(G$4=\"\",\"\",IF(OR($B56=\"X\", $B56=\"I\"),INDIRECT(ADDRESS(IF($B56=\"X\",12,13),MATCH(SP_PIANO!G$4,BASE!$B$2:$F$2,0)+1,,,\"BASE\")),IF($B56=\"U\",-INDIRECT(ADDRESS(4+MATCH(\"U\",CE_PIANO!$B$5:$B$206,0),COLUMN(SP_PIANO!G$4),,,\"CE_PIANO\")),IF(ISERROR(VLOOKUP($A56,Attivita_Passivita!$B$6:$Q$105,COLUMN(Attivita_Passivita!N$4)-1,FALSE)),0,VLOOKUP($A56,Attivita_Passivita!$B$6:$Q$105,COLUMN(Attivita_Passivita!N$4)-1,FALSE))))))","v":-500},{"$f":"IF($A56=\"\",\"\",IF(H$4=\"\",\"\",IF(OR($B56=\"X\", $B56=\"I\"),INDIRECT(ADDRESS(IF($B56=\"X\",12,13),MATCH(SP_PIANO!H$4,BASE!$B$2:$F$2,0)+1,,,\"BASE\")),IF($B56=\"U\",-INDIRECT(ADDRESS(4+MATCH(\"U\",CE_PIANO!$B$5:$B$206,0),COLUMN(SP_PIANO!H$4),,,\"CE_PIANO\")),IF(ISERROR(VLOOKUP($A56,Attivita_Passivita!$B$6:$Q$105,COLUMN(Attivita_Passivita!O$4)-1,FALSE)),0,VLOOKUP($A56,Attivita_Passivita!$B$6:$Q$105,COLUMN(Attivita_Passivita!O$4)-1,FALSE))))))","v":-550}]
[{"$f":"IF(SP_STORICO!A57=\"\",\"\",SP_STORICO!A57)","v":"110499_TOTALE TFR"},{"$f":"IF($A57=\"\",\"\",VLOOKUP(A57,SCHEMA_SP!$E$5:$F$54,2,FALSE))","v":0},{"$f":"IF(SP_STORICO!A57=\"\",\"\",SP_STORICO!B57)","v":"TOTALE TFR"},{"$f":"IF(SP_STORICO!C57=\"\",\"\",SP_STORICO!C57)","v":0},{"$f":"IF(SP_STORICO!D57=\"\",\"\",SP_STORICO!D57)","v":0},{"$f":"SUM(F56:F56)","v":-450},{"$f":"SUM(G56:G56)","v":-500},{"$f":"SUM(H56:H56)","v":-550}]
[{"$f":"IF(SP_STORICO!A58=\"\",\"\",SP_STORICO!A58)","v":""},{"$f":"IF($A58=\"\",\"\",VLOOKUP(A58,SCHEMA_SP!$E$5:$F$54,2,FALSE))","v":""},{"$f":"IF(SP_STORICO!A58=\"\",\"\",SP_STORICO!B58)","v":""},{"$f":"IF(SP_STORICO!C58=\"\",\"\",SP_STORICO!C58)","v":""},{"$f":"IF(SP_STORICO!D58=\"\",\"\",SP_STORICO!D58)","v":""},{"$f":"IF($A58=\"\",\"\",IF(F$4=\"\",\"\",IF(OR($B58=\"X\", $B58=\"I\"),INDIRECT(ADDRESS(IF($B58=\"X\",12,13),MATCH(SP_PIANO!F$4,BASE!$B$2:$F$2,0)+1,,,\"BASE\")),IF($B58=\"U\",-INDIRECT(ADDRESS(4+MATCH(\"U\",CE_PIANO!$B$5:$B$206,0),COLUMN(SP_PIANO!F$4),,,\"CE_PIANO\")),IF(ISERROR(VLOOKUP($A58,Attivita_Passivita!$B$6:$Q$105,COLUMN(Attivita_Passivita!M$4)-1,FALSE)),0,VLOOKUP($A58,Attivita_Passivita!$B$6:$Q$105,COLUMN(Attivita_Passivita!M$4)-1,FALSE))))))","v":""},{"$f":"IF($A58=\"\",\"\",IF(G$4=\"\",\"\",IF(OR($B58=\"X\", $B58=\"I\"),INDIRECT(ADDRESS(IF($B58=\"X\",12,13),MATCH(SP_PIANO!G$4,BASE!$B$2:$F$2,0)+1,,,\"BASE\")),IF($B58=\"U\",-INDIRECT(ADDRESS(4+MATCH(\"U\",CE_PIANO!$B$5:$B$206,0),COLUMN(SP_PIANO!G$4),,,\"CE_PIANO\")),IF(ISERROR(VLOOKUP($A58,Attivita_Passivita!$B$6:$Q$105,COLUMN(Attivita_Passivita!N$4)-1,FALSE)),0,VLOOKUP($A58,Attivita_Passivita!$B$6:$Q$105,COLUMN(Attivita_Passivita!N$4)-1,FALSE))))))","v":""},{"$f":"IF($A58=\"\",\"\",IF(H$4=\"\",\"\",IF(OR($B58=\"X\", $B58=\"I\"),INDIRECT(ADDRESS(IF($B58=\"X\",12,13),MATCH(SP_PIANO!H$4,BASE!$B$2:$F$2,0)+1,,,\"BASE\")),IF($B58=\"U\",-INDIRECT(ADDRESS(4+MATCH(\"U\",CE_PIANO!$B$5:$B$206,0),COLUMN(SP_PIANO!H$4),,,\"CE_PIANO\")),IF(ISERROR(VLOOKUP($A58,Attivita_Passivita!$B$6:$Q$105,COLUMN(Attivita_Passivita!O$4)-1,FALSE)),0,VLOOKUP($A58,Attivita_Passivita!$B$6:$Q$105,COLUMN(Attivita_Passivita!O$4)-1,FALSE))))))","v":""}]
[{"$f":"IF(SP_STORICO!A59=\"\",\"\",SP_STORICO!A59)","v":"119999_FONTI DI FINANZIAMENTO"},{"$f":"IF($A59=\"\",\"\",VLOOKUP(A59,SCHEMA_SP!$E$5:$F$54,2,FALSE))","v":0},{"$f":"IF(SP_STORICO!A59=\"\",\"\",SP_STORICO!B59)","v":"FONTI DI FINANZIAMENTO"},{"$f":"IF(SP_STORICO!C59=\"\",\"\",SP_STORICO!C59)","v":0},{"$f":"IF(SP_STORICO!D59=\"\",\"\",SP_STORICO!D59)","v":0},{"$f":"+F46+F50+F54+F57","v":-13609.150000000001},{"$f":"+G46+G50+G54+G57","v":-4974.9562499999993},{"$f":"+H46+H50+H54+H57","v":-6184.6899062499979}]
[{"$f":"IF(SP_STORICO!A60=\"\",\"\",SP_STORICO!A60)","v":""},{"$f":"IF($A60=\"\",\"\",VLOOKUP(A60,SCHEMA_SP!$E$5:$F$54,2,FALSE))","v":""},{"$f":"IF(SP_STORICO!A60=\"\",\"\",SP_STORICO!B60)","v":""},{"$f":"IF(SP_STORICO!C60=\"\",\"\",SP_STORICO!C60)","v":""},{"$f":"IF(SP_STORICO!D60=\"\",\"\",SP_STORICO!D60)","v":""},{"$f":"IF($A60=\"\",\"\",IF(F$4=\"\",\"\",IF(OR($B60=\"X\", $B60=\"I\"),INDIRECT(ADDRESS(IF($B60=\"X\",12,13),MATCH(SP_PIANO!F$4,BASE!$B$2:$F$2,0)+1,,,\"BASE\")),IF($B60=\"U\",-INDIRECT(ADDRESS(4+MATCH(\"U\",CE_PIANO!$B$5:$B$206,0),COLUMN(SP_PIANO!F$4),,,\"CE_PIANO\")),IF(ISERROR(VLOOKUP($A60,Attivita_Passivita!$B$6:$Q$105,COLUMN(Attivita_Passivita!M$4)-1,FALSE)),0,VLOOKUP($A60,Attivita_Passivita!$B$6:$Q$105,COLUMN(Attivita_Passivita!M$4)-1,FALSE))))))","v":""},{"$f":"IF($A60=\"\",\"\",IF(G$4=\"\",\"\",IF(OR($B60=\"X\", $B60=\"I\"),INDIRECT(ADDRESS(IF($B60=\"X\",12,13),MATCH(SP_PIANO!G$4,BASE!$B$2:$F$2,0)+1,,,\"BASE\")),IF($B60=\"U\",-INDIRECT(ADDRESS(4+MATCH(\"U\",CE_PIANO!$B$5:$B$206,0),COLUMN(SP_PIANO!G$4),,,\"CE_PIANO\")),IF(ISERROR(VLOOKUP($A60,Attivita_Passivita!$B$6:$Q$105,COLUMN(Attivita_Passivita!N$4)-1,FALSE)),0,VLOOKUP($A60,Attivita_Passivita!$B$6:$Q$105,COLUMN(Attivita_Passivita!N$4)-1,FALSE))))))","v":""},{"$f":"IF($A60=\"\",\"\",IF(H$4=\"\",\"\",IF(OR($B60=\"X\", $B60=\"I\"),INDIRECT(ADDRESS(IF($B60=\"X\",12,13),MATCH(SP_PIANO!H$4,BASE!$B$2:$F$2,0)+1,,,\"BASE\")),IF($B60=\"U\",-INDIRECT(ADDRESS(4+MATCH(\"U\",CE_PIANO!$B$5:$B$206,0),COLUMN(SP_PIANO!H$4),,,\"CE_PIANO\")),IF(ISERROR(VLOOKUP($A60,Attivita_Passivita!$B$6:$Q$105,COLUMN(Attivita_Passivita!O$4)-1,FALSE)),0,VLOOKUP($A60,Attivita_Passivita!$B$6:$Q$105,COLUMN(Attivita_Passivita!O$4)-1,FALSE))))))","v":""}]
[{"$f":"IF(SP_STORICO!A61=\"\",\"\",SP_STORICO!A61)","v":""},{"$f":"IF($A61=\"\",\"\",VLOOKUP(A61,SCHEMA_SP!$E$5:$F$54,2,FALSE))","v":""},{"$f":"IF(SP_STORICO!A61=\"\",\"\",SP_STORICO!B61)","v":""},{"$f":"IF(SP_STORICO!C61=\"\",\"\",SP_STORICO!C61)","v":""},{"$f":"IF(SP_STORICO!D61=\"\",\"\",SP_STORICO!D61)","v":""},{"$f":"IF($A61=\"\",\"\",IF(F$4=\"\",\"\",IF(OR($B61=\"X\", $B61=\"I\"),INDIRECT(ADDRESS(IF($B61=\"X\",12,13),MATCH(SP_PIANO!F$4,BASE!$B$2:$F$2,0)+1,,,\"BASE\")),IF($B61=\"U\",-INDIRECT(ADDRESS(4+MATCH(\"U\",CE_PIANO!$B$5:$B$206,0),COLUMN(SP_PIANO!F$4),,,\"CE_PIANO\")),IF(ISERROR(VLOOKUP($A61,Attivita_Passivita!$B$6:$Q$105,COLUMN(Attivita_Passivita!M$4)-1,FALSE)),0,VLOOKUP($A61,Attivita_Passivita!$B$6:$Q$105,COLUMN(Attivita_Passivita!M$4)-1,FALSE))))))","v":""},{"$f":"IF($A61=\"\",\"\",IF(G$4=\"\",\"\",IF(OR($B61=\"X\", $B61=\"I\"),INDIRECT(ADDRESS(IF($B61=\"X\",12,13),MATCH(SP_PIANO!G$4,BASE!$B$2:$F$2,0)+1,,,\"BASE\")),IF($B61=\"U\",-INDIRECT(ADDRESS(4+MATCH(\"U\",CE_PIANO!$B$5:$B$206,0),COLUMN(SP_PIANO!G$4),,,\"CE_PIANO\")),IF(ISERROR(VLOOKUP($A61,Attivita_Passivita!$B$6:$Q$105,COLUMN(Attivita_Passivita!N$4)-1,FALSE)),0,VLOOKUP($A61,Attivita_Passivita!$B$6:$Q$105,COLUMN(Attivita_Passivita!N$4)-1,FALSE))))))","v":""},{"$f":"IF($A61=\"\",\"\",IF(H$4=\"\",\"\",IF(OR($B61=\"X\", $B61=\"I\"),INDIRECT(ADDRESS(IF($B61=\"X\",12,13),MATCH(SP_PIANO!H$4,BASE!$B$2:$F$2,0)+1,,,\"BASE\")),IF($B61=\"U\",-INDIRECT(ADDRESS(4+MATCH(\"U\",CE_PIANO!$B$5:$B$206,0),COLUMN(SP_PIANO!H$4),,,\"CE_PIANO\")),IF(ISERROR(VLOOKUP($A61,Attivita_Passivita!$B$6:$Q$105,COLUMN(Attivita_Passivita!O$4)-1,FALSE)),0,VLOOKUP($A61,Attivita_Passivita!$B$6:$Q$105,COLUMN(Attivita_Passivita!O$4)-1,FALSE))))))","v":""}]
[{"$f":"IF(SP_STORICO!A62=\"\",\"\",SP_STORICO!A62)","v":""},{"$f":"IF($A62=\"\",\"\",VLOOKUP(A62,SCHEMA_SP!$E$5:$F$54,2,FALSE))","v":""},{"$f":"IF(SP_STORICO!A62=\"\",\"\",SP_STORICO!B62)","v":""},{"$f":"IF(SP_STORICO!C62=\"\",\"\",SP_STORICO!C62)","v":""},{"$f":"IF(SP_STORICO!D62=\"\",\"\",SP_STORICO!D62)","v":""},{"$f":"IF($A62=\"\",\"\",IF(F$4=\"\",\"\",IF(OR($B62=\"X\", $B62=\"I\"),INDIRECT(ADDRESS(IF($B62=\"X\",12,13),MATCH(SP_PIANO!F$4,BASE!$B$2:$F$2,0)+1,,,\"BASE\")),IF($B62=\"U\",-INDIRECT(ADDRESS(4+MATCH(\"U\",CE_PIANO!$B$5:$B$206,0),COLUMN(SP_PIANO!F$4),,,\"CE_PIANO\")),IF(ISERROR(VLOOKUP($A62,Attivita_Passivita!$B$6:$Q$105,COLUMN(Attivita_Passivita!M$4)-1,FALSE)),0,VLOOKUP($A62,Attivita_Passivita!$B$6:$Q$105,COLUMN(Attivita_Passivita!M$4)-1,FALSE))))))","v":""},{"$f":"IF($A62=\"\",\"\",IF(G$4=\"\",\"\",IF(OR($B62=\"X\", $B62=\"I\"),INDIRECT(ADDRESS(IF($B62=\"X\",12,13),MATCH(SP_PIANO!G$4,BASE!$B$2:$F$2,0)+1,,,\"BASE\")),IF($B62=\"U\",-INDIRECT(ADDRESS(4+MATCH(\"U\",CE_PIANO!$B$5:$B$206,0),COLUMN(SP_PIANO!G$4),,,\"CE_PIANO\")),IF(ISERROR(VLOOKUP($A62,Attivita_Passivita!$B$6:$Q$105,COLUMN(Attivita_Passivita!N$4)-1,FALSE)),0,VLOOKUP($A62,Attivita_Passivita!$B$6:$Q$105,COLUMN(Attivita_Passivita!N$4)-1,FALSE))))))","v":""},{"$f":"IF($A62=\"\",\"\",IF(H$4=\"\",\"\",IF(OR($B62=\"X\", $B62=\"I\"),INDIRECT(ADDRESS(IF($B62=\"X\",12,13),MATCH(SP_PIANO!H$4,BASE!$B$2:$F$2,0)+1,,,\"BASE\")),IF($B62=\"U\",-INDIRECT(ADDRESS(4+MATCH(\"U\",CE_PIANO!$B$5:$B$206,0),COLUMN(SP_PIANO!H$4),,,\"CE_PIANO\")),IF(ISERROR(VLOOKUP($A62,Attivita_Passivita!$B$6:$Q$105,COLUMN(Attivita_Passivita!O$4)-1,FALSE)),0,VLOOKUP($A62,Attivita_Passivita!$B$6:$Q$105,COLUMN(Attivita_Passivita!O$4)-1,FALSE))))))","v":""}]
[{"$f":"IF(SP_STORICO!A63=\"\",\"\",SP_STORICO!A63)","v":""},{"$f":"IF($A63=\"\",\"\",VLOOKUP(A63,SCHEMA_SP!$E$5:$F$54,2,FALSE))","v":""},{"$f":"IF(SP_STORICO!A63=\"\",\"\",SP_STORICO!B63)","v":""},{"$f":"IF(SP_STORICO!C63=\"\",\"\",SP_STORICO!C63)","v":""},{"$f":"IF(SP_STORICO!D63=\"\",\"\",SP_STORICO!D63)","v":""},{"$f":"IF($A63=\"\",\"\",IF(F$4=\"\",\"\",IF(OR($B63=\"X\", $B63=\"I\"),INDIRECT(ADDRESS(IF($B63=\"X\",12,13),MATCH(SP_PIANO!F$4,BASE!$B$2:$F$2,0)+1,,,\"BASE\")),IF($B63=\"U\",-INDIRECT(ADDRESS(4+MATCH(\"U\",CE_PIANO!$B$5:$B$206,0),COLUMN(SP_PIANO!F$4),,,\"CE_PIANO\")),IF(ISERROR(VLOOKUP($A63,Attivita_Passivita!$B$6:$Q$105,COLUMN(Attivita_Passivita!M$4)-1,FALSE)),0,VLOOKUP($A63,Attivita_Passivita!$B$6:$Q$105,COLUMN(Attivita_Passivita!M$4)-1,FALSE))))))","v":""},{"$f":"IF($A63=\"\",\"\",IF(G$4=\"\",\"\",IF(OR($B63=\"X\", $B63=\"I\"),INDIRECT(ADDRESS(IF($B63=\"X\",12,13),MATCH(SP_PIANO!G$4,BASE!$B$2:$F$2,0)+1,,,\"BASE\")),IF($B63=\"U\",-INDIRECT(ADDRESS(4+MATCH(\"U\",CE_PIANO!$B$5:$B$206,0),COLUMN(SP_PIANO!G$4),,,\"CE_PIANO\")),IF(ISERROR(VLOOKUP($A63,Attivita_Passivita!$B$6:$Q$105,COLUMN(Attivita_Passivita!N$4)-1,FALSE)),0,VLOOKUP($A63,Attivita_Passivita!$B$6:$Q$105,COLUMN(Attivita_Passivita!N$4)-1,FALSE))))))","v":""},{"$f":"IF($A63=\"\",\"\",IF(H$4=\"\",\"\",IF(OR($B63=\"X\", $B63=\"I\"),INDIRECT(ADDRESS(IF($B63=\"X\",12,13),MATCH(SP_PIANO!H$4,BASE!$B$2:$F$2,0)+1,,,\"BASE\")),IF($B63=\"U\",-INDIRECT(ADDRESS(4+MATCH(\"U\",CE_PIANO!$B$5:$B$206,0),COLUMN(SP_PIANO!H$4),,,\"CE_PIANO\")),IF(ISERROR(VLOOKUP($A63,Attivita_Passivita!$B$6:$Q$105,COLUMN(Attivita_Passivita!O$4)-1,FALSE)),0,VLOOKUP($A63,Attivita_Passivita!$B$6:$Q$105,COLUMN(Attivita_Passivita!O$4)-1,FALSE))))))","v":""}]
[{"$f":"IF(SP_STORICO!A64=\"\",\"\",SP_STORICO!A64)","v":""},{"$f":"IF($A64=\"\",\"\",VLOOKUP(A64,SCHEMA_SP!$E$5:$F$54,2,FALSE))","v":""},{"$f":"IF(SP_STORICO!A64=\"\",\"\",SP_STORICO!B64)","v":""},{"$f":"IF(SP_STORICO!C64=\"\",\"\",SP_STORICO!C64)","v":""},{"$f":"IF(SP_STORICO!D64=\"\",\"\",SP_STORICO!D64)","v":""},{"$f":"IF($A64=\"\",\"\",IF(F$4=\"\",\"\",IF(OR($B64=\"X\", $B64=\"I\"),INDIRECT(ADDRESS(IF($B64=\"X\",12,13),MATCH(SP_PIANO!F$4,BASE!$B$2:$F$2,0)+1,,,\"BASE\")),IF($B64=\"U\",-INDIRECT(ADDRESS(4+MATCH(\"U\",CE_PIANO!$B$5:$B$206,0),COLUMN(SP_PIANO!F$4),,,\"CE_PIANO\")),IF(ISERROR(VLOOKUP($A64,Attivita_Passivita!$B$6:$Q$105,COLUMN(Attivita_Passivita!M$4)-1,FALSE)),0,VLOOKUP($A64,Attivita_Passivita!$B$6:$Q$105,COLUMN(Attivita_Passivita!M$4)-1,FALSE))))))","v":""},{"$f":"IF($A64=\"\",\"\",IF(G$4=\"\",\"\",IF(OR($B64=\"X\", $B64=\"I\"),INDIRECT(ADDRESS(IF($B64=\"X\",12,13),MATCH(SP_PIANO!G$4,BASE!$B$2:$F$2,0)+1,,,\"BASE\")),IF($B64=\"U\",-INDIRECT(ADDRESS(4+MATCH(\"U\",CE_PIANO!$B$5:$B$206,0),COLUMN(SP_PIANO!G$4),,,\"CE_PIANO\")),IF(ISERROR(VLOOKUP($A64,Attivita_Passivita!$B$6:$Q$105,COLUMN(Attivita_Passivita!N$4)-1,FALSE)),0,VLOOKUP($A64,Attivita_Passivita!$B$6:$Q$105,COLUMN(Attivita_Passivita!N$4)-1,FALSE))))))","v":""},{"$f":"IF($A64=\"\",\"\",IF(H$4=\"\",\"\",IF(OR($B64=\"X\", $B64=\"I\"),INDIRECT(ADDRESS(IF($B64=\"X\",12,13),MATCH(SP_PIANO!H$4,BASE!$B$2:$F$2,0)+1,,,\"BASE\")),IF($B64=\"U\",-INDIRECT(ADDRESS(4+MATCH(\"U\",CE_PIANO!$B$5:$B$206,0),COLUMN(SP_PIANO!H$4),,,\"CE_PIANO\")),IF(ISERROR(VLOOKUP($A64,Attivita_Passivita!$B$6:$Q$105,COLUMN(Attivita_Passivita!O$4)-1,FALSE)),0,VLOOKUP($A64,Attivita_Passivita!$B$6:$Q$105,COLUMN(Attivita_Passivita!O$4)-1,FALSE))))))","v":""}]
[{"$f":"IF(SP_STORICO!A65=\"\",\"\",SP_STORICO!A65)","v":""},{"$f":"IF($A65=\"\",\"\",VLOOKUP(A65,SCHEMA_SP!$E$5:$F$54,2,FALSE))","v":""},{"$f":"IF(SP_STORICO!A65=\"\",\"\",SP_STORICO!B65)","v":""},{"$f":"IF(SP_STORICO!C65=\"\",\"\",SP_STORICO!C65)","v":""},{"$f":"IF(SP_STORICO!D65=\"\",\"\",SP_STORICO!D65)","v":""},{"$f":"IF($A65=\"\",\"\",IF(F$4=\"\",\"\",IF(OR($B65=\"X\", $B65=\"I\"),INDIRECT(ADDRESS(IF($B65=\"X\",12,13),MATCH(SP_PIANO!F$4,BASE!$B$2:$F$2,0)+1,,,\"BASE\")),IF($B65=\"U\",-INDIRECT(ADDRESS(4+MATCH(\"U\",CE_PIANO!$B$5:$B$206,0),COLUMN(SP_PIANO!F$4),,,\"CE_PIANO\")),IF(ISERROR(VLOOKUP($A65,Attivita_Passivita!$B$6:$Q$105,COLUMN(Attivita_Passivita!M$4)-1,FALSE)),0,VLOOKUP($A65,Attivita_Passivita!$B$6:$Q$105,COLUMN(Attivita_Passivita!M$4)-1,FALSE))))))","v":""},{"$f":"IF($A65=\"\",\"\",IF(G$4=\"\",\"\",IF(OR($B65=\"X\", $B65=\"I\"),INDIRECT(ADDRESS(IF($B65=\"X\",12,13),MATCH(SP_PIANO!G$4,BASE!$B$2:$F$2,0)+1,,,\"BASE\")),IF($B65=\"U\",-INDIRECT(ADDRESS(4+MATCH(\"U\",CE_PIANO!$B$5:$B$206,0),COLUMN(SP_PIANO!G$4),,,\"CE_PIANO\")),IF(ISERROR(VLOOKUP($A65,Attivita_Passivita!$B$6:$Q$105,COLUMN(Attivita_Passivita!N$4)-1,FALSE)),0,VLOOKUP($A65,Attivita_Passivita!$B$6:$Q$105,COLUMN(Attivita_Passivita!N$4)-1,FALSE))))))","v":""},{"$f":"IF($A65=\"\",\"\",IF(H$4=\"\",\"\",IF(OR($B65=\"X\", $B65=\"I\"),INDIRECT(ADDRESS(IF($B65=\"X\",12,13),MATCH(SP_PIANO!H$4,BASE!$B$2:$F$2,0)+1,,,\"BASE\")),IF($B65=\"U\",-INDIRECT(ADDRESS(4+MATCH(\"U\",CE_PIANO!$B$5:$B$206,0),COLUMN(SP_PIANO!H$4),,,\"CE_PIANO\")),IF(ISERROR(VLOOKUP($A65,Attivita_Passivita!$B$6:$Q$105,COLUMN(Attivita_Passivita!O$4)-1,FALSE)),0,VLOOKUP($A65,Attivita_Passivita!$B$6:$Q$105,COLUMN(Attivita_Passivita!O$4)-1,FALSE))))))","v":""}]
[{"$f":"IF(SP_STORICO!A66=\"\",\"\",SP_STORICO!A66)","v":""},{"$f":"IF($A66=\"\",\"\",VLOOKUP(A66,SCHEMA_SP!$E$5:$F$54,2,FALSE))","v":""},{"$f":"IF(SP_STORICO!A66=\"\",\"\",SP_STORICO!B66)","v":""},{"$f":"IF(SP_STORICO!C66=\"\",\"\",SP_STORICO!C66)","v":""},{"$f":"IF(SP_STORICO!D66=\"\",\"\",SP_STORICO!D66)","v":""},{"$f":"IF($A66=\"\",\"\",IF(F$4=\"\",\"\",IF(OR($B66=\"X\", $B66=\"I\"),INDIRECT(ADDRESS(IF($B66=\"X\",12,13),MATCH(SP_PIANO!F$4,BASE!$B$2:$F$2,0)+1,,,\"BASE\")),IF($B66=\"U\",-INDIRECT(ADDRESS(4+MATCH(\"U\",CE_PIANO!$B$5:$B$206,0),COLUMN(SP_PIANO!F$4),,,\"CE_PIANO\")),IF(ISERROR(VLOOKUP($A66,Attivita_Passivita!$B$6:$Q$105,COLUMN(Attivita_Passivita!M$4)-1,FALSE)),0,VLOOKUP($A66,Attivita_Passivita!$B$6:$Q$105,COLUMN(Attivita_Passivita!M$4)-1,FALSE))))))","v":""},{"$f":"IF($A66=\"\",\"\",IF(G$4=\"\",\"\",IF(OR($B66=\"X\", $B66=\"I\"),INDIRECT(ADDRESS(IF($B66=\"X\",12,13),MATCH(SP_PIANO!G$4,BASE!$B$2:$F$2,0)+1,,,\"BASE\")),IF($B66=\"U\",-INDIRECT(ADDRESS(4+MATCH(\"U\",CE_PIANO!$B$5:$B$206,0),COLUMN(SP_PIANO!G$4),,,\"CE_PIANO\")),IF(ISERROR(VLOOKUP($A66,Attivita_Passivita!$B$6:$Q$105,COLUMN(Attivita_Passivita!N$4)-1,FALSE)),0,VLOOKUP($A66,Attivita_Passivita!$B$6:$Q$105,COLUMN(Attivita_Passivita!N$4)-1,FALSE))))))","v":""},{"$f":"IF($A66=\"\",\"\",IF(H$4=\"\",\"\",IF(OR($B66=\"X\", $B66=\"I\"),INDIRECT(ADDRESS(IF($B66=\"X\",12,13),MATCH(SP_PIANO!H$4,BASE!$B$2:$F$2,0)+1,,,\"BASE\")),IF($B66=\"U\",-INDIRECT(ADDRESS(4+MATCH(\"U\",CE_PIANO!$B$5:$B$206,0),COLUMN(SP_PIANO!H$4),,,\"CE_PIANO\")),IF(ISERROR(VLOOKUP($A66,Attivita_Passivita!$B$6:$Q$105,COLUMN(Attivita_Passivita!O$4)-1,FALSE)),0,VLOOKUP($A66,Attivita_Passivita!$B$6:$Q$105,COLUMN(Attivita_Passivita!O$4)-1,FALSE))))))","v":""}]
[{"$f":"IF(SP_STORICO!A67=\"\",\"\",SP_STORICO!A67)","v":""},{"$f":"IF($A67=\"\",\"\",VLOOKUP(A67,SCHEMA_SP!$E$5:$F$54,2,FALSE))","v":""},{"$f":"IF(SP_STORICO!A67=\"\",\"\",SP_STORICO!B67)","v":""},{"$f":"IF(SP_STORICO!C67=\"\",\"\",SP_STORICO!C67)","v":""},{"$f":"IF(SP_STORICO!D67=\"\",\"\",SP_STORICO!D67)","v":""},{"$f":"IF($A67=\"\",\"\",IF(F$4=\"\",\"\",IF(OR($B67=\"X\", $B67=\"I\"),INDIRECT(ADDRESS(IF($B67=\"X\",12,13),MATCH(SP_PIANO!F$4,BASE!$B$2:$F$2,0)+1,,,\"BASE\")),IF($B67=\"U\",-INDIRECT(ADDRESS(4+MATCH(\"U\",CE_PIANO!$B$5:$B$206,0),COLUMN(SP_PIANO!F$4),,,\"CE_PIANO\")),IF(ISERROR(VLOOKUP($A67,Attivita_Passivita!$B$6:$Q$105,COLUMN(Attivita_Passivita!M$4)-1,FALSE)),0,VLOOKUP($A67,Attivita_Passivita!$B$6:$Q$105,COLUMN(Attivita_Passivita!M$4)-1,FALSE))))))","v":""},{"$f":"IF($A67=\"\",\"\",IF(G$4=\"\",\"\",IF(OR($B67=\"X\", $B67=\"I\"),INDIRECT(ADDRESS(IF($B67=\"X\",12,13),MATCH(SP_PIANO!G$4,BASE!$B$2:$F$2,0)+1,,,\"BASE\")),IF($B67=\"U\",-INDIRECT(ADDRESS(4+MATCH(\"U\",CE_PIANO!$B$5:$B$206,0),COLUMN(SP_PIANO!G$4),,,\"CE_PIANO\")),IF(ISERROR(VLOOKUP($A67,Attivita_Passivita!$B$6:$Q$105,COLUMN(Attivita_Passivita!N$4)-1,FALSE)),0,VLOOKUP($A67,Attivita_Passivita!$B$6:$Q$105,COLUMN(Attivita_Passivita!N$4)-1,FALSE))))))","v":""},{"$f":"IF($A67=\"\",\"\",IF(H$4=\"\",\"\",IF(OR($B67=\"X\", $B67=\"I\"),INDIRECT(ADDRESS(IF($B67=\"X\",12,13),MATCH(SP_PIANO!H$4,BASE!$B$2:$F$2,0)+1,,,\"BASE\")),IF($B67=\"U\",-INDIRECT(ADDRESS(4+MATCH(\"U\",CE_PIANO!$B$5:$B$206,0),COLUMN(SP_PIANO!H$4),,,\"CE_PIANO\")),IF(ISERROR(VLOOKUP($A67,Attivita_Passivita!$B$6:$Q$105,COLUMN(Attivita_Passivita!O$4)-1,FALSE)),0,VLOOKUP($A67,Attivita_Passivita!$B$6:$Q$105,COLUMN(Attivita_Passivita!O$4)-1,FALSE))))))","v":""}]
[{"$f":"IF(SP_STORICO!A68=\"\",\"\",SP_STORICO!A68)","v":""},{"$f":"IF($A68=\"\",\"\",VLOOKUP(A68,SCHEMA_SP!$E$5:$F$54,2,FALSE))","v":""},{"$f":"IF(SP_STORICO!A68=\"\",\"\",SP_STORICO!B68)","v":""},{"$f":"IF(SP_STORICO!C68=\"\",\"\",SP_STORICO!C68)","v":""},{"$f":"IF(SP_STORICO!D68=\"\",\"\",SP_STORICO!D68)","v":""},{"$f":"IF($A68=\"\",\"\",IF(F$4=\"\",\"\",IF(OR($B68=\"X\", $B68=\"I\"),INDIRECT(ADDRESS(IF($B68=\"X\",12,13),MATCH(SP_PIANO!F$4,BASE!$B$2:$F$2,0)+1,,,\"BASE\")),IF($B68=\"U\",-INDIRECT(ADDRESS(4+MATCH(\"U\",CE_PIANO!$B$5:$B$206,0),COLUMN(SP_PIANO!F$4),,,\"CE_PIANO\")),IF(ISERROR(VLOOKUP($A68,Attivita_Passivita!$B$6:$Q$105,COLUMN(Attivita_Passivita!M$4)-1,FALSE)),0,VLOOKUP($A68,Attivita_Passivita!$B$6:$Q$105,COLUMN(Attivita_Passivita!M$4)-1,FALSE))))))","v":""},{"$f":"IF($A68=\"\",\"\",IF(G$4=\"\",\"\",IF(OR($B68=\"X\", $B68=\"I\"),INDIRECT(ADDRESS(IF($B68=\"X\",12,13),MATCH(SP_PIANO!G$4,BASE!$B$2:$F$2,0)+1,,,\"BASE\")),IF($B68=\"U\",-INDIRECT(ADDRESS(4+MATCH(\"U\",CE_PIANO!$B$5:$B$206,0),COLUMN(SP_PIANO!G$4),,,\"CE_PIANO\")),IF(ISERROR(VLOOKUP($A68,Attivita_Passivita!$B$6:$Q$105,COLUMN(Attivita_Passivita!N$4)-1,FALSE)),0,VLOOKUP($A68,Attivita_Passivita!$B$6:$Q$105,COLUMN(Attivita_Passivita!N$4)-1,FALSE))))))","v":""},{"$f":"IF($A68=\"\",\"\",IF(H$4=\"\",\"\",IF(OR($B68=\"X\", $B68=\"I\"),INDIRECT(ADDRESS(IF($B68=\"X\",12,13),MATCH(SP_PIANO!H$4,BASE!$B$2:$F$2,0)+1,,,\"BASE\")),IF($B68=\"U\",-INDIRECT(ADDRESS(4+MATCH(\"U\",CE_PIANO!$B$5:$B$206,0),COLUMN(SP_PIANO!H$4),,,\"CE_PIANO\")),IF(ISERROR(VLOOKUP($A68,Attivita_Passivita!$B$6:$Q$105,COLUMN(Attivita_Passivita!O$4)-1,FALSE)),0,VLOOKUP($A68,Attivita_Passivita!$B$6:$Q$105,COLUMN(Attivita_Passivita!O$4)-1,FALSE))))))","v":""}]
[{"$f":"IF(SP_STORICO!A69=\"\",\"\",SP_STORICO!A69)","v":""},{"$f":"IF($A69=\"\",\"\",VLOOKUP(A69,SCHEMA_SP!$E$5:$F$54,2,FALSE))","v":""},{"$f":"IF(SP_STORICO!A69=\"\",\"\",SP_STORICO!B69)","v":""},{"$f":"IF(SP_STORICO!C69=\"\",\"\",SP_STORICO!C69)","v":""},{"$f":"IF(SP_STORICO!D69=\"\",\"\",SP_STORICO!D69)","v":""},{"$f":"IF($A69=\"\",\"\",IF(F$4=\"\",\"\",IF(OR($B69=\"X\", $B69=\"I\"),INDIRECT(ADDRESS(IF($B69=\"X\",12,13),MATCH(SP_PIANO!F$4,BASE!$B$2:$F$2,0)+1,,,\"BASE\")),IF($B69=\"U\",-INDIRECT(ADDRESS(4+MATCH(\"U\",CE_PIANO!$B$5:$B$206,0),COLUMN(SP_PIANO!F$4),,,\"CE_PIANO\")),IF(ISERROR(VLOOKUP($A69,Attivita_Passivita!$B$6:$Q$105,COLUMN(Attivita_Passivita!M$4)-1,FALSE)),0,VLOOKUP($A69,Attivita_Passivita!$B$6:$Q$105,COLUMN(Attivita_Passivita!M$4)-1,FALSE))))))","v":""},{"$f":"IF($A69=\"\",\"\",IF(G$4=\"\",\"\",IF(OR($B69=\"X\", $B69=\"I\"),INDIRECT(ADDRESS(IF($B69=\"X\",12,13),MATCH(SP_PIANO!G$4,BASE!$B$2:$F$2,0)+1,,,\"BASE\")),IF($B69=\"U\",-INDIRECT(ADDRESS(4+MATCH(\"U\",CE_PIANO!$B$5:$B$206,0),COLUMN(SP_PIANO!G$4),,,\"CE_PIANO\")),IF(ISERROR(VLOOKUP($A69,Attivita_Passivita!$B$6:$Q$105,COLUMN(Attivita_Passivita!N$4)-1,FALSE)),0,VLOOKUP($A69,Attivita_Passivita!$B$6:$Q$105,COLUMN(Attivita_Passivita!N$4)-1,FALSE))))))","v":""},{"$f":"IF($A69=\"\",\"\",IF(H$4=\"\",\"\",IF(OR($B69=\"X\", $B69=\"I\"),INDIRECT(ADDRESS(IF($B69=\"X\",12,13),MATCH(SP_PIANO!H$4,BASE!$B$2:$F$2,0)+1,,,\"BASE\")),IF($B69=\"U\",-INDIRECT(ADDRESS(4+MATCH(\"U\",CE_PIANO!$B$5:$B$206,0),COLUMN(SP_PIANO!H$4),,,\"CE_PIANO\")),IF(ISERROR(VLOOKUP($A69,Attivita_Passivita!$B$6:$Q$105,COLUMN(Attivita_Passivita!O$4)-1,FALSE)),0,VLOOKUP($A69,Attivita_Passivita!$B$6:$Q$105,COLUMN(Attivita_Passivita!O$4)-1,FALSE))))))","v":""}]
[{"$f":"IF(SP_STORICO!A70=\"\",\"\",SP_STORICO!A70)","v":""},{"$f":"IF($A70=\"\",\"\",VLOOKUP(A70,SCHEMA_SP!$E$5:$F$54,2,FALSE))","v":""},{"$f":"IF(SP_STORICO!A70=\"\",\"\",SP_STORICO!B70)","v":""},{"$f":"IF(SP_STORICO!C70=\"\",\"\",SP_STORICO!C70)","v":""},{"$f":"IF(SP_STORICO!D70=\"\",\"\",SP_STORICO!D70)","v":""},{"$f":"IF($A70=\"\",\"\",IF(F$4=\"\",\"\",IF(OR($B70=\"X\", $B70=\"I\"),INDIRECT(ADDRESS(IF($B70=\"X\",12,13),MATCH(SP_PIANO!F$4,BASE!$B$2:$F$2,0)+1,,,\"BASE\")),IF($B70=\"U\",-INDIRECT(ADDRESS(4+MATCH(\"U\",CE_PIANO!$B$5:$B$206,0),COLUMN(SP_PIANO!F$4),,,\"CE_PIANO\")),IF(ISERROR(VLOOKUP($A70,Attivita_Passivita!$B$6:$Q$105,COLUMN(Attivita_Passivita!M$4)-1,FALSE)),0,VLOOKUP($A70,Attivita_Passivita!$B$6:$Q$105,COLUMN(Attivita_Passivita!M$4)-1,FALSE))))))","v":""},{"$f":"IF($A70=\"\",\"\",IF(G$4=\"\",\"\",IF(OR($B70=\"X\", $B70=\"I\"),INDIRECT(ADDRESS(IF($B70=\"X\",12,13),MATCH(SP_PIANO!G$4,BASE!$B$2:$F$2,0)+1,,,\"BASE\")),IF($B70=\"U\",-INDIRECT(ADDRESS(4+MATCH(\"U\",CE_PIANO!$B$5:$B$206,0),COLUMN(SP_PIANO!G$4),,,\"CE_PIANO\")),IF(ISERROR(VLOOKUP($A70,Attivita_Passivita!$B$6:$Q$105,COLUMN(Attivita_Passivita!N$4)-1,FALSE)),0,VLOOKUP($A70,Attivita_Passivita!$B$6:$Q$105,COLUMN(Attivita_Passivita!N$4)-1,FALSE))))))","v":""},{"$f":"IF($A70=\"\",\"\",IF(H$4=\"\",\"\",IF(OR($B70=\"X\", $B70=\"I\"),INDIRECT(ADDRESS(IF($B70=\"X\",12,13),MATCH(SP_PIANO!H$4,BASE!$B$2:$F$2,0)+1,,,\"BASE\")),IF($B70=\"U\",-INDIRECT(ADDRESS(4+MATCH(\"U\",CE_PIANO!$B$5:$B$206,0),COLUMN(SP_PIANO!H$4),,,\"CE_PIANO\")),IF(ISERROR(VLOOKUP($A70,Attivita_Passivita!$B$6:$Q$105,COLUMN(Attivita_Passivita!O$4)-1,FALSE)),0,VLOOKUP($A70,Attivita_Passivita!$B$6:$Q$105,COLUMN(Attivita_Passivita!O$4)-1,FALSE))))))","v":""}]
[{"$f":"IF(SP_STORICO!A71=\"\",\"\",SP_STORICO!A71)","v":""},{"$f":"IF($A71=\"\",\"\",VLOOKUP(A71,SCHEMA_SP!$E$5:$F$54,2,FALSE))","v":""},{"$f":"IF(SP_STORICO!A71=\"\",\"\",SP_STORICO!B71)","v":""},{"$f":"IF(SP_STORICO!C71=\"\",\"\",SP_STORICO!C71)","v":""},{"$f":"IF(SP_STORICO!D71=\"\",\"\",SP_STORICO!D71)","v":""},{"$f":"IF($A71=\"\",\"\",IF(F$4=\"\",\"\",IF(OR($B71=\"X\", $B71=\"I\"),INDIRECT(ADDRESS(IF($B71=\"X\",12,13),MATCH(SP_PIANO!F$4,BASE!$B$2:$F$2,0)+1,,,\"BASE\")),IF($B71=\"U\",-INDIRECT(ADDRESS(4+MATCH(\"U\",CE_PIANO!$B$5:$B$206,0),COLUMN(SP_PIANO!F$4),,,\"CE_PIANO\")),IF(ISERROR(VLOOKUP($A71,Attivita_Passivita!$B$6:$Q$105,COLUMN(Attivita_Passivita!M$4)-1,FALSE)),0,VLOOKUP($A71,Attivita_Passivita!$B$6:$Q$105,COLUMN(Attivita_Passivita!M$4)-1,FALSE))))))","v":""},{"$f":"IF($A71=\"\",\"\",IF(G$4=\"\",\"\",IF(OR($B71=\"X\", $B71=\"I\"),INDIRECT(ADDRESS(IF($B71=\"X\",12,13),MATCH(SP_PIANO!G$4,BASE!$B$2:$F$2,0)+1,,,\"BASE\")),IF($B71=\"U\",-INDIRECT(ADDRESS(4+MATCH(\"U\",CE_PIANO!$B$5:$B$206,0),COLUMN(SP_PIANO!G$4),,,\"CE_PIANO\")),IF(ISERROR(VLOOKUP($A71,Attivita_Passivita!$B$6:$Q$105,COLUMN(Attivita_Passivita!N$4)-1,FALSE)),0,VLOOKUP($A71,Attivita_Passivita!$B$6:$Q$105,COLUMN(Attivita_Passivita!N$4)-1,FALSE))))))","v":""},{"$f":"IF($A71=\"\",\"\",IF(H$4=\"\",\"\",IF(OR($B71=\"X\", $B71=\"I\"),INDIRECT(ADDRESS(IF($B71=\"X\",12,13),MATCH(SP_PIANO!H$4,BASE!$B$2:$F$2,0)+1,,,\"BASE\")),IF($B71=\"U\",-INDIRECT(ADDRESS(4+MATCH(\"U\",CE_PIANO!$B$5:$B$206,0),COLUMN(SP_PIANO!H$4),,,\"CE_PIANO\")),IF(ISERROR(VLOOKUP($A71,Attivita_Passivita!$B$6:$Q$105,COLUMN(Attivita_Passivita!O$4)-1,FALSE)),0,VLOOKUP($A71,Attivita_Passivita!$B$6:$Q$105,COLUMN(Attivita_Passivita!O$4)-1,FALSE))))))","v":""}]
[{"$f":"IF(SP_STORICO!A72=\"\",\"\",SP_STORICO!A72)","v":""},{"$f":"IF($A72=\"\",\"\",VLOOKUP(A72,SCHEMA_SP!$E$5:$F$54,2,FALSE))","v":""},{"$f":"IF(SP_STORICO!A72=\"\",\"\",SP_STORICO!B72)","v":""},{"$f":"IF(SP_STORICO!C72=\"\",\"\",SP_STORICO!C72)","v":""},{"$f":"IF(SP_STORICO!D72=\"\",\"\",SP_STORICO!D72)","v":""},{"$f":"IF($A72=\"\",\"\",IF(F$4=\"\",\"\",IF(OR($B72=\"X\", $B72=\"I\"),INDIRECT(ADDRESS(IF($B72=\"X\",12,13),MATCH(SP_PIANO!F$4,BASE!$B$2:$F$2,0)+1,,,\"BASE\")),IF($B72=\"U\",-INDIRECT(ADDRESS(4+MATCH(\"U\",CE_PIANO!$B$5:$B$206,0),COLUMN(SP_PIANO!F$4),,,\"CE_PIANO\")),IF(ISERROR(VLOOKUP($A72,Attivita_Passivita!$B$6:$Q$105,COLUMN(Attivita_Passivita!M$4)-1,FALSE)),0,VLOOKUP($A72,Attivita_Passivita!$B$6:$Q$105,COLUMN(Attivita_Passivita!M$4)-1,FALSE))))))","v":""},{"$f":"IF($A72=\"\",\"\",IF(G$4=\"\",\"\",IF(OR($B72=\"X\", $B72=\"I\"),INDIRECT(ADDRESS(IF($B72=\"X\",12,13),MATCH(SP_PIANO!G$4,BASE!$B$2:$F$2,0)+1,,,\"BASE\")),IF($B72=\"U\",-INDIRECT(ADDRESS(4+MATCH(\"U\",CE_PIANO!$B$5:$B$206,0),COLUMN(SP_PIANO!G$4),,,\"CE_PIANO\")),IF(ISERROR(VLOOKUP($A72,Attivita_Passivita!$B$6:$Q$105,COLUMN(Attivita_Passivita!N$4)-1,FALSE)),0,VLOOKUP($A72,Attivita_Passivita!$B$6:$Q$105,COLUMN(Attivita_Passivita!N$4)-1,FALSE))))))","v":""},{"$f":"IF($A72=\"\",\"\",IF(H$4=\"\",\"\",IF(OR($B72=\"X\", $B72=\"I\"),INDIRECT(ADDRESS(IF($B72=\"X\",12,13),MATCH(SP_PIANO!H$4,BASE!$B$2:$F$2,0)+1,,,\"BASE\")),IF($B72=\"U\",-INDIRECT(ADDRESS(4+MATCH(\"U\",CE_PIANO!$B$5:$B$206,0),COLUMN(SP_PIANO!H$4),,,\"CE_PIANO\")),IF(ISERROR(VLOOKUP($A72,Attivita_Passivita!$B$6:$Q$105,COLUMN(Attivita_Passivita!O$4)-1,FALSE)),0,VLOOKUP($A72,Attivita_Passivita!$B$6:$Q$105,COLUMN(Attivita_Passivita!O$4)-1,FALSE))))))","v":""}]
[{"$f":"IF(SP_STORICO!A73=\"\",\"\",SP_STORICO!A73)","v":""},{"$f":"IF($A73=\"\",\"\",VLOOKUP(A73,SCHEMA_SP!$E$5:$F$54,2,FALSE))","v":""},{"$f":"IF(SP_STORICO!A73=\"\",\"\",SP_STORICO!B73)","v":""},{"$f":"IF(SP_STORICO!C73=\"\",\"\",SP_STORICO!C73)","v":""},{"$f":"IF(SP_STORICO!D73=\"\",\"\",SP_STORICO!D73)","v":""},{"$f":"IF($A73=\"\",\"\",IF(F$4=\"\",\"\",IF(OR($B73=\"X\", $B73=\"I\"),INDIRECT(ADDRESS(IF($B73=\"X\",12,13),MATCH(SP_PIANO!F$4,BASE!$B$2:$F$2,0)+1,,,\"BASE\")),IF($B73=\"U\",-INDIRECT(ADDRESS(4+MATCH(\"U\",CE_PIANO!$B$5:$B$206,0),COLUMN(SP_PIANO!F$4),,,\"CE_PIANO\")),IF(ISERROR(VLOOKUP($A73,Attivita_Passivita!$B$6:$Q$105,COLUMN(Attivita_Passivita!M$4)-1,FALSE)),0,VLOOKUP($A73,Attivita_Passivita!$B$6:$Q$105,COLUMN(Attivita_Passivita!M$4)-1,FALSE))))))","v":""},{"$f":"IF($A73=\"\",\"\",IF(G$4=\"\",\"\",IF(OR($B73=\"X\", $B73=\"I\"),INDIRECT(ADDRESS(IF($B73=\"X\",12,13),MATCH(SP_PIANO!G$4,BASE!$B$2:$F$2,0)+1,,,\"BASE\")),IF($B73=\"U\",-INDIRECT(ADDRESS(4+MATCH(\"U\",CE_PIANO!$B$5:$B$206,0),COLUMN(SP_PIANO!G$4),,,\"CE_PIANO\")),IF(ISERROR(VLOOKUP($A73,Attivita_Passivita!$B$6:$Q$105,COLUMN(Attivita_Passivita!N$4)-1,FALSE)),0,VLOOKUP($A73,Attivita_Passivita!$B$6:$Q$105,COLUMN(Attivita_Passivita!N$4)-1,FALSE))))))","v":""},{"$f":"IF($A73=\"\",\"\",IF(H$4=\"\",\"\",IF(OR($B73=\"X\", $B73=\"I\"),INDIRECT(ADDRESS(IF($B73=\"X\",12,13),MATCH(SP_PIANO!H$4,BASE!$B$2:$F$2,0)+1,,,\"BASE\")),IF($B73=\"U\",-INDIRECT(ADDRESS(4+MATCH(\"U\",CE_PIANO!$B$5:$B$206,0),COLUMN(SP_PIANO!H$4),,,\"CE_PIANO\")),IF(ISERROR(VLOOKUP($A73,Attivita_Passivita!$B$6:$Q$105,COLUMN(Attivita_Passivita!O$4)-1,FALSE)),0,VLOOKUP($A73,Attivita_Passivita!$B$6:$Q$105,COLUMN(Attivita_Passivita!O$4)-1,FALSE))))))","v":""}]
[{"$f":"IF(SP_STORICO!A74=\"\",\"\",SP_STORICO!A74)","v":""},{"$f":"IF($A74=\"\",\"\",VLOOKUP(A74,SCHEMA_SP!$E$5:$F$54,2,FALSE))","v":""},{"$f":"IF(SP_STORICO!A74=\"\",\"\",SP_STORICO!B74)","v":""},{"$f":"IF(SP_STORICO!C74=\"\",\"\",SP_STORICO!C74)","v":""},{"$f":"IF(SP_STORICO!D74=\"\",\"\",SP_STORICO!D74)","v":""},{"$f":"IF($A74=\"\",\"\",IF(F$4=\"\",\"\",IF(OR($B74=\"X\", $B74=\"I\"),INDIRECT(ADDRESS(IF($B74=\"X\",12,13),MATCH(SP_PIANO!F$4,BASE!$B$2:$F$2,0)+1,,,\"BASE\")),IF($B74=\"U\",-INDIRECT(ADDRESS(4+MATCH(\"U\",CE_PIANO!$B$5:$B$206,0),COLUMN(SP_PIANO!F$4),,,\"CE_PIANO\")),IF(ISERROR(VLOOKUP($A74,Attivita_Passivita!$B$6:$Q$105,COLUMN(Attivita_Passivita!M$4)-1,FALSE)),0,VLOOKUP($A74,Attivita_Passivita!$B$6:$Q$105,COLUMN(Attivita_Passivita!M$4)-1,FALSE))))))","v":""},{"$f":"IF($A74=\"\",\"\",IF(G$4=\"\",\"\",IF(OR($B74=\"X\", $B74=\"I\"),INDIRECT(ADDRESS(IF($B74=\"X\",12,13),MATCH(SP_PIANO!G$4,BASE!$B$2:$F$2,0)+1,,,\"BASE\")),IF($B74=\"U\",-INDIRECT(ADDRESS(4+MATCH(\"U\",CE_PIANO!$B$5:$B$206,0),COLUMN(SP_PIANO!G$4),,,\"CE_PIANO\")),IF(ISERROR(VLOOKUP($A74,Attivita_Passivita!$B$6:$Q$105,COLUMN(Attivita_Passivita!N$4)-1,FALSE)),0,VLOOKUP($A74,Attivita_Passivita!$B$6:$Q$105,COLUMN(Attivita_Passivita!N$4)-1,FALSE))))))","v":""},{"$f":"IF($A74=\"\",\"\",IF(H$4=\"\",\"\",IF(OR($B74=\"X\", $B74=\"I\"),INDIRECT(ADDRESS(IF($B74=\"X\",12,13),MATCH(SP_PIANO!H$4,BASE!$B$2:$F$2,0)+1,,,\"BASE\")),IF($B74=\"U\",-INDIRECT(ADDRESS(4+MATCH(\"U\",CE_PIANO!$B$5:$B$206,0),COLUMN(SP_PIANO!H$4),,,\"CE_PIANO\")),IF(ISERROR(VLOOKUP($A74,Attivita_Passivita!$B$6:$Q$105,COLUMN(Attivita_Passivita!O$4)-1,FALSE)),0,VLOOKUP($A74,Attivita_Passivita!$B$6:$Q$105,COLUMN(Attivita_Passivita!O$4)-1,FALSE))))))","v":""}]
[{"$f":"IF(SP_STORICO!A75=\"\",\"\",SP_STORICO!A75)","v":""},{"$f":"IF($A75=\"\",\"\",VLOOKUP(A75,SCHEMA_SP!$E$5:$F$54,2,FALSE))","v":""},{"$f":"IF(SP_STORICO!A75=\"\",\"\",SP_STORICO!B75)","v":""},{"$f":"IF(SP_STORICO!C75=\"\",\"\",SP_STORICO!C75)","v":""},{"$f":"IF(SP_STORICO!D75=\"\",\"\",SP_STORICO!D75)","v":""},{"$f":"IF($A75=\"\",\"\",IF(F$4=\"\",\"\",IF(OR($B75=\"X\", $B75=\"I\"),INDIRECT(ADDRESS(IF($B75=\"X\",12,13),MATCH(SP_PIANO!F$4,BASE!$B$2:$F$2,0)+1,,,\"BASE\")),IF($B75=\"U\",-INDIRECT(ADDRESS(4+MATCH(\"U\",CE_PIANO!$B$5:$B$206,0),COLUMN(SP_PIANO!F$4),,,\"CE_PIANO\")),IF(ISERROR(VLOOKUP($A75,Attivita_Passivita!$B$6:$Q$105,COLUMN(Attivita_Passivita!M$4)-1,FALSE)),0,VLOOKUP($A75,Attivita_Passivita!$B$6:$Q$105,COLUMN(Attivita_Passivita!M$4)-1,FALSE))))))","v":""},{"$f":"IF($A75=\"\",\"\",IF(G$4=\"\",\"\",IF(OR($B75=\"X\", $B75=\"I\"),INDIRECT(ADDRESS(IF($B75=\"X\",12,13),MATCH(SP_PIANO!G$4,BASE!$B$2:$F$2,0)+1,,,\"BASE\")),IF($B75=\"U\",-INDIRECT(ADDRESS(4+MATCH(\"U\",CE_PIANO!$B$5:$B$206,0),COLUMN(SP_PIANO!G$4),,,\"CE_PIANO\")),IF(ISERROR(VLOOKUP($A75,Attivita_Passivita!$B$6:$Q$105,COLUMN(Attivita_Passivita!N$4)-1,FALSE)),0,VLOOKUP($A75,Attivita_Passivita!$B$6:$Q$105,COLUMN(Attivita_Passivita!N$4)-1,FALSE))))))","v":""},{"$f":"IF($A75=\"\",\"\",IF(H$4=\"\",\"\",IF(OR($B75=\"X\", $B75=\"I\"),INDIRECT(ADDRESS(IF($B75=\"X\",12,13),MATCH(SP_PIANO!H$4,BASE!$B$2:$F$2,0)+1,,,\"BASE\")),IF($B75=\"U\",-INDIRECT(ADDRESS(4+MATCH(\"U\",CE_PIANO!$B$5:$B$206,0),COLUMN(SP_PIANO!H$4),,,\"CE_PIANO\")),IF(ISERROR(VLOOKUP($A75,Attivita_Passivita!$B$6:$Q$105,COLUMN(Attivita_Passivita!O$4)-1,FALSE)),0,VLOOKUP($A75,Attivita_Passivita!$B$6:$Q$105,COLUMN(Attivita_Passivita!O$4)-1,FALSE))))))","v":""}]
[{"$f":"IF(SP_STORICO!A76=\"\",\"\",SP_STORICO!A76)","v":""},{"$f":"IF($A76=\"\",\"\",VLOOKUP(A76,SCHEMA_SP!$E$5:$F$54,2,FALSE))","v":""},{"$f":"IF(SP_STORICO!A76=\"\",\"\",SP_STORICO!B76)","v":""},{"$f":"IF(SP_STORICO!C76=\"\",\"\",SP_STORICO!C76)","v":""},{"$f":"IF(SP_STORICO!D76=\"\",\"\",SP_STORICO!D76)","v":""},{"$f":"IF($A76=\"\",\"\",IF(F$4=\"\",\"\",IF(OR($B76=\"X\", $B76=\"I\"),INDIRECT(ADDRESS(IF($B76=\"X\",12,13),MATCH(SP_PIANO!F$4,BASE!$B$2:$F$2,0)+1,,,\"BASE\")),IF($B76=\"U\",-INDIRECT(ADDRESS(4+MATCH(\"U\",CE_PIANO!$B$5:$B$206,0),COLUMN(SP_PIANO!F$4),,,\"CE_PIANO\")),IF(ISERROR(VLOOKUP($A76,Attivita_Passivita!$B$6:$Q$105,COLUMN(Attivita_Passivita!M$4)-1,FALSE)),0,VLOOKUP($A76,Attivita_Passivita!$B$6:$Q$105,COLUMN(Attivita_Passivita!M$4)-1,FALSE))))))","v":""},{"$f":"IF($A76=\"\",\"\",IF(G$4=\"\",\"\",IF(OR($B76=\"X\", $B76=\"I\"),INDIRECT(ADDRESS(IF($B76=\"X\",12,13),MATCH(SP_PIANO!G$4,BASE!$B$2:$F$2,0)+1,,,\"BASE\")),IF($B76=\"U\",-INDIRECT(ADDRESS(4+MATCH(\"U\",CE_PIANO!$B$5:$B$206,0),COLUMN(SP_PIANO!G$4),,,\"CE_PIANO\")),IF(ISERROR(VLOOKUP($A76,Attivita_Passivita!$B$6:$Q$105,COLUMN(Attivita_Passivita!N$4)-1,FALSE)),0,VLOOKUP($A76,Attivita_Passivita!$B$6:$Q$105,COLUMN(Attivita_Passivita!N$4)-1,FALSE))))))","v":""},{"$f":"IF($A76=\"\",\"\",IF(H$4=\"\",\"\",IF(OR($B76=\"X\", $B76=\"I\"),INDIRECT(ADDRESS(IF($B76=\"X\",12,13),MATCH(SP_PIANO!H$4,BASE!$B$2:$F$2,0)+1,,,\"BASE\")),IF($B76=\"U\",-INDIRECT(ADDRESS(4+MATCH(\"U\",CE_PIANO!$B$5:$B$206,0),COLUMN(SP_PIANO!H$4),,,\"CE_PIANO\")),IF(ISERROR(VLOOKUP($A76,Attivita_Passivita!$B$6:$Q$105,COLUMN(Attivita_Passivita!O$4)-1,FALSE)),0,VLOOKUP($A76,Attivita_Passivita!$B$6:$Q$105,COLUMN(Attivita_Passivita!O$4)-1,FALSE))))))","v":""}]
[{"$f":"IF(SP_STORICO!A77=\"\",\"\",SP_STORICO!A77)","v":""},{"$f":"IF($A77=\"\",\"\",VLOOKUP(A77,SCHEMA_SP!$E$5:$F$54,2,FALSE))","v":""},{"$f":"IF(SP_STORICO!A77=\"\",\"\",SP_STORICO!B77)","v":""},{"$f":"IF(SP_STORICO!C77=\"\",\"\",SP_STORICO!C77)","v":""},{"$f":"IF(SP_STORICO!D77=\"\",\"\",SP_STORICO!D77)","v":""},{"$f":"IF($A77=\"\",\"\",IF(F$4=\"\",\"\",IF(OR($B77=\"X\", $B77=\"I\"),INDIRECT(ADDRESS(IF($B77=\"X\",12,13),MATCH(SP_PIANO!F$4,BASE!$B$2:$F$2,0)+1,,,\"BASE\")),IF($B77=\"U\",-INDIRECT(ADDRESS(4+MATCH(\"U\",CE_PIANO!$B$5:$B$206,0),COLUMN(SP_PIANO!F$4),,,\"CE_PIANO\")),IF(ISERROR(VLOOKUP($A77,Attivita_Passivita!$B$6:$Q$105,COLUMN(Attivita_Passivita!M$4)-1,FALSE)),0,VLOOKUP($A77,Attivita_Passivita!$B$6:$Q$105,COLUMN(Attivita_Passivita!M$4)-1,FALSE))))))","v":""},{"$f":"IF($A77=\"\",\"\",IF(G$4=\"\",\"\",IF(OR($B77=\"X\", $B77=\"I\"),INDIRECT(ADDRESS(IF($B77=\"X\",12,13),MATCH(SP_PIANO!G$4,BASE!$B$2:$F$2,0)+1,,,\"BASE\")),IF($B77=\"U\",-INDIRECT(ADDRESS(4+MATCH(\"U\",CE_PIANO!$B$5:$B$206,0),COLUMN(SP_PIANO!G$4),,,\"CE_PIANO\")),IF(ISERROR(VLOOKUP($A77,Attivita_Passivita!$B$6:$Q$105,COLUMN(Attivita_Passivita!N$4)-1,FALSE)),0,VLOOKUP($A77,Attivita_Passivita!$B$6:$Q$105,COLUMN(Attivita_Passivita!N$4)-1,FALSE))))))","v":""},{"$f":"IF($A77=\"\",\"\",IF(H$4=\"\",\"\",IF(OR($B77=\"X\", $B77=\"I\"),INDIRECT(ADDRESS(IF($B77=\"X\",12,13),MATCH(SP_PIANO!H$4,BASE!$B$2:$F$2,0)+1,,,\"BASE\")),IF($B77=\"U\",-INDIRECT(ADDRESS(4+MATCH(\"U\",CE_PIANO!$B$5:$B$206,0),COLUMN(SP_PIANO!H$4),,,\"CE_PIANO\")),IF(ISERROR(VLOOKUP($A77,Attivita_Passivita!$B$6:$Q$105,COLUMN(Attivita_Passivita!O$4)-1,FALSE)),0,VLOOKUP($A77,Attivita_Passivita!$B$6:$Q$105,COLUMN(Attivita_Passivita!O$4)-1,FALSE))))))","v":""}]
[{"$f":"IF(SP_STORICO!A78=\"\",\"\",SP_STORICO!A78)","v":""},{"$f":"IF($A78=\"\",\"\",VLOOKUP(A78,SCHEMA_SP!$E$5:$F$54,2,FALSE))","v":""},{"$f":"IF(SP_STORICO!A78=\"\",\"\",SP_STORICO!B78)","v":""},{"$f":"IF(SP_STORICO!C78=\"\",\"\",SP_STORICO!C78)","v":""},{"$f":"IF(SP_STORICO!D78=\"\",\"\",SP_STORICO!D78)","v":""},{"$f":"IF($A78=\"\",\"\",IF(F$4=\"\",\"\",IF(OR($B78=\"X\", $B78=\"I\"),INDIRECT(ADDRESS(IF($B78=\"X\",12,13),MATCH(SP_PIANO!F$4,BASE!$B$2:$F$2,0)+1,,,\"BASE\")),IF($B78=\"U\",-INDIRECT(ADDRESS(4+MATCH(\"U\",CE_PIANO!$B$5:$B$206,0),COLUMN(SP_PIANO!F$4),,,\"CE_PIANO\")),IF(ISERROR(VLOOKUP($A78,Attivita_Passivita!$B$6:$Q$105,COLUMN(Attivita_Passivita!M$4)-1,FALSE)),0,VLOOKUP($A78,Attivita_Passivita!$B$6:$Q$105,COLUMN(Attivita_Passivita!M$4)-1,FALSE))))))","v":""},{"$f":"IF($A78=\"\",\"\",IF(G$4=\"\",\"\",IF(OR($B78=\"X\", $B78=\"I\"),INDIRECT(ADDRESS(IF($B78=\"X\",12,13),MATCH(SP_PIANO!G$4,BASE!$B$2:$F$2,0)+1,,,\"BASE\")),IF($B78=\"U\",-INDIRECT(ADDRESS(4+MATCH(\"U\",CE_PIANO!$B$5:$B$206,0),COLUMN(SP_PIANO!G$4),,,\"CE_PIANO\")),IF(ISERROR(VLOOKUP($A78,Attivita_Passivita!$B$6:$Q$105,COLUMN(Attivita_Passivita!N$4)-1,FALSE)),0,VLOOKUP($A78,Attivita_Passivita!$B$6:$Q$105,COLUMN(Attivita_Passivita!N$4)-1,FALSE))))))","v":""},{"$f":"IF($A78=\"\",\"\",IF(H$4=\"\",\"\",IF(OR($B78=\"X\", $B78=\"I\"),INDIRECT(ADDRESS(IF($B78=\"X\",12,13),MATCH(SP_PIANO!H$4,BASE!$B$2:$F$2,0)+1,,,\"BASE\")),IF($B78=\"U\",-INDIRECT(ADDRESS(4+MATCH(\"U\",CE_PIANO!$B$5:$B$206,0),COLUMN(SP_PIANO!H$4),,,\"CE_PIANO\")),IF(ISERROR(VLOOKUP($A78,Attivita_Passivita!$B$6:$Q$105,COLUMN(Attivita_Passivita!O$4)-1,FALSE)),0,VLOOKUP($A78,Attivita_Passivita!$B$6:$Q$105,COLUMN(Attivita_Passivita!O$4)-1,FALSE))))))","v":""}]
[{"$f":"IF(SP_STORICO!A79=\"\",\"\",SP_STORICO!A79)","v":""},{"$f":"IF($A79=\"\",\"\",VLOOKUP(A79,SCHEMA_SP!$E$5:$F$54,2,FALSE))","v":""},{"$f":"IF(SP_STORICO!A79=\"\",\"\",SP_STORICO!B79)","v":""},{"$f":"IF(SP_STORICO!C79=\"\",\"\",SP_STORICO!C79)","v":""},{"$f":"IF(SP_STORICO!D79=\"\",\"\",SP_STORICO!D79)","v":""},{"$f":"IF($A79=\"\",\"\",IF(F$4=\"\",\"\",IF(OR($B79=\"X\", $B79=\"I\"),INDIRECT(ADDRESS(IF($B79=\"X\",12,13),MATCH(SP_PIANO!F$4,BASE!$B$2:$F$2,0)+1,,,\"BASE\")),IF($B79=\"U\",-INDIRECT(ADDRESS(4+MATCH(\"U\",CE_PIANO!$B$5:$B$206,0),COLUMN(SP_PIANO!F$4),,,\"CE_PIANO\")),IF(ISERROR(VLOOKUP($A79,Attivita_Passivita!$B$6:$Q$105,COLUMN(Attivita_Passivita!M$4)-1,FALSE)),0,VLOOKUP($A79,Attivita_Passivita!$B$6:$Q$105,COLUMN(Attivita_Passivita!M$4)-1,FALSE))))))","v":""},{"$f":"IF($A79=\"\",\"\",IF(G$4=\"\",\"\",IF(OR($B79=\"X\", $B79=\"I\"),INDIRECT(ADDRESS(IF($B79=\"X\",12,13),MATCH(SP_PIANO!G$4,BASE!$B$2:$F$2,0)+1,,,\"BASE\")),IF($B79=\"U\",-INDIRECT(ADDRESS(4+MATCH(\"U\",CE_PIANO!$B$5:$B$206,0),COLUMN(SP_PIANO!G$4),,,\"CE_PIANO\")),IF(ISERROR(VLOOKUP($A79,Attivita_Passivita!$B$6:$Q$105,COLUMN(Attivita_Passivita!N$4)-1,FALSE)),0,VLOOKUP($A79,Attivita_Passivita!$B$6:$Q$105,COLUMN(Attivita_Passivita!N$4)-1,FALSE))))))","v":""},{"$f":"IF($A79=\"\",\"\",IF(H$4=\"\",\"\",IF(OR($B79=\"X\", $B79=\"I\"),INDIRECT(ADDRESS(IF($B79=\"X\",12,13),MATCH(SP_PIANO!H$4,BASE!$B$2:$F$2,0)+1,,,\"BASE\")),IF($B79=\"U\",-INDIRECT(ADDRESS(4+MATCH(\"U\",CE_PIANO!$B$5:$B$206,0),COLUMN(SP_PIANO!H$4),,,\"CE_PIANO\")),IF(ISERROR(VLOOKUP($A79,Attivita_Passivita!$B$6:$Q$105,COLUMN(Attivita_Passivita!O$4)-1,FALSE)),0,VLOOKUP($A79,Attivita_Passivita!$B$6:$Q$105,COLUMN(Attivita_Passivita!O$4)-1,FALSE))))))","v":""}]
[{"$f":"IF(SP_STORICO!A80=\"\",\"\",SP_STORICO!A80)","v":""},{"$f":"IF($A80=\"\",\"\",VLOOKUP(A80,SCHEMA_SP!$E$5:$F$54,2,FALSE))","v":""},{"$f":"IF(SP_STORICO!A80=\"\",\"\",SP_STORICO!B80)","v":""},{"$f":"IF(SP_STORICO!C80=\"\",\"\",SP_STORICO!C80)","v":""},{"$f":"IF(SP_STORICO!D80=\"\",\"\",SP_STORICO!D80)","v":""},{"$f":"IF($A80=\"\",\"\",IF(F$4=\"\",\"\",IF(OR($B80=\"X\", $B80=\"I\"),INDIRECT(ADDRESS(IF($B80=\"X\",12,13),MATCH(SP_PIANO!F$4,BASE!$B$2:$F$2,0)+1,,,\"BASE\")),IF($B80=\"U\",-INDIRECT(ADDRESS(4+MATCH(\"U\",CE_PIANO!$B$5:$B$206,0),COLUMN(SP_PIANO!F$4),,,\"CE_PIANO\")),IF(ISERROR(VLOOKUP($A80,Attivita_Passivita!$B$6:$Q$105,COLUMN(Attivita_Passivita!M$4)-1,FALSE)),0,VLOOKUP($A80,Attivita_Passivita!$B$6:$Q$105,COLUMN(Attivita_Passivita!M$4)-1,FALSE))))))","v":""},{"$f":"IF($A80=\"\",\"\",IF(G$4=\"\",\"\",IF(OR($B80=\"X\", $B80=\"I\"),INDIRECT(ADDRESS(IF($B80=\"X\",12,13),MATCH(SP_PIANO!G$4,BASE!$B$2:$F$2,0)+1,,,\"BASE\")),IF($B80=\"U\",-INDIRECT(ADDRESS(4+MATCH(\"U\",CE_PIANO!$B$5:$B$206,0),COLUMN(SP_PIANO!G$4),,,\"CE_PIANO\")),IF(ISERROR(VLOOKUP($A80,Attivita_Passivita!$B$6:$Q$105,COLUMN(Attivita_Passivita!N$4)-1,FALSE)),0,VLOOKUP($A80,Attivita_Passivita!$B$6:$Q$105,COLUMN(Attivita_Passivita!N$4)-1,FALSE))))))","v":""},{"$f":"IF($A80=\"\",\"\",IF(H$4=\"\",\"\",IF(OR($B80=\"X\", $B80=\"I\"),INDIRECT(ADDRESS(IF($B80=\"X\",12,13),MATCH(SP_PIANO!H$4,BASE!$B$2:$F$2,0)+1,,,\"BASE\")),IF($B80=\"U\",-INDIRECT(ADDRESS(4+MATCH(\"U\",CE_PIANO!$B$5:$B$206,0),COLUMN(SP_PIANO!H$4),,,\"CE_PIANO\")),IF(ISERROR(VLOOKUP($A80,Attivita_Passivita!$B$6:$Q$105,COLUMN(Attivita_Passivita!O$4)-1,FALSE)),0,VLOOKUP($A80,Attivita_Passivita!$B$6:$Q$105,COLUMN(Attivita_Passivita!O$4)-1,FALSE))))))","v":""}]
[{"$f":"IF(SP_STORICO!A81=\"\",\"\",SP_STORICO!A81)","v":""},{"$f":"IF($A81=\"\",\"\",VLOOKUP(A81,SCHEMA_SP!$E$5:$F$54,2,FALSE))","v":""},{"$f":"IF(SP_STORICO!A81=\"\",\"\",SP_STORICO!B81)","v":""},{"$f":"IF(SP_STORICO!C81=\"\",\"\",SP_STORICO!C81)","v":""},{"$f":"IF(SP_STORICO!D81=\"\",\"\",SP_STORICO!D81)","v":""},{"$f":"IF($A81=\"\",\"\",IF(F$4=\"\",\"\",IF(OR($B81=\"X\", $B81=\"I\"),INDIRECT(ADDRESS(IF($B81=\"X\",12,13),MATCH(SP_PIANO!F$4,BASE!$B$2:$F$2,0)+1,,,\"BASE\")),IF($B81=\"U\",-INDIRECT(ADDRESS(4+MATCH(\"U\",CE_PIANO!$B$5:$B$206,0),COLUMN(SP_PIANO!F$4),,,\"CE_PIANO\")),IF(ISERROR(VLOOKUP($A81,Attivita_Passivita!$B$6:$Q$105,COLUMN(Attivita_Passivita!M$4)-1,FALSE)),0,VLOOKUP($A81,Attivita_Passivita!$B$6:$Q$105,COLUMN(Attivita_Passivita!M$4)-1,FALSE))))))","v":""},{"$f":"IF($A81=\"\",\"\",IF(G$4=\"\",\"\",IF(OR($B81=\"X\", $B81=\"I\"),INDIRECT(ADDRESS(IF($B81=\"X\",12,13),MATCH(SP_PIANO!G$4,BASE!$B$2:$F$2,0)+1,,,\"BASE\")),IF($B81=\"U\",-INDIRECT(ADDRESS(4+MATCH(\"U\",CE_PIANO!$B$5:$B$206,0),COLUMN(SP_PIANO!G$4),,,\"CE_PIANO\")),IF(ISERROR(VLOOKUP($A81,Attivita_Passivita!$B$6:$Q$105,COLUMN(Attivita_Passivita!N$4)-1,FALSE)),0,VLOOKUP($A81,Attivita_Passivita!$B$6:$Q$105,COLUMN(Attivita_Passivita!N$4)-1,FALSE))))))","v":""},{"$f":"IF($A81=\"\",\"\",IF(H$4=\"\",\"\",IF(OR($B81=\"X\", $B81=\"I\"),INDIRECT(ADDRESS(IF($B81=\"X\",12,13),MATCH(SP_PIANO!H$4,BASE!$B$2:$F$2,0)+1,,,\"BASE\")),IF($B81=\"U\",-INDIRECT(ADDRESS(4+MATCH(\"U\",CE_PIANO!$B$5:$B$206,0),COLUMN(SP_PIANO!H$4),,,\"CE_PIANO\")),IF(ISERROR(VLOOKUP($A81,Attivita_Passivita!$B$6:$Q$105,COLUMN(Attivita_Passivita!O$4)-1,FALSE)),0,VLOOKUP($A81,Attivita_Passivita!$B$6:$Q$105,COLUMN(Attivita_Passivita!O$4)-1,FALSE))))))","v":""}]
[{"$f":"IF(SP_STORICO!A82=\"\",\"\",SP_STORICO!A82)","v":""},{"$f":"IF($A82=\"\",\"\",VLOOKUP(A82,SCHEMA_SP!$E$5:$F$54,2,FALSE))","v":""},{"$f":"IF(SP_STORICO!A82=\"\",\"\",SP_STORICO!B82)","v":""},{"$f":"IF(SP_STORICO!C82=\"\",\"\",SP_STORICO!C82)","v":""},{"$f":"IF(SP_STORICO!D82=\"\",\"\",SP_STORICO!D82)","v":""},{"$f":"IF($A82=\"\",\"\",IF(F$4=\"\",\"\",IF(OR($B82=\"X\", $B82=\"I\"),INDIRECT(ADDRESS(IF($B82=\"X\",12,13),MATCH(SP_PIANO!F$4,BASE!$B$2:$F$2,0)+1,,,\"BASE\")),IF($B82=\"U\",-INDIRECT(ADDRESS(4+MATCH(\"U\",CE_PIANO!$B$5:$B$206,0),COLUMN(SP_PIANO!F$4),,,\"CE_PIANO\")),IF(ISERROR(VLOOKUP($A82,Attivita_Passivita!$B$6:$Q$105,COLUMN(Attivita_Passivita!M$4)-1,FALSE)),0,VLOOKUP($A82,Attivita_Passivita!$B$6:$Q$105,COLUMN(Attivita_Passivita!M$4)-1,FALSE))))))","v":""},{"$f":"IF($A82=\"\",\"\",IF(G$4=\"\",\"\",IF(OR($B82=\"X\", $B82=\"I\"),INDIRECT(ADDRESS(IF($B82=\"X\",12,13),MATCH(SP_PIANO!G$4,BASE!$B$2:$F$2,0)+1,,,\"BASE\")),IF($B82=\"U\",-INDIRECT(ADDRESS(4+MATCH(\"U\",CE_PIANO!$B$5:$B$206,0),COLUMN(SP_PIANO!G$4),,,\"CE_PIANO\")),IF(ISERROR(VLOOKUP($A82,Attivita_Passivita!$B$6:$Q$105,COLUMN(Attivita_Passivita!N$4)-1,FALSE)),0,VLOOKUP($A82,Attivita_Passivita!$B$6:$Q$105,COLUMN(Attivita_Passivita!N$4)-1,FALSE))))))","v":""},{"$f":"IF($A82=\"\",\"\",IF(H$4=\"\",\"\",IF(OR($B82=\"X\", $B82=\"I\"),INDIRECT(ADDRESS(IF($B82=\"X\",12,13),MATCH(SP_PIANO!H$4,BASE!$B$2:$F$2,0)+1,,,\"BASE\")),IF($B82=\"U\",-INDIRECT(ADDRESS(4+MATCH(\"U\",CE_PIANO!$B$5:$B$206,0),COLUMN(SP_PIANO!H$4),,,\"CE_PIANO\")),IF(ISERROR(VLOOKUP($A82,Attivita_Passivita!$B$6:$Q$105,COLUMN(Attivita_Passivita!O$4)-1,FALSE)),0,VLOOKUP($A82,Attivita_Passivita!$B$6:$Q$105,COLUMN(Attivita_Passivita!O$4)-1,FALSE))))))","v":""}]
[{"$f":"IF(SP_STORICO!A83=\"\",\"\",SP_STORICO!A83)","v":""},{"$f":"IF($A83=\"\",\"\",VLOOKUP(A83,SCHEMA_SP!$E$5:$F$54,2,FALSE))","v":""},{"$f":"IF(SP_STORICO!A83=\"\",\"\",SP_STORICO!B83)","v":""},{"$f":"IF(SP_STORICO!C83=\"\",\"\",SP_STORICO!C83)","v":""},{"$f":"IF(SP_STORICO!D83=\"\",\"\",SP_STORICO!D83)","v":""},{"$f":"IF($A83=\"\",\"\",IF(F$4=\"\",\"\",IF(OR($B83=\"X\", $B83=\"I\"),INDIRECT(ADDRESS(IF($B83=\"X\",12,13),MATCH(SP_PIANO!F$4,BASE!$B$2:$F$2,0)+1,,,\"BASE\")),IF($B83=\"U\",-INDIRECT(ADDRESS(4+MATCH(\"U\",CE_PIANO!$B$5:$B$206,0),COLUMN(SP_PIANO!F$4),,,\"CE_PIANO\")),IF(ISERROR(VLOOKUP($A83,Attivita_Passivita!$B$6:$Q$105,COLUMN(Attivita_Passivita!M$4)-1,FALSE)),0,VLOOKUP($A83,Attivita_Passivita!$B$6:$Q$105,COLUMN(Attivita_Passivita!M$4)-1,FALSE))))))","v":""},{"$f":"IF($A83=\"\",\"\",IF(G$4=\"\",\"\",IF(OR($B83=\"X\", $B83=\"I\"),INDIRECT(ADDRESS(IF($B83=\"X\",12,13),MATCH(SP_PIANO!G$4,BASE!$B$2:$F$2,0)+1,,,\"BASE\")),IF($B83=\"U\",-INDIRECT(ADDRESS(4+MATCH(\"U\",CE_PIANO!$B$5:$B$206,0),COLUMN(SP_PIANO!G$4),,,\"CE_PIANO\")),IF(ISERROR(VLOOKUP($A83,Attivita_Passivita!$B$6:$Q$105,COLUMN(Attivita_Passivita!N$4)-1,FALSE)),0,VLOOKUP($A83,Attivita_Passivita!$B$6:$Q$105,COLUMN(Attivita_Passivita!N$4)-1,FALSE))))))","v":""},{"$f":"IF($A83=\"\",\"\",IF(H$4=\"\",\"\",IF(OR($B83=\"X\", $B83=\"I\"),INDIRECT(ADDRESS(IF($B83=\"X\",12,13),MATCH(SP_PIANO!H$4,BASE!$B$2:$F$2,0)+1,,,\"BASE\")),IF($B83=\"U\",-INDIRECT(ADDRESS(4+MATCH(\"U\",CE_PIANO!$B$5:$B$206,0),COLUMN(SP_PIANO!H$4),,,\"CE_PIANO\")),IF(ISERROR(VLOOKUP($A83,Attivita_Passivita!$B$6:$Q$105,COLUMN(Attivita_Passivita!O$4)-1,FALSE)),0,VLOOKUP($A83,Attivita_Passivita!$B$6:$Q$105,COLUMN(Attivita_Passivita!O$4)-1,FALSE))))))","v":""}]
[{"$f":"IF(SP_STORICO!A84=\"\",\"\",SP_STORICO!A84)","v":""},{"$f":"IF($A84=\"\",\"\",VLOOKUP(A84,SCHEMA_SP!$E$5:$F$54,2,FALSE))","v":""},{"$f":"IF(SP_STORICO!A84=\"\",\"\",SP_STORICO!B84)","v":""},{"$f":"IF(SP_STORICO!C84=\"\",\"\",SP_STORICO!C84)","v":""},{"$f":"IF(SP_STORICO!D84=\"\",\"\",SP_STORICO!D84)","v":""},{"$f":"IF($A84=\"\",\"\",IF(F$4=\"\",\"\",IF(OR($B84=\"X\", $B84=\"I\"),INDIRECT(ADDRESS(IF($B84=\"X\",12,13),MATCH(SP_PIANO!F$4,BASE!$B$2:$F$2,0)+1,,,\"BASE\")),IF($B84=\"U\",-INDIRECT(ADDRESS(4+MATCH(\"U\",CE_PIANO!$B$5:$B$206,0),COLUMN(SP_PIANO!F$4),,,\"CE_PIANO\")),IF(ISERROR(VLOOKUP($A84,Attivita_Passivita!$B$6:$Q$105,COLUMN(Attivita_Passivita!M$4)-1,FALSE)),0,VLOOKUP($A84,Attivita_Passivita!$B$6:$Q$105,COLUMN(Attivita_Passivita!M$4)-1,FALSE))))))","v":""},{"$f":"IF($A84=\"\",\"\",IF(G$4=\"\",\"\",IF(OR($B84=\"X\", $B84=\"I\"),INDIRECT(ADDRESS(IF($B84=\"X\",12,13),MATCH(SP_PIANO!G$4,BASE!$B$2:$F$2,0)+1,,,\"BASE\")),IF($B84=\"U\",-INDIRECT(ADDRESS(4+MATCH(\"U\",CE_PIANO!$B$5:$B$206,0),COLUMN(SP_PIANO!G$4),,,\"CE_PIANO\")),IF(ISERROR(VLOOKUP($A84,Attivita_Passivita!$B$6:$Q$105,COLUMN(Attivita_Passivita!N$4)-1,FALSE)),0,VLOOKUP($A84,Attivita_Passivita!$B$6:$Q$105,COLUMN(Attivita_Passivita!N$4)-1,FALSE))))))","v":""},{"$f":"IF($A84=\"\",\"\",IF(H$4=\"\",\"\",IF(OR($B84=\"X\", $B84=\"I\"),INDIRECT(ADDRESS(IF($B84=\"X\",12,13),MATCH(SP_PIANO!H$4,BASE!$B$2:$F$2,0)+1,,,\"BASE\")),IF($B84=\"U\",-INDIRECT(ADDRESS(4+MATCH(\"U\",CE_PIANO!$B$5:$B$206,0),COLUMN(SP_PIANO!H$4),,,\"CE_PIANO\")),IF(ISERROR(VLOOKUP($A84,Attivita_Passivita!$B$6:$Q$105,COLUMN(Attivita_Passivita!O$4)-1,FALSE)),0,VLOOKUP($A84,Attivita_Passivita!$B$6:$Q$105,COLUMN(Attivita_Passivita!O$4)-1,FALSE))))))","v":""}]
[{"$f":"IF(SP_STORICO!A85=\"\",\"\",SP_STORICO!A85)","v":""},{"$f":"IF($A85=\"\",\"\",VLOOKUP(A85,SCHEMA_SP!$E$5:$F$54,2,FALSE))","v":""},{"$f":"IF(SP_STORICO!A85=\"\",\"\",SP_STORICO!B85)","v":""},{"$f":"IF(SP_STORICO!C85=\"\",\"\",SP_STORICO!C85)","v":""},{"$f":"IF(SP_STORICO!D85=\"\",\"\",SP_STORICO!D85)","v":""},{"$f":"IF($A85=\"\",\"\",IF(F$4=\"\",\"\",IF(OR($B85=\"X\", $B85=\"I\"),INDIRECT(ADDRESS(IF($B85=\"X\",12,13),MATCH(SP_PIANO!F$4,BASE!$B$2:$F$2,0)+1,,,\"BASE\")),IF($B85=\"U\",-INDIRECT(ADDRESS(4+MATCH(\"U\",CE_PIANO!$B$5:$B$206,0),COLUMN(SP_PIANO!F$4),,,\"CE_PIANO\")),IF(ISERROR(VLOOKUP($A85,Attivita_Passivita!$B$6:$Q$105,COLUMN(Attivita_Passivita!M$4)-1,FALSE)),0,VLOOKUP($A85,Attivita_Passivita!$B$6:$Q$105,COLUMN(Attivita_Passivita!M$4)-1,FALSE))))))","v":""},{"$f":"IF($A85=\"\",\"\",IF(G$4=\"\",\"\",IF(OR($B85=\"X\", $B85=\"I\"),INDIRECT(ADDRESS(IF($B85=\"X\",12,13),MATCH(SP_PIANO!G$4,BASE!$B$2:$F$2,0)+1,,,\"BASE\")),IF($B85=\"U\",-INDIRECT(ADDRESS(4+MATCH(\"U\",CE_PIANO!$B$5:$B$206,0),COLUMN(SP_PIANO!G$4),,,\"CE_PIANO\")),IF(ISERROR(VLOOKUP($A85,Attivita_Passivita!$B$6:$Q$105,COLUMN(Attivita_Passivita!N$4)-1,FALSE)),0,VLOOKUP($A85,Attivita_Passivita!$B$6:$Q$105,COLUMN(Attivita_Passivita!N$4)-1,FALSE))))))","v":""},{"$f":"IF($A85=\"\",\"\",IF(H$4=\"\",\"\",IF(OR($B85=\"X\", $B85=\"I\"),INDIRECT(ADDRESS(IF($B85=\"X\",12,13),MATCH(SP_PIANO!H$4,BASE!$B$2:$F$2,0)+1,,,\"BASE\")),IF($B85=\"U\",-INDIRECT(ADDRESS(4+MATCH(\"U\",CE_PIANO!$B$5:$B$206,0),COLUMN(SP_PIANO!H$4),,,\"CE_PIANO\")),IF(ISERROR(VLOOKUP($A85,Attivita_Passivita!$B$6:$Q$105,COLUMN(Attivita_Passivita!O$4)-1,FALSE)),0,VLOOKUP($A85,Attivita_Passivita!$B$6:$Q$105,COLUMN(Attivita_Passivita!O$4)-1,FALSE))))))","v":""}]
[{"$f":"IF(SP_STORICO!A86=\"\",\"\",SP_STORICO!A86)","v":""},{"$f":"IF($A86=\"\",\"\",VLOOKUP(A86,SCHEMA_SP!$E$5:$F$54,2,FALSE))","v":""},{"$f":"IF(SP_STORICO!A86=\"\",\"\",SP_STORICO!B86)","v":""},{"$f":"IF(SP_STORICO!C86=\"\",\"\",SP_STORICO!C86)","v":""},{"$f":"IF(SP_STORICO!D86=\"\",\"\",SP_STORICO!D86)","v":""},{"$f":"IF($A86=\"\",\"\",IF(F$4=\"\",\"\",IF(OR($B86=\"X\", $B86=\"I\"),INDIRECT(ADDRESS(IF($B86=\"X\",12,13),MATCH(SP_PIANO!F$4,BASE!$B$2:$F$2,0)+1,,,\"BASE\")),IF($B86=\"U\",-INDIRECT(ADDRESS(4+MATCH(\"U\",CE_PIANO!$B$5:$B$206,0),COLUMN(SP_PIANO!F$4),,,\"CE_PIANO\")),IF(ISERROR(VLOOKUP($A86,Attivita_Passivita!$B$6:$Q$105,COLUMN(Attivita_Passivita!M$4)-1,FALSE)),0,VLOOKUP($A86,Attivita_Passivita!$B$6:$Q$105,COLUMN(Attivita_Passivita!M$4)-1,FALSE))))))","v":""},{"$f":"IF($A86=\"\",\"\",IF(G$4=\"\",\"\",IF(OR($B86=\"X\", $B86=\"I\"),INDIRECT(ADDRESS(IF($B86=\"X\",12,13),MATCH(SP_PIANO!G$4,BASE!$B$2:$F$2,0)+1,,,\"BASE\")),IF($B86=\"U\",-INDIRECT(ADDRESS(4+MATCH(\"U\",CE_PIANO!$B$5:$B$206,0),COLUMN(SP_PIANO!G$4),,,\"CE_PIANO\")),IF(ISERROR(VLOOKUP($A86,Attivita_Passivita!$B$6:$Q$105,COLUMN(Attivita_Passivita!N$4)-1,FALSE)),0,VLOOKUP($A86,Attivita_Passivita!$B$6:$Q$105,COLUMN(Attivita_Passivita!N$4)-1,FALSE))))))","v":""},{"$f":"IF($A86=\"\",\"\",IF(H$4=\"\",\"\",IF(OR($B86=\"X\", $B86=\"I\"),INDIRECT(ADDRESS(IF($B86=\"X\",12,13),MATCH(SP_PIANO!H$4,BASE!$B$2:$F$2,0)+1,,,\"BASE\")),IF($B86=\"U\",-INDIRECT(ADDRESS(4+MATCH(\"U\",CE_PIANO!$B$5:$B$206,0),COLUMN(SP_PIANO!H$4),,,\"CE_PIANO\")),IF(ISERROR(VLOOKUP($A86,Attivita_Passivita!$B$6:$Q$105,COLUMN(Attivita_Passivita!O$4)-1,FALSE)),0,VLOOKUP($A86,Attivita_Passivita!$B$6:$Q$105,COLUMN(Attivita_Passivita!O$4)-1,FALSE))))))","v":""}]
[{"$f":"IF(SP_STORICO!A87=\"\",\"\",SP_STORICO!A87)","v":""},{"$f":"IF($A87=\"\",\"\",VLOOKUP(A87,SCHEMA_SP!$E$5:$F$54,2,FALSE))","v":""},{"$f":"IF(SP_STORICO!A87=\"\",\"\",SP_STORICO!B87)","v":""},{"$f":"IF(SP_STORICO!C87=\"\",\"\",SP_STORICO!C87)","v":""},{"$f":"IF(SP_STORICO!D87=\"\",\"\",SP_STORICO!D87)","v":""},{"$f":"IF($A87=\"\",\"\",IF(F$4=\"\",\"\",IF(OR($B87=\"X\", $B87=\"I\"),INDIRECT(ADDRESS(IF($B87=\"X\",12,13),MATCH(SP_PIANO!F$4,BASE!$B$2:$F$2,0)+1,,,\"BASE\")),IF($B87=\"U\",-INDIRECT(ADDRESS(4+MATCH(\"U\",CE_PIANO!$B$5:$B$206,0),COLUMN(SP_PIANO!F$4),,,\"CE_PIANO\")),IF(ISERROR(VLOOKUP($A87,Attivita_Passivita!$B$6:$Q$105,COLUMN(Attivita_Passivita!M$4)-1,FALSE)),0,VLOOKUP($A87,Attivita_Passivita!$B$6:$Q$105,COLUMN(Attivita_Passivita!M$4)-1,FALSE))))))","v":""},{"$f":"IF($A87=\"\",\"\",IF(G$4=\"\",\"\",IF(OR($B87=\"X\", $B87=\"I\"),INDIRECT(ADDRESS(IF($B87=\"X\",12,13),MATCH(SP_PIANO!G$4,BASE!$B$2:$F$2,0)+1,,,\"BASE\")),IF($B87=\"U\",-INDIRECT(ADDRESS(4+MATCH(\"U\",CE_PIANO!$B$5:$B$206,0),COLUMN(SP_PIANO!G$4),,,\"CE_PIANO\")),IF(ISERROR(VLOOKUP($A87,Attivita_Passivita!$B$6:$Q$105,COLUMN(Attivita_Passivita!N$4)-1,FALSE)),0,VLOOKUP($A87,Attivita_Passivita!$B$6:$Q$105,COLUMN(Attivita_Passivita!N$4)-1,FALSE))))))","v":""},{"$f":"IF($A87=\"\",\"\",IF(H$4=\"\",\"\",IF(OR($B87=\"X\", $B87=\"I\"),INDIRECT(ADDRESS(IF($B87=\"X\",12,13),MATCH(SP_PIANO!H$4,BASE!$B$2:$F$2,0)+1,,,\"BASE\")),IF($B87=\"U\",-INDIRECT(ADDRESS(4+MATCH(\"U\",CE_PIANO!$B$5:$B$206,0),COLUMN(SP_PIANO!H$4),,,\"CE_PIANO\")),IF(ISERROR(VLOOKUP($A87,Attivita_Passivita!$B$6:$Q$105,COLUMN(Attivita_Passivita!O$4)-1,FALSE)),0,VLOOKUP($A87,Attivita_Passivita!$B$6:$Q$105,COLUMN(Attivita_Passivita!O$4)-1,FALSE))))))","v":""}]
[{"$f":"IF(SP_STORICO!A88=\"\",\"\",SP_STORICO!A88)","v":""},{"$f":"IF($A88=\"\",\"\",VLOOKUP(A88,SCHEMA_SP!$E$5:$F$54,2,FALSE))","v":""},{"$f":"IF(SP_STORICO!A88=\"\",\"\",SP_STORICO!B88)","v":""},{"$f":"IF(SP_STORICO!C88=\"\",\"\",SP_STORICO!C88)","v":""},{"$f":"IF(SP_STORICO!D88=\"\",\"\",SP_STORICO!D88)","v":""},{"$f":"IF($A88=\"\",\"\",IF(F$4=\"\",\"\",IF(OR($B88=\"X\", $B88=\"I\"),INDIRECT(ADDRESS(IF($B88=\"X\",12,13),MATCH(SP_PIANO!F$4,BASE!$B$2:$F$2,0)+1,,,\"BASE\")),IF($B88=\"U\",-INDIRECT(ADDRESS(4+MATCH(\"U\",CE_PIANO!$B$5:$B$206,0),COLUMN(SP_PIANO!F$4),,,\"CE_PIANO\")),IF(ISERROR(VLOOKUP($A88,Attivita_Passivita!$B$6:$Q$105,COLUMN(Attivita_Passivita!M$4)-1,FALSE)),0,VLOOKUP($A88,Attivita_Passivita!$B$6:$Q$105,COLUMN(Attivita_Passivita!M$4)-1,FALSE))))))","v":""},{"$f":"IF($A88=\"\",\"\",IF(G$4=\"\",\"\",IF(OR($B88=\"X\", $B88=\"I\"),INDIRECT(ADDRESS(IF($B88=\"X\",12,13),MATCH(SP_PIANO!G$4,BASE!$B$2:$F$2,0)+1,,,\"BASE\")),IF($B88=\"U\",-INDIRECT(ADDRESS(4+MATCH(\"U\",CE_PIANO!$B$5:$B$206,0),COLUMN(SP_PIANO!G$4),,,\"CE_PIANO\")),IF(ISERROR(VLOOKUP($A88,Attivita_Passivita!$B$6:$Q$105,COLUMN(Attivita_Passivita!N$4)-1,FALSE)),0,VLOOKUP($A88,Attivita_Passivita!$B$6:$Q$105,COLUMN(Attivita_Passivita!N$4)-1,FALSE))))))","v":""},{"$f":"IF($A88=\"\",\"\",IF(H$4=\"\",\"\",IF(OR($B88=\"X\", $B88=\"I\"),INDIRECT(ADDRESS(IF($B88=\"X\",12,13),MATCH(SP_PIANO!H$4,BASE!$B$2:$F$2,0)+1,,,\"BASE\")),IF($B88=\"U\",-INDIRECT(ADDRESS(4+MATCH(\"U\",CE_PIANO!$B$5:$B$206,0),COLUMN(SP_PIANO!H$4),,,\"CE_PIANO\")),IF(ISERROR(VLOOKUP($A88,Attivita_Passivita!$B$6:$Q$105,COLUMN(Attivita_Passivita!O$4)-1,FALSE)),0,VLOOKUP($A88,Attivita_Passivita!$B$6:$Q$105,COLUMN(Attivita_Passivita!O$4)-1,FALSE))))))","v":""}]
[{"$f":"IF(SP_STORICO!A89=\"\",\"\",SP_STORICO!A89)","v":""},{"$f":"IF($A89=\"\",\"\",VLOOKUP(A89,SCHEMA_SP!$E$5:$F$54,2,FALSE))","v":""},{"$f":"IF(SP_STORICO!A89=\"\",\"\",SP_STORICO!B89)","v":""},{"$f":"IF(SP_STORICO!C89=\"\",\"\",SP_STORICO!C89)","v":""},{"$f":"IF(SP_STORICO!D89=\"\",\"\",SP_STORICO!D89)","v":""},{"$f":"IF($A89=\"\",\"\",IF(F$4=\"\",\"\",IF(OR($B89=\"X\", $B89=\"I\"),INDIRECT(ADDRESS(IF($B89=\"X\",12,13),MATCH(SP_PIANO!F$4,BASE!$B$2:$F$2,0)+1,,,\"BASE\")),IF($B89=\"U\",-INDIRECT(ADDRESS(4+MATCH(\"U\",CE_PIANO!$B$5:$B$206,0),COLUMN(SP_PIANO!F$4),,,\"CE_PIANO\")),IF(ISERROR(VLOOKUP($A89,Attivita_Passivita!$B$6:$Q$105,COLUMN(Attivita_Passivita!M$4)-1,FALSE)),0,VLOOKUP($A89,Attivita_Passivita!$B$6:$Q$105,COLUMN(Attivita_Passivita!M$4)-1,FALSE))))))","v":""},{"$f":"IF($A89=\"\",\"\",IF(G$4=\"\",\"\",IF(OR($B89=\"X\", $B89=\"I\"),INDIRECT(ADDRESS(IF($B89=\"X\",12,13),MATCH(SP_PIANO!G$4,BASE!$B$2:$F$2,0)+1,,,\"BASE\")),IF($B89=\"U\",-INDIRECT(ADDRESS(4+MATCH(\"U\",CE_PIANO!$B$5:$B$206,0),COLUMN(SP_PIANO!G$4),,,\"CE_PIANO\")),IF(ISERROR(VLOOKUP($A89,Attivita_Passivita!$B$6:$Q$105,COLUMN(Attivita_Passivita!N$4)-1,FALSE)),0,VLOOKUP($A89,Attivita_Passivita!$B$6:$Q$105,COLUMN(Attivita_Passivita!N$4)-1,FALSE))))))","v":""},{"$f":"IF($A89=\"\",\"\",IF(H$4=\"\",\"\",IF(OR($B89=\"X\", $B89=\"I\"),INDIRECT(ADDRESS(IF($B89=\"X\",12,13),MATCH(SP_PIANO!H$4,BASE!$B$2:$F$2,0)+1,,,\"BASE\")),IF($B89=\"U\",-INDIRECT(ADDRESS(4+MATCH(\"U\",CE_PIANO!$B$5:$B$206,0),COLUMN(SP_PIANO!H$4),,,\"CE_PIANO\")),IF(ISERROR(VLOOKUP($A89,Attivita_Passivita!$B$6:$Q$105,COLUMN(Attivita_Passivita!O$4)-1,FALSE)),0,VLOOKUP($A89,Attivita_Passivita!$B$6:$Q$105,COLUMN(Attivita_Passivita!O$4)-1,FALSE))))))","v":""}]
[{"$f":"IF(SP_STORICO!A90=\"\",\"\",SP_STORICO!A90)","v":""},{"$f":"IF($A90=\"\",\"\",VLOOKUP(A90,SCHEMA_SP!$E$5:$F$54,2,FALSE))","v":""},{"$f":"IF(SP_STORICO!A90=\"\",\"\",SP_STORICO!B90)","v":""},{"$f":"IF(SP_STORICO!C90=\"\",\"\",SP_STORICO!C90)","v":""},{"$f":"IF(SP_STORICO!D90=\"\",\"\",SP_STORICO!D90)","v":""},{"$f":"IF($A90=\"\",\"\",IF(F$4=\"\",\"\",IF(OR($B90=\"X\", $B90=\"I\"),INDIRECT(ADDRESS(IF($B90=\"X\",12,13),MATCH(SP_PIANO!F$4,BASE!$B$2:$F$2,0)+1,,,\"BASE\")),IF($B90=\"U\",-INDIRECT(ADDRESS(4+MATCH(\"U\",CE_PIANO!$B$5:$B$206,0),COLUMN(SP_PIANO!F$4),,,\"CE_PIANO\")),IF(ISERROR(VLOOKUP($A90,Attivita_Passivita!$B$6:$Q$105,COLUMN(Attivita_Passivita!M$4)-1,FALSE)),0,VLOOKUP($A90,Attivita_Passivita!$B$6:$Q$105,COLUMN(Attivita_Passivita!M$4)-1,FALSE))))))","v":""},{"$f":"IF($A90=\"\",\"\",IF(G$4=\"\",\"\",IF(OR($B90=\"X\", $B90=\"I\"),INDIRECT(ADDRESS(IF($B90=\"X\",12,13),MATCH(SP_PIANO!G$4,BASE!$B$2:$F$2,0)+1,,,\"BASE\")),IF($B90=\"U\",-INDIRECT(ADDRESS(4+MATCH(\"U\",CE_PIANO!$B$5:$B$206,0),COLUMN(SP_PIANO!G$4),,,\"CE_PIANO\")),IF(ISERROR(VLOOKUP($A90,Attivita_Passivita!$B$6:$Q$105,COLUMN(Attivita_Passivita!N$4)-1,FALSE)),0,VLOOKUP($A90,Attivita_Passivita!$B$6:$Q$105,COLUMN(Attivita_Passivita!N$4)-1,FALSE))))))","v":""},{"$f":"IF($A90=\"\",\"\",IF(H$4=\"\",\"\",IF(OR($B90=\"X\", $B90=\"I\"),INDIRECT(ADDRESS(IF($B90=\"X\",12,13),MATCH(SP_PIANO!H$4,BASE!$B$2:$F$2,0)+1,,,\"BASE\")),IF($B90=\"U\",-INDIRECT(ADDRESS(4+MATCH(\"U\",CE_PIANO!$B$5:$B$206,0),COLUMN(SP_PIANO!H$4),,,\"CE_PIANO\")),IF(ISERROR(VLOOKUP($A90,Attivita_Passivita!$B$6:$Q$105,COLUMN(Attivita_Passivita!O$4)-1,FALSE)),0,VLOOKUP($A90,Attivita_Passivita!$B$6:$Q$105,COLUMN(Attivita_Passivita!O$4)-1,FALSE))))))","v":""}]
[{"$f":"IF(SP_STORICO!A91=\"\",\"\",SP_STORICO!A91)","v":""},{"$f":"IF($A91=\"\",\"\",VLOOKUP(A91,SCHEMA_SP!$E$5:$F$54,2,FALSE))","v":""},{"$f":"IF(SP_STORICO!A91=\"\",\"\",SP_STORICO!B91)","v":""},{"$f":"IF(SP_STORICO!C91=\"\",\"\",SP_STORICO!C91)","v":""},{"$f":"IF(SP_STORICO!D91=\"\",\"\",SP_STORICO!D91)","v":""},{"$f":"IF($A91=\"\",\"\",IF(F$4=\"\",\"\",IF(OR($B91=\"X\", $B91=\"I\"),INDIRECT(ADDRESS(IF($B91=\"X\",12,13),MATCH(SP_PIANO!F$4,BASE!$B$2:$F$2,0)+1,,,\"BASE\")),IF($B91=\"U\",-INDIRECT(ADDRESS(4+MATCH(\"U\",CE_PIANO!$B$5:$B$206,0),COLUMN(SP_PIANO!F$4),,,\"CE_PIANO\")),IF(ISERROR(VLOOKUP($A91,Attivita_Passivita!$B$6:$Q$105,COLUMN(Attivita_Passivita!M$4)-1,FALSE)),0,VLOOKUP($A91,Attivita_Passivita!$B$6:$Q$105,COLUMN(Attivita_Passivita!M$4)-1,FALSE))))))","v":""},{"$f":"IF($A91=\"\",\"\",IF(G$4=\"\",\"\",IF(OR($B91=\"X\", $B91=\"I\"),INDIRECT(ADDRESS(IF($B91=\"X\",12,13),MATCH(SP_PIANO!G$4,BASE!$B$2:$F$2,0)+1,,,\"BASE\")),IF($B91=\"U\",-INDIRECT(ADDRESS(4+MATCH(\"U\",CE_PIANO!$B$5:$B$206,0),COLUMN(SP_PIANO!G$4),,,\"CE_PIANO\")),IF(ISERROR(VLOOKUP($A91,Attivita_Passivita!$B$6:$Q$105,COLUMN(Attivita_Passivita!N$4)-1,FALSE)),0,VLOOKUP($A91,Attivita_Passivita!$B$6:$Q$105,COLUMN(Attivita_Passivita!N$4)-1,FALSE))))))","v":""},{"$f":"IF($A91=\"\",\"\",IF(H$4=\"\",\"\",IF(OR($B91=\"X\", $B91=\"I\"),INDIRECT(ADDRESS(IF($B91=\"X\",12,13),MATCH(SP_PIANO!H$4,BASE!$B$2:$F$2,0)+1,,,\"BASE\")),IF($B91=\"U\",-INDIRECT(ADDRESS(4+MATCH(\"U\",CE_PIANO!$B$5:$B$206,0),COLUMN(SP_PIANO!H$4),,,\"CE_PIANO\")),IF(ISERROR(VLOOKUP($A91,Attivita_Passivita!$B$6:$Q$105,COLUMN(Attivita_Passivita!O$4)-1,FALSE)),0,VLOOKUP($A91,Attivita_Passivita!$B$6:$Q$105,COLUMN(Attivita_Passivita!O$4)-1,FALSE))))))","v":""}]
[{"$f":"IF(SP_STORICO!A92=\"\",\"\",SP_STORICO!A92)","v":""},{"$f":"IF($A92=\"\",\"\",VLOOKUP(A92,SCHEMA_SP!$E$5:$F$54,2,FALSE))","v":""},{"$f":"IF(SP_STORICO!A92=\"\",\"\",SP_STORICO!B92)","v":""},{"$f":"IF(SP_STORICO!C92=\"\",\"\",SP_STORICO!C92)","v":""},{"$f":"IF(SP_STORICO!D92=\"\",\"\",SP_STORICO!D92)","v":""},{"$f":"IF($A92=\"\",\"\",IF(F$4=\"\",\"\",IF(OR($B92=\"X\", $B92=\"I\"),INDIRECT(ADDRESS(IF($B92=\"X\",12,13),MATCH(SP_PIANO!F$4,BASE!$B$2:$F$2,0)+1,,,\"BASE\")),IF($B92=\"U\",-INDIRECT(ADDRESS(4+MATCH(\"U\",CE_PIANO!$B$5:$B$206,0),COLUMN(SP_PIANO!F$4),,,\"CE_PIANO\")),IF(ISERROR(VLOOKUP($A92,Attivita_Passivita!$B$6:$Q$105,COLUMN(Attivita_Passivita!M$4)-1,FALSE)),0,VLOOKUP($A92,Attivita_Passivita!$B$6:$Q$105,COLUMN(Attivita_Passivita!M$4)-1,FALSE))))))","v":""},{"$f":"IF($A92=\"\",\"\",IF(G$4=\"\",\"\",IF(OR($B92=\"X\", $B92=\"I\"),INDIRECT(ADDRESS(IF($B92=\"X\",12,13),MATCH(SP_PIANO!G$4,BASE!$B$2:$F$2,0)+1,,,\"BASE\")),IF($B92=\"U\",-INDIRECT(ADDRESS(4+MATCH(\"U\",CE_PIANO!$B$5:$B$206,0),COLUMN(SP_PIANO!G$4),,,\"CE_PIANO\")),IF(ISERROR(VLOOKUP($A92,Attivita_Passivita!$B$6:$Q$105,COLUMN(Attivita_Passivita!N$4)-1,FALSE)),0,VLOOKUP($A92,Attivita_Passivita!$B$6:$Q$105,COLUMN(Attivita_Passivita!N$4)-1,FALSE))))))","v":""},{"$f":"IF($A92=\"\",\"\",IF(H$4=\"\",\"\",IF(OR($B92=\"X\", $B92=\"I\"),INDIRECT(ADDRESS(IF($B92=\"X\",12,13),MATCH(SP_PIANO!H$4,BASE!$B$2:$F$2,0)+1,,,\"BASE\")),IF($B92=\"U\",-INDIRECT(ADDRESS(4+MATCH(\"U\",CE_PIANO!$B$5:$B$206,0),COLUMN(SP_PIANO!H$4),,,\"CE_PIANO\")),IF(ISERROR(VLOOKUP($A92,Attivita_Passivita!$B$6:$Q$105,COLUMN(Attivita_Passivita!O$4)-1,FALSE)),0,VLOOKUP($A92,Attivita_Passivita!$B$6:$Q$105,COLUMN(Attivita_Passivita!O$4)-1,FALSE))))))","v":""}]
[{"$f":"IF(SP_STORICO!A93=\"\",\"\",SP_STORICO!A93)","v":""},{"$f":"IF($A93=\"\",\"\",VLOOKUP(A93,SCHEMA_SP!$E$5:$F$54,2,FALSE))","v":""},{"$f":"IF(SP_STORICO!A93=\"\",\"\",SP_STORICO!B93)","v":""},{"$f":"IF(SP_STORICO!C93=\"\",\"\",SP_STORICO!C93)","v":""},{"$f":"IF(SP_STORICO!D93=\"\",\"\",SP_STORICO!D93)","v":""},{"$f":"IF($A93=\"\",\"\",IF(F$4=\"\",\"\",IF(OR($B93=\"X\", $B93=\"I\"),INDIRECT(ADDRESS(IF($B93=\"X\",12,13),MATCH(SP_PIANO!F$4,BASE!$B$2:$F$2,0)+1,,,\"BASE\")),IF($B93=\"U\",-INDIRECT(ADDRESS(4+MATCH(\"U\",CE_PIANO!$B$5:$B$206,0),COLUMN(SP_PIANO!F$4),,,\"CE_PIANO\")),IF(ISERROR(VLOOKUP($A93,Attivita_Passivita!$B$6:$Q$105,COLUMN(Attivita_Passivita!M$4)-1,FALSE)),0,VLOOKUP($A93,Attivita_Passivita!$B$6:$Q$105,COLUMN(Attivita_Passivita!M$4)-1,FALSE))))))","v":""},{"$f":"IF($A93=\"\",\"\",IF(G$4=\"\",\"\",IF(OR($B93=\"X\", $B93=\"I\"),INDIRECT(ADDRESS(IF($B93=\"X\",12,13),MATCH(SP_PIANO!G$4,BASE!$B$2:$F$2,0)+1,,,\"BASE\")),IF($B93=\"U\",-INDIRECT(ADDRESS(4+MATCH(\"U\",CE_PIANO!$B$5:$B$206,0),COLUMN(SP_PIANO!G$4),,,\"CE_PIANO\")),IF(ISERROR(VLOOKUP($A93,Attivita_Passivita!$B$6:$Q$105,COLUMN(Attivita_Passivita!N$4)-1,FALSE)),0,VLOOKUP($A93,Attivita_Passivita!$B$6:$Q$105,COLUMN(Attivita_Passivita!N$4)-1,FALSE))))))","v":""},{"$f":"IF($A93=\"\",\"\",IF(H$4=\"\",\"\",IF(OR($B93=\"X\", $B93=\"I\"),INDIRECT(ADDRESS(IF($B93=\"X\",12,13),MATCH(SP_PIANO!H$4,BASE!$B$2:$F$2,0)+1,,,\"BASE\")),IF($B93=\"U\",-INDIRECT(ADDRESS(4+MATCH(\"U\",CE_PIANO!$B$5:$B$206,0),COLUMN(SP_PIANO!H$4),,,\"CE_PIANO\")),IF(ISERROR(VLOOKUP($A93,Attivita_Passivita!$B$6:$Q$105,COLUMN(Attivita_Passivita!O$4)-1,FALSE)),0,VLOOKUP($A93,Attivita_Passivita!$B$6:$Q$105,COLUMN(Attivita_Passivita!O$4)-1,FALSE))))))","v":""}]
[{"$f":"IF(SP_STORICO!A94=\"\",\"\",SP_STORICO!A94)","v":""},{"$f":"IF($A94=\"\",\"\",VLOOKUP(A94,SCHEMA_SP!$E$5:$F$54,2,FALSE))","v":""},{"$f":"IF(SP_STORICO!A94=\"\",\"\",SP_STORICO!B94)","v":""},{"$f":"IF(SP_STORICO!C94=\"\",\"\",SP_STORICO!C94)","v":""},{"$f":"IF(SP_STORICO!D94=\"\",\"\",SP_STORICO!D94)","v":""},{"$f":"IF($A94=\"\",\"\",IF(F$4=\"\",\"\",IF(OR($B94=\"X\", $B94=\"I\"),INDIRECT(ADDRESS(IF($B94=\"X\",12,13),MATCH(SP_PIANO!F$4,BASE!$B$2:$F$2,0)+1,,,\"BASE\")),IF($B94=\"U\",-INDIRECT(ADDRESS(4+MATCH(\"U\",CE_PIANO!$B$5:$B$206,0),COLUMN(SP_PIANO!F$4),,,\"CE_PIANO\")),IF(ISERROR(VLOOKUP($A94,Attivita_Passivita!$B$6:$Q$105,COLUMN(Attivita_Passivita!M$4)-1,FALSE)),0,VLOOKUP($A94,Attivita_Passivita!$B$6:$Q$105,COLUMN(Attivita_Passivita!M$4)-1,FALSE))))))","v":""},{"$f":"IF($A94=\"\",\"\",IF(G$4=\"\",\"\",IF(OR($B94=\"X\", $B94=\"I\"),INDIRECT(ADDRESS(IF($B94=\"X\",12,13),MATCH(SP_PIANO!G$4,BASE!$B$2:$F$2,0)+1,,,\"BASE\")),IF($B94=\"U\",-INDIRECT(ADDRESS(4+MATCH(\"U\",CE_PIANO!$B$5:$B$206,0),COLUMN(SP_PIANO!G$4),,,\"CE_PIANO\")),IF(ISERROR(VLOOKUP($A94,Attivita_Passivita!$B$6:$Q$105,COLUMN(Attivita_Passivita!N$4)-1,FALSE)),0,VLOOKUP($A94,Attivita_Passivita!$B$6:$Q$105,COLUMN(Attivita_Passivita!N$4)-1,FALSE))))))","v":""},{"$f":"IF($A94=\"\",\"\",IF(H$4=\"\",\"\",IF(OR($B94=\"X\", $B94=\"I\"),INDIRECT(ADDRESS(IF($B94=\"X\",12,13),MATCH(SP_PIANO!H$4,BASE!$B$2:$F$2,0)+1,,,\"BASE\")),IF($B94=\"U\",-INDIRECT(ADDRESS(4+MATCH(\"U\",CE_PIANO!$B$5:$B$206,0),COLUMN(SP_PIANO!H$4),,,\"CE_PIANO\")),IF(ISERROR(VLOOKUP($A94,Attivita_Passivita!$B$6:$Q$105,COLUMN(Attivita_Passivita!O$4)-1,FALSE)),0,VLOOKUP($A94,Attivita_Passivita!$B$6:$Q$105,COLUMN(Attivita_Passivita!O$4)-1,FALSE))))))","v":""}]
[{"$f":"IF(SP_STORICO!A95=\"\",\"\",SP_STORICO!A95)","v":""},{"$f":"IF($A95=\"\",\"\",VLOOKUP(A95,SCHEMA_SP!$E$5:$F$54,2,FALSE))","v":""},{"$f":"IF(SP_STORICO!A95=\"\",\"\",SP_STORICO!B95)","v":""},{"$f":"IF(SP_STORICO!C95=\"\",\"\",SP_STORICO!C95)","v":""},{"$f":"IF(SP_STORICO!D95=\"\",\"\",SP_STORICO!D95)","v":""},{"$f":"IF($A95=\"\",\"\",IF(F$4=\"\",\"\",IF(OR($B95=\"X\", $B95=\"I\"),INDIRECT(ADDRESS(IF($B95=\"X\",12,13),MATCH(SP_PIANO!F$4,BASE!$B$2:$F$2,0)+1,,,\"BASE\")),IF($B95=\"U\",-INDIRECT(ADDRESS(4+MATCH(\"U\",CE_PIANO!$B$5:$B$206,0),COLUMN(SP_PIANO!F$4),,,\"CE_PIANO\")),IF(ISERROR(VLOOKUP($A95,Attivita_Passivita!$B$6:$Q$105,COLUMN(Attivita_Passivita!M$4)-1,FALSE)),0,VLOOKUP($A95,Attivita_Passivita!$B$6:$Q$105,COLUMN(Attivita_Passivita!M$4)-1,FALSE))))))","v":""},{"$f":"IF($A95=\"\",\"\",IF(G$4=\"\",\"\",IF(OR($B95=\"X\", $B95=\"I\"),INDIRECT(ADDRESS(IF($B95=\"X\",12,13),MATCH(SP_PIANO!G$4,BASE!$B$2:$F$2,0)+1,,,\"BASE\")),IF($B95=\"U\",-INDIRECT(ADDRESS(4+MATCH(\"U\",CE_PIANO!$B$5:$B$206,0),COLUMN(SP_PIANO!G$4),,,\"CE_PIANO\")),IF(ISERROR(VLOOKUP($A95,Attivita_Passivita!$B$6:$Q$105,COLUMN(Attivita_Passivita!N$4)-1,FALSE)),0,VLOOKUP($A95,Attivita_Passivita!$B$6:$Q$105,COLUMN(Attivita_Passivita!N$4)-1,FALSE))))))","v":""},{"$f":"IF($A95=\"\",\"\",IF(H$4=\"\",\"\",IF(OR($B95=\"X\", $B95=\"I\"),INDIRECT(ADDRESS(IF($B95=\"X\",12,13),MATCH(SP_PIANO!H$4,BASE!$B$2:$F$2,0)+1,,,\"BASE\")),IF($B95=\"U\",-INDIRECT(ADDRESS(4+MATCH(\"U\",CE_PIANO!$B$5:$B$206,0),COLUMN(SP_PIANO!H$4),,,\"CE_PIANO\")),IF(ISERROR(VLOOKUP($A95,Attivita_Passivita!$B$6:$Q$105,COLUMN(Attivita_Passivita!O$4)-1,FALSE)),0,VLOOKUP($A95,Attivita_Passivita!$B$6:$Q$105,COLUMN(Attivita_Passivita!O$4)-1,FALSE))))))","v":""}]
[{"$f":"IF(SP_STORICO!A96=\"\",\"\",SP_STORICO!A96)","v":""},{"$f":"IF($A96=\"\",\"\",VLOOKUP(A96,SCHEMA_SP!$E$5:$F$54,2,FALSE))","v":""},{"$f":"IF(SP_STORICO!A96=\"\",\"\",SP_STORICO!B96)","v":""},{"$f":"IF(SP_STORICO!C96=\"\",\"\",SP_STORICO!C96)","v":""},{"$f":"IF(SP_STORICO!D96=\"\",\"\",SP_STORICO!D96)","v":""},{"$f":"IF($A96=\"\",\"\",IF(F$4=\"\",\"\",IF(OR($B96=\"X\", $B96=\"I\"),INDIRECT(ADDRESS(IF($B96=\"X\",12,13),MATCH(SP_PIANO!F$4,BASE!$B$2:$F$2,0)+1,,,\"BASE\")),IF($B96=\"U\",-INDIRECT(ADDRESS(4+MATCH(\"U\",CE_PIANO!$B$5:$B$206,0),COLUMN(SP_PIANO!F$4),,,\"CE_PIANO\")),IF(ISERROR(VLOOKUP($A96,Attivita_Passivita!$B$6:$Q$105,COLUMN(Attivita_Passivita!M$4)-1,FALSE)),0,VLOOKUP($A96,Attivita_Passivita!$B$6:$Q$105,COLUMN(Attivita_Passivita!M$4)-1,FALSE))))))","v":""},{"$f":"IF($A96=\"\",\"\",IF(G$4=\"\",\"\",IF(OR($B96=\"X\", $B96=\"I\"),INDIRECT(ADDRESS(IF($B96=\"X\",12,13),MATCH(SP_PIANO!G$4,BASE!$B$2:$F$2,0)+1,,,\"BASE\")),IF($B96=\"U\",-INDIRECT(ADDRESS(4+MATCH(\"U\",CE_PIANO!$B$5:$B$206,0),COLUMN(SP_PIANO!G$4),,,\"CE_PIANO\")),IF(ISERROR(VLOOKUP($A96,Attivita_Passivita!$B$6:$Q$105,COLUMN(Attivita_Passivita!N$4)-1,FALSE)),0,VLOOKUP($A96,Attivita_Passivita!$B$6:$Q$105,COLUMN(Attivita_Passivita!N$4)-1,FALSE))))))","v":""},{"$f":"IF($A96=\"\",\"\",IF(H$4=\"\",\"\",IF(OR($B96=\"X\", $B96=\"I\"),INDIRECT(ADDRESS(IF($B96=\"X\",12,13),MATCH(SP_PIANO!H$4,BASE!$B$2:$F$2,0)+1,,,\"BASE\")),IF($B96=\"U\",-INDIRECT(ADDRESS(4+MATCH(\"U\",CE_PIANO!$B$5:$B$206,0),COLUMN(SP_PIANO!H$4),,,\"CE_PIANO\")),IF(ISERROR(VLOOKUP($A96,Attivita_Passivita!$B$6:$Q$105,COLUMN(Attivita_Passivita!O$4)-1,FALSE)),0,VLOOKUP($A96,Attivita_Passivita!$B$6:$Q$105,COLUMN(Attivita_Passivita!O$4)-1,FALSE))))))","v":""}]
[{"$f":"IF(SP_STORICO!A97=\"\",\"\",SP_STORICO!A97)","v":""},{"$f":"IF($A97=\"\",\"\",VLOOKUP(A97,SCHEMA_SP!$E$5:$F$54,2,FALSE))","v":""},{"$f":"IF(SP_STORICO!A97=\"\",\"\",SP_STORICO!B97)","v":""},{"$f":"IF(SP_STORICO!C97=\"\",\"\",SP_STORICO!C97)","v":""},{"$f":"IF(SP_STORICO!D97=\"\",\"\",SP_STORICO!D97)","v":""},{"$f":"IF($A97=\"\",\"\",IF(F$4=\"\",\"\",IF(OR($B97=\"X\", $B97=\"I\"),INDIRECT(ADDRESS(IF($B97=\"X\",12,13),MATCH(SP_PIANO!F$4,BASE!$B$2:$F$2,0)+1,,,\"BASE\")),IF($B97=\"U\",-INDIRECT(ADDRESS(4+MATCH(\"U\",CE_PIANO!$B$5:$B$206,0),COLUMN(SP_PIANO!F$4),,,\"CE_PIANO\")),IF(ISERROR(VLOOKUP($A97,Attivita_Passivita!$B$6:$Q$105,COLUMN(Attivita_Passivita!M$4)-1,FALSE)),0,VLOOKUP($A97,Attivita_Passivita!$B$6:$Q$105,COLUMN(Attivita_Passivita!M$4)-1,FALSE))))))","v":""},{"$f":"IF($A97=\"\",\"\",IF(G$4=\"\",\"\",IF(OR($B97=\"X\", $B97=\"I\"),INDIRECT(ADDRESS(IF($B97=\"X\",12,13),MATCH(SP_PIANO!G$4,BASE!$B$2:$F$2,0)+1,,,\"BASE\")),IF($B97=\"U\",-INDIRECT(ADDRESS(4+MATCH(\"U\",CE_PIANO!$B$5:$B$206,0),COLUMN(SP_PIANO!G$4),,,\"CE_PIANO\")),IF(ISERROR(VLOOKUP($A97,Attivita_Passivita!$B$6:$Q$105,COLUMN(Attivita_Passivita!N$4)-1,FALSE)),0,VLOOKUP($A97,Attivita_Passivita!$B$6:$Q$105,COLUMN(Attivita_Passivita!N$4)-1,FALSE))))))","v":""},{"$f":"IF($A97=\"\",\"\",IF(H$4=\"\",\"\",IF(OR($B97=\"X\", $B97=\"I\"),INDIRECT(ADDRESS(IF($B97=\"X\",12,13),MATCH(SP_PIANO!H$4,BASE!$B$2:$F$2,0)+1,,,\"BASE\")),IF($B97=\"U\",-INDIRECT(ADDRESS(4+MATCH(\"U\",CE_PIANO!$B$5:$B$206,0),COLUMN(SP_PIANO!H$4),,,\"CE_PIANO\")),IF(ISERROR(VLOOKUP($A97,Attivita_Passivita!$B$6:$Q$105,COLUMN(Attivita_Passivita!O$4)-1,FALSE)),0,VLOOKUP($A97,Attivita_Passivita!$B$6:$Q$105,COLUMN(Attivita_Passivita!O$4)-1,FALSE))))))","v":""}]
[{"$f":"IF(SP_STORICO!A98=\"\",\"\",SP_STORICO!A98)","v":""},{"$f":"IF($A98=\"\",\"\",VLOOKUP(A98,SCHEMA_SP!$E$5:$F$54,2,FALSE))","v":""},{"$f":"IF(SP_STORICO!A98=\"\",\"\",SP_STORICO!B98)","v":""},{"$f":"IF(SP_STORICO!C98=\"\",\"\",SP_STORICO!C98)","v":""},{"$f":"IF(SP_STORICO!D98=\"\",\"\",SP_STORICO!D98)","v":""},{"$f":"IF($A98=\"\",\"\",IF(F$4=\"\",\"\",IF(OR($B98=\"X\", $B98=\"I\"),INDIRECT(ADDRESS(IF($B98=\"X\",12,13),MATCH(SP_PIANO!F$4,BASE!$B$2:$F$2,0)+1,,,\"BASE\")),IF($B98=\"U\",-INDIRECT(ADDRESS(4+MATCH(\"U\",CE_PIANO!$B$5:$B$206,0),COLUMN(SP_PIANO!F$4),,,\"CE_PIANO\")),IF(ISERROR(VLOOKUP($A98,Attivita_Passivita!$B$6:$Q$105,COLUMN(Attivita_Passivita!M$4)-1,FALSE)),0,VLOOKUP($A98,Attivita_Passivita!$B$6:$Q$105,COLUMN(Attivita_Passivita!M$4)-1,FALSE))))))","v":""},{"$f":"IF($A98=\"\",\"\",IF(G$4=\"\",\"\",IF(OR($B98=\"X\", $B98=\"I\"),INDIRECT(ADDRESS(IF($B98=\"X\",12,13),MATCH(SP_PIANO!G$4,BASE!$B$2:$F$2,0)+1,,,\"BASE\")),IF($B98=\"U\",-INDIRECT(ADDRESS(4+MATCH(\"U\",CE_PIANO!$B$5:$B$206,0),COLUMN(SP_PIANO!G$4),,,\"CE_PIANO\")),IF(ISERROR(VLOOKUP($A98,Attivita_Passivita!$B$6:$Q$105,COLUMN(Attivita_Passivita!N$4)-1,FALSE)),0,VLOOKUP($A98,Attivita_Passivita!$B$6:$Q$105,COLUMN(Attivita_Passivita!N$4)-1,FALSE))))))","v":""},{"$f":"IF($A98=\"\",\"\",IF(H$4=\"\",\"\",IF(OR($B98=\"X\", $B98=\"I\"),INDIRECT(ADDRESS(IF($B98=\"X\",12,13),MATCH(SP_PIANO!H$4,BASE!$B$2:$F$2,0)+1,,,\"BASE\")),IF($B98=\"U\",-INDIRECT(ADDRESS(4+MATCH(\"U\",CE_PIANO!$B$5:$B$206,0),COLUMN(SP_PIANO!H$4),,,\"CE_PIANO\")),IF(ISERROR(VLOOKUP($A98,Attivita_Passivita!$B$6:$Q$105,COLUMN(Attivita_Passivita!O$4)-1,FALSE)),0,VLOOKUP($A98,Attivita_Passivita!$B$6:$Q$105,COLUMN(Attivita_Passivita!O$4)-1,FALSE))))))","v":""}]
[{"$f":"IF(SP_STORICO!A99=\"\",\"\",SP_STORICO!A99)","v":""},{"$f":"IF($A99=\"\",\"\",VLOOKUP(A99,SCHEMA_SP!$E$5:$F$54,2,FALSE))","v":""},{"$f":"IF(SP_STORICO!A99=\"\",\"\",SP_STORICO!B99)","v":""},{"$f":"IF(SP_STORICO!C99=\"\",\"\",SP_STORICO!C99)","v":""},{"$f":"IF(SP_STORICO!D99=\"\",\"\",SP_STORICO!D99)","v":""},{"$f":"IF($A99=\"\",\"\",IF(F$4=\"\",\"\",IF(OR($B99=\"X\", $B99=\"I\"),INDIRECT(ADDRESS(IF($B99=\"X\",12,13),MATCH(SP_PIANO!F$4,BASE!$B$2:$F$2,0)+1,,,\"BASE\")),IF($B99=\"U\",-INDIRECT(ADDRESS(4+MATCH(\"U\",CE_PIANO!$B$5:$B$206,0),COLUMN(SP_PIANO!F$4),,,\"CE_PIANO\")),IF(ISERROR(VLOOKUP($A99,Attivita_Passivita!$B$6:$Q$105,COLUMN(Attivita_Passivita!M$4)-1,FALSE)),0,VLOOKUP($A99,Attivita_Passivita!$B$6:$Q$105,COLUMN(Attivita_Passivita!M$4)-1,FALSE))))))","v":""},{"$f":"IF($A99=\"\",\"\",IF(G$4=\"\",\"\",IF(OR($B99=\"X\", $B99=\"I\"),INDIRECT(ADDRESS(IF($B99=\"X\",12,13),MATCH(SP_PIANO!G$4,BASE!$B$2:$F$2,0)+1,,,\"BASE\")),IF($B99=\"U\",-INDIRECT(ADDRESS(4+MATCH(\"U\",CE_PIANO!$B$5:$B$206,0),COLUMN(SP_PIANO!G$4),,,\"CE_PIANO\")),IF(ISERROR(VLOOKUP($A99,Attivita_Passivita!$B$6:$Q$105,COLUMN(Attivita_Passivita!N$4)-1,FALSE)),0,VLOOKUP($A99,Attivita_Passivita!$B$6:$Q$105,COLUMN(Attivita_Passivita!N$4)-1,FALSE))))))","v":""},{"$f":"IF($A99=\"\",\"\",IF(H$4=\"\",\"\",IF(OR($B99=\"X\", $B99=\"I\"),INDIRECT(ADDRESS(IF($B99=\"X\",12,13),MATCH(SP_PIANO!H$4,BASE!$B$2:$F$2,0)+1,,,\"BASE\")),IF($B99=\"U\",-INDIRECT(ADDRESS(4+MATCH(\"U\",CE_PIANO!$B$5:$B$206,0),COLUMN(SP_PIANO!H$4),,,\"CE_PIANO\")),IF(ISERROR(VLOOKUP($A99,Attivita_Passivita!$B$6:$Q$105,COLUMN(Attivita_Passivita!O$4)-1,FALSE)),0,VLOOKUP($A99,Attivita_Passivita!$B$6:$Q$105,COLUMN(Attivita_Passivita!O$4)-1,FALSE))))))","v":""}]
[{"$f":"IF(SP_STORICO!A100=\"\",\"\",SP_STORICO!A100)","v":""},{"$f":"IF($A100=\"\",\"\",VLOOKUP(A100,SCHEMA_SP!$E$5:$F$54,2,FALSE))","v":""},{"$f":"IF(SP_STORICO!A100=\"\",\"\",SP_STORICO!B100)","v":""},{"$f":"IF(SP_STORICO!C100=\"\",\"\",SP_STORICO!C100)","v":""},{"$f":"IF(SP_STORICO!D100=\"\",\"\",SP_STORICO!D100)","v":""},{"$f":"IF($A100=\"\",\"\",IF(F$4=\"\",\"\",IF(OR($B100=\"X\", $B100=\"I\"),INDIRECT(ADDRESS(IF($B100=\"X\",12,13),MATCH(SP_PIANO!F$4,BASE!$B$2:$F$2,0)+1,,,\"BASE\")),IF($B100=\"U\",-INDIRECT(ADDRESS(4+MATCH(\"U\",CE_PIANO!$B$5:$B$206,0),COLUMN(SP_PIANO!F$4),,,\"CE_PIANO\")),IF(ISERROR(VLOOKUP($A100,Attivita_Passivita!$B$6:$Q$105,COLUMN(Attivita_Passivita!M$4)-1,FALSE)),0,VLOOKUP($A100,Attivita_Passivita!$B$6:$Q$105,COLUMN(Attivita_Passivita!M$4)-1,FALSE))))))","v":""},{"$f":"IF($A100=\"\",\"\",IF(G$4=\"\",\"\",IF(OR($B100=\"X\", $B100=\"I\"),INDIRECT(ADDRESS(IF($B100=\"X\",12,13),MATCH(SP_PIANO!G$4,BASE!$B$2:$F$2,0)+1,,,\"BASE\")),IF($B100=\"U\",-INDIRECT(ADDRESS(4+MATCH(\"U\",CE_PIANO!$B$5:$B$206,0),COLUMN(SP_PIANO!G$4),,,\"CE_PIANO\")),IF(ISERROR(VLOOKUP($A100,Attivita_Passivita!$B$6:$Q$105,COLUMN(Attivita_Passivita!N$4)-1,FALSE)),0,VLOOKUP($A100,Attivita_Passivita!$B$6:$Q$105,COLUMN(Attivita_Passivita!N$4)-1,FALSE))))))","v":""},{"$f":"IF($A100=\"\",\"\",IF(H$4=\"\",\"\",IF(OR($B100=\"X\", $B100=\"I\"),INDIRECT(ADDRESS(IF($B100=\"X\",12,13),MATCH(SP_PIANO!H$4,BASE!$B$2:$F$2,0)+1,,,\"BASE\")),IF($B100=\"U\",-INDIRECT(ADDRESS(4+MATCH(\"U\",CE_PIANO!$B$5:$B$206,0),COLUMN(SP_PIANO!H$4),,,\"CE_PIANO\")),IF(ISERROR(VLOOKUP($A100,Attivita_Passivita!$B$6:$Q$105,COLUMN(Attivita_Passivita!O$4)-1,FALSE)),0,VLOOKUP($A100,Attivita_Passivita!$B$6:$Q$105,COLUMN(Attivita_Passivita!O$4)-1,FALSE))))))","v":""}]
[{"$f":"IF(SP_STORICO!A101=\"\",\"\",SP_STORICO!A101)","v":""},{"$f":"IF($A101=\"\",\"\",VLOOKUP(A101,SCHEMA_SP!$E$5:$F$54,2,FALSE))","v":""},{"$f":"IF(SP_STORICO!A101=\"\",\"\",SP_STORICO!B101)","v":""},{"$f":"IF(SP_STORICO!C101=\"\",\"\",SP_STORICO!C101)","v":""},{"$f":"IF(SP_STORICO!D101=\"\",\"\",SP_STORICO!D101)","v":""},{"$f":"IF($A101=\"\",\"\",IF(F$4=\"\",\"\",IF(OR($B101=\"X\", $B101=\"I\"),INDIRECT(ADDRESS(IF($B101=\"X\",12,13),MATCH(SP_PIANO!F$4,BASE!$B$2:$F$2,0)+1,,,\"BASE\")),IF($B101=\"U\",-INDIRECT(ADDRESS(4+MATCH(\"U\",CE_PIANO!$B$5:$B$206,0),COLUMN(SP_PIANO!F$4),,,\"CE_PIANO\")),IF(ISERROR(VLOOKUP($A101,Attivita_Passivita!$B$6:$Q$105,COLUMN(Attivita_Passivita!M$4)-1,FALSE)),0,VLOOKUP($A101,Attivita_Passivita!$B$6:$Q$105,COLUMN(Attivita_Passivita!M$4)-1,FALSE))))))","v":""},{"$f":"IF($A101=\"\",\"\",IF(G$4=\"\",\"\",IF(OR($B101=\"X\", $B101=\"I\"),INDIRECT(ADDRESS(IF($B101=\"X\",12,13),MATCH(SP_PIANO!G$4,BASE!$B$2:$F$2,0)+1,,,\"BASE\")),IF($B101=\"U\",-INDIRECT(ADDRESS(4+MATCH(\"U\",CE_PIANO!$B$5:$B$206,0),COLUMN(SP_PIANO!G$4),,,\"CE_PIANO\")),IF(ISERROR(VLOOKUP($A101,Attivita_Passivita!$B$6:$Q$105,COLUMN(Attivita_Passivita!N$4)-1,FALSE)),0,VLOOKUP($A101,Attivita_Passivita!$B$6:$Q$105,COLUMN(Attivita_Passivita!N$4)-1,FALSE))))))","v":""},{"$f":"IF($A101=\"\",\"\",IF(H$4=\"\",\"\",IF(OR($B101=\"X\", $B101=\"I\"),INDIRECT(ADDRESS(IF($B101=\"X\",12,13),MATCH(SP_PIANO!H$4,BASE!$B$2:$F$2,0)+1,,,\"BASE\")),IF($B101=\"U\",-INDIRECT(ADDRESS(4+MATCH(\"U\",CE_PIANO!$B$5:$B$206,0),COLUMN(SP_PIANO!H$4),,,\"CE_PIANO\")),IF(ISERROR(VLOOKUP($A101,Attivita_Passivita!$B$6:$Q$105,COLUMN(Attivita_Passivita!O$4)-1,FALSE)),0,VLOOKUP($A101,Attivita_Passivita!$B$6:$Q$105,COLUMN(Attivita_Passivita!O$4)-1,FALSE))))))","v":""}]
[{"$f":"IF(SP_STORICO!A102=\"\",\"\",SP_STORICO!A102)","v":""},{"$f":"IF($A102=\"\",\"\",VLOOKUP(A102,SCHEMA_SP!$E$5:$F$54,2,FALSE))","v":""},{"$f":"IF(SP_STORICO!A102=\"\",\"\",SP_STORICO!B102)","v":""},{"$f":"IF(SP_STORICO!C102=\"\",\"\",SP_STORICO!C102)","v":""},{"$f":"IF(SP_STORICO!D102=\"\",\"\",SP_STORICO!D102)","v":""},{"$f":"IF($A102=\"\",\"\",IF(F$4=\"\",\"\",IF(OR($B102=\"X\", $B102=\"I\"),INDIRECT(ADDRESS(IF($B102=\"X\",12,13),MATCH(SP_PIANO!F$4,BASE!$B$2:$F$2,0)+1,,,\"BASE\")),IF($B102=\"U\",-INDIRECT(ADDRESS(4+MATCH(\"U\",CE_PIANO!$B$5:$B$206,0),COLUMN(SP_PIANO!F$4),,,\"CE_PIANO\")),IF(ISERROR(VLOOKUP($A102,Attivita_Passivita!$B$6:$Q$105,COLUMN(Attivita_Passivita!M$4)-1,FALSE)),0,VLOOKUP($A102,Attivita_Passivita!$B$6:$Q$105,COLUMN(Attivita_Passivita!M$4)-1,FALSE))))))","v":""},{"$f":"IF($A102=\"\",\"\",IF(G$4=\"\",\"\",IF(OR($B102=\"X\", $B102=\"I\"),INDIRECT(ADDRESS(IF($B102=\"X\",12,13),MATCH(SP_PIANO!G$4,BASE!$B$2:$F$2,0)+1,,,\"BASE\")),IF($B102=\"U\",-INDIRECT(ADDRESS(4+MATCH(\"U\",CE_PIANO!$B$5:$B$206,0),COLUMN(SP_PIANO!G$4),,,\"CE_PIANO\")),IF(ISERROR(VLOOKUP($A102,Attivita_Passivita!$B$6:$Q$105,COLUMN(Attivita_Passivita!N$4)-1,FALSE)),0,VLOOKUP($A102,Attivita_Passivita!$B$6:$Q$105,COLUMN(Attivita_Passivita!N$4)-1,FALSE))))))","v":""},{"$f":"IF($A102=\"\",\"\",IF(H$4=\"\",\"\",IF(OR($B102=\"X\", $B102=\"I\"),INDIRECT(ADDRESS(IF($B102=\"X\",12,13),MATCH(SP_PIANO!H$4,BASE!$B$2:$F$2,0)+1,,,\"BASE\")),IF($B102=\"U\",-INDIRECT(ADDRESS(4+MATCH(\"U\",CE_PIANO!$B$5:$B$206,0),COLUMN(SP_PIANO!H$4),,,\"CE_PIANO\")),IF(ISERROR(VLOOKUP($A102,Attivita_Passivita!$B$6:$Q$105,COLUMN(Attivita_Passivita!O$4)-1,FALSE)),0,VLOOKUP($A102,Attivita_Passivita!$B$6:$Q$105,COLUMN(Attivita_Passivita!O$4)-1,FALSE))))))","v":""}]
[{"$f":"IF(SP_STORICO!A103=\"\",\"\",SP_STORICO!A103)","v":""},{"$f":"IF($A103=\"\",\"\",VLOOKUP(A103,SCHEMA_SP!$E$5:$F$54,2,FALSE))","v":""},{"$f":"IF(SP_STORICO!A103=\"\",\"\",SP_STORICO!B103)","v":""},{"$f":"IF(SP_STORICO!C103=\"\",\"\",SP_STORICO!C103)","v":""},{"$f":"IF(SP_STORICO!D103=\"\",\"\",SP_STORICO!D103)","v":""},{"$f":"IF($A103=\"\",\"\",IF(F$4=\"\",\"\",IF(OR($B103=\"X\", $B103=\"I\"),INDIRECT(ADDRESS(IF($B103=\"X\",12,13),MATCH(SP_PIANO!F$4,BASE!$B$2:$F$2,0)+1,,,\"BASE\")),IF($B103=\"U\",-INDIRECT(ADDRESS(4+MATCH(\"U\",CE_PIANO!$B$5:$B$206,0),COLUMN(SP_PIANO!F$4),,,\"CE_PIANO\")),IF(ISERROR(VLOOKUP($A103,Attivita_Passivita!$B$6:$Q$105,COLUMN(Attivita_Passivita!M$4)-1,FALSE)),0,VLOOKUP($A103,Attivita_Passivita!$B$6:$Q$105,COLUMN(Attivita_Passivita!M$4)-1,FALSE))))))","v":""},{"$f":"IF($A103=\"\",\"\",IF(G$4=\"\",\"\",IF(OR($B103=\"X\", $B103=\"I\"),INDIRECT(ADDRESS(IF($B103=\"X\",12,13),MATCH(SP_PIANO!G$4,BASE!$B$2:$F$2,0)+1,,,\"BASE\")),IF($B103=\"U\",-INDIRECT(ADDRESS(4+MATCH(\"U\",CE_PIANO!$B$5:$B$206,0),COLUMN(SP_PIANO!G$4),,,\"CE_PIANO\")),IF(ISERROR(VLOOKUP($A103,Attivita_Passivita!$B$6:$Q$105,COLUMN(Attivita_Passivita!N$4)-1,FALSE)),0,VLOOKUP($A103,Attivita_Passivita!$B$6:$Q$105,COLUMN(Attivita_Passivita!N$4)-1,FALSE))))))","v":""},{"$f":"IF($A103=\"\",\"\",IF(H$4=\"\",\"\",IF(OR($B103=\"X\", $B103=\"I\"),INDIRECT(ADDRESS(IF($B103=\"X\",12,13),MATCH(SP_PIANO!H$4,BASE!$B$2:$F$2,0)+1,,,\"BASE\")),IF($B103=\"U\",-INDIRECT(ADDRESS(4+MATCH(\"U\",CE_PIANO!$B$5:$B$206,0),COLUMN(SP_PIANO!H$4),,,\"CE_PIANO\")),IF(ISERROR(VLOOKUP($A103,Attivita_Passivita!$B$6:$Q$105,COLUMN(Attivita_Passivita!O$4)-1,FALSE)),0,VLOOKUP($A103,Attivita_Passivita!$B$6:$Q$105,COLUMN(Attivita_Passivita!O$4)-1,FALSE))))))","v":""}]
[{"$f":"IF(SP_STORICO!A104=\"\",\"\",SP_STORICO!A104)","v":""},{"$f":"IF($A104=\"\",\"\",VLOOKUP(A104,SCHEMA_SP!$E$5:$F$54,2,FALSE))","v":""},{"$f":"IF(SP_STORICO!A104=\"\",\"\",SP_STORICO!B104)","v":""},{"$f":"IF(SP_STORICO!C104=\"\",\"\",SP_STORICO!C104)","v":""},{"$f":"IF(SP_STORICO!D104=\"\",\"\",SP_STORICO!D104)","v":""},{"$f":"IF($A104=\"\",\"\",IF(F$4=\"\",\"\",IF(OR($B104=\"X\", $B104=\"I\"),INDIRECT(ADDRESS(IF($B104=\"X\",12,13),MATCH(SP_PIANO!F$4,BASE!$B$2:$F$2,0)+1,,,\"BASE\")),IF($B104=\"U\",-INDIRECT(ADDRESS(4+MATCH(\"U\",CE_PIANO!$B$5:$B$206,0),COLUMN(SP_PIANO!F$4),,,\"CE_PIANO\")),IF(ISERROR(VLOOKUP($A104,Attivita_Passivita!$B$6:$Q$105,COLUMN(Attivita_Passivita!M$4)-1,FALSE)),0,VLOOKUP($A104,Attivita_Passivita!$B$6:$Q$105,COLUMN(Attivita_Passivita!M$4)-1,FALSE))))))","v":""},{"$f":"IF($A104=\"\",\"\",IF(G$4=\"\",\"\",IF(OR($B104=\"X\", $B104=\"I\"),INDIRECT(ADDRESS(IF($B104=\"X\",12,13),MATCH(SP_PIANO!G$4,BASE!$B$2:$F$2,0)+1,,,\"BASE\")),IF($B104=\"U\",-INDIRECT(ADDRESS(4+MATCH(\"U\",CE_PIANO!$B$5:$B$206,0),COLUMN(SP_PIANO!G$4),,,\"CE_PIANO\")),IF(ISERROR(VLOOKUP($A104,Attivita_Passivita!$B$6:$Q$105,COLUMN(Attivita_Passivita!N$4)-1,FALSE)),0,VLOOKUP($A104,Attivita_Passivita!$B$6:$Q$105,COLUMN(Attivita_Passivita!N$4)-1,FALSE))))))","v":""},{"$f":"IF($A104=\"\",\"\",IF(H$4=\"\",\"\",IF(OR($B104=\"X\", $B104=\"I\"),INDIRECT(ADDRESS(IF($B104=\"X\",12,13),MATCH(SP_PIANO!H$4,BASE!$B$2:$F$2,0)+1,,,\"BASE\")),IF($B104=\"U\",-INDIRECT(ADDRESS(4+MATCH(\"U\",CE_PIANO!$B$5:$B$206,0),COLUMN(SP_PIANO!H$4),,,\"CE_PIANO\")),IF(ISERROR(VLOOKUP($A104,Attivita_Passivita!$B$6:$Q$105,COLUMN(Attivita_Passivita!O$4)-1,FALSE)),0,VLOOKUP($A104,Attivita_Passivita!$B$6:$Q$105,COLUMN(Attivita_Passivita!O$4)-1,FALSE))))))","v":""}]
[{"$f":"IF(SP_STORICO!A105=\"\",\"\",SP_STORICO!A105)","v":""},{"$f":"IF($A105=\"\",\"\",VLOOKUP(A105,SCHEMA_SP!$E$5:$F$54,2,FALSE))","v":""},{"$f":"IF(SP_STORICO!A105=\"\",\"\",SP_STORICO!B105)","v":""},{"$f":"IF(SP_STORICO!C105=\"\",\"\",SP_STORICO!C105)","v":""},{"$f":"IF(SP_STORICO!D105=\"\",\"\",SP_STORICO!D105)","v":""},{"$f":"IF($A105=\"\",\"\",IF(F$4=\"\",\"\",IF(OR($B105=\"X\", $B105=\"I\"),INDIRECT(ADDRESS(IF($B105=\"X\",12,13),MATCH(SP_PIANO!F$4,BASE!$B$2:$F$2,0)+1,,,\"BASE\")),IF($B105=\"U\",-INDIRECT(ADDRESS(4+MATCH(\"U\",CE_PIANO!$B$5:$B$206,0),COLUMN(SP_PIANO!F$4),,,\"CE_PIANO\")),IF(ISERROR(VLOOKUP($A105,Attivita_Passivita!$B$6:$Q$105,COLUMN(Attivita_Passivita!M$4)-1,FALSE)),0,VLOOKUP($A105,Attivita_Passivita!$B$6:$Q$105,COLUMN(Attivita_Passivita!M$4)-1,FALSE))))))","v":""},{"$f":"IF($A105=\"\",\"\",IF(G$4=\"\",\"\",IF(OR($B105=\"X\", $B105=\"I\"),INDIRECT(ADDRESS(IF($B105=\"X\",12,13),MATCH(SP_PIANO!G$4,BASE!$B$2:$F$2,0)+1,,,\"BASE\")),IF($B105=\"U\",-INDIRECT(ADDRESS(4+MATCH(\"U\",CE_PIANO!$B$5:$B$206,0),COLUMN(SP_PIANO!G$4),,,\"CE_PIANO\")),IF(ISERROR(VLOOKUP($A105,Attivita_Passivita!$B$6:$Q$105,COLUMN(Attivita_Passivita!N$4)-1,FALSE)),0,VLOOKUP($A105,Attivita_Passivita!$B$6:$Q$105,COLUMN(Attivita_Passivita!N$4)-1,FALSE))))))","v":""},{"$f":"IF($A105=\"\",\"\",IF(H$4=\"\",\"\",IF(OR($B105=\"X\", $B105=\"I\"),INDIRECT(ADDRESS(IF($B105=\"X\",12,13),MATCH(SP_PIANO!H$4,BASE!$B$2:$F$2,0)+1,,,\"BASE\")),IF($B105=\"U\",-INDIRECT(ADDRESS(4+MATCH(\"U\",CE_PIANO!$B$5:$B$206,0),COLUMN(SP_PIANO!H$4),,,\"CE_PIANO\")),IF(ISERROR(VLOOKUP($A105,Attivita_Passivita!$B$6:$Q$105,COLUMN(Attivita_Passivita!O$4)-1,FALSE)),0,VLOOKUP($A105,Attivita_Passivita!$B$6:$Q$105,COLUMN(Attivita_Passivita!O$4)-1,FALSE))))))","v":""}]
[{"$f":"IF(SP_STORICO!A106=\"\",\"\",SP_STORICO!A106)","v":""},{"$f":"IF($A106=\"\",\"\",VLOOKUP(A106,SCHEMA_SP!$E$5:$F$54,2,FALSE))","v":""},{"$f":"IF(SP_STORICO!A106=\"\",\"\",SP_STORICO!B106)","v":""},{"$f":"IF(SP_STORICO!C106=\"\",\"\",SP_STORICO!C106)","v":""},{"$f":"IF(SP_STORICO!D106=\"\",\"\",SP_STORICO!D106)","v":""},{"$f":"IF($A106=\"\",\"\",IF(F$4=\"\",\"\",IF(OR($B106=\"X\", $B106=\"I\"),INDIRECT(ADDRESS(IF($B106=\"X\",12,13),MATCH(SP_PIANO!F$4,BASE!$B$2:$F$2,0)+1,,,\"BASE\")),IF($B106=\"U\",-INDIRECT(ADDRESS(4+MATCH(\"U\",CE_PIANO!$B$5:$B$206,0),COLUMN(SP_PIANO!F$4),,,\"CE_PIANO\")),IF(ISERROR(VLOOKUP($A106,Attivita_Passivita!$B$6:$Q$105,COLUMN(Attivita_Passivita!M$4)-1,FALSE)),0,VLOOKUP($A106,Attivita_Passivita!$B$6:$Q$105,COLUMN(Attivita_Passivita!M$4)-1,FALSE))))))","v":""},{"$f":"IF($A106=\"\",\"\",IF(G$4=\"\",\"\",IF(OR($B106=\"X\", $B106=\"I\"),INDIRECT(ADDRESS(IF($B106=\"X\",12,13),MATCH(SP_PIANO!G$4,BASE!$B$2:$F$2,0)+1,,,\"BASE\")),IF($B106=\"U\",-INDIRECT(ADDRESS(4+MATCH(\"U\",CE_PIANO!$B$5:$B$206,0),COLUMN(SP_PIANO!G$4),,,\"CE_PIANO\")),IF(ISERROR(VLOOKUP($A106,Attivita_Passivita!$B$6:$Q$105,COLUMN(Attivita_Passivita!N$4)-1,FALSE)),0,VLOOKUP($A106,Attivita_Passivita!$B$6:$Q$105,COLUMN(Attivita_Passivita!N$4)-1,FALSE))))))","v":""},{"$f":"IF($A106=\"\",\"\",IF(H$4=\"\",\"\",IF(OR($B106=\"X\", $B106=\"I\"),INDIRECT(ADDRESS(IF($B106=\"X\",12,13),MATCH(SP_PIANO!H$4,BASE!$B$2:$F$2,0)+1,,,\"BASE\")),IF($B106=\"U\",-INDIRECT(ADDRESS(4+MATCH(\"U\",CE_PIANO!$B$5:$B$206,0),COLUMN(SP_PIANO!H$4),,,\"CE_PIANO\")),IF(ISERROR(VLOOKUP($A106,Attivita_Passivita!$B$6:$Q$105,COLUMN(Attivita_Passivita!O$4)-1,FALSE)),0,VLOOKUP($A106,Attivita_Passivita!$B$6:$Q$105,COLUMN(Attivita_Passivita!O$4)-1,FALSE))))))","v":""}]
[{"$f":"IF(SP_STORICO!A107=\"\",\"\",SP_STORICO!A107)","v":""},{"$f":"IF($A107=\"\",\"\",VLOOKUP(A107,SCHEMA_SP!$E$5:$F$54,2,FALSE))","v":""},{"$f":"IF(SP_STORICO!A107=\"\",\"\",SP_STORICO!B107)","v":""},{"$f":"IF(SP_STORICO!C107=\"\",\"\",SP_STORICO!C107)","v":""},{"$f":"IF(SP_STORICO!D107=\"\",\"\",SP_STORICO!D107)","v":""},{"$f":"IF($A107=\"\",\"\",IF(F$4=\"\",\"\",IF(OR($B107=\"X\", $B107=\"I\"),INDIRECT(ADDRESS(IF($B107=\"X\",12,13),MATCH(SP_PIANO!F$4,BASE!$B$2:$F$2,0)+1,,,\"BASE\")),IF($B107=\"U\",-INDIRECT(ADDRESS(4+MATCH(\"U\",CE_PIANO!$B$5:$B$206,0),COLUMN(SP_PIANO!F$4),,,\"CE_PIANO\")),IF(ISERROR(VLOOKUP($A107,Attivita_Passivita!$B$6:$Q$105,COLUMN(Attivita_Passivita!M$4)-1,FALSE)),0,VLOOKUP($A107,Attivita_Passivita!$B$6:$Q$105,COLUMN(Attivita_Passivita!M$4)-1,FALSE))))))","v":""},{"$f":"IF($A107=\"\",\"\",IF(G$4=\"\",\"\",IF(OR($B107=\"X\", $B107=\"I\"),INDIRECT(ADDRESS(IF($B107=\"X\",12,13),MATCH(SP_PIANO!G$4,BASE!$B$2:$F$2,0)+1,,,\"BASE\")),IF($B107=\"U\",-INDIRECT(ADDRESS(4+MATCH(\"U\",CE_PIANO!$B$5:$B$206,0),COLUMN(SP_PIANO!G$4),,,\"CE_PIANO\")),IF(ISERROR(VLOOKUP($A107,Attivita_Passivita!$B$6:$Q$105,COLUMN(Attivita_Passivita!N$4)-1,FALSE)),0,VLOOKUP($A107,Attivita_Passivita!$B$6:$Q$105,COLUMN(Attivita_Passivita!N$4)-1,FALSE))))))","v":""},{"$f":"IF($A107=\"\",\"\",IF(H$4=\"\",\"\",IF(OR($B107=\"X\", $B107=\"I\"),INDIRECT(ADDRESS(IF($B107=\"X\",12,13),MATCH(SP_PIANO!H$4,BASE!$B$2:$F$2,0)+1,,,\"BASE\")),IF($B107=\"U\",-INDIRECT(ADDRESS(4+MATCH(\"U\",CE_PIANO!$B$5:$B$206,0),COLUMN(SP_PIANO!H$4),,,\"CE_PIANO\")),IF(ISERROR(VLOOKUP($A107,Attivita_Passivita!$B$6:$Q$105,COLUMN(Attivita_Passivita!O$4)-1,FALSE)),0,VLOOKUP($A107,Attivita_Passivita!$B$6:$Q$105,COLUMN(Attivita_Passivita!O$4)-1,FALSE))))))","v":""}]
[{"$f":"IF(SP_STORICO!A108=\"\",\"\",SP_STORICO!A108)","v":""},{"$f":"IF($A108=\"\",\"\",VLOOKUP(A108,SCHEMA_SP!$E$5:$F$54,2,FALSE))","v":""},{"$f":"IF(SP_STORICO!A108=\"\",\"\",SP_STORICO!B108)","v":""},{"$f":"IF(SP_STORICO!C108=\"\",\"\",SP_STORICO!C108)","v":""},{"$f":"IF(SP_STORICO!D108=\"\",\"\",SP_STORICO!D108)","v":""},{"$f":"IF($A108=\"\",\"\",IF(F$4=\"\",\"\",IF(OR($B108=\"X\", $B108=\"I\"),INDIRECT(ADDRESS(IF($B108=\"X\",12,13),MATCH(SP_PIANO!F$4,BASE!$B$2:$F$2,0)+1,,,\"BASE\")),IF($B108=\"U\",-INDIRECT(ADDRESS(4+MATCH(\"U\",CE_PIANO!$B$5:$B$206,0),COLUMN(SP_PIANO!F$4),,,\"CE_PIANO\")),IF(ISERROR(VLOOKUP($A108,Attivita_Passivita!$B$6:$Q$105,COLUMN(Attivita_Passivita!M$4)-1,FALSE)),0,VLOOKUP($A108,Attivita_Passivita!$B$6:$Q$105,COLUMN(Attivita_Passivita!M$4)-1,FALSE))))))","v":""},{"$f":"IF($A108=\"\",\"\",IF(G$4=\"\",\"\",IF(OR($B108=\"X\", $B108=\"I\"),INDIRECT(ADDRESS(IF($B108=\"X\",12,13),MATCH(SP_PIANO!G$4,BASE!$B$2:$F$2,0)+1,,,\"BASE\")),IF($B108=\"U\",-INDIRECT(ADDRESS(4+MATCH(\"U\",CE_PIANO!$B$5:$B$206,0),COLUMN(SP_PIANO!G$4),,,\"CE_PIANO\")),IF(ISERROR(VLOOKUP($A108,Attivita_Passivita!$B$6:$Q$105,COLUMN(Attivita_Passivita!N$4)-1,FALSE)),0,VLOOKUP($A108,Attivita_Passivita!$B$6:$Q$105,COLUMN(Attivita_Passivita!N$4)-1,FALSE))))))","v":""},{"$f":"IF($A108=\"\",\"\",IF(H$4=\"\",\"\",IF(OR($B108=\"X\", $B108=\"I\"),INDIRECT(ADDRESS(IF($B108=\"X\",12,13),MATCH(SP_PIANO!H$4,BASE!$B$2:$F$2,0)+1,,,\"BASE\")),IF($B108=\"U\",-INDIRECT(ADDRESS(4+MATCH(\"U\",CE_PIANO!$B$5:$B$206,0),COLUMN(SP_PIANO!H$4),,,\"CE_PIANO\")),IF(ISERROR(VLOOKUP($A108,Attivita_Passivita!$B$6:$Q$105,COLUMN(Attivita_Passivita!O$4)-1,FALSE)),0,VLOOKUP($A108,Attivita_Passivita!$B$6:$Q$105,COLUMN(Attivita_Passivita!O$4)-1,FALSE))))))","v":""}]
[{"$f":"IF(SP_STORICO!A109=\"\",\"\",SP_STORICO!A109)","v":""},{"$f":"IF($A109=\"\",\"\",VLOOKUP(A109,SCHEMA_SP!$E$5:$F$54,2,FALSE))","v":""},{"$f":"IF(SP_STORICO!A109=\"\",\"\",SP_STORICO!B109)","v":""},{"$f":"IF(SP_STORICO!C109=\"\",\"\",SP_STORICO!C109)","v":""},{"$f":"IF(SP_STORICO!D109=\"\",\"\",SP_STORICO!D109)","v":""},{"$f":"IF($A109=\"\",\"\",IF(F$4=\"\",\"\",IF(OR($B109=\"X\", $B109=\"I\"),INDIRECT(ADDRESS(IF($B109=\"X\",12,13),MATCH(SP_PIANO!F$4,BASE!$B$2:$F$2,0)+1,,,\"BASE\")),IF($B109=\"U\",-INDIRECT(ADDRESS(4+MATCH(\"U\",CE_PIANO!$B$5:$B$206,0),COLUMN(SP_PIANO!F$4),,,\"CE_PIANO\")),IF(ISERROR(VLOOKUP($A109,Attivita_Passivita!$B$6:$Q$105,COLUMN(Attivita_Passivita!M$4)-1,FALSE)),0,VLOOKUP($A109,Attivita_Passivita!$B$6:$Q$105,COLUMN(Attivita_Passivita!M$4)-1,FALSE))))))","v":""},{"$f":"IF($A109=\"\",\"\",IF(G$4=\"\",\"\",IF(OR($B109=\"X\", $B109=\"I\"),INDIRECT(ADDRESS(IF($B109=\"X\",12,13),MATCH(SP_PIANO!G$4,BASE!$B$2:$F$2,0)+1,,,\"BASE\")),IF($B109=\"U\",-INDIRECT(ADDRESS(4+MATCH(\"U\",CE_PIANO!$B$5:$B$206,0),COLUMN(SP_PIANO!G$4),,,\"CE_PIANO\")),IF(ISERROR(VLOOKUP($A109,Attivita_Passivita!$B$6:$Q$105,COLUMN(Attivita_Passivita!N$4)-1,FALSE)),0,VLOOKUP($A109,Attivita_Passivita!$B$6:$Q$105,COLUMN(Attivita_Passivita!N$4)-1,FALSE))))))","v":""},{"$f":"IF($A109=\"\",\"\",IF(H$4=\"\",\"\",IF(OR($B109=\"X\", $B109=\"I\"),INDIRECT(ADDRESS(IF($B109=\"X\",12,13),MATCH(SP_PIANO!H$4,BASE!$B$2:$F$2,0)+1,,,\"BASE\")),IF($B109=\"U\",-INDIRECT(ADDRESS(4+MATCH(\"U\",CE_PIANO!$B$5:$B$206,0),COLUMN(SP_PIANO!H$4),,,\"CE_PIANO\")),IF(ISERROR(VLOOKUP($A109,Attivita_Passivita!$B$6:$Q$105,COLUMN(Attivita_Passivita!O$4)-1,FALSE)),0,VLOOKUP($A109,Attivita_Passivita!$B$6:$Q$105,COLUMN(Attivita_Passivita!O$4)-1,FALSE))))))","v":""}]
[{"$f":"IF(SP_STORICO!A110=\"\",\"\",SP_STORICO!A110)","v":""},{"$f":"IF($A110=\"\",\"\",VLOOKUP(A110,SCHEMA_SP!$E$5:$F$54,2,FALSE))","v":""},{"$f":"IF(SP_STORICO!A110=\"\",\"\",SP_STORICO!B110)","v":""},{"$f":"IF(SP_STORICO!C110=\"\",\"\",SP_STORICO!C110)","v":""},{"$f":"IF(SP_STORICO!D110=\"\",\"\",SP_STORICO!D110)","v":""},{"$f":"IF($A110=\"\",\"\",IF(F$4=\"\",\"\",IF(OR($B110=\"X\", $B110=\"I\"),INDIRECT(ADDRESS(IF($B110=\"X\",12,13),MATCH(SP_PIANO!F$4,BASE!$B$2:$F$2,0)+1,,,\"BASE\")),IF($B110=\"U\",-INDIRECT(ADDRESS(4+MATCH(\"U\",CE_PIANO!$B$5:$B$206,0),COLUMN(SP_PIANO!F$4),,,\"CE_PIANO\")),IF(ISERROR(VLOOKUP($A110,Attivita_Passivita!$B$6:$Q$105,COLUMN(Attivita_Passivita!M$4)-1,FALSE)),0,VLOOKUP($A110,Attivita_Passivita!$B$6:$Q$105,COLUMN(Attivita_Passivita!M$4)-1,FALSE))))))","v":""},{"$f":"IF($A110=\"\",\"\",IF(G$4=\"\",\"\",IF(OR($B110=\"X\", $B110=\"I\"),INDIRECT(ADDRESS(IF($B110=\"X\",12,13),MATCH(SP_PIANO!G$4,BASE!$B$2:$F$2,0)+1,,,\"BASE\")),IF($B110=\"U\",-INDIRECT(ADDRESS(4+MATCH(\"U\",CE_PIANO!$B$5:$B$206,0),COLUMN(SP_PIANO!G$4),,,\"CE_PIANO\")),IF(ISERROR(VLOOKUP($A110,Attivita_Passivita!$B$6:$Q$105,COLUMN(Attivita_Passivita!N$4)-1,FALSE)),0,VLOOKUP($A110,Attivita_Passivita!$B$6:$Q$105,COLUMN(Attivita_Passivita!N$4)-1,FALSE))))))","v":""},{"$f":"IF($A110=\"\",\"\",IF(H$4=\"\",\"\",IF(OR($B110=\"X\", $B110=\"I\"),INDIRECT(ADDRESS(IF($B110=\"X\",12,13),MATCH(SP_PIANO!H$4,BASE!$B$2:$F$2,0)+1,,,\"BASE\")),IF($B110=\"U\",-INDIRECT(ADDRESS(4+MATCH(\"U\",CE_PIANO!$B$5:$B$206,0),COLUMN(SP_PIANO!H$4),,,\"CE_PIANO\")),IF(ISERROR(VLOOKUP($A110,Attivita_Passivita!$B$6:$Q$105,COLUMN(Attivita_Passivita!O$4)-1,FALSE)),0,VLOOKUP($A110,Attivita_Passivita!$B$6:$Q$105,COLUMN(Attivita_Passivita!O$4)-1,FALSE))))))","v":""}]
[{"$f":"IF(SP_STORICO!A111=\"\",\"\",SP_STORICO!A111)","v":""},{"$f":"IF($A111=\"\",\"\",VLOOKUP(A111,SCHEMA_SP!$E$5:$F$54,2,FALSE))","v":""},{"$f":"IF(SP_STORICO!A111=\"\",\"\",SP_STORICO!B111)","v":""},{"$f":"IF(SP_STORICO!C111=\"\",\"\",SP_STORICO!C111)","v":""},{"$f":"IF(SP_STORICO!D111=\"\",\"\",SP_STORICO!D111)","v":""},{"$f":"IF($A111=\"\",\"\",IF(F$4=\"\",\"\",IF(OR($B111=\"X\", $B111=\"I\"),INDIRECT(ADDRESS(IF($B111=\"X\",12,13),MATCH(SP_PIANO!F$4,BASE!$B$2:$F$2,0)+1,,,\"BASE\")),IF($B111=\"U\",-INDIRECT(ADDRESS(4+MATCH(\"U\",CE_PIANO!$B$5:$B$206,0),COLUMN(SP_PIANO!F$4),,,\"CE_PIANO\")),IF(ISERROR(VLOOKUP($A111,Attivita_Passivita!$B$6:$Q$105,COLUMN(Attivita_Passivita!M$4)-1,FALSE)),0,VLOOKUP($A111,Attivita_Passivita!$B$6:$Q$105,COLUMN(Attivita_Passivita!M$4)-1,FALSE))))))","v":""},{"$f":"IF($A111=\"\",\"\",IF(G$4=\"\",\"\",IF(OR($B111=\"X\", $B111=\"I\"),INDIRECT(ADDRESS(IF($B111=\"X\",12,13),MATCH(SP_PIANO!G$4,BASE!$B$2:$F$2,0)+1,,,\"BASE\")),IF($B111=\"U\",-INDIRECT(ADDRESS(4+MATCH(\"U\",CE_PIANO!$B$5:$B$206,0),COLUMN(SP_PIANO!G$4),,,\"CE_PIANO\")),IF(ISERROR(VLOOKUP($A111,Attivita_Passivita!$B$6:$Q$105,COLUMN(Attivita_Passivita!N$4)-1,FALSE)),0,VLOOKUP($A111,Attivita_Passivita!$B$6:$Q$105,COLUMN(Attivita_Passivita!N$4)-1,FALSE))))))","v":""},{"$f":"IF($A111=\"\",\"\",IF(H$4=\"\",\"\",IF(OR($B111=\"X\", $B111=\"I\"),INDIRECT(ADDRESS(IF($B111=\"X\",12,13),MATCH(SP_PIANO!H$4,BASE!$B$2:$F$2,0)+1,,,\"BASE\")),IF($B111=\"U\",-INDIRECT(ADDRESS(4+MATCH(\"U\",CE_PIANO!$B$5:$B$206,0),COLUMN(SP_PIANO!H$4),,,\"CE_PIANO\")),IF(ISERROR(VLOOKUP($A111,Attivita_Passivita!$B$6:$Q$105,COLUMN(Attivita_Passivita!O$4)-1,FALSE)),0,VLOOKUP($A111,Attivita_Passivita!$B$6:$Q$105,COLUMN(Attivita_Passivita!O$4)-1,FALSE))))))","v":""}]
[{"$f":"IF(SP_STORICO!A112=\"\",\"\",SP_STORICO!A112)","v":""},{"$f":"IF($A112=\"\",\"\",VLOOKUP(A112,SCHEMA_SP!$E$5:$F$54,2,FALSE))","v":""},{"$f":"IF(SP_STORICO!A112=\"\",\"\",SP_STORICO!B112)","v":""},{"$f":"IF(SP_STORICO!C112=\"\",\"\",SP_STORICO!C112)","v":""},{"$f":"IF(SP_STORICO!D112=\"\",\"\",SP_STORICO!D112)","v":""},{"$f":"IF($A112=\"\",\"\",IF(F$4=\"\",\"\",IF(OR($B112=\"X\", $B112=\"I\"),INDIRECT(ADDRESS(IF($B112=\"X\",12,13),MATCH(SP_PIANO!F$4,BASE!$B$2:$F$2,0)+1,,,\"BASE\")),IF($B112=\"U\",-INDIRECT(ADDRESS(4+MATCH(\"U\",CE_PIANO!$B$5:$B$206,0),COLUMN(SP_PIANO!F$4),,,\"CE_PIANO\")),IF(ISERROR(VLOOKUP($A112,Attivita_Passivita!$B$6:$Q$105,COLUMN(Attivita_Passivita!M$4)-1,FALSE)),0,VLOOKUP($A112,Attivita_Passivita!$B$6:$Q$105,COLUMN(Attivita_Passivita!M$4)-1,FALSE))))))","v":""},{"$f":"IF($A112=\"\",\"\",IF(G$4=\"\",\"\",IF(OR($B112=\"X\", $B112=\"I\"),INDIRECT(ADDRESS(IF($B112=\"X\",12,13),MATCH(SP_PIANO!G$4,BASE!$B$2:$F$2,0)+1,,,\"BASE\")),IF($B112=\"U\",-INDIRECT(ADDRESS(4+MATCH(\"U\",CE_PIANO!$B$5:$B$206,0),COLUMN(SP_PIANO!G$4),,,\"CE_PIANO\")),IF(ISERROR(VLOOKUP($A112,Attivita_Passivita!$B$6:$Q$105,COLUMN(Attivita_Passivita!N$4)-1,FALSE)),0,VLOOKUP($A112,Attivita_Passivita!$B$6:$Q$105,COLUMN(Attivita_Passivita!N$4)-1,FALSE))))))","v":""},{"$f":"IF($A112=\"\",\"\",IF(H$4=\"\",\"\",IF(OR($B112=\"X\", $B112=\"I\"),INDIRECT(ADDRESS(IF($B112=\"X\",12,13),MATCH(SP_PIANO!H$4,BASE!$B$2:$F$2,0)+1,,,\"BASE\")),IF($B112=\"U\",-INDIRECT(ADDRESS(4+MATCH(\"U\",CE_PIANO!$B$5:$B$206,0),COLUMN(SP_PIANO!H$4),,,\"CE_PIANO\")),IF(ISERROR(VLOOKUP($A112,Attivita_Passivita!$B$6:$Q$105,COLUMN(Attivita_Passivita!O$4)-1,FALSE)),0,VLOOKUP($A112,Attivita_Passivita!$B$6:$Q$105,COLUMN(Attivita_Passivita!O$4)-1,FALSE))))))","v":""}]
[{"$f":"IF(SP_STORICO!A113=\"\",\"\",SP_STORICO!A113)","v":""},{"$f":"IF($A113=\"\",\"\",VLOOKUP(A113,SCHEMA_SP!$E$5:$F$54,2,FALSE))","v":""},{"$f":"IF(SP_STORICO!A113=\"\",\"\",SP_STORICO!B113)","v":""},{"$f":"IF(SP_STORICO!C113=\"\",\"\",SP_STORICO!C113)","v":""},{"$f":"IF(SP_STORICO!D113=\"\",\"\",SP_STORICO!D113)","v":""},{"$f":"IF($A113=\"\",\"\",IF(F$4=\"\",\"\",IF(OR($B113=\"X\", $B113=\"I\"),INDIRECT(ADDRESS(IF($B113=\"X\",12,13),MATCH(SP_PIANO!F$4,BASE!$B$2:$F$2,0)+1,,,\"BASE\")),IF($B113=\"U\",-INDIRECT(ADDRESS(4+MATCH(\"U\",CE_PIANO!$B$5:$B$206,0),COLUMN(SP_PIANO!F$4),,,\"CE_PIANO\")),IF(ISERROR(VLOOKUP($A113,Attivita_Passivita!$B$6:$Q$105,COLUMN(Attivita_Passivita!M$4)-1,FALSE)),0,VLOOKUP($A113,Attivita_Passivita!$B$6:$Q$105,COLUMN(Attivita_Passivita!M$4)-1,FALSE))))))","v":""},{"$f":"IF($A113=\"\",\"\",IF(G$4=\"\",\"\",IF(OR($B113=\"X\", $B113=\"I\"),INDIRECT(ADDRESS(IF($B113=\"X\",12,13),MATCH(SP_PIANO!G$4,BASE!$B$2:$F$2,0)+1,,,\"BASE\")),IF($B113=\"U\",-INDIRECT(ADDRESS(4+MATCH(\"U\",CE_PIANO!$B$5:$B$206,0),COLUMN(SP_PIANO!G$4),,,\"CE_PIANO\")),IF(ISERROR(VLOOKUP($A113,Attivita_Passivita!$B$6:$Q$105,COLUMN(Attivita_Passivita!N$4)-1,FALSE)),0,VLOOKUP($A113,Attivita_Passivita!$B$6:$Q$105,COLUMN(Attivita_Passivita!N$4)-1,FALSE))))))","v":""},{"$f":"IF($A113=\"\",\"\",IF(H$4=\"\",\"\",IF(OR($B113=\"X\", $B113=\"I\"),INDIRECT(ADDRESS(IF($B113=\"X\",12,13),MATCH(SP_PIANO!H$4,BASE!$B$2:$F$2,0)+1,,,\"BASE\")),IF($B113=\"U\",-INDIRECT(ADDRESS(4+MATCH(\"U\",CE_PIANO!$B$5:$B$206,0),COLUMN(SP_PIANO!H$4),,,\"CE_PIANO\")),IF(ISERROR(VLOOKUP($A113,Attivita_Passivita!$B$6:$Q$105,COLUMN(Attivita_Passivita!O$4)-1,FALSE)),0,VLOOKUP($A113,Attivita_Passivita!$B$6:$Q$105,COLUMN(Attivita_Passivita!O$4)-1,FALSE))))))","v":""}]
[{"$f":"IF(SP_STORICO!A114=\"\",\"\",SP_STORICO!A114)","v":""},{"$f":"IF($A114=\"\",\"\",VLOOKUP(A114,SCHEMA_SP!$E$5:$F$54,2,FALSE))","v":""},{"$f":"IF(SP_STORICO!A114=\"\",\"\",SP_STORICO!B114)","v":""},{"$f":"IF(SP_STORICO!C114=\"\",\"\",SP_STORICO!C114)","v":""},{"$f":"IF(SP_STORICO!D114=\"\",\"\",SP_STORICO!D114)","v":""},{"$f":"IF($A114=\"\",\"\",IF(F$4=\"\",\"\",IF(OR($B114=\"X\", $B114=\"I\"),INDIRECT(ADDRESS(IF($B114=\"X\",12,13),MATCH(SP_PIANO!F$4,BASE!$B$2:$F$2,0)+1,,,\"BASE\")),IF($B114=\"U\",-INDIRECT(ADDRESS(4+MATCH(\"U\",CE_PIANO!$B$5:$B$206,0),COLUMN(SP_PIANO!F$4),,,\"CE_PIANO\")),IF(ISERROR(VLOOKUP($A114,Attivita_Passivita!$B$6:$Q$105,COLUMN(Attivita_Passivita!M$4)-1,FALSE)),0,VLOOKUP($A114,Attivita_Passivita!$B$6:$Q$105,COLUMN(Attivita_Passivita!M$4)-1,FALSE))))))","v":""},{"$f":"IF($A114=\"\",\"\",IF(G$4=\"\",\"\",IF(OR($B114=\"X\", $B114=\"I\"),INDIRECT(ADDRESS(IF($B114=\"X\",12,13),MATCH(SP_PIANO!G$4,BASE!$B$2:$F$2,0)+1,,,\"BASE\")),IF($B114=\"U\",-INDIRECT(ADDRESS(4+MATCH(\"U\",CE_PIANO!$B$5:$B$206,0),COLUMN(SP_PIANO!G$4),,,\"CE_PIANO\")),IF(ISERROR(VLOOKUP($A114,Attivita_Passivita!$B$6:$Q$105,COLUMN(Attivita_Passivita!N$4)-1,FALSE)),0,VLOOKUP($A114,Attivita_Passivita!$B$6:$Q$105,COLUMN(Attivita_Passivita!N$4)-1,FALSE))))))","v":""},{"$f":"IF($A114=\"\",\"\",IF(H$4=\"\",\"\",IF(OR($B114=\"X\", $B114=\"I\"),INDIRECT(ADDRESS(IF($B114=\"X\",12,13),MATCH(SP_PIANO!H$4,BASE!$B$2:$F$2,0)+1,,,\"BASE\")),IF($B114=\"U\",-INDIRECT(ADDRESS(4+MATCH(\"U\",CE_PIANO!$B$5:$B$206,0),COLUMN(SP_PIANO!H$4),,,\"CE_PIANO\")),IF(ISERROR(VLOOKUP($A114,Attivita_Passivita!$B$6:$Q$105,COLUMN(Attivita_Passivita!O$4)-1,FALSE)),0,VLOOKUP($A114,Attivita_Passivita!$B$6:$Q$105,COLUMN(Attivita_Passivita!O$4)-1,FALSE))))))","v":""}]
[{"$f":"IF(SP_STORICO!A115=\"\",\"\",SP_STORICO!A115)","v":""},{"$f":"IF($A115=\"\",\"\",VLOOKUP(A115,SCHEMA_SP!$E$5:$F$54,2,FALSE))","v":""},{"$f":"IF(SP_STORICO!A115=\"\",\"\",SP_STORICO!B115)","v":""},{"$f":"IF(SP_STORICO!C115=\"\",\"\",SP_STORICO!C115)","v":""},{"$f":"IF(SP_STORICO!D115=\"\",\"\",SP_STORICO!D115)","v":""},{"$f":"IF($A115=\"\",\"\",IF(F$4=\"\",\"\",IF(OR($B115=\"X\", $B115=\"I\"),INDIRECT(ADDRESS(IF($B115=\"X\",12,13),MATCH(SP_PIANO!F$4,BASE!$B$2:$F$2,0)+1,,,\"BASE\")),IF($B115=\"U\",-INDIRECT(ADDRESS(4+MATCH(\"U\",CE_PIANO!$B$5:$B$206,0),COLUMN(SP_PIANO!F$4),,,\"CE_PIANO\")),IF(ISERROR(VLOOKUP($A115,Attivita_Passivita!$B$6:$Q$105,COLUMN(Attivita_Passivita!M$4)-1,FALSE)),0,VLOOKUP($A115,Attivita_Passivita!$B$6:$Q$105,COLUMN(Attivita_Passivita!M$4)-1,FALSE))))))","v":""},{"$f":"IF($A115=\"\",\"\",IF(G$4=\"\",\"\",IF(OR($B115=\"X\", $B115=\"I\"),INDIRECT(ADDRESS(IF($B115=\"X\",12,13),MATCH(SP_PIANO!G$4,BASE!$B$2:$F$2,0)+1,,,\"BASE\")),IF($B115=\"U\",-INDIRECT(ADDRESS(4+MATCH(\"U\",CE_PIANO!$B$5:$B$206,0),COLUMN(SP_PIANO!G$4),,,\"CE_PIANO\")),IF(ISERROR(VLOOKUP($A115,Attivita_Passivita!$B$6:$Q$105,COLUMN(Attivita_Passivita!N$4)-1,FALSE)),0,VLOOKUP($A115,Attivita_Passivita!$B$6:$Q$105,COLUMN(Attivita_Passivita!N$4)-1,FALSE))))))","v":""},{"$f":"IF($A115=\"\",\"\",IF(H$4=\"\",\"\",IF(OR($B115=\"X\", $B115=\"I\"),INDIRECT(ADDRESS(IF($B115=\"X\",12,13),MATCH(SP_PIANO!H$4,BASE!$B$2:$F$2,0)+1,,,\"BASE\")),IF($B115=\"U\",-INDIRECT(ADDRESS(4+MATCH(\"U\",CE_PIANO!$B$5:$B$206,0),COLUMN(SP_PIANO!H$4),,,\"CE_PIANO\")),IF(ISERROR(VLOOKUP($A115,Attivita_Passivita!$B$6:$Q$105,COLUMN(Attivita_Passivita!O$4)-1,FALSE)),0,VLOOKUP($A115,Attivita_Passivita!$B$6:$Q$105,COLUMN(Attivita_Passivita!O$4)-1,FALSE))))))","v":""}]
[{"$f":"IF(SP_STORICO!A116=\"\",\"\",SP_STORICO!A116)","v":""},{"$f":"IF($A116=\"\",\"\",VLOOKUP(A116,SCHEMA_SP!$E$5:$F$54,2,FALSE))","v":""},{"$f":"IF(SP_STORICO!A116=\"\",\"\",SP_STORICO!B116)","v":""},{"$f":"IF(SP_STORICO!C116=\"\",\"\",SP_STORICO!C116)","v":""},{"$f":"IF(SP_STORICO!D116=\"\",\"\",SP_STORICO!D116)","v":""},{"$f":"IF($A116=\"\",\"\",IF(F$4=\"\",\"\",IF(OR($B116=\"X\", $B116=\"I\"),INDIRECT(ADDRESS(IF($B116=\"X\",12,13),MATCH(SP_PIANO!F$4,BASE!$B$2:$F$2,0)+1,,,\"BASE\")),IF($B116=\"U\",-INDIRECT(ADDRESS(4+MATCH(\"U\",CE_PIANO!$B$5:$B$206,0),COLUMN(SP_PIANO!F$4),,,\"CE_PIANO\")),IF(ISERROR(VLOOKUP($A116,Attivita_Passivita!$B$6:$Q$105,COLUMN(Attivita_Passivita!M$4)-1,FALSE)),0,VLOOKUP($A116,Attivita_Passivita!$B$6:$Q$105,COLUMN(Attivita_Passivita!M$4)-1,FALSE))))))","v":""},{"$f":"IF($A116=\"\",\"\",IF(G$4=\"\",\"\",IF(OR($B116=\"X\", $B116=\"I\"),INDIRECT(ADDRESS(IF($B116=\"X\",12,13),MATCH(SP_PIANO!G$4,BASE!$B$2:$F$2,0)+1,,,\"BASE\")),IF($B116=\"U\",-INDIRECT(ADDRESS(4+MATCH(\"U\",CE_PIANO!$B$5:$B$206,0),COLUMN(SP_PIANO!G$4),,,\"CE_PIANO\")),IF(ISERROR(VLOOKUP($A116,Attivita_Passivita!$B$6:$Q$105,COLUMN(Attivita_Passivita!N$4)-1,FALSE)),0,VLOOKUP($A116,Attivita_Passivita!$B$6:$Q$105,COLUMN(Attivita_Passivita!N$4)-1,FALSE))))))","v":""},{"$f":"IF($A116=\"\",\"\",IF(H$4=\"\",\"\",IF(OR($B116=\"X\", $B116=\"I\"),INDIRECT(ADDRESS(IF($B116=\"X\",12,13),MATCH(SP_PIANO!H$4,BASE!$B$2:$F$2,0)+1,,,\"BASE\")),IF($B116=\"U\",-INDIRECT(ADDRESS(4+MATCH(\"U\",CE_PIANO!$B$5:$B$206,0),COLUMN(SP_PIANO!H$4),,,\"CE_PIANO\")),IF(ISERROR(VLOOKUP($A116,Attivita_Passivita!$B$6:$Q$105,COLUMN(Attivita_Passivita!O$4)-1,FALSE)),0,VLOOKUP($A116,Attivita_Passivita!$B$6:$Q$105,COLUMN(Attivita_Passivita!O$4)-1,FALSE))))))","v":""}]
[{"$f":"IF(SP_STORICO!A117=\"\",\"\",SP_STORICO!A117)","v":""},{"$f":"IF($A117=\"\",\"\",VLOOKUP(A117,SCHEMA_SP!$E$5:$F$54,2,FALSE))","v":""},{"$f":"IF(SP_STORICO!A117=\"\",\"\",SP_STORICO!B117)","v":""},{"$f":"IF(SP_STORICO!C117=\"\",\"\",SP_STORICO!C117)","v":""},{"$f":"IF(SP_STORICO!D117=\"\",\"\",SP_STORICO!D117)","v":""},{"$f":"IF($A117=\"\",\"\",IF(F$4=\"\",\"\",IF(OR($B117=\"X\", $B117=\"I\"),INDIRECT(ADDRESS(IF($B117=\"X\",12,13),MATCH(SP_PIANO!F$4,BASE!$B$2:$F$2,0)+1,,,\"BASE\")),IF($B117=\"U\",-INDIRECT(ADDRESS(4+MATCH(\"U\",CE_PIANO!$B$5:$B$206,0),COLUMN(SP_PIANO!F$4),,,\"CE_PIANO\")),IF(ISERROR(VLOOKUP($A117,Attivita_Passivita!$B$6:$Q$105,COLUMN(Attivita_Passivita!M$4)-1,FALSE)),0,VLOOKUP($A117,Attivita_Passivita!$B$6:$Q$105,COLUMN(Attivita_Passivita!M$4)-1,FALSE))))))","v":""},{"$f":"IF($A117=\"\",\"\",IF(G$4=\"\",\"\",IF(OR($B117=\"X\", $B117=\"I\"),INDIRECT(ADDRESS(IF($B117=\"X\",12,13),MATCH(SP_PIANO!G$4,BASE!$B$2:$F$2,0)+1,,,\"BASE\")),IF($B117=\"U\",-INDIRECT(ADDRESS(4+MATCH(\"U\",CE_PIANO!$B$5:$B$206,0),COLUMN(SP_PIANO!G$4),,,\"CE_PIANO\")),IF(ISERROR(VLOOKUP($A117,Attivita_Passivita!$B$6:$Q$105,COLUMN(Attivita_Passivita!N$4)-1,FALSE)),0,VLOOKUP($A117,Attivita_Passivita!$B$6:$Q$105,COLUMN(Attivita_Passivita!N$4)-1,FALSE))))))","v":""},{"$f":"IF($A117=\"\",\"\",IF(H$4=\"\",\"\",IF(OR($B117=\"X\", $B117=\"I\"),INDIRECT(ADDRESS(IF($B117=\"X\",12,13),MATCH(SP_PIANO!H$4,BASE!$B$2:$F$2,0)+1,,,\"BASE\")),IF($B117=\"U\",-INDIRECT(ADDRESS(4+MATCH(\"U\",CE_PIANO!$B$5:$B$206,0),COLUMN(SP_PIANO!H$4),,,\"CE_PIANO\")),IF(ISERROR(VLOOKUP($A117,Attivita_Passivita!$B$6:$Q$105,COLUMN(Attivita_Passivita!O$4)-1,FALSE)),0,VLOOKUP($A117,Attivita_Passivita!$B$6:$Q$105,COLUMN(Attivita_Passivita!O$4)-1,FALSE))))))","v":""}]
[{"$f":"IF(SP_STORICO!A118=\"\",\"\",SP_STORICO!A118)","v":""},{"$f":"IF($A118=\"\",\"\",VLOOKUP(A118,SCHEMA_SP!$E$5:$F$54,2,FALSE))","v":""},{"$f":"IF(SP_STORICO!A118=\"\",\"\",SP_STORICO!B118)","v":""},{"$f":"IF(SP_STORICO!C118=\"\",\"\",SP_STORICO!C118)","v":""},{"$f":"IF(SP_STORICO!D118=\"\",\"\",SP_STORICO!D118)","v":""},{"$f":"IF($A118=\"\",\"\",IF(F$4=\"\",\"\",IF(OR($B118=\"X\", $B118=\"I\"),INDIRECT(ADDRESS(IF($B118=\"X\",12,13),MATCH(SP_PIANO!F$4,BASE!$B$2:$F$2,0)+1,,,\"BASE\")),IF($B118=\"U\",-INDIRECT(ADDRESS(4+MATCH(\"U\",CE_PIANO!$B$5:$B$206,0),COLUMN(SP_PIANO!F$4),,,\"CE_PIANO\")),IF(ISERROR(VLOOKUP($A118,Attivita_Passivita!$B$6:$Q$105,COLUMN(Attivita_Passivita!M$4)-1,FALSE)),0,VLOOKUP($A118,Attivita_Passivita!$B$6:$Q$105,COLUMN(Attivita_Passivita!M$4)-1,FALSE))))))","v":""},{"$f":"IF($A118=\"\",\"\",IF(G$4=\"\",\"\",IF(OR($B118=\"X\", $B118=\"I\"),INDIRECT(ADDRESS(IF($B118=\"X\",12,13),MATCH(SP_PIANO!G$4,BASE!$B$2:$F$2,0)+1,,,\"BASE\")),IF($B118=\"U\",-INDIRECT(ADDRESS(4+MATCH(\"U\",CE_PIANO!$B$5:$B$206,0),COLUMN(SP_PIANO!G$4),,,\"CE_PIANO\")),IF(ISERROR(VLOOKUP($A118,Attivita_Passivita!$B$6:$Q$105,COLUMN(Attivita_Passivita!N$4)-1,FALSE)),0,VLOOKUP($A118,Attivita_Passivita!$B$6:$Q$105,COLUMN(Attivita_Passivita!N$4)-1,FALSE))))))","v":""},{"$f":"IF($A118=\"\",\"\",IF(H$4=\"\",\"\",IF(OR($B118=\"X\", $B118=\"I\"),INDIRECT(ADDRESS(IF($B118=\"X\",12,13),MATCH(SP_PIANO!H$4,BASE!$B$2:$F$2,0)+1,,,\"BASE\")),IF($B118=\"U\",-INDIRECT(ADDRESS(4+MATCH(\"U\",CE_PIANO!$B$5:$B$206,0),COLUMN(SP_PIANO!H$4),,,\"CE_PIANO\")),IF(ISERROR(VLOOKUP($A118,Attivita_Passivita!$B$6:$Q$105,COLUMN(Attivita_Passivita!O$4)-1,FALSE)),0,VLOOKUP($A118,Attivita_Passivita!$B$6:$Q$105,COLUMN(Attivita_Passivita!O$4)-1,FALSE))))))","v":""}]
[{"$f":"IF(SP_STORICO!A119=\"\",\"\",SP_STORICO!A119)","v":""},{"$f":"IF($A119=\"\",\"\",VLOOKUP(A119,SCHEMA_SP!$E$5:$F$54,2,FALSE))","v":""},{"$f":"IF(SP_STORICO!A119=\"\",\"\",SP_STORICO!B119)","v":""},{"$f":"IF(SP_STORICO!C119=\"\",\"\",SP_STORICO!C119)","v":""},{"$f":"IF(SP_STORICO!D119=\"\",\"\",SP_STORICO!D119)","v":""},{"$f":"IF($A119=\"\",\"\",IF(F$4=\"\",\"\",IF(OR($B119=\"X\", $B119=\"I\"),INDIRECT(ADDRESS(IF($B119=\"X\",12,13),MATCH(SP_PIANO!F$4,BASE!$B$2:$F$2,0)+1,,,\"BASE\")),IF($B119=\"U\",-INDIRECT(ADDRESS(4+MATCH(\"U\",CE_PIANO!$B$5:$B$206,0),COLUMN(SP_PIANO!F$4),,,\"CE_PIANO\")),IF(ISERROR(VLOOKUP($A119,Attivita_Passivita!$B$6:$Q$105,COLUMN(Attivita_Passivita!M$4)-1,FALSE)),0,VLOOKUP($A119,Attivita_Passivita!$B$6:$Q$105,COLUMN(Attivita_Passivita!M$4)-1,FALSE))))))","v":""},{"$f":"IF($A119=\"\",\"\",IF(G$4=\"\",\"\",IF(OR($B119=\"X\", $B119=\"I\"),INDIRECT(ADDRESS(IF($B119=\"X\",12,13),MATCH(SP_PIANO!G$4,BASE!$B$2:$F$2,0)+1,,,\"BASE\")),IF($B119=\"U\",-INDIRECT(ADDRESS(4+MATCH(\"U\",CE_PIANO!$B$5:$B$206,0),COLUMN(SP_PIANO!G$4),,,\"CE_PIANO\")),IF(ISERROR(VLOOKUP($A119,Attivita_Passivita!$B$6:$Q$105,COLUMN(Attivita_Passivita!N$4)-1,FALSE)),0,VLOOKUP($A119,Attivita_Passivita!$B$6:$Q$105,COLUMN(Attivita_Passivita!N$4)-1,FALSE))))))","v":""},{"$f":"IF($A119=\"\",\"\",IF(H$4=\"\",\"\",IF(OR($B119=\"X\", $B119=\"I\"),INDIRECT(ADDRESS(IF($B119=\"X\",12,13),MATCH(SP_PIANO!H$4,BASE!$B$2:$F$2,0)+1,,,\"BASE\")),IF($B119=\"U\",-INDIRECT(ADDRESS(4+MATCH(\"U\",CE_PIANO!$B$5:$B$206,0),COLUMN(SP_PIANO!H$4),,,\"CE_PIANO\")),IF(ISERROR(VLOOKUP($A119,Attivita_Passivita!$B$6:$Q$105,COLUMN(Attivita_Passivita!O$4)-1,FALSE)),0,VLOOKUP($A119,Attivita_Passivita!$B$6:$Q$105,COLUMN(Attivita_Passivita!O$4)-1,FALSE))))))","v":""}]
[{"$f":"IF(SP_STORICO!A120=\"\",\"\",SP_STORICO!A120)","v":""},{"$f":"IF($A120=\"\",\"\",VLOOKUP(A120,SCHEMA_SP!$E$5:$F$54,2,FALSE))","v":""},{"$f":"IF(SP_STORICO!A120=\"\",\"\",SP_STORICO!B120)","v":""},{"$f":"IF(SP_STORICO!C120=\"\",\"\",SP_STORICO!C120)","v":""},{"$f":"IF(SP_STORICO!D120=\"\",\"\",SP_STORICO!D120)","v":""},{"$f":"IF($A120=\"\",\"\",IF(F$4=\"\",\"\",IF(OR($B120=\"X\", $B120=\"I\"),INDIRECT(ADDRESS(IF($B120=\"X\",12,13),MATCH(SP_PIANO!F$4,BASE!$B$2:$F$2,0)+1,,,\"BASE\")),IF($B120=\"U\",-INDIRECT(ADDRESS(4+MATCH(\"U\",CE_PIANO!$B$5:$B$206,0),COLUMN(SP_PIANO!F$4),,,\"CE_PIANO\")),IF(ISERROR(VLOOKUP($A120,Attivita_Passivita!$B$6:$Q$105,COLUMN(Attivita_Passivita!M$4)-1,FALSE)),0,VLOOKUP($A120,Attivita_Passivita!$B$6:$Q$105,COLUMN(Attivita_Passivita!M$4)-1,FALSE))))))","v":""},{"$f":"IF($A120=\"\",\"\",IF(G$4=\"\",\"\",IF(OR($B120=\"X\", $B120=\"I\"),INDIRECT(ADDRESS(IF($B120=\"X\",12,13),MATCH(SP_PIANO!G$4,BASE!$B$2:$F$2,0)+1,,,\"BASE\")),IF($B120=\"U\",-INDIRECT(ADDRESS(4+MATCH(\"U\",CE_PIANO!$B$5:$B$206,0),COLUMN(SP_PIANO!G$4),,,\"CE_PIANO\")),IF(ISERROR(VLOOKUP($A120,Attivita_Passivita!$B$6:$Q$105,COLUMN(Attivita_Passivita!N$4)-1,FALSE)),0,VLOOKUP($A120,Attivita_Passivita!$B$6:$Q$105,COLUMN(Attivita_Passivita!N$4)-1,FALSE))))))","v":""},{"$f":"IF($A120=\"\",\"\",IF(H$4=\"\",\"\",IF(OR($B120=\"X\", $B120=\"I\"),INDIRECT(ADDRESS(IF($B120=\"X\",12,13),MATCH(SP_PIANO!H$4,BASE!$B$2:$F$2,0)+1,,,\"BASE\")),IF($B120=\"U\",-INDIRECT(ADDRESS(4+MATCH(\"U\",CE_PIANO!$B$5:$B$206,0),COLUMN(SP_PIANO!H$4),,,\"CE_PIANO\")),IF(ISERROR(VLOOKUP($A120,Attivita_Passivita!$B$6:$Q$105,COLUMN(Attivita_Passivita!O$4)-1,FALSE)),0,VLOOKUP($A120,Attivita_Passivita!$B$6:$Q$105,COLUMN(Attivita_Passivita!O$4)-1,FALSE))))))","v":""}]
[{"$f":"IF(SP_STORICO!A121=\"\",\"\",SP_STORICO!A121)","v":""},{"$f":"IF($A121=\"\",\"\",VLOOKUP(A121,SCHEMA_SP!$E$5:$F$54,2,FALSE))","v":""},{"$f":"IF(SP_STORICO!A121=\"\",\"\",SP_STORICO!B121)","v":""},{"$f":"IF(SP_STORICO!C121=\"\",\"\",SP_STORICO!C121)","v":""},{"$f":"IF(SP_STORICO!D121=\"\",\"\",SP_STORICO!D121)","v":""},{"$f":"IF($A121=\"\",\"\",IF(F$4=\"\",\"\",IF(OR($B121=\"X\", $B121=\"I\"),INDIRECT(ADDRESS(IF($B121=\"X\",12,13),MATCH(SP_PIANO!F$4,BASE!$B$2:$F$2,0)+1,,,\"BASE\")),IF($B121=\"U\",-INDIRECT(ADDRESS(4+MATCH(\"U\",CE_PIANO!$B$5:$B$206,0),COLUMN(SP_PIANO!F$4),,,\"CE_PIANO\")),IF(ISERROR(VLOOKUP($A121,Attivita_Passivita!$B$6:$Q$105,COLUMN(Attivita_Passivita!M$4)-1,FALSE)),0,VLOOKUP($A121,Attivita_Passivita!$B$6:$Q$105,COLUMN(Attivita_Passivita!M$4)-1,FALSE))))))","v":""},{"$f":"IF($A121=\"\",\"\",IF(G$4=\"\",\"\",IF(OR($B121=\"X\", $B121=\"I\"),INDIRECT(ADDRESS(IF($B121=\"X\",12,13),MATCH(SP_PIANO!G$4,BASE!$B$2:$F$2,0)+1,,,\"BASE\")),IF($B121=\"U\",-INDIRECT(ADDRESS(4+MATCH(\"U\",CE_PIANO!$B$5:$B$206,0),COLUMN(SP_PIANO!G$4),,,\"CE_PIANO\")),IF(ISERROR(VLOOKUP($A121,Attivita_Passivita!$B$6:$Q$105,COLUMN(Attivita_Passivita!N$4)-1,FALSE)),0,VLOOKUP($A121,Attivita_Passivita!$B$6:$Q$105,COLUMN(Attivita_Passivita!N$4)-1,FALSE))))))","v":""},{"$f":"IF($A121=\"\",\"\",IF(H$4=\"\",\"\",IF(OR($B121=\"X\", $B121=\"I\"),INDIRECT(ADDRESS(IF($B121=\"X\",12,13),MATCH(SP_PIANO!H$4,BASE!$B$2:$F$2,0)+1,,,\"BASE\")),IF($B121=\"U\",-INDIRECT(ADDRESS(4+MATCH(\"U\",CE_PIANO!$B$5:$B$206,0),COLUMN(SP_PIANO!H$4),,,\"CE_PIANO\")),IF(ISERROR(VLOOKUP($A121,Attivita_Passivita!$B$6:$Q$105,COLUMN(Attivita_Passivita!O$4)-1,FALSE)),0,VLOOKUP($A121,Attivita_Passivita!$B$6:$Q$105,COLUMN(Attivita_Passivita!O$4)-1,FALSE))))))","v":""}]
[{"$f":"IF(SP_STORICO!A122=\"\",\"\",SP_STORICO!A122)","v":""},{"$f":"IF($A122=\"\",\"\",VLOOKUP(A122,SCHEMA_SP!$E$5:$F$54,2,FALSE))","v":""},{"$f":"IF(SP_STORICO!A122=\"\",\"\",SP_STORICO!B122)","v":""},{"$f":"IF(SP_STORICO!C122=\"\",\"\",SP_STORICO!C122)","v":""},{"$f":"IF(SP_STORICO!D122=\"\",\"\",SP_STORICO!D122)","v":""},{"$f":"IF($A122=\"\",\"\",IF(F$4=\"\",\"\",IF(OR($B122=\"X\", $B122=\"I\"),INDIRECT(ADDRESS(IF($B122=\"X\",12,13),MATCH(SP_PIANO!F$4,BASE!$B$2:$F$2,0)+1,,,\"BASE\")),IF($B122=\"U\",-INDIRECT(ADDRESS(4+MATCH(\"U\",CE_PIANO!$B$5:$B$206,0),COLUMN(SP_PIANO!F$4),,,\"CE_PIANO\")),IF(ISERROR(VLOOKUP($A122,Attivita_Passivita!$B$6:$Q$105,COLUMN(Attivita_Passivita!M$4)-1,FALSE)),0,VLOOKUP($A122,Attivita_Passivita!$B$6:$Q$105,COLUMN(Attivita_Passivita!M$4)-1,FALSE))))))","v":""},{"$f":"IF($A122=\"\",\"\",IF(G$4=\"\",\"\",IF(OR($B122=\"X\", $B122=\"I\"),INDIRECT(ADDRESS(IF($B122=\"X\",12,13),MATCH(SP_PIANO!G$4,BASE!$B$2:$F$2,0)+1,,,\"BASE\")),IF($B122=\"U\",-INDIRECT(ADDRESS(4+MATCH(\"U\",CE_PIANO!$B$5:$B$206,0),COLUMN(SP_PIANO!G$4),,,\"CE_PIANO\")),IF(ISERROR(VLOOKUP($A122,Attivita_Passivita!$B$6:$Q$105,COLUMN(Attivita_Passivita!N$4)-1,FALSE)),0,VLOOKUP($A122,Attivita_Passivita!$B$6:$Q$105,COLUMN(Attivita_Passivita!N$4)-1,FALSE))))))","v":""},{"$f":"IF($A122=\"\",\"\",IF(H$4=\"\",\"\",IF(OR($B122=\"X\", $B122=\"I\"),INDIRECT(ADDRESS(IF($B122=\"X\",12,13),MATCH(SP_PIANO!H$4,BASE!$B$2:$F$2,0)+1,,,\"BASE\")),IF($B122=\"U\",-INDIRECT(ADDRESS(4+MATCH(\"U\",CE_PIANO!$B$5:$B$206,0),COLUMN(SP_PIANO!H$4),,,\"CE_PIANO\")),IF(ISERROR(VLOOKUP($A122,Attivita_Passivita!$B$6:$Q$105,COLUMN(Attivita_Passivita!O$4)-1,FALSE)),0,VLOOKUP($A122,Attivita_Passivita!$B$6:$Q$105,COLUMN(Attivita_Passivita!O$4)-1,FALSE))))))","v":""}]
[{"$f":"IF(SP_STORICO!A123=\"\",\"\",SP_STORICO!A123)","v":""},{"$f":"IF($A123=\"\",\"\",VLOOKUP(A123,SCHEMA_SP!$E$5:$F$54,2,FALSE))","v":""},{"$f":"IF(SP_STORICO!A123=\"\",\"\",SP_STORICO!B123)","v":""},{"$f":"IF(SP_STORICO!C123=\"\",\"\",SP_STORICO!C123)","v":""},{"$f":"IF(SP_STORICO!D123=\"\",\"\",SP_STORICO!D123)","v":""},{"$f":"IF($A123=\"\",\"\",IF(F$4=\"\",\"\",IF(OR($B123=\"X\", $B123=\"I\"),INDIRECT(ADDRESS(IF($B123=\"X\",12,13),MATCH(SP_PIANO!F$4,BASE!$B$2:$F$2,0)+1,,,\"BASE\")),IF($B123=\"U\",-INDIRECT(ADDRESS(4+MATCH(\"U\",CE_PIANO!$B$5:$B$206,0),COLUMN(SP_PIANO!F$4),,,\"CE_PIANO\")),IF(ISERROR(VLOOKUP($A123,Attivita_Passivita!$B$6:$Q$105,COLUMN(Attivita_Passivita!M$4)-1,FALSE)),0,VLOOKUP($A123,Attivita_Passivita!$B$6:$Q$105,COLUMN(Attivita_Passivita!M$4)-1,FALSE))))))","v":""},{"$f":"IF($A123=\"\",\"\",IF(G$4=\"\",\"\",IF(OR($B123=\"X\", $B123=\"I\"),INDIRECT(ADDRESS(IF($B123=\"X\",12,13),MATCH(SP_PIANO!G$4,BASE!$B$2:$F$2,0)+1,,,\"BASE\")),IF($B123=\"U\",-INDIRECT(ADDRESS(4+MATCH(\"U\",CE_PIANO!$B$5:$B$206,0),COLUMN(SP_PIANO!G$4),,,\"CE_PIANO\")),IF(ISERROR(VLOOKUP($A123,Attivita_Passivita!$B$6:$Q$105,COLUMN(Attivita_Passivita!N$4)-1,FALSE)),0,VLOOKUP($A123,Attivita_Passivita!$B$6:$Q$105,COLUMN(Attivita_Passivita!N$4)-1,FALSE))))))","v":""},{"$f":"IF($A123=\"\",\"\",IF(H$4=\"\",\"\",IF(OR($B123=\"X\", $B123=\"I\"),INDIRECT(ADDRESS(IF($B123=\"X\",12,13),MATCH(SP_PIANO!H$4,BASE!$B$2:$F$2,0)+1,,,\"BASE\")),IF($B123=\"U\",-INDIRECT(ADDRESS(4+MATCH(\"U\",CE_PIANO!$B$5:$B$206,0),COLUMN(SP_PIANO!H$4),,,\"CE_PIANO\")),IF(ISERROR(VLOOKUP($A123,Attivita_Passivita!$B$6:$Q$105,COLUMN(Attivita_Passivita!O$4)-1,FALSE)),0,VLOOKUP($A123,Attivita_Passivita!$B$6:$Q$105,COLUMN(Attivita_Passivita!O$4)-1,FALSE))))))","v":""}]
[{"$f":"IF(SP_STORICO!A124=\"\",\"\",SP_STORICO!A124)","v":""},{"$f":"IF($A124=\"\",\"\",VLOOKUP(A124,SCHEMA_SP!$E$5:$F$54,2,FALSE))","v":""},{"$f":"IF(SP_STORICO!A124=\"\",\"\",SP_STORICO!B124)","v":""},{"$f":"IF(SP_STORICO!C124=\"\",\"\",SP_STORICO!C124)","v":""},{"$f":"IF(SP_STORICO!D124=\"\",\"\",SP_STORICO!D124)","v":""},{"$f":"IF($A124=\"\",\"\",IF(F$4=\"\",\"\",IF(OR($B124=\"X\", $B124=\"I\"),INDIRECT(ADDRESS(IF($B124=\"X\",12,13),MATCH(SP_PIANO!F$4,BASE!$B$2:$F$2,0)+1,,,\"BASE\")),IF($B124=\"U\",-INDIRECT(ADDRESS(4+MATCH(\"U\",CE_PIANO!$B$5:$B$206,0),COLUMN(SP_PIANO!F$4),,,\"CE_PIANO\")),IF(ISERROR(VLOOKUP($A124,Attivita_Passivita!$B$6:$Q$105,COLUMN(Attivita_Passivita!M$4)-1,FALSE)),0,VLOOKUP($A124,Attivita_Passivita!$B$6:$Q$105,COLUMN(Attivita_Passivita!M$4)-1,FALSE))))))","v":""},{"$f":"IF($A124=\"\",\"\",IF(G$4=\"\",\"\",IF(OR($B124=\"X\", $B124=\"I\"),INDIRECT(ADDRESS(IF($B124=\"X\",12,13),MATCH(SP_PIANO!G$4,BASE!$B$2:$F$2,0)+1,,,\"BASE\")),IF($B124=\"U\",-INDIRECT(ADDRESS(4+MATCH(\"U\",CE_PIANO!$B$5:$B$206,0),COLUMN(SP_PIANO!G$4),,,\"CE_PIANO\")),IF(ISERROR(VLOOKUP($A124,Attivita_Passivita!$B$6:$Q$105,COLUMN(Attivita_Passivita!N$4)-1,FALSE)),0,VLOOKUP($A124,Attivita_Passivita!$B$6:$Q$105,COLUMN(Attivita_Passivita!N$4)-1,FALSE))))))","v":""},{"$f":"IF($A124=\"\",\"\",IF(H$4=\"\",\"\",IF(OR($B124=\"X\", $B124=\"I\"),INDIRECT(ADDRESS(IF($B124=\"X\",12,13),MATCH(SP_PIANO!H$4,BASE!$B$2:$F$2,0)+1,,,\"BASE\")),IF($B124=\"U\",-INDIRECT(ADDRESS(4+MATCH(\"U\",CE_PIANO!$B$5:$B$206,0),COLUMN(SP_PIANO!H$4),,,\"CE_PIANO\")),IF(ISERROR(VLOOKUP($A124,Attivita_Passivita!$B$6:$Q$105,COLUMN(Attivita_Passivita!O$4)-1,FALSE)),0,VLOOKUP($A124,Attivita_Passivita!$B$6:$Q$105,COLUMN(Attivita_Passivita!O$4)-1,FALSE))))))","v":""}]
[{"$f":"IF(SP_STORICO!A125=\"\",\"\",SP_STORICO!A125)","v":""},{"$f":"IF($A125=\"\",\"\",VLOOKUP(A125,SCHEMA_SP!$E$5:$F$54,2,FALSE))","v":""},{"$f":"IF(SP_STORICO!A125=\"\",\"\",SP_STORICO!B125)","v":""},{"$f":"IF(SP_STORICO!C125=\"\",\"\",SP_STORICO!C125)","v":""},{"$f":"IF(SP_STORICO!D125=\"\",\"\",SP_STORICO!D125)","v":""},{"$f":"IF($A125=\"\",\"\",IF(F$4=\"\",\"\",IF(OR($B125=\"X\", $B125=\"I\"),INDIRECT(ADDRESS(IF($B125=\"X\",12,13),MATCH(SP_PIANO!F$4,BASE!$B$2:$F$2,0)+1,,,\"BASE\")),IF($B125=\"U\",-INDIRECT(ADDRESS(4+MATCH(\"U\",CE_PIANO!$B$5:$B$206,0),COLUMN(SP_PIANO!F$4),,,\"CE_PIANO\")),IF(ISERROR(VLOOKUP($A125,Attivita_Passivita!$B$6:$Q$105,COLUMN(Attivita_Passivita!M$4)-1,FALSE)),0,VLOOKUP($A125,Attivita_Passivita!$B$6:$Q$105,COLUMN(Attivita_Passivita!M$4)-1,FALSE))))))","v":""},{"$f":"IF($A125=\"\",\"\",IF(G$4=\"\",\"\",IF(OR($B125=\"X\", $B125=\"I\"),INDIRECT(ADDRESS(IF($B125=\"X\",12,13),MATCH(SP_PIANO!G$4,BASE!$B$2:$F$2,0)+1,,,\"BASE\")),IF($B125=\"U\",-INDIRECT(ADDRESS(4+MATCH(\"U\",CE_PIANO!$B$5:$B$206,0),COLUMN(SP_PIANO!G$4),,,\"CE_PIANO\")),IF(ISERROR(VLOOKUP($A125,Attivita_Passivita!$B$6:$Q$105,COLUMN(Attivita_Passivita!N$4)-1,FALSE)),0,VLOOKUP($A125,Attivita_Passivita!$B$6:$Q$105,COLUMN(Attivita_Passivita!N$4)-1,FALSE))))))","v":""},{"$f":"IF($A125=\"\",\"\",IF(H$4=\"\",\"\",IF(OR($B125=\"X\", $B125=\"I\"),INDIRECT(ADDRESS(IF($B125=\"X\",12,13),MATCH(SP_PIANO!H$4,BASE!$B$2:$F$2,0)+1,,,\"BASE\")),IF($B125=\"U\",-INDIRECT(ADDRESS(4+MATCH(\"U\",CE_PIANO!$B$5:$B$206,0),COLUMN(SP_PIANO!H$4),,,\"CE_PIANO\")),IF(ISERROR(VLOOKUP($A125,Attivita_Passivita!$B$6:$Q$105,COLUMN(Attivita_Passivita!O$4)-1,FALSE)),0,VLOOKUP($A125,Attivita_Passivita!$B$6:$Q$105,COLUMN(Attivita_Passivita!O$4)-1,FALSE))))))","v":""}]
[{"$f":"IF(SP_STORICO!A126=\"\",\"\",SP_STORICO!A126)","v":""},{"$f":"IF($A126=\"\",\"\",VLOOKUP(A126,SCHEMA_SP!$E$5:$F$54,2,FALSE))","v":""},{"$f":"IF(SP_STORICO!A126=\"\",\"\",SP_STORICO!B126)","v":""},{"$f":"IF(SP_STORICO!C126=\"\",\"\",SP_STORICO!C126)","v":""},{"$f":"IF(SP_STORICO!D126=\"\",\"\",SP_STORICO!D126)","v":""},{"$f":"IF($A126=\"\",\"\",IF(F$4=\"\",\"\",IF(OR($B126=\"X\", $B126=\"I\"),INDIRECT(ADDRESS(IF($B126=\"X\",12,13),MATCH(SP_PIANO!F$4,BASE!$B$2:$F$2,0)+1,,,\"BASE\")),IF($B126=\"U\",-INDIRECT(ADDRESS(4+MATCH(\"U\",CE_PIANO!$B$5:$B$206,0),COLUMN(SP_PIANO!F$4),,,\"CE_PIANO\")),IF(ISERROR(VLOOKUP($A126,Attivita_Passivita!$B$6:$Q$105,COLUMN(Attivita_Passivita!M$4)-1,FALSE)),0,VLOOKUP($A126,Attivita_Passivita!$B$6:$Q$105,COLUMN(Attivita_Passivita!M$4)-1,FALSE))))))","v":""},{"$f":"IF($A126=\"\",\"\",IF(G$4=\"\",\"\",IF(OR($B126=\"X\", $B126=\"I\"),INDIRECT(ADDRESS(IF($B126=\"X\",12,13),MATCH(SP_PIANO!G$4,BASE!$B$2:$F$2,0)+1,,,\"BASE\")),IF($B126=\"U\",-INDIRECT(ADDRESS(4+MATCH(\"U\",CE_PIANO!$B$5:$B$206,0),COLUMN(SP_PIANO!G$4),,,\"CE_PIANO\")),IF(ISERROR(VLOOKUP($A126,Attivita_Passivita!$B$6:$Q$105,COLUMN(Attivita_Passivita!N$4)-1,FALSE)),0,VLOOKUP($A126,Attivita_Passivita!$B$6:$Q$105,COLUMN(Attivita_Passivita!N$4)-1,FALSE))))))","v":""},{"$f":"IF($A126=\"\",\"\",IF(H$4=\"\",\"\",IF(OR($B126=\"X\", $B126=\"I\"),INDIRECT(ADDRESS(IF($B126=\"X\",12,13),MATCH(SP_PIANO!H$4,BASE!$B$2:$F$2,0)+1,,,\"BASE\")),IF($B126=\"U\",-INDIRECT(ADDRESS(4+MATCH(\"U\",CE_PIANO!$B$5:$B$206,0),COLUMN(SP_PIANO!H$4),,,\"CE_PIANO\")),IF(ISERROR(VLOOKUP($A126,Attivita_Passivita!$B$6:$Q$105,COLUMN(Attivita_Passivita!O$4)-1,FALSE)),0,VLOOKUP($A126,Attivita_Passivita!$B$6:$Q$105,COLUMN(Attivita_Passivita!O$4)-1,FALSE))))))","v":""}]
[{"$f":"IF(SP_STORICO!A127=\"\",\"\",SP_STORICO!A127)","v":""},{"$f":"IF($A127=\"\",\"\",VLOOKUP(A127,SCHEMA_SP!$E$5:$F$54,2,FALSE))","v":""},{"$f":"IF(SP_STORICO!A127=\"\",\"\",SP_STORICO!B127)","v":""},{"$f":"IF(SP_STORICO!C127=\"\",\"\",SP_STORICO!C127)","v":""},{"$f":"IF(SP_STORICO!D127=\"\",\"\",SP_STORICO!D127)","v":""},{"$f":"IF($A127=\"\",\"\",IF(F$4=\"\",\"\",IF(OR($B127=\"X\", $B127=\"I\"),INDIRECT(ADDRESS(IF($B127=\"X\",12,13),MATCH(SP_PIANO!F$4,BASE!$B$2:$F$2,0)+1,,,\"BASE\")),IF($B127=\"U\",-INDIRECT(ADDRESS(4+MATCH(\"U\",CE_PIANO!$B$5:$B$206,0),COLUMN(SP_PIANO!F$4),,,\"CE_PIANO\")),IF(ISERROR(VLOOKUP($A127,Attivita_Passivita!$B$6:$Q$105,COLUMN(Attivita_Passivita!M$4)-1,FALSE)),0,VLOOKUP($A127,Attivita_Passivita!$B$6:$Q$105,COLUMN(Attivita_Passivita!M$4)-1,FALSE))))))","v":""},{"$f":"IF($A127=\"\",\"\",IF(G$4=\"\",\"\",IF(OR($B127=\"X\", $B127=\"I\"),INDIRECT(ADDRESS(IF($B127=\"X\",12,13),MATCH(SP_PIANO!G$4,BASE!$B$2:$F$2,0)+1,,,\"BASE\")),IF($B127=\"U\",-INDIRECT(ADDRESS(4+MATCH(\"U\",CE_PIANO!$B$5:$B$206,0),COLUMN(SP_PIANO!G$4),,,\"CE_PIANO\")),IF(ISERROR(VLOOKUP($A127,Attivita_Passivita!$B$6:$Q$105,COLUMN(Attivita_Passivita!N$4)-1,FALSE)),0,VLOOKUP($A127,Attivita_Passivita!$B$6:$Q$105,COLUMN(Attivita_Passivita!N$4)-1,FALSE))))))","v":""},{"$f":"IF($A127=\"\",\"\",IF(H$4=\"\",\"\",IF(OR($B127=\"X\", $B127=\"I\"),INDIRECT(ADDRESS(IF($B127=\"X\",12,13),MATCH(SP_PIANO!H$4,BASE!$B$2:$F$2,0)+1,,,\"BASE\")),IF($B127=\"U\",-INDIRECT(ADDRESS(4+MATCH(\"U\",CE_PIANO!$B$5:$B$206,0),COLUMN(SP_PIANO!H$4),,,\"CE_PIANO\")),IF(ISERROR(VLOOKUP($A127,Attivita_Passivita!$B$6:$Q$105,COLUMN(Attivita_Passivita!O$4)-1,FALSE)),0,VLOOKUP($A127,Attivita_Passivita!$B$6:$Q$105,COLUMN(Attivita_Passivita!O$4)-1,FALSE))))))","v":""}]
[{"$f":"IF(SP_STORICO!A128=\"\",\"\",SP_STORICO!A128)","v":""},{"$f":"IF($A128=\"\",\"\",VLOOKUP(A128,SCHEMA_SP!$E$5:$F$54,2,FALSE))","v":""},{"$f":"IF(SP_STORICO!A128=\"\",\"\",SP_STORICO!B128)","v":""},{"$f":"IF(SP_STORICO!C128=\"\",\"\",SP_STORICO!C128)","v":""},{"$f":"IF(SP_STORICO!D128=\"\",\"\",SP_STORICO!D128)","v":""},{"$f":"IF($A128=\"\",\"\",IF(F$4=\"\",\"\",IF(OR($B128=\"X\", $B128=\"I\"),INDIRECT(ADDRESS(IF($B128=\"X\",12,13),MATCH(SP_PIANO!F$4,BASE!$B$2:$F$2,0)+1,,,\"BASE\")),IF($B128=\"U\",-INDIRECT(ADDRESS(4+MATCH(\"U\",CE_PIANO!$B$5:$B$206,0),COLUMN(SP_PIANO!F$4),,,\"CE_PIANO\")),IF(ISERROR(VLOOKUP($A128,Attivita_Passivita!$B$6:$Q$105,COLUMN(Attivita_Passivita!M$4)-1,FALSE)),0,VLOOKUP($A128,Attivita_Passivita!$B$6:$Q$105,COLUMN(Attivita_Passivita!M$4)-1,FALSE))))))","v":""},{"$f":"IF($A128=\"\",\"\",IF(G$4=\"\",\"\",IF(OR($B128=\"X\", $B128=\"I\"),INDIRECT(ADDRESS(IF($B128=\"X\",12,13),MATCH(SP_PIANO!G$4,BASE!$B$2:$F$2,0)+1,,,\"BASE\")),IF($B128=\"U\",-INDIRECT(ADDRESS(4+MATCH(\"U\",CE_PIANO!$B$5:$B$206,0),COLUMN(SP_PIANO!G$4),,,\"CE_PIANO\")),IF(ISERROR(VLOOKUP($A128,Attivita_Passivita!$B$6:$Q$105,COLUMN(Attivita_Passivita!N$4)-1,FALSE)),0,VLOOKUP($A128,Attivita_Passivita!$B$6:$Q$105,COLUMN(Attivita_Passivita!N$4)-1,FALSE))))))","v":""},{"$f":"IF($A128=\"\",\"\",IF(H$4=\"\",\"\",IF(OR($B128=\"X\", $B128=\"I\"),INDIRECT(ADDRESS(IF($B128=\"X\",12,13),MATCH(SP_PIANO!H$4,BASE!$B$2:$F$2,0)+1,,,\"BASE\")),IF($B128=\"U\",-INDIRECT(ADDRESS(4+MATCH(\"U\",CE_PIANO!$B$5:$B$206,0),COLUMN(SP_PIANO!H$4),,,\"CE_PIANO\")),IF(ISERROR(VLOOKUP($A128,Attivita_Passivita!$B$6:$Q$105,COLUMN(Attivita_Passivita!O$4)-1,FALSE)),0,VLOOKUP($A128,Attivita_Passivita!$B$6:$Q$105,COLUMN(Attivita_Passivita!O$4)-1,FALSE))))))","v":""}]
[{"$f":"IF(SP_STORICO!A129=\"\",\"\",SP_STORICO!A129)","v":""},{"$f":"IF($A129=\"\",\"\",VLOOKUP(A129,SCHEMA_SP!$E$5:$F$54,2,FALSE))","v":""},{"$f":"IF(SP_STORICO!A129=\"\",\"\",SP_STORICO!B129)","v":""},{"$f":"IF(SP_STORICO!C129=\"\",\"\",SP_STORICO!C129)","v":""},{"$f":"IF(SP_STORICO!D129=\"\",\"\",SP_STORICO!D129)","v":""},{"$f":"IF($A129=\"\",\"\",IF(F$4=\"\",\"\",IF(OR($B129=\"X\", $B129=\"I\"),INDIRECT(ADDRESS(IF($B129=\"X\",12,13),MATCH(SP_PIANO!F$4,BASE!$B$2:$F$2,0)+1,,,\"BASE\")),IF($B129=\"U\",-INDIRECT(ADDRESS(4+MATCH(\"U\",CE_PIANO!$B$5:$B$206,0),COLUMN(SP_PIANO!F$4),,,\"CE_PIANO\")),IF(ISERROR(VLOOKUP($A129,Attivita_Passivita!$B$6:$Q$105,COLUMN(Attivita_Passivita!M$4)-1,FALSE)),0,VLOOKUP($A129,Attivita_Passivita!$B$6:$Q$105,COLUMN(Attivita_Passivita!M$4)-1,FALSE))))))","v":""},{"$f":"IF($A129=\"\",\"\",IF(G$4=\"\",\"\",IF(OR($B129=\"X\", $B129=\"I\"),INDIRECT(ADDRESS(IF($B129=\"X\",12,13),MATCH(SP_PIANO!G$4,BASE!$B$2:$F$2,0)+1,,,\"BASE\")),IF($B129=\"U\",-INDIRECT(ADDRESS(4+MATCH(\"U\",CE_PIANO!$B$5:$B$206,0),COLUMN(SP_PIANO!G$4),,,\"CE_PIANO\")),IF(ISERROR(VLOOKUP($A129,Attivita_Passivita!$B$6:$Q$105,COLUMN(Attivita_Passivita!N$4)-1,FALSE)),0,VLOOKUP($A129,Attivita_Passivita!$B$6:$Q$105,COLUMN(Attivita_Passivita!N$4)-1,FALSE))))))","v":""},{"$f":"IF($A129=\"\",\"\",IF(H$4=\"\",\"\",IF(OR($B129=\"X\", $B129=\"I\"),INDIRECT(ADDRESS(IF($B129=\"X\",12,13),MATCH(SP_PIANO!H$4,BASE!$B$2:$F$2,0)+1,,,\"BASE\")),IF($B129=\"U\",-INDIRECT(ADDRESS(4+MATCH(\"U\",CE_PIANO!$B$5:$B$206,0),COLUMN(SP_PIANO!H$4),,,\"CE_PIANO\")),IF(ISERROR(VLOOKUP($A129,Attivita_Passivita!$B$6:$Q$105,COLUMN(Attivita_Passivita!O$4)-1,FALSE)),0,VLOOKUP($A129,Attivita_Passivita!$B$6:$Q$105,COLUMN(Attivita_Passivita!O$4)-1,FALSE))))))","v":""}]
[{"$f":"IF(SP_STORICO!A130=\"\",\"\",SP_STORICO!A130)","v":""},{"$f":"IF($A130=\"\",\"\",VLOOKUP(A130,SCHEMA_SP!$E$5:$F$54,2,FALSE))","v":""},{"$f":"IF(SP_STORICO!A130=\"\",\"\",SP_STORICO!B130)","v":""},{"$f":"IF(SP_STORICO!C130=\"\",\"\",SP_STORICO!C130)","v":""},{"$f":"IF(SP_STORICO!D130=\"\",\"\",SP_STORICO!D130)","v":""},{"$f":"IF($A130=\"\",\"\",IF(F$4=\"\",\"\",IF(OR($B130=\"X\", $B130=\"I\"),INDIRECT(ADDRESS(IF($B130=\"X\",12,13),MATCH(SP_PIANO!F$4,BASE!$B$2:$F$2,0)+1,,,\"BASE\")),IF($B130=\"U\",-INDIRECT(ADDRESS(4+MATCH(\"U\",CE_PIANO!$B$5:$B$206,0),COLUMN(SP_PIANO!F$4),,,\"CE_PIANO\")),IF(ISERROR(VLOOKUP($A130,Attivita_Passivita!$B$6:$Q$105,COLUMN(Attivita_Passivita!M$4)-1,FALSE)),0,VLOOKUP($A130,Attivita_Passivita!$B$6:$Q$105,COLUMN(Attivita_Passivita!M$4)-1,FALSE))))))","v":""},{"$f":"IF($A130=\"\",\"\",IF(G$4=\"\",\"\",IF(OR($B130=\"X\", $B130=\"I\"),INDIRECT(ADDRESS(IF($B130=\"X\",12,13),MATCH(SP_PIANO!G$4,BASE!$B$2:$F$2,0)+1,,,\"BASE\")),IF($B130=\"U\",-INDIRECT(ADDRESS(4+MATCH(\"U\",CE_PIANO!$B$5:$B$206,0),COLUMN(SP_PIANO!G$4),,,\"CE_PIANO\")),IF(ISERROR(VLOOKUP($A130,Attivita_Passivita!$B$6:$Q$105,COLUMN(Attivita_Passivita!N$4)-1,FALSE)),0,VLOOKUP($A130,Attivita_Passivita!$B$6:$Q$105,COLUMN(Attivita_Passivita!N$4)-1,FALSE))))))","v":""},{"$f":"IF($A130=\"\",\"\",IF(H$4=\"\",\"\",IF(OR($B130=\"X\", $B130=\"I\"),INDIRECT(ADDRESS(IF($B130=\"X\",12,13),MATCH(SP_PIANO!H$4,BASE!$B$2:$F$2,0)+1,,,\"BASE\")),IF($B130=\"U\",-INDIRECT(ADDRESS(4+MATCH(\"U\",CE_PIANO!$B$5:$B$206,0),COLUMN(SP_PIANO!H$4),,,\"CE_PIANO\")),IF(ISERROR(VLOOKUP($A130,Attivita_Passivita!$B$6:$Q$105,COLUMN(Attivita_Passivita!O$4)-1,FALSE)),0,VLOOKUP($A130,Attivita_Passivita!$B$6:$Q$105,COLUMN(Attivita_Passivita!O$4)-1,FALSE))))))","v":""}]
[{"$f":"IF(SP_STORICO!A131=\"\",\"\",SP_STORICO!A131)","v":""},{"$f":"IF($A131=\"\",\"\",VLOOKUP(A131,SCHEMA_SP!$E$5:$F$54,2,FALSE))","v":""},{"$f":"IF(SP_STORICO!A131=\"\",\"\",SP_STORICO!B131)","v":""},{"$f":"IF(SP_STORICO!C131=\"\",\"\",SP_STORICO!C131)","v":""},{"$f":"IF(SP_STORICO!D131=\"\",\"\",SP_STORICO!D131)","v":""},{"$f":"IF($A131=\"\",\"\",IF(F$4=\"\",\"\",IF(OR($B131=\"X\", $B131=\"I\"),INDIRECT(ADDRESS(IF($B131=\"X\",12,13),MATCH(SP_PIANO!F$4,BASE!$B$2:$F$2,0)+1,,,\"BASE\")),IF($B131=\"U\",-INDIRECT(ADDRESS(4+MATCH(\"U\",CE_PIANO!$B$5:$B$206,0),COLUMN(SP_PIANO!F$4),,,\"CE_PIANO\")),IF(ISERROR(VLOOKUP($A131,Attivita_Passivita!$B$6:$Q$105,COLUMN(Attivita_Passivita!M$4)-1,FALSE)),0,VLOOKUP($A131,Attivita_Passivita!$B$6:$Q$105,COLUMN(Attivita_Passivita!M$4)-1,FALSE))))))","v":""},{"$f":"IF($A131=\"\",\"\",IF(G$4=\"\",\"\",IF(OR($B131=\"X\", $B131=\"I\"),INDIRECT(ADDRESS(IF($B131=\"X\",12,13),MATCH(SP_PIANO!G$4,BASE!$B$2:$F$2,0)+1,,,\"BASE\")),IF($B131=\"U\",-INDIRECT(ADDRESS(4+MATCH(\"U\",CE_PIANO!$B$5:$B$206,0),COLUMN(SP_PIANO!G$4),,,\"CE_PIANO\")),IF(ISERROR(VLOOKUP($A131,Attivita_Passivita!$B$6:$Q$105,COLUMN(Attivita_Passivita!N$4)-1,FALSE)),0,VLOOKUP($A131,Attivita_Passivita!$B$6:$Q$105,COLUMN(Attivita_Passivita!N$4)-1,FALSE))))))","v":""},{"$f":"IF($A131=\"\",\"\",IF(H$4=\"\",\"\",IF(OR($B131=\"X\", $B131=\"I\"),INDIRECT(ADDRESS(IF($B131=\"X\",12,13),MATCH(SP_PIANO!H$4,BASE!$B$2:$F$2,0)+1,,,\"BASE\")),IF($B131=\"U\",-INDIRECT(ADDRESS(4+MATCH(\"U\",CE_PIANO!$B$5:$B$206,0),COLUMN(SP_PIANO!H$4),,,\"CE_PIANO\")),IF(ISERROR(VLOOKUP($A131,Attivita_Passivita!$B$6:$Q$105,COLUMN(Attivita_Passivita!O$4)-1,FALSE)),0,VLOOKUP($A131,Attivita_Passivita!$B$6:$Q$105,COLUMN(Attivita_Passivita!O$4)-1,FALSE))))))","v":""}]
[{"$f":"IF(SP_STORICO!A132=\"\",\"\",SP_STORICO!A132)","v":""},{"$f":"IF($A132=\"\",\"\",VLOOKUP(A132,SCHEMA_SP!$E$5:$F$54,2,FALSE))","v":""},{"$f":"IF(SP_STORICO!A132=\"\",\"\",SP_STORICO!B132)","v":""},{"$f":"IF(SP_STORICO!C132=\"\",\"\",SP_STORICO!C132)","v":""},{"$f":"IF(SP_STORICO!D132=\"\",\"\",SP_STORICO!D132)","v":""},{"$f":"IF($A132=\"\",\"\",IF(F$4=\"\",\"\",IF(OR($B132=\"X\", $B132=\"I\"),INDIRECT(ADDRESS(IF($B132=\"X\",12,13),MATCH(SP_PIANO!F$4,BASE!$B$2:$F$2,0)+1,,,\"BASE\")),IF($B132=\"U\",-INDIRECT(ADDRESS(4+MATCH(\"U\",CE_PIANO!$B$5:$B$206,0),COLUMN(SP_PIANO!F$4),,,\"CE_PIANO\")),IF(ISERROR(VLOOKUP($A132,Attivita_Passivita!$B$6:$Q$105,COLUMN(Attivita_Passivita!M$4)-1,FALSE)),0,VLOOKUP($A132,Attivita_Passivita!$B$6:$Q$105,COLUMN(Attivita_Passivita!M$4)-1,FALSE))))))","v":""},{"$f":"IF($A132=\"\",\"\",IF(G$4=\"\",\"\",IF(OR($B132=\"X\", $B132=\"I\"),INDIRECT(ADDRESS(IF($B132=\"X\",12,13),MATCH(SP_PIANO!G$4,BASE!$B$2:$F$2,0)+1,,,\"BASE\")),IF($B132=\"U\",-INDIRECT(ADDRESS(4+MATCH(\"U\",CE_PIANO!$B$5:$B$206,0),COLUMN(SP_PIANO!G$4),,,\"CE_PIANO\")),IF(ISERROR(VLOOKUP($A132,Attivita_Passivita!$B$6:$Q$105,COLUMN(Attivita_Passivita!N$4)-1,FALSE)),0,VLOOKUP($A132,Attivita_Passivita!$B$6:$Q$105,COLUMN(Attivita_Passivita!N$4)-1,FALSE))))))","v":""},{"$f":"IF($A132=\"\",\"\",IF(H$4=\"\",\"\",IF(OR($B132=\"X\", $B132=\"I\"),INDIRECT(ADDRESS(IF($B132=\"X\",12,13),MATCH(SP_PIANO!H$4,BASE!$B$2:$F$2,0)+1,,,\"BASE\")),IF($B132=\"U\",-INDIRECT(ADDRESS(4+MATCH(\"U\",CE_PIANO!$B$5:$B$206,0),COLUMN(SP_PIANO!H$4),,,\"CE_PIANO\")),IF(ISERROR(VLOOKUP($A132,Attivita_Passivita!$B$6:$Q$105,COLUMN(Attivita_Passivita!O$4)-1,FALSE)),0,VLOOKUP($A132,Attivita_Passivita!$B$6:$Q$105,COLUMN(Attivita_Passivita!O$4)-1,FALSE))))))","v":""}]
[{"$f":"IF(SP_STORICO!A133=\"\",\"\",SP_STORICO!A133)","v":""},{"$f":"IF($A133=\"\",\"\",VLOOKUP(A133,SCHEMA_SP!$E$5:$F$54,2,FALSE))","v":""},{"$f":"IF(SP_STORICO!A133=\"\",\"\",SP_STORICO!B133)","v":""},{"$f":"IF(SP_STORICO!C133=\"\",\"\",SP_STORICO!C133)","v":""},{"$f":"IF(SP_STORICO!D133=\"\",\"\",SP_STORICO!D133)","v":""},{"$f":"IF($A133=\"\",\"\",IF(F$4=\"\",\"\",IF(OR($B133=\"X\", $B133=\"I\"),INDIRECT(ADDRESS(IF($B133=\"X\",12,13),MATCH(SP_PIANO!F$4,BASE!$B$2:$F$2,0)+1,,,\"BASE\")),IF($B133=\"U\",-INDIRECT(ADDRESS(4+MATCH(\"U\",CE_PIANO!$B$5:$B$206,0),COLUMN(SP_PIANO!F$4),,,\"CE_PIANO\")),IF(ISERROR(VLOOKUP($A133,Attivita_Passivita!$B$6:$Q$105,COLUMN(Attivita_Passivita!M$4)-1,FALSE)),0,VLOOKUP($A133,Attivita_Passivita!$B$6:$Q$105,COLUMN(Attivita_Passivita!M$4)-1,FALSE))))))","v":""},{"$f":"IF($A133=\"\",\"\",IF(G$4=\"\",\"\",IF(OR($B133=\"X\", $B133=\"I\"),INDIRECT(ADDRESS(IF($B133=\"X\",12,13),MATCH(SP_PIANO!G$4,BASE!$B$2:$F$2,0)+1,,,\"BASE\")),IF($B133=\"U\",-INDIRECT(ADDRESS(4+MATCH(\"U\",CE_PIANO!$B$5:$B$206,0),COLUMN(SP_PIANO!G$4),,,\"CE_PIANO\")),IF(ISERROR(VLOOKUP($A133,Attivita_Passivita!$B$6:$Q$105,COLUMN(Attivita_Passivita!N$4)-1,FALSE)),0,VLOOKUP($A133,Attivita_Passivita!$B$6:$Q$105,COLUMN(Attivita_Passivita!N$4)-1,FALSE))))))","v":""},{"$f":"IF($A133=\"\",\"\",IF(H$4=\"\",\"\",IF(OR($B133=\"X\", $B133=\"I\"),INDIRECT(ADDRESS(IF($B133=\"X\",12,13),MATCH(SP_PIANO!H$4,BASE!$B$2:$F$2,0)+1,,,\"BASE\")),IF($B133=\"U\",-INDIRECT(ADDRESS(4+MATCH(\"U\",CE_PIANO!$B$5:$B$206,0),COLUMN(SP_PIANO!H$4),,,\"CE_PIANO\")),IF(ISERROR(VLOOKUP($A133,Attivita_Passivita!$B$6:$Q$105,COLUMN(Attivita_Passivita!O$4)-1,FALSE)),0,VLOOKUP($A133,Attivita_Passivita!$B$6:$Q$105,COLUMN(Attivita_Passivita!O$4)-1,FALSE))))))","v":""}]
[{"$f":"IF(SP_STORICO!A134=\"\",\"\",SP_STORICO!A134)","v":""},{"$f":"IF($A134=\"\",\"\",VLOOKUP(A134,SCHEMA_SP!$E$5:$F$54,2,FALSE))","v":""},{"$f":"IF(SP_STORICO!A134=\"\",\"\",SP_STORICO!B134)","v":""},{"$f":"IF(SP_STORICO!C134=\"\",\"\",SP_STORICO!C134)","v":""},{"$f":"IF(SP_STORICO!D134=\"\",\"\",SP_STORICO!D134)","v":""},{"$f":"IF($A134=\"\",\"\",IF(F$4=\"\",\"\",IF(OR($B134=\"X\", $B134=\"I\"),INDIRECT(ADDRESS(IF($B134=\"X\",12,13),MATCH(SP_PIANO!F$4,BASE!$B$2:$F$2,0)+1,,,\"BASE\")),IF($B134=\"U\",-INDIRECT(ADDRESS(4+MATCH(\"U\",CE_PIANO!$B$5:$B$206,0),COLUMN(SP_PIANO!F$4),,,\"CE_PIANO\")),IF(ISERROR(VLOOKUP($A134,Attivita_Passivita!$B$6:$Q$105,COLUMN(Attivita_Passivita!M$4)-1,FALSE)),0,VLOOKUP($A134,Attivita_Passivita!$B$6:$Q$105,COLUMN(Attivita_Passivita!M$4)-1,FALSE))))))","v":""},{"$f":"IF($A134=\"\",\"\",IF(G$4=\"\",\"\",IF(OR($B134=\"X\", $B134=\"I\"),INDIRECT(ADDRESS(IF($B134=\"X\",12,13),MATCH(SP_PIANO!G$4,BASE!$B$2:$F$2,0)+1,,,\"BASE\")),IF($B134=\"U\",-INDIRECT(ADDRESS(4+MATCH(\"U\",CE_PIANO!$B$5:$B$206,0),COLUMN(SP_PIANO!G$4),,,\"CE_PIANO\")),IF(ISERROR(VLOOKUP($A134,Attivita_Passivita!$B$6:$Q$105,COLUMN(Attivita_Passivita!N$4)-1,FALSE)),0,VLOOKUP($A134,Attivita_Passivita!$B$6:$Q$105,COLUMN(Attivita_Passivita!N$4)-1,FALSE))))))","v":""},{"$f":"IF($A134=\"\",\"\",IF(H$4=\"\",\"\",IF(OR($B134=\"X\", $B134=\"I\"),INDIRECT(ADDRESS(IF($B134=\"X\",12,13),MATCH(SP_PIANO!H$4,BASE!$B$2:$F$2,0)+1,,,\"BASE\")),IF($B134=\"U\",-INDIRECT(ADDRESS(4+MATCH(\"U\",CE_PIANO!$B$5:$B$206,0),COLUMN(SP_PIANO!H$4),,,\"CE_PIANO\")),IF(ISERROR(VLOOKUP($A134,Attivita_Passivita!$B$6:$Q$105,COLUMN(Attivita_Passivita!O$4)-1,FALSE)),0,VLOOKUP($A134,Attivita_Passivita!$B$6:$Q$105,COLUMN(Attivita_Passivita!O$4)-1,FALSE))))))","v":""}]
[{"$f":"IF(SP_STORICO!A135=\"\",\"\",SP_STORICO!A135)","v":""},{"$f":"IF($A135=\"\",\"\",VLOOKUP(A135,SCHEMA_SP!$E$5:$F$54,2,FALSE))","v":""},{"$f":"IF(SP_STORICO!A135=\"\",\"\",SP_STORICO!B135)","v":""},{"$f":"IF(SP_STORICO!C135=\"\",\"\",SP_STORICO!C135)","v":""},{"$f":"IF(SP_STORICO!D135=\"\",\"\",SP_STORICO!D135)","v":""},{"$f":"IF($A135=\"\",\"\",IF(F$4=\"\",\"\",IF(OR($B135=\"X\", $B135=\"I\"),INDIRECT(ADDRESS(IF($B135=\"X\",12,13),MATCH(SP_PIANO!F$4,BASE!$B$2:$F$2,0)+1,,,\"BASE\")),IF($B135=\"U\",-INDIRECT(ADDRESS(4+MATCH(\"U\",CE_PIANO!$B$5:$B$206,0),COLUMN(SP_PIANO!F$4),,,\"CE_PIANO\")),IF(ISERROR(VLOOKUP($A135,Attivita_Passivita!$B$6:$Q$105,COLUMN(Attivita_Passivita!M$4)-1,FALSE)),0,VLOOKUP($A135,Attivita_Passivita!$B$6:$Q$105,COLUMN(Attivita_Passivita!M$4)-1,FALSE))))))","v":""},{"$f":"IF($A135=\"\",\"\",IF(G$4=\"\",\"\",IF(OR($B135=\"X\", $B135=\"I\"),INDIRECT(ADDRESS(IF($B135=\"X\",12,13),MATCH(SP_PIANO!G$4,BASE!$B$2:$F$2,0)+1,,,\"BASE\")),IF($B135=\"U\",-INDIRECT(ADDRESS(4+MATCH(\"U\",CE_PIANO!$B$5:$B$206,0),COLUMN(SP_PIANO!G$4),,,\"CE_PIANO\")),IF(ISERROR(VLOOKUP($A135,Attivita_Passivita!$B$6:$Q$105,COLUMN(Attivita_Passivita!N$4)-1,FALSE)),0,VLOOKUP($A135,Attivita_Passivita!$B$6:$Q$105,COLUMN(Attivita_Passivita!N$4)-1,FALSE))))))","v":""},{"$f":"IF($A135=\"\",\"\",IF(H$4=\"\",\"\",IF(OR($B135=\"X\", $B135=\"I\"),INDIRECT(ADDRESS(IF($B135=\"X\",12,13),MATCH(SP_PIANO!H$4,BASE!$B$2:$F$2,0)+1,,,\"BASE\")),IF($B135=\"U\",-INDIRECT(ADDRESS(4+MATCH(\"U\",CE_PIANO!$B$5:$B$206,0),COLUMN(SP_PIANO!H$4),,,\"CE_PIANO\")),IF(ISERROR(VLOOKUP($A135,Attivita_Passivita!$B$6:$Q$105,COLUMN(Attivita_Passivita!O$4)-1,FALSE)),0,VLOOKUP($A135,Attivita_Passivita!$B$6:$Q$105,COLUMN(Attivita_Passivita!O$4)-1,FALSE))))))","v":""}]
[{"$f":"IF(SP_STORICO!A136=\"\",\"\",SP_STORICO!A136)","v":""},{"$f":"IF($A136=\"\",\"\",VLOOKUP(A136,SCHEMA_SP!$E$5:$F$54,2,FALSE))","v":""},{"$f":"IF(SP_STORICO!A136=\"\",\"\",SP_STORICO!B136)","v":""},{"$f":"IF(SP_STORICO!C136=\"\",\"\",SP_STORICO!C136)","v":""},{"$f":"IF(SP_STORICO!D136=\"\",\"\",SP_STORICO!D136)","v":""},{"$f":"IF($A136=\"\",\"\",IF(F$4=\"\",\"\",IF(OR($B136=\"X\", $B136=\"I\"),INDIRECT(ADDRESS(IF($B136=\"X\",12,13),MATCH(SP_PIANO!F$4,BASE!$B$2:$F$2,0)+1,,,\"BASE\")),IF($B136=\"U\",-INDIRECT(ADDRESS(4+MATCH(\"U\",CE_PIANO!$B$5:$B$206,0),COLUMN(SP_PIANO!F$4),,,\"CE_PIANO\")),IF(ISERROR(VLOOKUP($A136,Attivita_Passivita!$B$6:$Q$105,COLUMN(Attivita_Passivita!M$4)-1,FALSE)),0,VLOOKUP($A136,Attivita_Passivita!$B$6:$Q$105,COLUMN(Attivita_Passivita!M$4)-1,FALSE))))))","v":""},{"$f":"IF($A136=\"\",\"\",IF(G$4=\"\",\"\",IF(OR($B136=\"X\", $B136=\"I\"),INDIRECT(ADDRESS(IF($B136=\"X\",12,13),MATCH(SP_PIANO!G$4,BASE!$B$2:$F$2,0)+1,,,\"BASE\")),IF($B136=\"U\",-INDIRECT(ADDRESS(4+MATCH(\"U\",CE_PIANO!$B$5:$B$206,0),COLUMN(SP_PIANO!G$4),,,\"CE_PIANO\")),IF(ISERROR(VLOOKUP($A136,Attivita_Passivita!$B$6:$Q$105,COLUMN(Attivita_Passivita!N$4)-1,FALSE)),0,VLOOKUP($A136,Attivita_Passivita!$B$6:$Q$105,COLUMN(Attivita_Passivita!N$4)-1,FALSE))))))","v":""},{"$f":"IF($A136=\"\",\"\",IF(H$4=\"\",\"\",IF(OR($B136=\"X\", $B136=\"I\"),INDIRECT(ADDRESS(IF($B136=\"X\",12,13),MATCH(SP_PIANO!H$4,BASE!$B$2:$F$2,0)+1,,,\"BASE\")),IF($B136=\"U\",-INDIRECT(ADDRESS(4+MATCH(\"U\",CE_PIANO!$B$5:$B$206,0),COLUMN(SP_PIANO!H$4),,,\"CE_PIANO\")),IF(ISERROR(VLOOKUP($A136,Attivita_Passivita!$B$6:$Q$105,COLUMN(Attivita_Passivita!O$4)-1,FALSE)),0,VLOOKUP($A136,Attivita_Passivita!$B$6:$Q$105,COLUMN(Attivita_Passivita!O$4)-1,FALSE))))))","v":""}]
[{"$f":"IF(SP_STORICO!A137=\"\",\"\",SP_STORICO!A137)","v":""},{"$f":"IF($A137=\"\",\"\",VLOOKUP(A137,SCHEMA_SP!$E$5:$F$54,2,FALSE))","v":""},{"$f":"IF(SP_STORICO!A137=\"\",\"\",SP_STORICO!B137)","v":""},{"$f":"IF(SP_STORICO!C137=\"\",\"\",SP_STORICO!C137)","v":""},{"$f":"IF(SP_STORICO!D137=\"\",\"\",SP_STORICO!D137)","v":""},{"$f":"IF($A137=\"\",\"\",IF(F$4=\"\",\"\",IF(OR($B137=\"X\", $B137=\"I\"),INDIRECT(ADDRESS(IF($B137=\"X\",12,13),MATCH(SP_PIANO!F$4,BASE!$B$2:$F$2,0)+1,,,\"BASE\")),IF($B137=\"U\",-INDIRECT(ADDRESS(4+MATCH(\"U\",CE_PIANO!$B$5:$B$206,0),COLUMN(SP_PIANO!F$4),,,\"CE_PIANO\")),IF(ISERROR(VLOOKUP($A137,Attivita_Passivita!$B$6:$Q$105,COLUMN(Attivita_Passivita!M$4)-1,FALSE)),0,VLOOKUP($A137,Attivita_Passivita!$B$6:$Q$105,COLUMN(Attivita_Passivita!M$4)-1,FALSE))))))","v":""},{"$f":"IF($A137=\"\",\"\",IF(G$4=\"\",\"\",IF(OR($B137=\"X\", $B137=\"I\"),INDIRECT(ADDRESS(IF($B137=\"X\",12,13),MATCH(SP_PIANO!G$4,BASE!$B$2:$F$2,0)+1,,,\"BASE\")),IF($B137=\"U\",-INDIRECT(ADDRESS(4+MATCH(\"U\",CE_PIANO!$B$5:$B$206,0),COLUMN(SP_PIANO!G$4),,,\"CE_PIANO\")),IF(ISERROR(VLOOKUP($A137,Attivita_Passivita!$B$6:$Q$105,COLUMN(Attivita_Passivita!N$4)-1,FALSE)),0,VLOOKUP($A137,Attivita_Passivita!$B$6:$Q$105,COLUMN(Attivita_Passivita!N$4)-1,FALSE))))))","v":""},{"$f":"IF($A137=\"\",\"\",IF(H$4=\"\",\"\",IF(OR($B137=\"X\", $B137=\"I\"),INDIRECT(ADDRESS(IF($B137=\"X\",12,13),MATCH(SP_PIANO!H$4,BASE!$B$2:$F$2,0)+1,,,\"BASE\")),IF($B137=\"U\",-INDIRECT(ADDRESS(4+MATCH(\"U\",CE_PIANO!$B$5:$B$206,0),COLUMN(SP_PIANO!H$4),,,\"CE_PIANO\")),IF(ISERROR(VLOOKUP($A137,Attivita_Passivita!$B$6:$Q$105,COLUMN(Attivita_Passivita!O$4)-1,FALSE)),0,VLOOKUP($A137,Attivita_Passivita!$B$6:$Q$105,COLUMN(Attivita_Passivita!O$4)-1,FALSE))))))","v":""}]
[{"$f":"IF(SP_STORICO!A138=\"\",\"\",SP_STORICO!A138)","v":""},{"$f":"IF($A138=\"\",\"\",VLOOKUP(A138,SCHEMA_SP!$E$5:$F$54,2,FALSE))","v":""},{"$f":"IF(SP_STORICO!A138=\"\",\"\",SP_STORICO!B138)","v":""},{"$f":"IF(SP_STORICO!C138=\"\",\"\",SP_STORICO!C138)","v":""},{"$f":"IF(SP_STORICO!D138=\"\",\"\",SP_STORICO!D138)","v":""},{"$f":"IF($A138=\"\",\"\",IF(F$4=\"\",\"\",IF(OR($B138=\"X\", $B138=\"I\"),INDIRECT(ADDRESS(IF($B138=\"X\",12,13),MATCH(SP_PIANO!F$4,BASE!$B$2:$F$2,0)+1,,,\"BASE\")),IF($B138=\"U\",-INDIRECT(ADDRESS(4+MATCH(\"U\",CE_PIANO!$B$5:$B$206,0),COLUMN(SP_PIANO!F$4),,,\"CE_PIANO\")),IF(ISERROR(VLOOKUP($A138,Attivita_Passivita!$B$6:$Q$105,COLUMN(Attivita_Passivita!M$4)-1,FALSE)),0,VLOOKUP($A138,Attivita_Passivita!$B$6:$Q$105,COLUMN(Attivita_Passivita!M$4)-1,FALSE))))))","v":""},{"$f":"IF($A138=\"\",\"\",IF(G$4=\"\",\"\",IF(OR($B138=\"X\", $B138=\"I\"),INDIRECT(ADDRESS(IF($B138=\"X\",12,13),MATCH(SP_PIANO!G$4,BASE!$B$2:$F$2,0)+1,,,\"BASE\")),IF($B138=\"U\",-INDIRECT(ADDRESS(4+MATCH(\"U\",CE_PIANO!$B$5:$B$206,0),COLUMN(SP_PIANO!G$4),,,\"CE_PIANO\")),IF(ISERROR(VLOOKUP($A138,Attivita_Passivita!$B$6:$Q$105,COLUMN(Attivita_Passivita!N$4)-1,FALSE)),0,VLOOKUP($A138,Attivita_Passivita!$B$6:$Q$105,COLUMN(Attivita_Passivita!N$4)-1,FALSE))))))","v":""},{"$f":"IF($A138=\"\",\"\",IF(H$4=\"\",\"\",IF(OR($B138=\"X\", $B138=\"I\"),INDIRECT(ADDRESS(IF($B138=\"X\",12,13),MATCH(SP_PIANO!H$4,BASE!$B$2:$F$2,0)+1,,,\"BASE\")),IF($B138=\"U\",-INDIRECT(ADDRESS(4+MATCH(\"U\",CE_PIANO!$B$5:$B$206,0),COLUMN(SP_PIANO!H$4),,,\"CE_PIANO\")),IF(ISERROR(VLOOKUP($A138,Attivita_Passivita!$B$6:$Q$105,COLUMN(Attivita_Passivita!O$4)-1,FALSE)),0,VLOOKUP($A138,Attivita_Passivita!$B$6:$Q$105,COLUMN(Attivita_Passivita!O$4)-1,FALSE))))))","v":""}]
[{"$f":"IF(SP_STORICO!A139=\"\",\"\",SP_STORICO!A139)","v":""},{"$f":"IF($A139=\"\",\"\",VLOOKUP(A139,SCHEMA_SP!$E$5:$F$54,2,FALSE))","v":""},{"$f":"IF(SP_STORICO!A139=\"\",\"\",SP_STORICO!B139)","v":""},{"$f":"IF(SP_STORICO!C139=\"\",\"\",SP_STORICO!C139)","v":""},{"$f":"IF(SP_STORICO!D139=\"\",\"\",SP_STORICO!D139)","v":""},{"$f":"IF($A139=\"\",\"\",IF(F$4=\"\",\"\",IF(OR($B139=\"X\", $B139=\"I\"),INDIRECT(ADDRESS(IF($B139=\"X\",12,13),MATCH(SP_PIANO!F$4,BASE!$B$2:$F$2,0)+1,,,\"BASE\")),IF($B139=\"U\",-INDIRECT(ADDRESS(4+MATCH(\"U\",CE_PIANO!$B$5:$B$206,0),COLUMN(SP_PIANO!F$4),,,\"CE_PIANO\")),IF(ISERROR(VLOOKUP($A139,Attivita_Passivita!$B$6:$Q$105,COLUMN(Attivita_Passivita!M$4)-1,FALSE)),0,VLOOKUP($A139,Attivita_Passivita!$B$6:$Q$105,COLUMN(Attivita_Passivita!M$4)-1,FALSE))))))","v":""},{"$f":"IF($A139=\"\",\"\",IF(G$4=\"\",\"\",IF(OR($B139=\"X\", $B139=\"I\"),INDIRECT(ADDRESS(IF($B139=\"X\",12,13),MATCH(SP_PIANO!G$4,BASE!$B$2:$F$2,0)+1,,,\"BASE\")),IF($B139=\"U\",-INDIRECT(ADDRESS(4+MATCH(\"U\",CE_PIANO!$B$5:$B$206,0),COLUMN(SP_PIANO!G$4),,,\"CE_PIANO\")),IF(ISERROR(VLOOKUP($A139,Attivita_Passivita!$B$6:$Q$105,COLUMN(Attivita_Passivita!N$4)-1,FALSE)),0,VLOOKUP($A139,Attivita_Passivita!$B$6:$Q$105,COLUMN(Attivita_Passivita!N$4)-1,FALSE))))))","v":""},{"$f":"IF($A139=\"\",\"\",IF(H$4=\"\",\"\",IF(OR($B139=\"X\", $B139=\"I\"),INDIRECT(ADDRESS(IF($B139=\"X\",12,13),MATCH(SP_PIANO!H$4,BASE!$B$2:$F$2,0)+1,,,\"BASE\")),IF($B139=\"U\",-INDIRECT(ADDRESS(4+MATCH(\"U\",CE_PIANO!$B$5:$B$206,0),COLUMN(SP_PIANO!H$4),,,\"CE_PIANO\")),IF(ISERROR(VLOOKUP($A139,Attivita_Passivita!$B$6:$Q$105,COLUMN(Attivita_Passivita!O$4)-1,FALSE)),0,VLOOKUP($A139,Attivita_Passivita!$B$6:$Q$105,COLUMN(Attivita_Passivita!O$4)-1,FALSE))))))","v":""}]
[{"$f":"IF(SP_STORICO!A140=\"\",\"\",SP_STORICO!A140)","v":""},{"$f":"IF($A140=\"\",\"\",VLOOKUP(A140,SCHEMA_SP!$E$5:$F$54,2,FALSE))","v":""},{"$f":"IF(SP_STORICO!A140=\"\",\"\",SP_STORICO!B140)","v":""},{"$f":"IF(SP_STORICO!C140=\"\",\"\",SP_STORICO!C140)","v":""},{"$f":"IF(SP_STORICO!D140=\"\",\"\",SP_STORICO!D140)","v":""},{"$f":"IF($A140=\"\",\"\",IF(F$4=\"\",\"\",IF(OR($B140=\"X\", $B140=\"I\"),INDIRECT(ADDRESS(IF($B140=\"X\",12,13),MATCH(SP_PIANO!F$4,BASE!$B$2:$F$2,0)+1,,,\"BASE\")),IF($B140=\"U\",-INDIRECT(ADDRESS(4+MATCH(\"U\",CE_PIANO!$B$5:$B$206,0),COLUMN(SP_PIANO!F$4),,,\"CE_PIANO\")),IF(ISERROR(VLOOKUP($A140,Attivita_Passivita!$B$6:$Q$105,COLUMN(Attivita_Passivita!M$4)-1,FALSE)),0,VLOOKUP($A140,Attivita_Passivita!$B$6:$Q$105,COLUMN(Attivita_Passivita!M$4)-1,FALSE))))))","v":""},{"$f":"IF($A140=\"\",\"\",IF(G$4=\"\",\"\",IF(OR($B140=\"X\", $B140=\"I\"),INDIRECT(ADDRESS(IF($B140=\"X\",12,13),MATCH(SP_PIANO!G$4,BASE!$B$2:$F$2,0)+1,,,\"BASE\")),IF($B140=\"U\",-INDIRECT(ADDRESS(4+MATCH(\"U\",CE_PIANO!$B$5:$B$206,0),COLUMN(SP_PIANO!G$4),,,\"CE_PIANO\")),IF(ISERROR(VLOOKUP($A140,Attivita_Passivita!$B$6:$Q$105,COLUMN(Attivita_Passivita!N$4)-1,FALSE)),0,VLOOKUP($A140,Attivita_Passivita!$B$6:$Q$105,COLUMN(Attivita_Passivita!N$4)-1,FALSE))))))","v":""},{"$f":"IF($A140=\"\",\"\",IF(H$4=\"\",\"\",IF(OR($B140=\"X\", $B140=\"I\"),INDIRECT(ADDRESS(IF($B140=\"X\",12,13),MATCH(SP_PIANO!H$4,BASE!$B$2:$F$2,0)+1,,,\"BASE\")),IF($B140=\"U\",-INDIRECT(ADDRESS(4+MATCH(\"U\",CE_PIANO!$B$5:$B$206,0),COLUMN(SP_PIANO!H$4),,,\"CE_PIANO\")),IF(ISERROR(VLOOKUP($A140,Attivita_Passivita!$B$6:$Q$105,COLUMN(Attivita_Passivita!O$4)-1,FALSE)),0,VLOOKUP($A140,Attivita_Passivita!$B$6:$Q$105,COLUMN(Attivita_Passivita!O$4)-1,FALSE))))))","v":""}]
[{"$f":"IF(SP_STORICO!A141=\"\",\"\",SP_STORICO!A141)","v":""},{"$f":"IF($A141=\"\",\"\",VLOOKUP(A141,SCHEMA_SP!$E$5:$F$54,2,FALSE))","v":""},{"$f":"IF(SP_STORICO!A141=\"\",\"\",SP_STORICO!B141)","v":""},{"$f":"IF(SP_STORICO!C141=\"\",\"\",SP_STORICO!C141)","v":""},{"$f":"IF(SP_STORICO!D141=\"\",\"\",SP_STORICO!D141)","v":""},{"$f":"IF($A141=\"\",\"\",IF(F$4=\"\",\"\",IF(OR($B141=\"X\", $B141=\"I\"),INDIRECT(ADDRESS(IF($B141=\"X\",12,13),MATCH(SP_PIANO!F$4,BASE!$B$2:$F$2,0)+1,,,\"BASE\")),IF($B141=\"U\",-INDIRECT(ADDRESS(4+MATCH(\"U\",CE_PIANO!$B$5:$B$206,0),COLUMN(SP_PIANO!F$4),,,\"CE_PIANO\")),IF(ISERROR(VLOOKUP($A141,Attivita_Passivita!$B$6:$Q$105,COLUMN(Attivita_Passivita!M$4)-1,FALSE)),0,VLOOKUP($A141,Attivita_Passivita!$B$6:$Q$105,COLUMN(Attivita_Passivita!M$4)-1,FALSE))))))","v":""},{"$f":"IF($A141=\"\",\"\",IF(G$4=\"\",\"\",IF(OR($B141=\"X\", $B141=\"I\"),INDIRECT(ADDRESS(IF($B141=\"X\",12,13),MATCH(SP_PIANO!G$4,BASE!$B$2:$F$2,0)+1,,,\"BASE\")),IF($B141=\"U\",-INDIRECT(ADDRESS(4+MATCH(\"U\",CE_PIANO!$B$5:$B$206,0),COLUMN(SP_PIANO!G$4),,,\"CE_PIANO\")),IF(ISERROR(VLOOKUP($A141,Attivita_Passivita!$B$6:$Q$105,COLUMN(Attivita_Passivita!N$4)-1,FALSE)),0,VLOOKUP($A141,Attivita_Passivita!$B$6:$Q$105,COLUMN(Attivita_Passivita!N$4)-1,FALSE))))))","v":""},{"$f":"IF($A141=\"\",\"\",IF(H$4=\"\",\"\",IF(OR($B141=\"X\", $B141=\"I\"),INDIRECT(ADDRESS(IF($B141=\"X\",12,13),MATCH(SP_PIANO!H$4,BASE!$B$2:$F$2,0)+1,,,\"BASE\")),IF($B141=\"U\",-INDIRECT(ADDRESS(4+MATCH(\"U\",CE_PIANO!$B$5:$B$206,0),COLUMN(SP_PIANO!H$4),,,\"CE_PIANO\")),IF(ISERROR(VLOOKUP($A141,Attivita_Passivita!$B$6:$Q$105,COLUMN(Attivita_Passivita!O$4)-1,FALSE)),0,VLOOKUP($A141,Attivita_Passivita!$B$6:$Q$105,COLUMN(Attivita_Passivita!O$4)-1,FALSE))))))","v":""}]
[{"$f":"IF(SP_STORICO!A142=\"\",\"\",SP_STORICO!A142)","v":""},{"$f":"IF($A142=\"\",\"\",VLOOKUP(A142,SCHEMA_SP!$E$5:$F$54,2,FALSE))","v":""},{"$f":"IF(SP_STORICO!A142=\"\",\"\",SP_STORICO!B142)","v":""},{"$f":"IF(SP_STORICO!C142=\"\",\"\",SP_STORICO!C142)","v":""},{"$f":"IF(SP_STORICO!D142=\"\",\"\",SP_STORICO!D142)","v":""},{"$f":"IF($A142=\"\",\"\",IF(F$4=\"\",\"\",IF(OR($B142=\"X\", $B142=\"I\"),INDIRECT(ADDRESS(IF($B142=\"X\",12,13),MATCH(SP_PIANO!F$4,BASE!$B$2:$F$2,0)+1,,,\"BASE\")),IF($B142=\"U\",-INDIRECT(ADDRESS(4+MATCH(\"U\",CE_PIANO!$B$5:$B$206,0),COLUMN(SP_PIANO!F$4),,,\"CE_PIANO\")),IF(ISERROR(VLOOKUP($A142,Attivita_Passivita!$B$6:$Q$105,COLUMN(Attivita_Passivita!M$4)-1,FALSE)),0,VLOOKUP($A142,Attivita_Passivita!$B$6:$Q$105,COLUMN(Attivita_Passivita!M$4)-1,FALSE))))))","v":""},{"$f":"IF($A142=\"\",\"\",IF(G$4=\"\",\"\",IF(OR($B142=\"X\", $B142=\"I\"),INDIRECT(ADDRESS(IF($B142=\"X\",12,13),MATCH(SP_PIANO!G$4,BASE!$B$2:$F$2,0)+1,,,\"BASE\")),IF($B142=\"U\",-INDIRECT(ADDRESS(4+MATCH(\"U\",CE_PIANO!$B$5:$B$206,0),COLUMN(SP_PIANO!G$4),,,\"CE_PIANO\")),IF(ISERROR(VLOOKUP($A142,Attivita_Passivita!$B$6:$Q$105,COLUMN(Attivita_Passivita!N$4)-1,FALSE)),0,VLOOKUP($A142,Attivita_Passivita!$B$6:$Q$105,COLUMN(Attivita_Passivita!N$4)-1,FALSE))))))","v":""},{"$f":"IF($A142=\"\",\"\",IF(H$4=\"\",\"\",IF(OR($B142=\"X\", $B142=\"I\"),INDIRECT(ADDRESS(IF($B142=\"X\",12,13),MATCH(SP_PIANO!H$4,BASE!$B$2:$F$2,0)+1,,,\"BASE\")),IF($B142=\"U\",-INDIRECT(ADDRESS(4+MATCH(\"U\",CE_PIANO!$B$5:$B$206,0),COLUMN(SP_PIANO!H$4),,,\"CE_PIANO\")),IF(ISERROR(VLOOKUP($A142,Attivita_Passivita!$B$6:$Q$105,COLUMN(Attivita_Passivita!O$4)-1,FALSE)),0,VLOOKUP($A142,Attivita_Passivita!$B$6:$Q$105,COLUMN(Attivita_Passivita!O$4)-1,FALSE))))))","v":""}]
[{"$f":"IF(SP_STORICO!A143=\"\",\"\",SP_STORICO!A143)","v":""},{"$f":"IF($A143=\"\",\"\",VLOOKUP(A143,SCHEMA_SP!$E$5:$F$54,2,FALSE))","v":""},{"$f":"IF(SP_STORICO!A143=\"\",\"\",SP_STORICO!B143)","v":""},{"$f":"IF(SP_STORICO!C143=\"\",\"\",SP_STORICO!C143)","v":""},{"$f":"IF(SP_STORICO!D143=\"\",\"\",SP_STORICO!D143)","v":""},{"$f":"IF($A143=\"\",\"\",IF(F$4=\"\",\"\",IF(OR($B143=\"X\", $B143=\"I\"),INDIRECT(ADDRESS(IF($B143=\"X\",12,13),MATCH(SP_PIANO!F$4,BASE!$B$2:$F$2,0)+1,,,\"BASE\")),IF($B143=\"U\",-INDIRECT(ADDRESS(4+MATCH(\"U\",CE_PIANO!$B$5:$B$206,0),COLUMN(SP_PIANO!F$4),,,\"CE_PIANO\")),IF(ISERROR(VLOOKUP($A143,Attivita_Passivita!$B$6:$Q$105,COLUMN(Attivita_Passivita!M$4)-1,FALSE)),0,VLOOKUP($A143,Attivita_Passivita!$B$6:$Q$105,COLUMN(Attivita_Passivita!M$4)-1,FALSE))))))","v":""},{"$f":"IF($A143=\"\",\"\",IF(G$4=\"\",\"\",IF(OR($B143=\"X\", $B143=\"I\"),INDIRECT(ADDRESS(IF($B143=\"X\",12,13),MATCH(SP_PIANO!G$4,BASE!$B$2:$F$2,0)+1,,,\"BASE\")),IF($B143=\"U\",-INDIRECT(ADDRESS(4+MATCH(\"U\",CE_PIANO!$B$5:$B$206,0),COLUMN(SP_PIANO!G$4),,,\"CE_PIANO\")),IF(ISERROR(VLOOKUP($A143,Attivita_Passivita!$B$6:$Q$105,COLUMN(Attivita_Passivita!N$4)-1,FALSE)),0,VLOOKUP($A143,Attivita_Passivita!$B$6:$Q$105,COLUMN(Attivita_Passivita!N$4)-1,FALSE))))))","v":""},{"$f":"IF($A143=\"\",\"\",IF(H$4=\"\",\"\",IF(OR($B143=\"X\", $B143=\"I\"),INDIRECT(ADDRESS(IF($B143=\"X\",12,13),MATCH(SP_PIANO!H$4,BASE!$B$2:$F$2,0)+1,,,\"BASE\")),IF($B143=\"U\",-INDIRECT(ADDRESS(4+MATCH(\"U\",CE_PIANO!$B$5:$B$206,0),COLUMN(SP_PIANO!H$4),,,\"CE_PIANO\")),IF(ISERROR(VLOOKUP($A143,Attivita_Passivita!$B$6:$Q$105,COLUMN(Attivita_Passivita!O$4)-1,FALSE)),0,VLOOKUP($A143,Attivita_Passivita!$B$6:$Q$105,COLUMN(Attivita_Passivita!O$4)-1,FALSE))))))","v":""}]
[{"$f":"IF(SP_STORICO!A144=\"\",\"\",SP_STORICO!A144)","v":""},{"$f":"IF($A144=\"\",\"\",VLOOKUP(A144,SCHEMA_SP!$E$5:$F$54,2,FALSE))","v":""},{"$f":"IF(SP_STORICO!A144=\"\",\"\",SP_STORICO!B144)","v":""},{"$f":"IF(SP_STORICO!C144=\"\",\"\",SP_STORICO!C144)","v":""},{"$f":"IF(SP_STORICO!D144=\"\",\"\",SP_STORICO!D144)","v":""},{"$f":"IF($A144=\"\",\"\",IF(F$4=\"\",\"\",IF(OR($B144=\"X\", $B144=\"I\"),INDIRECT(ADDRESS(IF($B144=\"X\",12,13),MATCH(SP_PIANO!F$4,BASE!$B$2:$F$2,0)+1,,,\"BASE\")),IF($B144=\"U\",-INDIRECT(ADDRESS(4+MATCH(\"U\",CE_PIANO!$B$5:$B$206,0),COLUMN(SP_PIANO!F$4),,,\"CE_PIANO\")),IF(ISERROR(VLOOKUP($A144,Attivita_Passivita!$B$6:$Q$105,COLUMN(Attivita_Passivita!M$4)-1,FALSE)),0,VLOOKUP($A144,Attivita_Passivita!$B$6:$Q$105,COLUMN(Attivita_Passivita!M$4)-1,FALSE))))))","v":""},{"$f":"IF($A144=\"\",\"\",IF(G$4=\"\",\"\",IF(OR($B144=\"X\", $B144=\"I\"),INDIRECT(ADDRESS(IF($B144=\"X\",12,13),MATCH(SP_PIANO!G$4,BASE!$B$2:$F$2,0)+1,,,\"BASE\")),IF($B144=\"U\",-INDIRECT(ADDRESS(4+MATCH(\"U\",CE_PIANO!$B$5:$B$206,0),COLUMN(SP_PIANO!G$4),,,\"CE_PIANO\")),IF(ISERROR(VLOOKUP($A144,Attivita_Passivita!$B$6:$Q$105,COLUMN(Attivita_Passivita!N$4)-1,FALSE)),0,VLOOKUP($A144,Attivita_Passivita!$B$6:$Q$105,COLUMN(Attivita_Passivita!N$4)-1,FALSE))))))","v":""},{"$f":"IF($A144=\"\",\"\",IF(H$4=\"\",\"\",IF(OR($B144=\"X\", $B144=\"I\"),INDIRECT(ADDRESS(IF($B144=\"X\",12,13),MATCH(SP_PIANO!H$4,BASE!$B$2:$F$2,0)+1,,,\"BASE\")),IF($B144=\"U\",-INDIRECT(ADDRESS(4+MATCH(\"U\",CE_PIANO!$B$5:$B$206,0),COLUMN(SP_PIANO!H$4),,,\"CE_PIANO\")),IF(ISERROR(VLOOKUP($A144,Attivita_Passivita!$B$6:$Q$105,COLUMN(Attivita_Passivita!O$4)-1,FALSE)),0,VLOOKUP($A144,Attivita_Passivita!$B$6:$Q$105,COLUMN(Attivita_Passivita!O$4)-1,FALSE))))))","v":""}]
[{"$f":"IF(SP_STORICO!A145=\"\",\"\",SP_STORICO!A145)","v":""},{"$f":"IF($A145=\"\",\"\",VLOOKUP(A145,SCHEMA_SP!$E$5:$F$54,2,FALSE))","v":""},{"$f":"IF(SP_STORICO!A145=\"\",\"\",SP_STORICO!B145)","v":""},{"$f":"IF(SP_STORICO!C145=\"\",\"\",SP_STORICO!C145)","v":""},{"$f":"IF(SP_STORICO!D145=\"\",\"\",SP_STORICO!D145)","v":""},{"$f":"IF($A145=\"\",\"\",IF(F$4=\"\",\"\",IF(OR($B145=\"X\", $B145=\"I\"),INDIRECT(ADDRESS(IF($B145=\"X\",12,13),MATCH(SP_PIANO!F$4,BASE!$B$2:$F$2,0)+1,,,\"BASE\")),IF($B145=\"U\",-INDIRECT(ADDRESS(4+MATCH(\"U\",CE_PIANO!$B$5:$B$206,0),COLUMN(SP_PIANO!F$4),,,\"CE_PIANO\")),IF(ISERROR(VLOOKUP($A145,Attivita_Passivita!$B$6:$Q$105,COLUMN(Attivita_Passivita!M$4)-1,FALSE)),0,VLOOKUP($A145,Attivita_Passivita!$B$6:$Q$105,COLUMN(Attivita_Passivita!M$4)-1,FALSE))))))","v":""},{"$f":"IF($A145=\"\",\"\",IF(G$4=\"\",\"\",IF(OR($B145=\"X\", $B145=\"I\"),INDIRECT(ADDRESS(IF($B145=\"X\",12,13),MATCH(SP_PIANO!G$4,BASE!$B$2:$F$2,0)+1,,,\"BASE\")),IF($B145=\"U\",-INDIRECT(ADDRESS(4+MATCH(\"U\",CE_PIANO!$B$5:$B$206,0),COLUMN(SP_PIANO!G$4),,,\"CE_PIANO\")),IF(ISERROR(VLOOKUP($A145,Attivita_Passivita!$B$6:$Q$105,COLUMN(Attivita_Passivita!N$4)-1,FALSE)),0,VLOOKUP($A145,Attivita_Passivita!$B$6:$Q$105,COLUMN(Attivita_Passivita!N$4)-1,FALSE))))))","v":""},{"$f":"IF($A145=\"\",\"\",IF(H$4=\"\",\"\",IF(OR($B145=\"X\", $B145=\"I\"),INDIRECT(ADDRESS(IF($B145=\"X\",12,13),MATCH(SP_PIANO!H$4,BASE!$B$2:$F$2,0)+1,,,\"BASE\")),IF($B145=\"U\",-INDIRECT(ADDRESS(4+MATCH(\"U\",CE_PIANO!$B$5:$B$206,0),COLUMN(SP_PIANO!H$4),,,\"CE_PIANO\")),IF(ISERROR(VLOOKUP($A145,Attivita_Passivita!$B$6:$Q$105,COLUMN(Attivita_Passivita!O$4)-1,FALSE)),0,VLOOKUP($A145,Attivita_Passivita!$B$6:$Q$105,COLUMN(Attivita_Passivita!O$4)-1,FALSE))))))","v":""}]
[{"$f":"IF(SP_STORICO!A146=\"\",\"\",SP_STORICO!A146)","v":""},{"$f":"IF($A146=\"\",\"\",VLOOKUP(A146,SCHEMA_SP!$E$5:$F$54,2,FALSE))","v":""},{"$f":"IF(SP_STORICO!A146=\"\",\"\",SP_STORICO!B146)","v":""},{"$f":"IF(SP_STORICO!C146=\"\",\"\",SP_STORICO!C146)","v":""},{"$f":"IF(SP_STORICO!D146=\"\",\"\",SP_STORICO!D146)","v":""},{"$f":"IF($A146=\"\",\"\",IF(F$4=\"\",\"\",IF(OR($B146=\"X\", $B146=\"I\"),INDIRECT(ADDRESS(IF($B146=\"X\",12,13),MATCH(SP_PIANO!F$4,BASE!$B$2:$F$2,0)+1,,,\"BASE\")),IF($B146=\"U\",-INDIRECT(ADDRESS(4+MATCH(\"U\",CE_PIANO!$B$5:$B$206,0),COLUMN(SP_PIANO!F$4),,,\"CE_PIANO\")),IF(ISERROR(VLOOKUP($A146,Attivita_Passivita!$B$6:$Q$105,COLUMN(Attivita_Passivita!M$4)-1,FALSE)),0,VLOOKUP($A146,Attivita_Passivita!$B$6:$Q$105,COLUMN(Attivita_Passivita!M$4)-1,FALSE))))))","v":""},{"$f":"IF($A146=\"\",\"\",IF(G$4=\"\",\"\",IF(OR($B146=\"X\", $B146=\"I\"),INDIRECT(ADDRESS(IF($B146=\"X\",12,13),MATCH(SP_PIANO!G$4,BASE!$B$2:$F$2,0)+1,,,\"BASE\")),IF($B146=\"U\",-INDIRECT(ADDRESS(4+MATCH(\"U\",CE_PIANO!$B$5:$B$206,0),COLUMN(SP_PIANO!G$4),,,\"CE_PIANO\")),IF(ISERROR(VLOOKUP($A146,Attivita_Passivita!$B$6:$Q$105,COLUMN(Attivita_Passivita!N$4)-1,FALSE)),0,VLOOKUP($A146,Attivita_Passivita!$B$6:$Q$105,COLUMN(Attivita_Passivita!N$4)-1,FALSE))))))","v":""},{"$f":"IF($A146=\"\",\"\",IF(H$4=\"\",\"\",IF(OR($B146=\"X\", $B146=\"I\"),INDIRECT(ADDRESS(IF($B146=\"X\",12,13),MATCH(SP_PIANO!H$4,BASE!$B$2:$F$2,0)+1,,,\"BASE\")),IF($B146=\"U\",-INDIRECT(ADDRESS(4+MATCH(\"U\",CE_PIANO!$B$5:$B$206,0),COLUMN(SP_PIANO!H$4),,,\"CE_PIANO\")),IF(ISERROR(VLOOKUP($A146,Attivita_Passivita!$B$6:$Q$105,COLUMN(Attivita_Passivita!O$4)-1,FALSE)),0,VLOOKUP($A146,Attivita_Passivita!$B$6:$Q$105,COLUMN(Attivita_Passivita!O$4)-1,FALSE))))))","v":""}]
[{"$f":"IF(SP_STORICO!A147=\"\",\"\",SP_STORICO!A147)","v":""},{"$f":"IF($A147=\"\",\"\",VLOOKUP(A147,SCHEMA_SP!$E$5:$F$54,2,FALSE))","v":""},{"$f":"IF(SP_STORICO!A147=\"\",\"\",SP_STORICO!B147)","v":""},{"$f":"IF(SP_STORICO!C147=\"\",\"\",SP_STORICO!C147)","v":""},{"$f":"IF(SP_STORICO!D147=\"\",\"\",SP_STORICO!D147)","v":""},{"$f":"IF($A147=\"\",\"\",IF(F$4=\"\",\"\",IF(OR($B147=\"X\", $B147=\"I\"),INDIRECT(ADDRESS(IF($B147=\"X\",12,13),MATCH(SP_PIANO!F$4,BASE!$B$2:$F$2,0)+1,,,\"BASE\")),IF($B147=\"U\",-INDIRECT(ADDRESS(4+MATCH(\"U\",CE_PIANO!$B$5:$B$206,0),COLUMN(SP_PIANO!F$4),,,\"CE_PIANO\")),IF(ISERROR(VLOOKUP($A147,Attivita_Passivita!$B$6:$Q$105,COLUMN(Attivita_Passivita!M$4)-1,FALSE)),0,VLOOKUP($A147,Attivita_Passivita!$B$6:$Q$105,COLUMN(Attivita_Passivita!M$4)-1,FALSE))))))","v":""},{"$f":"IF($A147=\"\",\"\",IF(G$4=\"\",\"\",IF(OR($B147=\"X\", $B147=\"I\"),INDIRECT(ADDRESS(IF($B147=\"X\",12,13),MATCH(SP_PIANO!G$4,BASE!$B$2:$F$2,0)+1,,,\"BASE\")),IF($B147=\"U\",-INDIRECT(ADDRESS(4+MATCH(\"U\",CE_PIANO!$B$5:$B$206,0),COLUMN(SP_PIANO!G$4),,,\"CE_PIANO\")),IF(ISERROR(VLOOKUP($A147,Attivita_Passivita!$B$6:$Q$105,COLUMN(Attivita_Passivita!N$4)-1,FALSE)),0,VLOOKUP($A147,Attivita_Passivita!$B$6:$Q$105,COLUMN(Attivita_Passivita!N$4)-1,FALSE))))))","v":""},{"$f":"IF($A147=\"\",\"\",IF(H$4=\"\",\"\",IF(OR($B147=\"X\", $B147=\"I\"),INDIRECT(ADDRESS(IF($B147=\"X\",12,13),MATCH(SP_PIANO!H$4,BASE!$B$2:$F$2,0)+1,,,\"BASE\")),IF($B147=\"U\",-INDIRECT(ADDRESS(4+MATCH(\"U\",CE_PIANO!$B$5:$B$206,0),COLUMN(SP_PIANO!H$4),,,\"CE_PIANO\")),IF(ISERROR(VLOOKUP($A147,Attivita_Passivita!$B$6:$Q$105,COLUMN(Attivita_Passivita!O$4)-1,FALSE)),0,VLOOKUP($A147,Attivita_Passivita!$B$6:$Q$105,COLUMN(Attivita_Passivita!O$4)-1,FALSE))))))","v":""}]
[{"$f":"IF(SP_STORICO!A148=\"\",\"\",SP_STORICO!A148)","v":""},{"$f":"IF($A148=\"\",\"\",VLOOKUP(A148,SCHEMA_SP!$E$5:$F$54,2,FALSE))","v":""},{"$f":"IF(SP_STORICO!A148=\"\",\"\",SP_STORICO!B148)","v":""},{"$f":"IF(SP_STORICO!C148=\"\",\"\",SP_STORICO!C148)","v":""},{"$f":"IF(SP_STORICO!D148=\"\",\"\",SP_STORICO!D148)","v":""},{"$f":"IF($A148=\"\",\"\",IF(F$4=\"\",\"\",IF(OR($B148=\"X\", $B148=\"I\"),INDIRECT(ADDRESS(IF($B148=\"X\",12,13),MATCH(SP_PIANO!F$4,BASE!$B$2:$F$2,0)+1,,,\"BASE\")),IF($B148=\"U\",-INDIRECT(ADDRESS(4+MATCH(\"U\",CE_PIANO!$B$5:$B$206,0),COLUMN(SP_PIANO!F$4),,,\"CE_PIANO\")),IF(ISERROR(VLOOKUP($A148,Attivita_Passivita!$B$6:$Q$105,COLUMN(Attivita_Passivita!M$4)-1,FALSE)),0,VLOOKUP($A148,Attivita_Passivita!$B$6:$Q$105,COLUMN(Attivita_Passivita!M$4)-1,FALSE))))))","v":""},{"$f":"IF($A148=\"\",\"\",IF(G$4=\"\",\"\",IF(OR($B148=\"X\", $B148=\"I\"),INDIRECT(ADDRESS(IF($B148=\"X\",12,13),MATCH(SP_PIANO!G$4,BASE!$B$2:$F$2,0)+1,,,\"BASE\")),IF($B148=\"U\",-INDIRECT(ADDRESS(4+MATCH(\"U\",CE_PIANO!$B$5:$B$206,0),COLUMN(SP_PIANO!G$4),,,\"CE_PIANO\")),IF(ISERROR(VLOOKUP($A148,Attivita_Passivita!$B$6:$Q$105,COLUMN(Attivita_Passivita!N$4)-1,FALSE)),0,VLOOKUP($A148,Attivita_Passivita!$B$6:$Q$105,COLUMN(Attivita_Passivita!N$4)-1,FALSE))))))","v":""},{"$f":"IF($A148=\"\",\"\",IF(H$4=\"\",\"\",IF(OR($B148=\"X\", $B148=\"I\"),INDIRECT(ADDRESS(IF($B148=\"X\",12,13),MATCH(SP_PIANO!H$4,BASE!$B$2:$F$2,0)+1,,,\"BASE\")),IF($B148=\"U\",-INDIRECT(ADDRESS(4+MATCH(\"U\",CE_PIANO!$B$5:$B$206,0),COLUMN(SP_PIANO!H$4),,,\"CE_PIANO\")),IF(ISERROR(VLOOKUP($A148,Attivita_Passivita!$B$6:$Q$105,COLUMN(Attivita_Passivita!O$4)-1,FALSE)),0,VLOOKUP($A148,Attivita_Passivita!$B$6:$Q$105,COLUMN(Attivita_Passivita!O$4)-1,FALSE))))))","v":""}]
[{"$f":"IF(SP_STORICO!A149=\"\",\"\",SP_STORICO!A149)","v":""},{"$f":"IF($A149=\"\",\"\",VLOOKUP(A149,SCHEMA_SP!$E$5:$F$54,2,FALSE))","v":""},{"$f":"IF(SP_STORICO!A149=\"\",\"\",SP_STORICO!B149)","v":""},{"$f":"IF(SP_STORICO!C149=\"\",\"\",SP_STORICO!C149)","v":""},{"$f":"IF(SP_STORICO!D149=\"\",\"\",SP_STORICO!D149)","v":""},{"$f":"IF($A149=\"\",\"\",IF(F$4=\"\",\"\",IF(OR($B149=\"X\", $B149=\"I\"),INDIRECT(ADDRESS(IF($B149=\"X\",12,13),MATCH(SP_PIANO!F$4,BASE!$B$2:$F$2,0)+1,,,\"BASE\")),IF($B149=\"U\",-INDIRECT(ADDRESS(4+MATCH(\"U\",CE_PIANO!$B$5:$B$206,0),COLUMN(SP_PIANO!F$4),,,\"CE_PIANO\")),IF(ISERROR(VLOOKUP($A149,Attivita_Passivita!$B$6:$Q$105,COLUMN(Attivita_Passivita!M$4)-1,FALSE)),0,VLOOKUP($A149,Attivita_Passivita!$B$6:$Q$105,COLUMN(Attivita_Passivita!M$4)-1,FALSE))))))","v":""},{"$f":"IF($A149=\"\",\"\",IF(G$4=\"\",\"\",IF(OR($B149=\"X\", $B149=\"I\"),INDIRECT(ADDRESS(IF($B149=\"X\",12,13),MATCH(SP_PIANO!G$4,BASE!$B$2:$F$2,0)+1,,,\"BASE\")),IF($B149=\"U\",-INDIRECT(ADDRESS(4+MATCH(\"U\",CE_PIANO!$B$5:$B$206,0),COLUMN(SP_PIANO!G$4),,,\"CE_PIANO\")),IF(ISERROR(VLOOKUP($A149,Attivita_Passivita!$B$6:$Q$105,COLUMN(Attivita_Passivita!N$4)-1,FALSE)),0,VLOOKUP($A149,Attivita_Passivita!$B$6:$Q$105,COLUMN(Attivita_Passivita!N$4)-1,FALSE))))))","v":""},{"$f":"IF($A149=\"\",\"\",IF(H$4=\"\",\"\",IF(OR($B149=\"X\", $B149=\"I\"),INDIRECT(ADDRESS(IF($B149=\"X\",12,13),MATCH(SP_PIANO!H$4,BASE!$B$2:$F$2,0)+1,,,\"BASE\")),IF($B149=\"U\",-INDIRECT(ADDRESS(4+MATCH(\"U\",CE_PIANO!$B$5:$B$206,0),COLUMN(SP_PIANO!H$4),,,\"CE_PIANO\")),IF(ISERROR(VLOOKUP($A149,Attivita_Passivita!$B$6:$Q$105,COLUMN(Attivita_Passivita!O$4)-1,FALSE)),0,VLOOKUP($A149,Attivita_Passivita!$B$6:$Q$105,COLUMN(Attivita_Passivita!O$4)-1,FALSE))))))","v":""}]
[{"$f":"IF(SP_STORICO!A150=\"\",\"\",SP_STORICO!A150)","v":""},{"$f":"IF($A150=\"\",\"\",VLOOKUP(A150,SCHEMA_SP!$E$5:$F$54,2,FALSE))","v":""},{"$f":"IF(SP_STORICO!A150=\"\",\"\",SP_STORICO!B150)","v":""},{"$f":"IF(SP_STORICO!C150=\"\",\"\",SP_STORICO!C150)","v":""},{"$f":"IF(SP_STORICO!D150=\"\",\"\",SP_STORICO!D150)","v":""},{"$f":"IF($A150=\"\",\"\",IF(F$4=\"\",\"\",IF(OR($B150=\"X\", $B150=\"I\"),INDIRECT(ADDRESS(IF($B150=\"X\",12,13),MATCH(SP_PIANO!F$4,BASE!$B$2:$F$2,0)+1,,,\"BASE\")),IF($B150=\"U\",-INDIRECT(ADDRESS(4+MATCH(\"U\",CE_PIANO!$B$5:$B$206,0),COLUMN(SP_PIANO!F$4),,,\"CE_PIANO\")),IF(ISERROR(VLOOKUP($A150,Attivita_Passivita!$B$6:$Q$105,COLUMN(Attivita_Passivita!M$4)-1,FALSE)),0,VLOOKUP($A150,Attivita_Passivita!$B$6:$Q$105,COLUMN(Attivita_Passivita!M$4)-1,FALSE))))))","v":""},{"$f":"IF($A150=\"\",\"\",IF(G$4=\"\",\"\",IF(OR($B150=\"X\", $B150=\"I\"),INDIRECT(ADDRESS(IF($B150=\"X\",12,13),MATCH(SP_PIANO!G$4,BASE!$B$2:$F$2,0)+1,,,\"BASE\")),IF($B150=\"U\",-INDIRECT(ADDRESS(4+MATCH(\"U\",CE_PIANO!$B$5:$B$206,0),COLUMN(SP_PIANO!G$4),,,\"CE_PIANO\")),IF(ISERROR(VLOOKUP($A150,Attivita_Passivita!$B$6:$Q$105,COLUMN(Attivita_Passivita!N$4)-1,FALSE)),0,VLOOKUP($A150,Attivita_Passivita!$B$6:$Q$105,COLUMN(Attivita_Passivita!N$4)-1,FALSE))))))","v":""},{"$f":"IF($A150=\"\",\"\",IF(H$4=\"\",\"\",IF(OR($B150=\"X\", $B150=\"I\"),INDIRECT(ADDRESS(IF($B150=\"X\",12,13),MATCH(SP_PIANO!H$4,BASE!$B$2:$F$2,0)+1,,,\"BASE\")),IF($B150=\"U\",-INDIRECT(ADDRESS(4+MATCH(\"U\",CE_PIANO!$B$5:$B$206,0),COLUMN(SP_PIANO!H$4),,,\"CE_PIANO\")),IF(ISERROR(VLOOKUP($A150,Attivita_Passivita!$B$6:$Q$105,COLUMN(Attivita_Passivita!O$4)-1,FALSE)),0,VLOOKUP($A150,Attivita_Passivita!$B$6:$Q$105,COLUMN(Attivita_Passivita!O$4)-1,FALSE))))))","v":""}]
[{"$f":"IF(SP_STORICO!A151=\"\",\"\",SP_STORICO!A151)","v":""},{"$f":"IF($A151=\"\",\"\",VLOOKUP(A151,SCHEMA_SP!$E$5:$F$54,2,FALSE))","v":""},{"$f":"IF(SP_STORICO!A151=\"\",\"\",SP_STORICO!B151)","v":""},{"$f":"IF(SP_STORICO!C151=\"\",\"\",SP_STORICO!C151)","v":""},{"$f":"IF(SP_STORICO!D151=\"\",\"\",SP_STORICO!D151)","v":""},{"$f":"IF($A151=\"\",\"\",IF(F$4=\"\",\"\",IF(OR($B151=\"X\", $B151=\"I\"),INDIRECT(ADDRESS(IF($B151=\"X\",12,13),MATCH(SP_PIANO!F$4,BASE!$B$2:$F$2,0)+1,,,\"BASE\")),IF($B151=\"U\",-INDIRECT(ADDRESS(4+MATCH(\"U\",CE_PIANO!$B$5:$B$206,0),COLUMN(SP_PIANO!F$4),,,\"CE_PIANO\")),IF(ISERROR(VLOOKUP($A151,Attivita_Passivita!$B$6:$Q$105,COLUMN(Attivita_Passivita!M$4)-1,FALSE)),0,VLOOKUP($A151,Attivita_Passivita!$B$6:$Q$105,COLUMN(Attivita_Passivita!M$4)-1,FALSE))))))","v":""},{"$f":"IF($A151=\"\",\"\",IF(G$4=\"\",\"\",IF(OR($B151=\"X\", $B151=\"I\"),INDIRECT(ADDRESS(IF($B151=\"X\",12,13),MATCH(SP_PIANO!G$4,BASE!$B$2:$F$2,0)+1,,,\"BASE\")),IF($B151=\"U\",-INDIRECT(ADDRESS(4+MATCH(\"U\",CE_PIANO!$B$5:$B$206,0),COLUMN(SP_PIANO!G$4),,,\"CE_PIANO\")),IF(ISERROR(VLOOKUP($A151,Attivita_Passivita!$B$6:$Q$105,COLUMN(Attivita_Passivita!N$4)-1,FALSE)),0,VLOOKUP($A151,Attivita_Passivita!$B$6:$Q$105,COLUMN(Attivita_Passivita!N$4)-1,FALSE))))))","v":""},{"$f":"IF($A151=\"\",\"\",IF(H$4=\"\",\"\",IF(OR($B151=\"X\", $B151=\"I\"),INDIRECT(ADDRESS(IF($B151=\"X\",12,13),MATCH(SP_PIANO!H$4,BASE!$B$2:$F$2,0)+1,,,\"BASE\")),IF($B151=\"U\",-INDIRECT(ADDRESS(4+MATCH(\"U\",CE_PIANO!$B$5:$B$206,0),COLUMN(SP_PIANO!H$4),,,\"CE_PIANO\")),IF(ISERROR(VLOOKUP($A151,Attivita_Passivita!$B$6:$Q$105,COLUMN(Attivita_Passivita!O$4)-1,FALSE)),0,VLOOKUP($A151,Attivita_Passivita!$B$6:$Q$105,COLUMN(Attivita_Passivita!O$4)-1,FALSE))))))","v":""}]
[{"$f":"IF(SP_STORICO!A152=\"\",\"\",SP_STORICO!A152)","v":""},{"$f":"IF($A152=\"\",\"\",VLOOKUP(A152,SCHEMA_SP!$E$5:$F$54,2,FALSE))","v":""},{"$f":"IF(SP_STORICO!A152=\"\",\"\",SP_STORICO!B152)","v":""},{"$f":"IF(SP_STORICO!C152=\"\",\"\",SP_STORICO!C152)","v":""},{"$f":"IF(SP_STORICO!D152=\"\",\"\",SP_STORICO!D152)","v":""},{"$f":"IF($A152=\"\",\"\",IF(F$4=\"\",\"\",IF(OR($B152=\"X\", $B152=\"I\"),INDIRECT(ADDRESS(IF($B152=\"X\",12,13),MATCH(SP_PIANO!F$4,BASE!$B$2:$F$2,0)+1,,,\"BASE\")),IF($B152=\"U\",-INDIRECT(ADDRESS(4+MATCH(\"U\",CE_PIANO!$B$5:$B$206,0),COLUMN(SP_PIANO!F$4),,,\"CE_PIANO\")),IF(ISERROR(VLOOKUP($A152,Attivita_Passivita!$B$6:$Q$105,COLUMN(Attivita_Passivita!M$4)-1,FALSE)),0,VLOOKUP($A152,Attivita_Passivita!$B$6:$Q$105,COLUMN(Attivita_Passivita!M$4)-1,FALSE))))))","v":""},{"$f":"IF($A152=\"\",\"\",IF(G$4=\"\",\"\",IF(OR($B152=\"X\", $B152=\"I\"),INDIRECT(ADDRESS(IF($B152=\"X\",12,13),MATCH(SP_PIANO!G$4,BASE!$B$2:$F$2,0)+1,,,\"BASE\")),IF($B152=\"U\",-INDIRECT(ADDRESS(4+MATCH(\"U\",CE_PIANO!$B$5:$B$206,0),COLUMN(SP_PIANO!G$4),,,\"CE_PIANO\")),IF(ISERROR(VLOOKUP($A152,Attivita_Passivita!$B$6:$Q$105,COLUMN(Attivita_Passivita!N$4)-1,FALSE)),0,VLOOKUP($A152,Attivita_Passivita!$B$6:$Q$105,COLUMN(Attivita_Passivita!N$4)-1,FALSE))))))","v":""},{"$f":"IF($A152=\"\",\"\",IF(H$4=\"\",\"\",IF(OR($B152=\"X\", $B152=\"I\"),INDIRECT(ADDRESS(IF($B152=\"X\",12,13),MATCH(SP_PIANO!H$4,BASE!$B$2:$F$2,0)+1,,,\"BASE\")),IF($B152=\"U\",-INDIRECT(ADDRESS(4+MATCH(\"U\",CE_PIANO!$B$5:$B$206,0),COLUMN(SP_PIANO!H$4),,,\"CE_PIANO\")),IF(ISERROR(VLOOKUP($A152,Attivita_Passivita!$B$6:$Q$105,COLUMN(Attivita_Passivita!O$4)-1,FALSE)),0,VLOOKUP($A152,Attivita_Passivita!$B$6:$Q$105,COLUMN(Attivita_Passivita!O$4)-1,FALSE))))))","v":""}]
[{"$f":"IF(SP_STORICO!A153=\"\",\"\",SP_STORICO!A153)","v":""},{"$f":"IF($A153=\"\",\"\",VLOOKUP(A153,SCHEMA_SP!$E$5:$F$54,2,FALSE))","v":""},{"$f":"IF(SP_STORICO!A153=\"\",\"\",SP_STORICO!B153)","v":""},{"$f":"IF(SP_STORICO!C153=\"\",\"\",SP_STORICO!C153)","v":""},{"$f":"IF(SP_STORICO!D153=\"\",\"\",SP_STORICO!D153)","v":""},{"$f":"IF($A153=\"\",\"\",IF(F$4=\"\",\"\",IF(OR($B153=\"X\", $B153=\"I\"),INDIRECT(ADDRESS(IF($B153=\"X\",12,13),MATCH(SP_PIANO!F$4,BASE!$B$2:$F$2,0)+1,,,\"BASE\")),IF($B153=\"U\",-INDIRECT(ADDRESS(4+MATCH(\"U\",CE_PIANO!$B$5:$B$206,0),COLUMN(SP_PIANO!F$4),,,\"CE_PIANO\")),IF(ISERROR(VLOOKUP($A153,Attivita_Passivita!$B$6:$Q$105,COLUMN(Attivita_Passivita!M$4)-1,FALSE)),0,VLOOKUP($A153,Attivita_Passivita!$B$6:$Q$105,COLUMN(Attivita_Passivita!M$4)-1,FALSE))))))","v":""},{"$f":"IF($A153=\"\",\"\",IF(G$4=\"\",\"\",IF(OR($B153=\"X\", $B153=\"I\"),INDIRECT(ADDRESS(IF($B153=\"X\",12,13),MATCH(SP_PIANO!G$4,BASE!$B$2:$F$2,0)+1,,,\"BASE\")),IF($B153=\"U\",-INDIRECT(ADDRESS(4+MATCH(\"U\",CE_PIANO!$B$5:$B$206,0),COLUMN(SP_PIANO!G$4),,,\"CE_PIANO\")),IF(ISERROR(VLOOKUP($A153,Attivita_Passivita!$B$6:$Q$105,COLUMN(Attivita_Passivita!N$4)-1,FALSE)),0,VLOOKUP($A153,Attivita_Passivita!$B$6:$Q$105,COLUMN(Attivita_Passivita!N$4)-1,FALSE))))))","v":""},{"$f":"IF($A153=\"\",\"\",IF(H$4=\"\",\"\",IF(OR($B153=\"X\", $B153=\"I\"),INDIRECT(ADDRESS(IF($B153=\"X\",12,13),MATCH(SP_PIANO!H$4,BASE!$B$2:$F$2,0)+1,,,\"BASE\")),IF($B153=\"U\",-INDIRECT(ADDRESS(4+MATCH(\"U\",CE_PIANO!$B$5:$B$206,0),COLUMN(SP_PIANO!H$4),,,\"CE_PIANO\")),IF(ISERROR(VLOOKUP($A153,Attivita_Passivita!$B$6:$Q$105,COLUMN(Attivita_Passivita!O$4)-1,FALSE)),0,VLOOKUP($A153,Attivita_Passivita!$B$6:$Q$105,COLUMN(Attivita_Passivita!O$4)-1,FALSE))))))","v":""}]
[{"$f":"IF(SP_STORICO!A154=\"\",\"\",SP_STORICO!A154)","v":""},{"$f":"IF($A154=\"\",\"\",VLOOKUP(A154,SCHEMA_SP!$E$5:$F$54,2,FALSE))","v":""},{"$f":"IF(SP_STORICO!A154=\"\",\"\",SP_STORICO!B154)","v":""},{"$f":"IF(SP_STORICO!C154=\"\",\"\",SP_STORICO!C154)","v":""},{"$f":"IF(SP_STORICO!D154=\"\",\"\",SP_STORICO!D154)","v":""},{"$f":"IF($A154=\"\",\"\",IF(F$4=\"\",\"\",IF(OR($B154=\"X\", $B154=\"I\"),INDIRECT(ADDRESS(IF($B154=\"X\",12,13),MATCH(SP_PIANO!F$4,BASE!$B$2:$F$2,0)+1,,,\"BASE\")),IF($B154=\"U\",-INDIRECT(ADDRESS(4+MATCH(\"U\",CE_PIANO!$B$5:$B$206,0),COLUMN(SP_PIANO!F$4),,,\"CE_PIANO\")),IF(ISERROR(VLOOKUP($A154,Attivita_Passivita!$B$6:$Q$105,COLUMN(Attivita_Passivita!M$4)-1,FALSE)),0,VLOOKUP($A154,Attivita_Passivita!$B$6:$Q$105,COLUMN(Attivita_Passivita!M$4)-1,FALSE))))))","v":""},{"$f":"IF($A154=\"\",\"\",IF(G$4=\"\",\"\",IF(OR($B154=\"X\", $B154=\"I\"),INDIRECT(ADDRESS(IF($B154=\"X\",12,13),MATCH(SP_PIANO!G$4,BASE!$B$2:$F$2,0)+1,,,\"BASE\")),IF($B154=\"U\",-INDIRECT(ADDRESS(4+MATCH(\"U\",CE_PIANO!$B$5:$B$206,0),COLUMN(SP_PIANO!G$4),,,\"CE_PIANO\")),IF(ISERROR(VLOOKUP($A154,Attivita_Passivita!$B$6:$Q$105,COLUMN(Attivita_Passivita!N$4)-1,FALSE)),0,VLOOKUP($A154,Attivita_Passivita!$B$6:$Q$105,COLUMN(Attivita_Passivita!N$4)-1,FALSE))))))","v":""},{"$f":"IF($A154=\"\",\"\",IF(H$4=\"\",\"\",IF(OR($B154=\"X\", $B154=\"I\"),INDIRECT(ADDRESS(IF($B154=\"X\",12,13),MATCH(SP_PIANO!H$4,BASE!$B$2:$F$2,0)+1,,,\"BASE\")),IF($B154=\"U\",-INDIRECT(ADDRESS(4+MATCH(\"U\",CE_PIANO!$B$5:$B$206,0),COLUMN(SP_PIANO!H$4),,,\"CE_PIANO\")),IF(ISERROR(VLOOKUP($A154,Attivita_Passivita!$B$6:$Q$105,COLUMN(Attivita_Passivita!O$4)-1,FALSE)),0,VLOOKUP($A154,Attivita_Passivita!$B$6:$Q$105,COLUMN(Attivita_Passivita!O$4)-1,FALSE))))))","v":""}]
[{"$f":"IF(SP_STORICO!A155=\"\",\"\",SP_STORICO!A155)","v":""},{"$f":"IF($A155=\"\",\"\",VLOOKUP(A155,SCHEMA_SP!$E$5:$F$54,2,FALSE))","v":""},{"$f":"IF(SP_STORICO!A155=\"\",\"\",SP_STORICO!B155)","v":""},{"$f":"IF(SP_STORICO!C155=\"\",\"\",SP_STORICO!C155)","v":""},{"$f":"IF(SP_STORICO!D155=\"\",\"\",SP_STORICO!D155)","v":""},{"$f":"IF($A155=\"\",\"\",IF(F$4=\"\",\"\",IF(OR($B155=\"X\", $B155=\"I\"),INDIRECT(ADDRESS(IF($B155=\"X\",12,13),MATCH(SP_PIANO!F$4,BASE!$B$2:$F$2,0)+1,,,\"BASE\")),IF($B155=\"U\",-INDIRECT(ADDRESS(4+MATCH(\"U\",CE_PIANO!$B$5:$B$206,0),COLUMN(SP_PIANO!F$4),,,\"CE_PIANO\")),IF(ISERROR(VLOOKUP($A155,Attivita_Passivita!$B$6:$Q$105,COLUMN(Attivita_Passivita!M$4)-1,FALSE)),0,VLOOKUP($A155,Attivita_Passivita!$B$6:$Q$105,COLUMN(Attivita_Passivita!M$4)-1,FALSE))))))","v":""},{"$f":"IF($A155=\"\",\"\",IF(G$4=\"\",\"\",IF(OR($B155=\"X\", $B155=\"I\"),INDIRECT(ADDRESS(IF($B155=\"X\",12,13),MATCH(SP_PIANO!G$4,BASE!$B$2:$F$2,0)+1,,,\"BASE\")),IF($B155=\"U\",-INDIRECT(ADDRESS(4+MATCH(\"U\",CE_PIANO!$B$5:$B$206,0),COLUMN(SP_PIANO!G$4),,,\"CE_PIANO\")),IF(ISERROR(VLOOKUP($A155,Attivita_Passivita!$B$6:$Q$105,COLUMN(Attivita_Passivita!N$4)-1,FALSE)),0,VLOOKUP($A155,Attivita_Passivita!$B$6:$Q$105,COLUMN(Attivita_Passivita!N$4)-1,FALSE))))))","v":""},{"$f":"IF($A155=\"\",\"\",IF(H$4=\"\",\"\",IF(OR($B155=\"X\", $B155=\"I\"),INDIRECT(ADDRESS(IF($B155=\"X\",12,13),MATCH(SP_PIANO!H$4,BASE!$B$2:$F$2,0)+1,,,\"BASE\")),IF($B155=\"U\",-INDIRECT(ADDRESS(4+MATCH(\"U\",CE_PIANO!$B$5:$B$206,0),COLUMN(SP_PIANO!H$4),,,\"CE_PIANO\")),IF(ISERROR(VLOOKUP($A155,Attivita_Passivita!$B$6:$Q$105,COLUMN(Attivita_Passivita!O$4)-1,FALSE)),0,VLOOKUP($A155,Attivita_Passivita!$B$6:$Q$105,COLUMN(Attivita_Passivita!O$4)-1,FALSE))))))","v":""}]
[{"$f":"IF(SP_STORICO!A156=\"\",\"\",SP_STORICO!A156)","v":""},{"$f":"IF($A156=\"\",\"\",VLOOKUP(A156,SCHEMA_SP!$E$5:$F$54,2,FALSE))","v":""},{"$f":"IF(SP_STORICO!A156=\"\",\"\",SP_STORICO!B156)","v":""},{"$f":"IF(SP_STORICO!C156=\"\",\"\",SP_STORICO!C156)","v":""},{"$f":"IF(SP_STORICO!D156=\"\",\"\",SP_STORICO!D156)","v":""},{"$f":"IF($A156=\"\",\"\",IF(F$4=\"\",\"\",IF(OR($B156=\"X\", $B156=\"I\"),INDIRECT(ADDRESS(IF($B156=\"X\",12,13),MATCH(SP_PIANO!F$4,BASE!$B$2:$F$2,0)+1,,,\"BASE\")),IF($B156=\"U\",-INDIRECT(ADDRESS(4+MATCH(\"U\",CE_PIANO!$B$5:$B$206,0),COLUMN(SP_PIANO!F$4),,,\"CE_PIANO\")),IF(ISERROR(VLOOKUP($A156,Attivita_Passivita!$B$6:$Q$105,COLUMN(Attivita_Passivita!M$4)-1,FALSE)),0,VLOOKUP($A156,Attivita_Passivita!$B$6:$Q$105,COLUMN(Attivita_Passivita!M$4)-1,FALSE))))))","v":""},{"$f":"IF($A156=\"\",\"\",IF(G$4=\"\",\"\",IF(OR($B156=\"X\", $B156=\"I\"),INDIRECT(ADDRESS(IF($B156=\"X\",12,13),MATCH(SP_PIANO!G$4,BASE!$B$2:$F$2,0)+1,,,\"BASE\")),IF($B156=\"U\",-INDIRECT(ADDRESS(4+MATCH(\"U\",CE_PIANO!$B$5:$B$206,0),COLUMN(SP_PIANO!G$4),,,\"CE_PIANO\")),IF(ISERROR(VLOOKUP($A156,Attivita_Passivita!$B$6:$Q$105,COLUMN(Attivita_Passivita!N$4)-1,FALSE)),0,VLOOKUP($A156,Attivita_Passivita!$B$6:$Q$105,COLUMN(Attivita_Passivita!N$4)-1,FALSE))))))","v":""},{"$f":"IF($A156=\"\",\"\",IF(H$4=\"\",\"\",IF(OR($B156=\"X\", $B156=\"I\"),INDIRECT(ADDRESS(IF($B156=\"X\",12,13),MATCH(SP_PIANO!H$4,BASE!$B$2:$F$2,0)+1,,,\"BASE\")),IF($B156=\"U\",-INDIRECT(ADDRESS(4+MATCH(\"U\",CE_PIANO!$B$5:$B$206,0),COLUMN(SP_PIANO!H$4),,,\"CE_PIANO\")),IF(ISERROR(VLOOKUP($A156,Attivita_Passivita!$B$6:$Q$105,COLUMN(Attivita_Passivita!O$4)-1,FALSE)),0,VLOOKUP($A156,Attivita_Passivita!$B$6:$Q$105,COLUMN(Attivita_Passivita!O$4)-1,FALSE))))))","v":""}]
[{"$f":"IF(SP_STORICO!A157=\"\",\"\",SP_STORICO!A157)","v":""},{"$f":"IF($A157=\"\",\"\",VLOOKUP(A157,SCHEMA_SP!$E$5:$F$54,2,FALSE))","v":""},{"$f":"IF(SP_STORICO!A157=\"\",\"\",SP_STORICO!B157)","v":""},{"$f":"IF(SP_STORICO!C157=\"\",\"\",SP_STORICO!C157)","v":""},{"$f":"IF(SP_STORICO!D157=\"\",\"\",SP_STORICO!D157)","v":""},{"$f":"IF($A157=\"\",\"\",IF(F$4=\"\",\"\",IF(OR($B157=\"X\", $B157=\"I\"),INDIRECT(ADDRESS(IF($B157=\"X\",12,13),MATCH(SP_PIANO!F$4,BASE!$B$2:$F$2,0)+1,,,\"BASE\")),IF($B157=\"U\",-INDIRECT(ADDRESS(4+MATCH(\"U\",CE_PIANO!$B$5:$B$206,0),COLUMN(SP_PIANO!F$4),,,\"CE_PIANO\")),IF(ISERROR(VLOOKUP($A157,Attivita_Passivita!$B$6:$Q$105,COLUMN(Attivita_Passivita!M$4)-1,FALSE)),0,VLOOKUP($A157,Attivita_Passivita!$B$6:$Q$105,COLUMN(Attivita_Passivita!M$4)-1,FALSE))))))","v":""},{"$f":"IF($A157=\"\",\"\",IF(G$4=\"\",\"\",IF(OR($B157=\"X\", $B157=\"I\"),INDIRECT(ADDRESS(IF($B157=\"X\",12,13),MATCH(SP_PIANO!G$4,BASE!$B$2:$F$2,0)+1,,,\"BASE\")),IF($B157=\"U\",-INDIRECT(ADDRESS(4+MATCH(\"U\",CE_PIANO!$B$5:$B$206,0),COLUMN(SP_PIANO!G$4),,,\"CE_PIANO\")),IF(ISERROR(VLOOKUP($A157,Attivita_Passivita!$B$6:$Q$105,COLUMN(Attivita_Passivita!N$4)-1,FALSE)),0,VLOOKUP($A157,Attivita_Passivita!$B$6:$Q$105,COLUMN(Attivita_Passivita!N$4)-1,FALSE))))))","v":""},{"$f":"IF($A157=\"\",\"\",IF(H$4=\"\",\"\",IF(OR($B157=\"X\", $B157=\"I\"),INDIRECT(ADDRESS(IF($B157=\"X\",12,13),MATCH(SP_PIANO!H$4,BASE!$B$2:$F$2,0)+1,,,\"BASE\")),IF($B157=\"U\",-INDIRECT(ADDRESS(4+MATCH(\"U\",CE_PIANO!$B$5:$B$206,0),COLUMN(SP_PIANO!H$4),,,\"CE_PIANO\")),IF(ISERROR(VLOOKUP($A157,Attivita_Passivita!$B$6:$Q$105,COLUMN(Attivita_Passivita!O$4)-1,FALSE)),0,VLOOKUP($A157,Attivita_Passivita!$B$6:$Q$105,COLUMN(Attivita_Passivita!O$4)-1,FALSE))))))","v":""}]
[{"$f":"IF(SP_STORICO!A158=\"\",\"\",SP_STORICO!A158)","v":""},{"$f":"IF($A158=\"\",\"\",VLOOKUP(A158,SCHEMA_SP!$E$5:$F$54,2,FALSE))","v":""},{"$f":"IF(SP_STORICO!A158=\"\",\"\",SP_STORICO!B158)","v":""},{"$f":"IF(SP_STORICO!C158=\"\",\"\",SP_STORICO!C158)","v":""},{"$f":"IF(SP_STORICO!D158=\"\",\"\",SP_STORICO!D158)","v":""},{"$f":"IF($A158=\"\",\"\",IF(F$4=\"\",\"\",IF(OR($B158=\"X\", $B158=\"I\"),INDIRECT(ADDRESS(IF($B158=\"X\",12,13),MATCH(SP_PIANO!F$4,BASE!$B$2:$F$2,0)+1,,,\"BASE\")),IF($B158=\"U\",-INDIRECT(ADDRESS(4+MATCH(\"U\",CE_PIANO!$B$5:$B$206,0),COLUMN(SP_PIANO!F$4),,,\"CE_PIANO\")),IF(ISERROR(VLOOKUP($A158,Attivita_Passivita!$B$6:$Q$105,COLUMN(Attivita_Passivita!M$4)-1,FALSE)),0,VLOOKUP($A158,Attivita_Passivita!$B$6:$Q$105,COLUMN(Attivita_Passivita!M$4)-1,FALSE))))))","v":""},{"$f":"IF($A158=\"\",\"\",IF(G$4=\"\",\"\",IF(OR($B158=\"X\", $B158=\"I\"),INDIRECT(ADDRESS(IF($B158=\"X\",12,13),MATCH(SP_PIANO!G$4,BASE!$B$2:$F$2,0)+1,,,\"BASE\")),IF($B158=\"U\",-INDIRECT(ADDRESS(4+MATCH(\"U\",CE_PIANO!$B$5:$B$206,0),COLUMN(SP_PIANO!G$4),,,\"CE_PIANO\")),IF(ISERROR(VLOOKUP($A158,Attivita_Passivita!$B$6:$Q$105,COLUMN(Attivita_Passivita!N$4)-1,FALSE)),0,VLOOKUP($A158,Attivita_Passivita!$B$6:$Q$105,COLUMN(Attivita_Passivita!N$4)-1,FALSE))))))","v":""},{"$f":"IF($A158=\"\",\"\",IF(H$4=\"\",\"\",IF(OR($B158=\"X\", $B158=\"I\"),INDIRECT(ADDRESS(IF($B158=\"X\",12,13),MATCH(SP_PIANO!H$4,BASE!$B$2:$F$2,0)+1,,,\"BASE\")),IF($B158=\"U\",-INDIRECT(ADDRESS(4+MATCH(\"U\",CE_PIANO!$B$5:$B$206,0),COLUMN(SP_PIANO!H$4),,,\"CE_PIANO\")),IF(ISERROR(VLOOKUP($A158,Attivita_Passivita!$B$6:$Q$105,COLUMN(Attivita_Passivita!O$4)-1,FALSE)),0,VLOOKUP($A158,Attivita_Passivita!$B$6:$Q$105,COLUMN(Attivita_Passivita!O$4)-1,FALSE))))))","v":""}]
[{"$f":"IF(SP_STORICO!A159=\"\",\"\",SP_STORICO!A159)","v":""},{"$f":"IF($A159=\"\",\"\",VLOOKUP(A159,SCHEMA_SP!$E$5:$F$54,2,FALSE))","v":""},{"$f":"IF(SP_STORICO!A159=\"\",\"\",SP_STORICO!B159)","v":""},{"$f":"IF(SP_STORICO!C159=\"\",\"\",SP_STORICO!C159)","v":""},{"$f":"IF(SP_STORICO!D159=\"\",\"\",SP_STORICO!D159)","v":""},{"$f":"IF($A159=\"\",\"\",IF(F$4=\"\",\"\",IF(OR($B159=\"X\", $B159=\"I\"),INDIRECT(ADDRESS(IF($B159=\"X\",12,13),MATCH(SP_PIANO!F$4,BASE!$B$2:$F$2,0)+1,,,\"BASE\")),IF($B159=\"U\",-INDIRECT(ADDRESS(4+MATCH(\"U\",CE_PIANO!$B$5:$B$206,0),COLUMN(SP_PIANO!F$4),,,\"CE_PIANO\")),IF(ISERROR(VLOOKUP($A159,Attivita_Passivita!$B$6:$Q$105,COLUMN(Attivita_Passivita!M$4)-1,FALSE)),0,VLOOKUP($A159,Attivita_Passivita!$B$6:$Q$105,COLUMN(Attivita_Passivita!M$4)-1,FALSE))))))","v":""},{"$f":"IF($A159=\"\",\"\",IF(G$4=\"\",\"\",IF(OR($B159=\"X\", $B159=\"I\"),INDIRECT(ADDRESS(IF($B159=\"X\",12,13),MATCH(SP_PIANO!G$4,BASE!$B$2:$F$2,0)+1,,,\"BASE\")),IF($B159=\"U\",-INDIRECT(ADDRESS(4+MATCH(\"U\",CE_PIANO!$B$5:$B$206,0),COLUMN(SP_PIANO!G$4),,,\"CE_PIANO\")),IF(ISERROR(VLOOKUP($A159,Attivita_Passivita!$B$6:$Q$105,COLUMN(Attivita_Passivita!N$4)-1,FALSE)),0,VLOOKUP($A159,Attivita_Passivita!$B$6:$Q$105,COLUMN(Attivita_Passivita!N$4)-1,FALSE))))))","v":""},{"$f":"IF($A159=\"\",\"\",IF(H$4=\"\",\"\",IF(OR($B159=\"X\", $B159=\"I\"),INDIRECT(ADDRESS(IF($B159=\"X\",12,13),MATCH(SP_PIANO!H$4,BASE!$B$2:$F$2,0)+1,,,\"BASE\")),IF($B159=\"U\",-INDIRECT(ADDRESS(4+MATCH(\"U\",CE_PIANO!$B$5:$B$206,0),COLUMN(SP_PIANO!H$4),,,\"CE_PIANO\")),IF(ISERROR(VLOOKUP($A159,Attivita_Passivita!$B$6:$Q$105,COLUMN(Attivita_Passivita!O$4)-1,FALSE)),0,VLOOKUP($A159,Attivita_Passivita!$B$6:$Q$105,COLUMN(Attivita_Passivita!O$4)-1,FALSE))))))","v":""}]
[{"$f":"IF(SP_STORICO!A160=\"\",\"\",SP_STORICO!A160)","v":""},{"$f":"IF($A160=\"\",\"\",VLOOKUP(A160,SCHEMA_SP!$E$5:$F$54,2,FALSE))","v":""},{"$f":"IF(SP_STORICO!A160=\"\",\"\",SP_STORICO!B160)","v":""},{"$f":"IF(SP_STORICO!C160=\"\",\"\",SP_STORICO!C160)","v":""},{"$f":"IF(SP_STORICO!D160=\"\",\"\",SP_STORICO!D160)","v":""},{"$f":"IF($A160=\"\",\"\",IF(F$4=\"\",\"\",IF(OR($B160=\"X\", $B160=\"I\"),INDIRECT(ADDRESS(IF($B160=\"X\",12,13),MATCH(SP_PIANO!F$4,BASE!$B$2:$F$2,0)+1,,,\"BASE\")),IF($B160=\"U\",-INDIRECT(ADDRESS(4+MATCH(\"U\",CE_PIANO!$B$5:$B$206,0),COLUMN(SP_PIANO!F$4),,,\"CE_PIANO\")),IF(ISERROR(VLOOKUP($A160,Attivita_Passivita!$B$6:$Q$105,COLUMN(Attivita_Passivita!M$4)-1,FALSE)),0,VLOOKUP($A160,Attivita_Passivita!$B$6:$Q$105,COLUMN(Attivita_Passivita!M$4)-1,FALSE))))))","v":""},{"$f":"IF($A160=\"\",\"\",IF(G$4=\"\",\"\",IF(OR($B160=\"X\", $B160=\"I\"),INDIRECT(ADDRESS(IF($B160=\"X\",12,13),MATCH(SP_PIANO!G$4,BASE!$B$2:$F$2,0)+1,,,\"BASE\")),IF($B160=\"U\",-INDIRECT(ADDRESS(4+MATCH(\"U\",CE_PIANO!$B$5:$B$206,0),COLUMN(SP_PIANO!G$4),,,\"CE_PIANO\")),IF(ISERROR(VLOOKUP($A160,Attivita_Passivita!$B$6:$Q$105,COLUMN(Attivita_Passivita!N$4)-1,FALSE)),0,VLOOKUP($A160,Attivita_Passivita!$B$6:$Q$105,COLUMN(Attivita_Passivita!N$4)-1,FALSE))))))","v":""},{"$f":"IF($A160=\"\",\"\",IF(H$4=\"\",\"\",IF(OR($B160=\"X\", $B160=\"I\"),INDIRECT(ADDRESS(IF($B160=\"X\",12,13),MATCH(SP_PIANO!H$4,BASE!$B$2:$F$2,0)+1,,,\"BASE\")),IF($B160=\"U\",-INDIRECT(ADDRESS(4+MATCH(\"U\",CE_PIANO!$B$5:$B$206,0),COLUMN(SP_PIANO!H$4),,,\"CE_PIANO\")),IF(ISERROR(VLOOKUP($A160,Attivita_Passivita!$B$6:$Q$105,COLUMN(Attivita_Passivita!O$4)-1,FALSE)),0,VLOOKUP($A160,Attivita_Passivita!$B$6:$Q$105,COLUMN(Attivita_Passivita!O$4)-1,FALSE))))))","v":""}]
[{"$f":"IF(SP_STORICO!A161=\"\",\"\",SP_STORICO!A161)","v":""},{"$f":"IF($A161=\"\",\"\",VLOOKUP(A161,SCHEMA_SP!$E$5:$F$54,2,FALSE))","v":""},{"$f":"IF(SP_STORICO!A161=\"\",\"\",SP_STORICO!B161)","v":""},{"$f":"IF(SP_STORICO!C161=\"\",\"\",SP_STORICO!C161)","v":""},{"$f":"IF(SP_STORICO!D161=\"\",\"\",SP_STORICO!D161)","v":""},{"$f":"IF($A161=\"\",\"\",IF(F$4=\"\",\"\",IF(OR($B161=\"X\", $B161=\"I\"),INDIRECT(ADDRESS(IF($B161=\"X\",12,13),MATCH(SP_PIANO!F$4,BASE!$B$2:$F$2,0)+1,,,\"BASE\")),IF($B161=\"U\",-INDIRECT(ADDRESS(4+MATCH(\"U\",CE_PIANO!$B$5:$B$206,0),COLUMN(SP_PIANO!F$4),,,\"CE_PIANO\")),IF(ISERROR(VLOOKUP($A161,Attivita_Passivita!$B$6:$Q$105,COLUMN(Attivita_Passivita!M$4)-1,FALSE)),0,VLOOKUP($A161,Attivita_Passivita!$B$6:$Q$105,COLUMN(Attivita_Passivita!M$4)-1,FALSE))))))","v":""},{"$f":"IF($A161=\"\",\"\",IF(G$4=\"\",\"\",IF(OR($B161=\"X\", $B161=\"I\"),INDIRECT(ADDRESS(IF($B161=\"X\",12,13),MATCH(SP_PIANO!G$4,BASE!$B$2:$F$2,0)+1,,,\"BASE\")),IF($B161=\"U\",-INDIRECT(ADDRESS(4+MATCH(\"U\",CE_PIANO!$B$5:$B$206,0),COLUMN(SP_PIANO!G$4),,,\"CE_PIANO\")),IF(ISERROR(VLOOKUP($A161,Attivita_Passivita!$B$6:$Q$105,COLUMN(Attivita_Passivita!N$4)-1,FALSE)),0,VLOOKUP($A161,Attivita_Passivita!$B$6:$Q$105,COLUMN(Attivita_Passivita!N$4)-1,FALSE))))))","v":""},{"$f":"IF($A161=\"\",\"\",IF(H$4=\"\",\"\",IF(OR($B161=\"X\", $B161=\"I\"),INDIRECT(ADDRESS(IF($B161=\"X\",12,13),MATCH(SP_PIANO!H$4,BASE!$B$2:$F$2,0)+1,,,\"BASE\")),IF($B161=\"U\",-INDIRECT(ADDRESS(4+MATCH(\"U\",CE_PIANO!$B$5:$B$206,0),COLUMN(SP_PIANO!H$4),,,\"CE_PIANO\")),IF(ISERROR(VLOOKUP($A161,Attivita_Passivita!$B$6:$Q$105,COLUMN(Attivita_Passivita!O$4)-1,FALSE)),0,VLOOKUP($A161,Attivita_Passivita!$B$6:$Q$105,COLUMN(Attivita_Passivita!O$4)-1,FALSE))))))","v":""}]
[{"$f":"IF(SP_STORICO!A162=\"\",\"\",SP_STORICO!A162)","v":""},{"$f":"IF($A162=\"\",\"\",VLOOKUP(A162,SCHEMA_SP!$E$5:$F$54,2,FALSE))","v":""},{"$f":"IF(SP_STORICO!A162=\"\",\"\",SP_STORICO!B162)","v":""},{"$f":"IF(SP_STORICO!C162=\"\",\"\",SP_STORICO!C162)","v":""},{"$f":"IF(SP_STORICO!D162=\"\",\"\",SP_STORICO!D162)","v":""},{"$f":"IF($A162=\"\",\"\",IF(F$4=\"\",\"\",IF(OR($B162=\"X\", $B162=\"I\"),INDIRECT(ADDRESS(IF($B162=\"X\",12,13),MATCH(SP_PIANO!F$4,BASE!$B$2:$F$2,0)+1,,,\"BASE\")),IF($B162=\"U\",-INDIRECT(ADDRESS(4+MATCH(\"U\",CE_PIANO!$B$5:$B$206,0),COLUMN(SP_PIANO!F$4),,,\"CE_PIANO\")),IF(ISERROR(VLOOKUP($A162,Attivita_Passivita!$B$6:$Q$105,COLUMN(Attivita_Passivita!M$4)-1,FALSE)),0,VLOOKUP($A162,Attivita_Passivita!$B$6:$Q$105,COLUMN(Attivita_Passivita!M$4)-1,FALSE))))))","v":""},{"$f":"IF($A162=\"\",\"\",IF(G$4=\"\",\"\",IF(OR($B162=\"X\", $B162=\"I\"),INDIRECT(ADDRESS(IF($B162=\"X\",12,13),MATCH(SP_PIANO!G$4,BASE!$B$2:$F$2,0)+1,,,\"BASE\")),IF($B162=\"U\",-INDIRECT(ADDRESS(4+MATCH(\"U\",CE_PIANO!$B$5:$B$206,0),COLUMN(SP_PIANO!G$4),,,\"CE_PIANO\")),IF(ISERROR(VLOOKUP($A162,Attivita_Passivita!$B$6:$Q$105,COLUMN(Attivita_Passivita!N$4)-1,FALSE)),0,VLOOKUP($A162,Attivita_Passivita!$B$6:$Q$105,COLUMN(Attivita_Passivita!N$4)-1,FALSE))))))","v":""},{"$f":"IF($A162=\"\",\"\",IF(H$4=\"\",\"\",IF(OR($B162=\"X\", $B162=\"I\"),INDIRECT(ADDRESS(IF($B162=\"X\",12,13),MATCH(SP_PIANO!H$4,BASE!$B$2:$F$2,0)+1,,,\"BASE\")),IF($B162=\"U\",-INDIRECT(ADDRESS(4+MATCH(\"U\",CE_PIANO!$B$5:$B$206,0),COLUMN(SP_PIANO!H$4),,,\"CE_PIANO\")),IF(ISERROR(VLOOKUP($A162,Attivita_Passivita!$B$6:$Q$105,COLUMN(Attivita_Passivita!O$4)-1,FALSE)),0,VLOOKUP($A162,Attivita_Passivita!$B$6:$Q$105,COLUMN(Attivita_Passivita!O$4)-1,FALSE))))))","v":""}]
[{"$f":"IF(SP_STORICO!A163=\"\",\"\",SP_STORICO!A163)","v":""},{"$f":"IF($A163=\"\",\"\",VLOOKUP(A163,SCHEMA_SP!$E$5:$F$54,2,FALSE))","v":""},{"$f":"IF(SP_STORICO!A163=\"\",\"\",SP_STORICO!B163)","v":""},{"$f":"IF(SP_STORICO!C163=\"\",\"\",SP_STORICO!C163)","v":""},{"$f":"IF(SP_STORICO!D163=\"\",\"\",SP_STORICO!D163)","v":""},{"$f":"IF($A163=\"\",\"\",IF(F$4=\"\",\"\",IF(OR($B163=\"X\", $B163=\"I\"),INDIRECT(ADDRESS(IF($B163=\"X\",12,13),MATCH(SP_PIANO!F$4,BASE!$B$2:$F$2,0)+1,,,\"BASE\")),IF($B163=\"U\",-INDIRECT(ADDRESS(4+MATCH(\"U\",CE_PIANO!$B$5:$B$206,0),COLUMN(SP_PIANO!F$4),,,\"CE_PIANO\")),IF(ISERROR(VLOOKUP($A163,Attivita_Passivita!$B$6:$Q$105,COLUMN(Attivita_Passivita!M$4)-1,FALSE)),0,VLOOKUP($A163,Attivita_Passivita!$B$6:$Q$105,COLUMN(Attivita_Passivita!M$4)-1,FALSE))))))","v":""},{"$f":"IF($A163=\"\",\"\",IF(G$4=\"\",\"\",IF(OR($B163=\"X\", $B163=\"I\"),INDIRECT(ADDRESS(IF($B163=\"X\",12,13),MATCH(SP_PIANO!G$4,BASE!$B$2:$F$2,0)+1,,,\"BASE\")),IF($B163=\"U\",-INDIRECT(ADDRESS(4+MATCH(\"U\",CE_PIANO!$B$5:$B$206,0),COLUMN(SP_PIANO!G$4),,,\"CE_PIANO\")),IF(ISERROR(VLOOKUP($A163,Attivita_Passivita!$B$6:$Q$105,COLUMN(Attivita_Passivita!N$4)-1,FALSE)),0,VLOOKUP($A163,Attivita_Passivita!$B$6:$Q$105,COLUMN(Attivita_Passivita!N$4)-1,FALSE))))))","v":""},{"$f":"IF($A163=\"\",\"\",IF(H$4=\"\",\"\",IF(OR($B163=\"X\", $B163=\"I\"),INDIRECT(ADDRESS(IF($B163=\"X\",12,13),MATCH(SP_PIANO!H$4,BASE!$B$2:$F$2,0)+1,,,\"BASE\")),IF($B163=\"U\",-INDIRECT(ADDRESS(4+MATCH(\"U\",CE_PIANO!$B$5:$B$206,0),COLUMN(SP_PIANO!H$4),,,\"CE_PIANO\")),IF(ISERROR(VLOOKUP($A163,Attivita_Passivita!$B$6:$Q$105,COLUMN(Attivita_Passivita!O$4)-1,FALSE)),0,VLOOKUP($A163,Attivita_Passivita!$B$6:$Q$105,COLUMN(Attivita_Passivita!O$4)-1,FALSE))))))","v":""}]
[{"$f":"IF(SP_STORICO!A164=\"\",\"\",SP_STORICO!A164)","v":""},{"$f":"IF($A164=\"\",\"\",VLOOKUP(A164,SCHEMA_SP!$E$5:$F$54,2,FALSE))","v":""},{"$f":"IF(SP_STORICO!A164=\"\",\"\",SP_STORICO!B164)","v":""},{"$f":"IF(SP_STORICO!C164=\"\",\"\",SP_STORICO!C164)","v":""},{"$f":"IF(SP_STORICO!D164=\"\",\"\",SP_STORICO!D164)","v":""},{"$f":"IF($A164=\"\",\"\",IF(F$4=\"\",\"\",IF(OR($B164=\"X\", $B164=\"I\"),INDIRECT(ADDRESS(IF($B164=\"X\",12,13),MATCH(SP_PIANO!F$4,BASE!$B$2:$F$2,0)+1,,,\"BASE\")),IF($B164=\"U\",-INDIRECT(ADDRESS(4+MATCH(\"U\",CE_PIANO!$B$5:$B$206,0),COLUMN(SP_PIANO!F$4),,,\"CE_PIANO\")),IF(ISERROR(VLOOKUP($A164,Attivita_Passivita!$B$6:$Q$105,COLUMN(Attivita_Passivita!M$4)-1,FALSE)),0,VLOOKUP($A164,Attivita_Passivita!$B$6:$Q$105,COLUMN(Attivita_Passivita!M$4)-1,FALSE))))))","v":""},{"$f":"IF($A164=\"\",\"\",IF(G$4=\"\",\"\",IF(OR($B164=\"X\", $B164=\"I\"),INDIRECT(ADDRESS(IF($B164=\"X\",12,13),MATCH(SP_PIANO!G$4,BASE!$B$2:$F$2,0)+1,,,\"BASE\")),IF($B164=\"U\",-INDIRECT(ADDRESS(4+MATCH(\"U\",CE_PIANO!$B$5:$B$206,0),COLUMN(SP_PIANO!G$4),,,\"CE_PIANO\")),IF(ISERROR(VLOOKUP($A164,Attivita_Passivita!$B$6:$Q$105,COLUMN(Attivita_Passivita!N$4)-1,FALSE)),0,VLOOKUP($A164,Attivita_Passivita!$B$6:$Q$105,COLUMN(Attivita_Passivita!N$4)-1,FALSE))))))","v":""},{"$f":"IF($A164=\"\",\"\",IF(H$4=\"\",\"\",IF(OR($B164=\"X\", $B164=\"I\"),INDIRECT(ADDRESS(IF($B164=\"X\",12,13),MATCH(SP_PIANO!H$4,BASE!$B$2:$F$2,0)+1,,,\"BASE\")),IF($B164=\"U\",-INDIRECT(ADDRESS(4+MATCH(\"U\",CE_PIANO!$B$5:$B$206,0),COLUMN(SP_PIANO!H$4),,,\"CE_PIANO\")),IF(ISERROR(VLOOKUP($A164,Attivita_Passivita!$B$6:$Q$105,COLUMN(Attivita_Passivita!O$4)-1,FALSE)),0,VLOOKUP($A164,Attivita_Passivita!$B$6:$Q$105,COLUMN(Attivita_Passivita!O$4)-1,FALSE))))))","v":""}]
[{"$f":"IF(SP_STORICO!A165=\"\",\"\",SP_STORICO!A165)","v":""},{"$f":"IF($A165=\"\",\"\",VLOOKUP(A165,SCHEMA_SP!$E$5:$F$54,2,FALSE))","v":""},{"$f":"IF(SP_STORICO!A165=\"\",\"\",SP_STORICO!B165)","v":""},{"$f":"IF(SP_STORICO!C165=\"\",\"\",SP_STORICO!C165)","v":""},{"$f":"IF(SP_STORICO!D165=\"\",\"\",SP_STORICO!D165)","v":""},{"$f":"IF($A165=\"\",\"\",IF(F$4=\"\",\"\",IF(OR($B165=\"X\", $B165=\"I\"),INDIRECT(ADDRESS(IF($B165=\"X\",12,13),MATCH(SP_PIANO!F$4,BASE!$B$2:$F$2,0)+1,,,\"BASE\")),IF($B165=\"U\",-INDIRECT(ADDRESS(4+MATCH(\"U\",CE_PIANO!$B$5:$B$206,0),COLUMN(SP_PIANO!F$4),,,\"CE_PIANO\")),IF(ISERROR(VLOOKUP($A165,Attivita_Passivita!$B$6:$Q$105,COLUMN(Attivita_Passivita!M$4)-1,FALSE)),0,VLOOKUP($A165,Attivita_Passivita!$B$6:$Q$105,COLUMN(Attivita_Passivita!M$4)-1,FALSE))))))","v":""},{"$f":"IF($A165=\"\",\"\",IF(G$4=\"\",\"\",IF(OR($B165=\"X\", $B165=\"I\"),INDIRECT(ADDRESS(IF($B165=\"X\",12,13),MATCH(SP_PIANO!G$4,BASE!$B$2:$F$2,0)+1,,,\"BASE\")),IF($B165=\"U\",-INDIRECT(ADDRESS(4+MATCH(\"U\",CE_PIANO!$B$5:$B$206,0),COLUMN(SP_PIANO!G$4),,,\"CE_PIANO\")),IF(ISERROR(VLOOKUP($A165,Attivita_Passivita!$B$6:$Q$105,COLUMN(Attivita_Passivita!N$4)-1,FALSE)),0,VLOOKUP($A165,Attivita_Passivita!$B$6:$Q$105,COLUMN(Attivita_Passivita!N$4)-1,FALSE))))))","v":""},{"$f":"IF($A165=\"\",\"\",IF(H$4=\"\",\"\",IF(OR($B165=\"X\", $B165=\"I\"),INDIRECT(ADDRESS(IF($B165=\"X\",12,13),MATCH(SP_PIANO!H$4,BASE!$B$2:$F$2,0)+1,,,\"BASE\")),IF($B165=\"U\",-INDIRECT(ADDRESS(4+MATCH(\"U\",CE_PIANO!$B$5:$B$206,0),COLUMN(SP_PIANO!H$4),,,\"CE_PIANO\")),IF(ISERROR(VLOOKUP($A165,Attivita_Passivita!$B$6:$Q$105,COLUMN(Attivita_Passivita!O$4)-1,FALSE)),0,VLOOKUP($A165,Attivita_Passivita!$B$6:$Q$105,COLUMN(Attivita_Passivita!O$4)-1,FALSE))))))","v":""}]
[{"$f":"IF(SP_STORICO!A166=\"\",\"\",SP_STORICO!A166)","v":""},{"$f":"IF($A166=\"\",\"\",VLOOKUP(A166,SCHEMA_SP!$E$5:$F$54,2,FALSE))","v":""},{"$f":"IF(SP_STORICO!A166=\"\",\"\",SP_STORICO!B166)","v":""},{"$f":"IF(SP_STORICO!C166=\"\",\"\",SP_STORICO!C166)","v":""},{"$f":"IF(SP_STORICO!D166=\"\",\"\",SP_STORICO!D166)","v":""},{"$f":"IF($A166=\"\",\"\",IF(F$4=\"\",\"\",IF(OR($B166=\"X\", $B166=\"I\"),INDIRECT(ADDRESS(IF($B166=\"X\",12,13),MATCH(SP_PIANO!F$4,BASE!$B$2:$F$2,0)+1,,,\"BASE\")),IF($B166=\"U\",-INDIRECT(ADDRESS(4+MATCH(\"U\",CE_PIANO!$B$5:$B$206,0),COLUMN(SP_PIANO!F$4),,,\"CE_PIANO\")),IF(ISERROR(VLOOKUP($A166,Attivita_Passivita!$B$6:$Q$105,COLUMN(Attivita_Passivita!M$4)-1,FALSE)),0,VLOOKUP($A166,Attivita_Passivita!$B$6:$Q$105,COLUMN(Attivita_Passivita!M$4)-1,FALSE))))))","v":""},{"$f":"IF($A166=\"\",\"\",IF(G$4=\"\",\"\",IF(OR($B166=\"X\", $B166=\"I\"),INDIRECT(ADDRESS(IF($B166=\"X\",12,13),MATCH(SP_PIANO!G$4,BASE!$B$2:$F$2,0)+1,,,\"BASE\")),IF($B166=\"U\",-INDIRECT(ADDRESS(4+MATCH(\"U\",CE_PIANO!$B$5:$B$206,0),COLUMN(SP_PIANO!G$4),,,\"CE_PIANO\")),IF(ISERROR(VLOOKUP($A166,Attivita_Passivita!$B$6:$Q$105,COLUMN(Attivita_Passivita!N$4)-1,FALSE)),0,VLOOKUP($A166,Attivita_Passivita!$B$6:$Q$105,COLUMN(Attivita_Passivita!N$4)-1,FALSE))))))","v":""},{"$f":"IF($A166=\"\",\"\",IF(H$4=\"\",\"\",IF(OR($B166=\"X\", $B166=\"I\"),INDIRECT(ADDRESS(IF($B166=\"X\",12,13),MATCH(SP_PIANO!H$4,BASE!$B$2:$F$2,0)+1,,,\"BASE\")),IF($B166=\"U\",-INDIRECT(ADDRESS(4+MATCH(\"U\",CE_PIANO!$B$5:$B$206,0),COLUMN(SP_PIANO!H$4),,,\"CE_PIANO\")),IF(ISERROR(VLOOKUP($A166,Attivita_Passivita!$B$6:$Q$105,COLUMN(Attivita_Passivita!O$4)-1,FALSE)),0,VLOOKUP($A166,Attivita_Passivita!$B$6:$Q$105,COLUMN(Attivita_Passivita!O$4)-1,FALSE))))))","v":""}]
[{"$f":"IF(SP_STORICO!A167=\"\",\"\",SP_STORICO!A167)","v":""},{"$f":"IF($A167=\"\",\"\",VLOOKUP(A167,SCHEMA_SP!$E$5:$F$54,2,FALSE))","v":""},{"$f":"IF(SP_STORICO!A167=\"\",\"\",SP_STORICO!B167)","v":""},{"$f":"IF(SP_STORICO!C167=\"\",\"\",SP_STORICO!C167)","v":""},{"$f":"IF(SP_STORICO!D167=\"\",\"\",SP_STORICO!D167)","v":""},{"$f":"IF($A167=\"\",\"\",IF(F$4=\"\",\"\",IF(OR($B167=\"X\", $B167=\"I\"),INDIRECT(ADDRESS(IF($B167=\"X\",12,13),MATCH(SP_PIANO!F$4,BASE!$B$2:$F$2,0)+1,,,\"BASE\")),IF($B167=\"U\",-INDIRECT(ADDRESS(4+MATCH(\"U\",CE_PIANO!$B$5:$B$206,0),COLUMN(SP_PIANO!F$4),,,\"CE_PIANO\")),IF(ISERROR(VLOOKUP($A167,Attivita_Passivita!$B$6:$Q$105,COLUMN(Attivita_Passivita!M$4)-1,FALSE)),0,VLOOKUP($A167,Attivita_Passivita!$B$6:$Q$105,COLUMN(Attivita_Passivita!M$4)-1,FALSE))))))","v":""},{"$f":"IF($A167=\"\",\"\",IF(G$4=\"\",\"\",IF(OR($B167=\"X\", $B167=\"I\"),INDIRECT(ADDRESS(IF($B167=\"X\",12,13),MATCH(SP_PIANO!G$4,BASE!$B$2:$F$2,0)+1,,,\"BASE\")),IF($B167=\"U\",-INDIRECT(ADDRESS(4+MATCH(\"U\",CE_PIANO!$B$5:$B$206,0),COLUMN(SP_PIANO!G$4),,,\"CE_PIANO\")),IF(ISERROR(VLOOKUP($A167,Attivita_Passivita!$B$6:$Q$105,COLUMN(Attivita_Passivita!N$4)-1,FALSE)),0,VLOOKUP($A167,Attivita_Passivita!$B$6:$Q$105,COLUMN(Attivita_Passivita!N$4)-1,FALSE))))))","v":""},{"$f":"IF($A167=\"\",\"\",IF(H$4=\"\",\"\",IF(OR($B167=\"X\", $B167=\"I\"),INDIRECT(ADDRESS(IF($B167=\"X\",12,13),MATCH(SP_PIANO!H$4,BASE!$B$2:$F$2,0)+1,,,\"BASE\")),IF($B167=\"U\",-INDIRECT(ADDRESS(4+MATCH(\"U\",CE_PIANO!$B$5:$B$206,0),COLUMN(SP_PIANO!H$4),,,\"CE_PIANO\")),IF(ISERROR(VLOOKUP($A167,Attivita_Passivita!$B$6:$Q$105,COLUMN(Attivita_Passivita!O$4)-1,FALSE)),0,VLOOKUP($A167,Attivita_Passivita!$B$6:$Q$105,COLUMN(Attivita_Passivita!O$4)-1,FALSE))))))","v":""}]
[{"$f":"IF(SP_STORICO!A168=\"\",\"\",SP_STORICO!A168)","v":""},{"$f":"IF($A168=\"\",\"\",VLOOKUP(A168,SCHEMA_SP!$E$5:$F$54,2,FALSE))","v":""},{"$f":"IF(SP_STORICO!A168=\"\",\"\",SP_STORICO!B168)","v":""},{"$f":"IF(SP_STORICO!C168=\"\",\"\",SP_STORICO!C168)","v":""},{"$f":"IF(SP_STORICO!D168=\"\",\"\",SP_STORICO!D168)","v":""},{"$f":"IF($A168=\"\",\"\",IF(F$4=\"\",\"\",IF(OR($B168=\"X\", $B168=\"I\"),INDIRECT(ADDRESS(IF($B168=\"X\",12,13),MATCH(SP_PIANO!F$4,BASE!$B$2:$F$2,0)+1,,,\"BASE\")),IF($B168=\"U\",-INDIRECT(ADDRESS(4+MATCH(\"U\",CE_PIANO!$B$5:$B$206,0),COLUMN(SP_PIANO!F$4),,,\"CE_PIANO\")),IF(ISERROR(VLOOKUP($A168,Attivita_Passivita!$B$6:$Q$105,COLUMN(Attivita_Passivita!M$4)-1,FALSE)),0,VLOOKUP($A168,Attivita_Passivita!$B$6:$Q$105,COLUMN(Attivita_Passivita!M$4)-1,FALSE))))))","v":""},{"$f":"IF($A168=\"\",\"\",IF(G$4=\"\",\"\",IF(OR($B168=\"X\", $B168=\"I\"),INDIRECT(ADDRESS(IF($B168=\"X\",12,13),MATCH(SP_PIANO!G$4,BASE!$B$2:$F$2,0)+1,,,\"BASE\")),IF($B168=\"U\",-INDIRECT(ADDRESS(4+MATCH(\"U\",CE_PIANO!$B$5:$B$206,0),COLUMN(SP_PIANO!G$4),,,\"CE_PIANO\")),IF(ISERROR(VLOOKUP($A168,Attivita_Passivita!$B$6:$Q$105,COLUMN(Attivita_Passivita!N$4)-1,FALSE)),0,VLOOKUP($A168,Attivita_Passivita!$B$6:$Q$105,COLUMN(Attivita_Passivita!N$4)-1,FALSE))))))","v":""},{"$f":"IF($A168=\"\",\"\",IF(H$4=\"\",\"\",IF(OR($B168=\"X\", $B168=\"I\"),INDIRECT(ADDRESS(IF($B168=\"X\",12,13),MATCH(SP_PIANO!H$4,BASE!$B$2:$F$2,0)+1,,,\"BASE\")),IF($B168=\"U\",-INDIRECT(ADDRESS(4+MATCH(\"U\",CE_PIANO!$B$5:$B$206,0),COLUMN(SP_PIANO!H$4),,,\"CE_PIANO\")),IF(ISERROR(VLOOKUP($A168,Attivita_Passivita!$B$6:$Q$105,COLUMN(Attivita_Passivita!O$4)-1,FALSE)),0,VLOOKUP($A168,Attivita_Passivita!$B$6:$Q$105,COLUMN(Attivita_Passivita!O$4)-1,FALSE))))))","v":""}]
[{"$f":"IF(SP_STORICO!A169=\"\",\"\",SP_STORICO!A169)","v":""},{"$f":"IF($A169=\"\",\"\",VLOOKUP(A169,SCHEMA_SP!$E$5:$F$54,2,FALSE))","v":""},{"$f":"IF(SP_STORICO!A169=\"\",\"\",SP_STORICO!B169)","v":""},{"$f":"IF(SP_STORICO!C169=\"\",\"\",SP_STORICO!C169)","v":""},{"$f":"IF(SP_STORICO!D169=\"\",\"\",SP_STORICO!D169)","v":""},{"$f":"IF($A169=\"\",\"\",IF(F$4=\"\",\"\",IF(OR($B169=\"X\", $B169=\"I\"),INDIRECT(ADDRESS(IF($B169=\"X\",12,13),MATCH(SP_PIANO!F$4,BASE!$B$2:$F$2,0)+1,,,\"BASE\")),IF($B169=\"U\",-INDIRECT(ADDRESS(4+MATCH(\"U\",CE_PIANO!$B$5:$B$206,0),COLUMN(SP_PIANO!F$4),,,\"CE_PIANO\")),IF(ISERROR(VLOOKUP($A169,Attivita_Passivita!$B$6:$Q$105,COLUMN(Attivita_Passivita!M$4)-1,FALSE)),0,VLOOKUP($A169,Attivita_Passivita!$B$6:$Q$105,COLUMN(Attivita_Passivita!M$4)-1,FALSE))))))","v":""},{"$f":"IF($A169=\"\",\"\",IF(G$4=\"\",\"\",IF(OR($B169=\"X\", $B169=\"I\"),INDIRECT(ADDRESS(IF($B169=\"X\",12,13),MATCH(SP_PIANO!G$4,BASE!$B$2:$F$2,0)+1,,,\"BASE\")),IF($B169=\"U\",-INDIRECT(ADDRESS(4+MATCH(\"U\",CE_PIANO!$B$5:$B$206,0),COLUMN(SP_PIANO!G$4),,,\"CE_PIANO\")),IF(ISERROR(VLOOKUP($A169,Attivita_Passivita!$B$6:$Q$105,COLUMN(Attivita_Passivita!N$4)-1,FALSE)),0,VLOOKUP($A169,Attivita_Passivita!$B$6:$Q$105,COLUMN(Attivita_Passivita!N$4)-1,FALSE))))))","v":""},{"$f":"IF($A169=\"\",\"\",IF(H$4=\"\",\"\",IF(OR($B169=\"X\", $B169=\"I\"),INDIRECT(ADDRESS(IF($B169=\"X\",12,13),MATCH(SP_PIANO!H$4,BASE!$B$2:$F$2,0)+1,,,\"BASE\")),IF($B169=\"U\",-INDIRECT(ADDRESS(4+MATCH(\"U\",CE_PIANO!$B$5:$B$206,0),COLUMN(SP_PIANO!H$4),,,\"CE_PIANO\")),IF(ISERROR(VLOOKUP($A169,Attivita_Passivita!$B$6:$Q$105,COLUMN(Attivita_Passivita!O$4)-1,FALSE)),0,VLOOKUP($A169,Attivita_Passivita!$B$6:$Q$105,COLUMN(Attivita_Passivita!O$4)-1,FALSE))))))","v":""}]
[{"$f":"IF(SP_STORICO!A170=\"\",\"\",SP_STORICO!A170)","v":""},{"$f":"IF($A170=\"\",\"\",VLOOKUP(A170,SCHEMA_SP!$E$5:$F$54,2,FALSE))","v":""},{"$f":"IF(SP_STORICO!A170=\"\",\"\",SP_STORICO!B170)","v":""},{"$f":"IF(SP_STORICO!C170=\"\",\"\",SP_STORICO!C170)","v":""},{"$f":"IF(SP_STORICO!D170=\"\",\"\",SP_STORICO!D170)","v":""},{"$f":"IF($A170=\"\",\"\",IF(F$4=\"\",\"\",IF(OR($B170=\"X\", $B170=\"I\"),INDIRECT(ADDRESS(IF($B170=\"X\",12,13),MATCH(SP_PIANO!F$4,BASE!$B$2:$F$2,0)+1,,,\"BASE\")),IF($B170=\"U\",-INDIRECT(ADDRESS(4+MATCH(\"U\",CE_PIANO!$B$5:$B$206,0),COLUMN(SP_PIANO!F$4),,,\"CE_PIANO\")),IF(ISERROR(VLOOKUP($A170,Attivita_Passivita!$B$6:$Q$105,COLUMN(Attivita_Passivita!M$4)-1,FALSE)),0,VLOOKUP($A170,Attivita_Passivita!$B$6:$Q$105,COLUMN(Attivita_Passivita!M$4)-1,FALSE))))))","v":""},{"$f":"IF($A170=\"\",\"\",IF(G$4=\"\",\"\",IF(OR($B170=\"X\", $B170=\"I\"),INDIRECT(ADDRESS(IF($B170=\"X\",12,13),MATCH(SP_PIANO!G$4,BASE!$B$2:$F$2,0)+1,,,\"BASE\")),IF($B170=\"U\",-INDIRECT(ADDRESS(4+MATCH(\"U\",CE_PIANO!$B$5:$B$206,0),COLUMN(SP_PIANO!G$4),,,\"CE_PIANO\")),IF(ISERROR(VLOOKUP($A170,Attivita_Passivita!$B$6:$Q$105,COLUMN(Attivita_Passivita!N$4)-1,FALSE)),0,VLOOKUP($A170,Attivita_Passivita!$B$6:$Q$105,COLUMN(Attivita_Passivita!N$4)-1,FALSE))))))","v":""},{"$f":"IF($A170=\"\",\"\",IF(H$4=\"\",\"\",IF(OR($B170=\"X\", $B170=\"I\"),INDIRECT(ADDRESS(IF($B170=\"X\",12,13),MATCH(SP_PIANO!H$4,BASE!$B$2:$F$2,0)+1,,,\"BASE\")),IF($B170=\"U\",-INDIRECT(ADDRESS(4+MATCH(\"U\",CE_PIANO!$B$5:$B$206,0),COLUMN(SP_PIANO!H$4),,,\"CE_PIANO\")),IF(ISERROR(VLOOKUP($A170,Attivita_Passivita!$B$6:$Q$105,COLUMN(Attivita_Passivita!O$4)-1,FALSE)),0,VLOOKUP($A170,Attivita_Passivita!$B$6:$Q$105,COLUMN(Attivita_Passivita!O$4)-1,FALSE))))))","v":""}]
[{"$f":"IF(SP_STORICO!A171=\"\",\"\",SP_STORICO!A171)","v":""},{"$f":"IF($A171=\"\",\"\",VLOOKUP(A171,SCHEMA_SP!$E$5:$F$54,2,FALSE))","v":""},{"$f":"IF(SP_STORICO!A171=\"\",\"\",SP_STORICO!B171)","v":""},{"$f":"IF(SP_STORICO!C171=\"\",\"\",SP_STORICO!C171)","v":""},{"$f":"IF(SP_STORICO!D171=\"\",\"\",SP_STORICO!D171)","v":""},{"$f":"IF($A171=\"\",\"\",IF(F$4=\"\",\"\",IF(OR($B171=\"X\", $B171=\"I\"),INDIRECT(ADDRESS(IF($B171=\"X\",12,13),MATCH(SP_PIANO!F$4,BASE!$B$2:$F$2,0)+1,,,\"BASE\")),IF($B171=\"U\",-INDIRECT(ADDRESS(4+MATCH(\"U\",CE_PIANO!$B$5:$B$206,0),COLUMN(SP_PIANO!F$4),,,\"CE_PIANO\")),IF(ISERROR(VLOOKUP($A171,Attivita_Passivita!$B$6:$Q$105,COLUMN(Attivita_Passivita!M$4)-1,FALSE)),0,VLOOKUP($A171,Attivita_Passivita!$B$6:$Q$105,COLUMN(Attivita_Passivita!M$4)-1,FALSE))))))","v":""},{"$f":"IF($A171=\"\",\"\",IF(G$4=\"\",\"\",IF(OR($B171=\"X\", $B171=\"I\"),INDIRECT(ADDRESS(IF($B171=\"X\",12,13),MATCH(SP_PIANO!G$4,BASE!$B$2:$F$2,0)+1,,,\"BASE\")),IF($B171=\"U\",-INDIRECT(ADDRESS(4+MATCH(\"U\",CE_PIANO!$B$5:$B$206,0),COLUMN(SP_PIANO!G$4),,,\"CE_PIANO\")),IF(ISERROR(VLOOKUP($A171,Attivita_Passivita!$B$6:$Q$105,COLUMN(Attivita_Passivita!N$4)-1,FALSE)),0,VLOOKUP($A171,Attivita_Passivita!$B$6:$Q$105,COLUMN(Attivita_Passivita!N$4)-1,FALSE))))))","v":""},{"$f":"IF($A171=\"\",\"\",IF(H$4=\"\",\"\",IF(OR($B171=\"X\", $B171=\"I\"),INDIRECT(ADDRESS(IF($B171=\"X\",12,13),MATCH(SP_PIANO!H$4,BASE!$B$2:$F$2,0)+1,,,\"BASE\")),IF($B171=\"U\",-INDIRECT(ADDRESS(4+MATCH(\"U\",CE_PIANO!$B$5:$B$206,0),COLUMN(SP_PIANO!H$4),,,\"CE_PIANO\")),IF(ISERROR(VLOOKUP($A171,Attivita_Passivita!$B$6:$Q$105,COLUMN(Attivita_Passivita!O$4)-1,FALSE)),0,VLOOKUP($A171,Attivita_Passivita!$B$6:$Q$105,COLUMN(Attivita_Passivita!O$4)-1,FALSE))))))","v":""}]
[{"$f":"IF(SP_STORICO!A172=\"\",\"\",SP_STORICO!A172)","v":""},{"$f":"IF($A172=\"\",\"\",VLOOKUP(A172,SCHEMA_SP!$E$5:$F$54,2,FALSE))","v":""},{"$f":"IF(SP_STORICO!A172=\"\",\"\",SP_STORICO!B172)","v":""},{"$f":"IF(SP_STORICO!C172=\"\",\"\",SP_STORICO!C172)","v":""},{"$f":"IF(SP_STORICO!D172=\"\",\"\",SP_STORICO!D172)","v":""},{"$f":"IF($A172=\"\",\"\",IF(F$4=\"\",\"\",IF(OR($B172=\"X\", $B172=\"I\"),INDIRECT(ADDRESS(IF($B172=\"X\",12,13),MATCH(SP_PIANO!F$4,BASE!$B$2:$F$2,0)+1,,,\"BASE\")),IF($B172=\"U\",-INDIRECT(ADDRESS(4+MATCH(\"U\",CE_PIANO!$B$5:$B$206,0),COLUMN(SP_PIANO!F$4),,,\"CE_PIANO\")),IF(ISERROR(VLOOKUP($A172,Attivita_Passivita!$B$6:$Q$105,COLUMN(Attivita_Passivita!M$4)-1,FALSE)),0,VLOOKUP($A172,Attivita_Passivita!$B$6:$Q$105,COLUMN(Attivita_Passivita!M$4)-1,FALSE))))))","v":""},{"$f":"IF($A172=\"\",\"\",IF(G$4=\"\",\"\",IF(OR($B172=\"X\", $B172=\"I\"),INDIRECT(ADDRESS(IF($B172=\"X\",12,13),MATCH(SP_PIANO!G$4,BASE!$B$2:$F$2,0)+1,,,\"BASE\")),IF($B172=\"U\",-INDIRECT(ADDRESS(4+MATCH(\"U\",CE_PIANO!$B$5:$B$206,0),COLUMN(SP_PIANO!G$4),,,\"CE_PIANO\")),IF(ISERROR(VLOOKUP($A172,Attivita_Passivita!$B$6:$Q$105,COLUMN(Attivita_Passivita!N$4)-1,FALSE)),0,VLOOKUP($A172,Attivita_Passivita!$B$6:$Q$105,COLUMN(Attivita_Passivita!N$4)-1,FALSE))))))","v":""},{"$f":"IF($A172=\"\",\"\",IF(H$4=\"\",\"\",IF(OR($B172=\"X\", $B172=\"I\"),INDIRECT(ADDRESS(IF($B172=\"X\",12,13),MATCH(SP_PIANO!H$4,BASE!$B$2:$F$2,0)+1,,,\"BASE\")),IF($B172=\"U\",-INDIRECT(ADDRESS(4+MATCH(\"U\",CE_PIANO!$B$5:$B$206,0),COLUMN(SP_PIANO!H$4),,,\"CE_PIANO\")),IF(ISERROR(VLOOKUP($A172,Attivita_Passivita!$B$6:$Q$105,COLUMN(Attivita_Passivita!O$4)-1,FALSE)),0,VLOOKUP($A172,Attivita_Passivita!$B$6:$Q$105,COLUMN(Attivita_Passivita!O$4)-1,FALSE))))))","v":""}]
[{"$f":"IF(SP_STORICO!A173=\"\",\"\",SP_STORICO!A173)","v":""},{"$f":"IF($A173=\"\",\"\",VLOOKUP(A173,SCHEMA_SP!$E$5:$F$54,2,FALSE))","v":""},{"$f":"IF(SP_STORICO!A173=\"\",\"\",SP_STORICO!B173)","v":""},{"$f":"IF(SP_STORICO!C173=\"\",\"\",SP_STORICO!C173)","v":""},{"$f":"IF(SP_STORICO!D173=\"\",\"\",SP_STORICO!D173)","v":""},{"$f":"IF($A173=\"\",\"\",IF(F$4=\"\",\"\",IF(OR($B173=\"X\", $B173=\"I\"),INDIRECT(ADDRESS(IF($B173=\"X\",12,13),MATCH(SP_PIANO!F$4,BASE!$B$2:$F$2,0)+1,,,\"BASE\")),IF($B173=\"U\",-INDIRECT(ADDRESS(4+MATCH(\"U\",CE_PIANO!$B$5:$B$206,0),COLUMN(SP_PIANO!F$4),,,\"CE_PIANO\")),IF(ISERROR(VLOOKUP($A173,Attivita_Passivita!$B$6:$Q$105,COLUMN(Attivita_Passivita!M$4)-1,FALSE)),0,VLOOKUP($A173,Attivita_Passivita!$B$6:$Q$105,COLUMN(Attivita_Passivita!M$4)-1,FALSE))))))","v":""},{"$f":"IF($A173=\"\",\"\",IF(G$4=\"\",\"\",IF(OR($B173=\"X\", $B173=\"I\"),INDIRECT(ADDRESS(IF($B173=\"X\",12,13),MATCH(SP_PIANO!G$4,BASE!$B$2:$F$2,0)+1,,,\"BASE\")),IF($B173=\"U\",-INDIRECT(ADDRESS(4+MATCH(\"U\",CE_PIANO!$B$5:$B$206,0),COLUMN(SP_PIANO!G$4),,,\"CE_PIANO\")),IF(ISERROR(VLOOKUP($A173,Attivita_Passivita!$B$6:$Q$105,COLUMN(Attivita_Passivita!N$4)-1,FALSE)),0,VLOOKUP($A173,Attivita_Passivita!$B$6:$Q$105,COLUMN(Attivita_Passivita!N$4)-1,FALSE))))))","v":""},{"$f":"IF($A173=\"\",\"\",IF(H$4=\"\",\"\",IF(OR($B173=\"X\", $B173=\"I\"),INDIRECT(ADDRESS(IF($B173=\"X\",12,13),MATCH(SP_PIANO!H$4,BASE!$B$2:$F$2,0)+1,,,\"BASE\")),IF($B173=\"U\",-INDIRECT(ADDRESS(4+MATCH(\"U\",CE_PIANO!$B$5:$B$206,0),COLUMN(SP_PIANO!H$4),,,\"CE_PIANO\")),IF(ISERROR(VLOOKUP($A173,Attivita_Passivita!$B$6:$Q$105,COLUMN(Attivita_Passivita!O$4)-1,FALSE)),0,VLOOKUP($A173,Attivita_Passivita!$B$6:$Q$105,COLUMN(Attivita_Passivita!O$4)-1,FALSE))))))","v":""}]
[{"$f":"IF(SP_STORICO!A174=\"\",\"\",SP_STORICO!A174)","v":""},{"$f":"IF($A174=\"\",\"\",VLOOKUP(A174,SCHEMA_SP!$E$5:$F$54,2,FALSE))","v":""},{"$f":"IF(SP_STORICO!A174=\"\",\"\",SP_STORICO!B174)","v":""},{"$f":"IF(SP_STORICO!C174=\"\",\"\",SP_STORICO!C174)","v":""},{"$f":"IF(SP_STORICO!D174=\"\",\"\",SP_STORICO!D174)","v":""},{"$f":"IF($A174=\"\",\"\",IF(F$4=\"\",\"\",IF(OR($B174=\"X\", $B174=\"I\"),INDIRECT(ADDRESS(IF($B174=\"X\",12,13),MATCH(SP_PIANO!F$4,BASE!$B$2:$F$2,0)+1,,,\"BASE\")),IF($B174=\"U\",-INDIRECT(ADDRESS(4+MATCH(\"U\",CE_PIANO!$B$5:$B$206,0),COLUMN(SP_PIANO!F$4),,,\"CE_PIANO\")),IF(ISERROR(VLOOKUP($A174,Attivita_Passivita!$B$6:$Q$105,COLUMN(Attivita_Passivita!M$4)-1,FALSE)),0,VLOOKUP($A174,Attivita_Passivita!$B$6:$Q$105,COLUMN(Attivita_Passivita!M$4)-1,FALSE))))))","v":""},{"$f":"IF($A174=\"\",\"\",IF(G$4=\"\",\"\",IF(OR($B174=\"X\", $B174=\"I\"),INDIRECT(ADDRESS(IF($B174=\"X\",12,13),MATCH(SP_PIANO!G$4,BASE!$B$2:$F$2,0)+1,,,\"BASE\")),IF($B174=\"U\",-INDIRECT(ADDRESS(4+MATCH(\"U\",CE_PIANO!$B$5:$B$206,0),COLUMN(SP_PIANO!G$4),,,\"CE_PIANO\")),IF(ISERROR(VLOOKUP($A174,Attivita_Passivita!$B$6:$Q$105,COLUMN(Attivita_Passivita!N$4)-1,FALSE)),0,VLOOKUP($A174,Attivita_Passivita!$B$6:$Q$105,COLUMN(Attivita_Passivita!N$4)-1,FALSE))))))","v":""},{"$f":"IF($A174=\"\",\"\",IF(H$4=\"\",\"\",IF(OR($B174=\"X\", $B174=\"I\"),INDIRECT(ADDRESS(IF($B174=\"X\",12,13),MATCH(SP_PIANO!H$4,BASE!$B$2:$F$2,0)+1,,,\"BASE\")),IF($B174=\"U\",-INDIRECT(ADDRESS(4+MATCH(\"U\",CE_PIANO!$B$5:$B$206,0),COLUMN(SP_PIANO!H$4),,,\"CE_PIANO\")),IF(ISERROR(VLOOKUP($A174,Attivita_Passivita!$B$6:$Q$105,COLUMN(Attivita_Passivita!O$4)-1,FALSE)),0,VLOOKUP($A174,Attivita_Passivita!$B$6:$Q$105,COLUMN(Attivita_Passivita!O$4)-1,FALSE))))))","v":""}]
[{"$f":"IF(SP_STORICO!A175=\"\",\"\",SP_STORICO!A175)","v":""},{"$f":"IF($A175=\"\",\"\",VLOOKUP(A175,SCHEMA_SP!$E$5:$F$54,2,FALSE))","v":""},{"$f":"IF(SP_STORICO!A175=\"\",\"\",SP_STORICO!B175)","v":""},{"$f":"IF(SP_STORICO!C175=\"\",\"\",SP_STORICO!C175)","v":""},{"$f":"IF(SP_STORICO!D175=\"\",\"\",SP_STORICO!D175)","v":""},{"$f":"IF($A175=\"\",\"\",IF(F$4=\"\",\"\",IF(OR($B175=\"X\", $B175=\"I\"),INDIRECT(ADDRESS(IF($B175=\"X\",12,13),MATCH(SP_PIANO!F$4,BASE!$B$2:$F$2,0)+1,,,\"BASE\")),IF($B175=\"U\",-INDIRECT(ADDRESS(4+MATCH(\"U\",CE_PIANO!$B$5:$B$206,0),COLUMN(SP_PIANO!F$4),,,\"CE_PIANO\")),IF(ISERROR(VLOOKUP($A175,Attivita_Passivita!$B$6:$Q$105,COLUMN(Attivita_Passivita!M$4)-1,FALSE)),0,VLOOKUP($A175,Attivita_Passivita!$B$6:$Q$105,COLUMN(Attivita_Passivita!M$4)-1,FALSE))))))","v":""},{"$f":"IF($A175=\"\",\"\",IF(G$4=\"\",\"\",IF(OR($B175=\"X\", $B175=\"I\"),INDIRECT(ADDRESS(IF($B175=\"X\",12,13),MATCH(SP_PIANO!G$4,BASE!$B$2:$F$2,0)+1,,,\"BASE\")),IF($B175=\"U\",-INDIRECT(ADDRESS(4+MATCH(\"U\",CE_PIANO!$B$5:$B$206,0),COLUMN(SP_PIANO!G$4),,,\"CE_PIANO\")),IF(ISERROR(VLOOKUP($A175,Attivita_Passivita!$B$6:$Q$105,COLUMN(Attivita_Passivita!N$4)-1,FALSE)),0,VLOOKUP($A175,Attivita_Passivita!$B$6:$Q$105,COLUMN(Attivita_Passivita!N$4)-1,FALSE))))))","v":""},{"$f":"IF($A175=\"\",\"\",IF(H$4=\"\",\"\",IF(OR($B175=\"X\", $B175=\"I\"),INDIRECT(ADDRESS(IF($B175=\"X\",12,13),MATCH(SP_PIANO!H$4,BASE!$B$2:$F$2,0)+1,,,\"BASE\")),IF($B175=\"U\",-INDIRECT(ADDRESS(4+MATCH(\"U\",CE_PIANO!$B$5:$B$206,0),COLUMN(SP_PIANO!H$4),,,\"CE_PIANO\")),IF(ISERROR(VLOOKUP($A175,Attivita_Passivita!$B$6:$Q$105,COLUMN(Attivita_Passivita!O$4)-1,FALSE)),0,VLOOKUP($A175,Attivita_Passivita!$B$6:$Q$105,COLUMN(Attivita_Passivita!O$4)-1,FALSE))))))","v":""}]
[{"$f":"IF(SP_STORICO!A176=\"\",\"\",SP_STORICO!A176)","v":""},{"$f":"IF($A176=\"\",\"\",VLOOKUP(A176,SCHEMA_SP!$E$5:$F$54,2,FALSE))","v":""},{"$f":"IF(SP_STORICO!A176=\"\",\"\",SP_STORICO!B176)","v":""},{"$f":"IF(SP_STORICO!C176=\"\",\"\",SP_STORICO!C176)","v":""},{"$f":"IF(SP_STORICO!D176=\"\",\"\",SP_STORICO!D176)","v":""},{"$f":"IF($A176=\"\",\"\",IF(F$4=\"\",\"\",IF(OR($B176=\"X\", $B176=\"I\"),INDIRECT(ADDRESS(IF($B176=\"X\",12,13),MATCH(SP_PIANO!F$4,BASE!$B$2:$F$2,0)+1,,,\"BASE\")),IF($B176=\"U\",-INDIRECT(ADDRESS(4+MATCH(\"U\",CE_PIANO!$B$5:$B$206,0),COLUMN(SP_PIANO!F$4),,,\"CE_PIANO\")),IF(ISERROR(VLOOKUP($A176,Attivita_Passivita!$B$6:$Q$105,COLUMN(Attivita_Passivita!M$4)-1,FALSE)),0,VLOOKUP($A176,Attivita_Passivita!$B$6:$Q$105,COLUMN(Attivita_Passivita!M$4)-1,FALSE))))))","v":""},{"$f":"IF($A176=\"\",\"\",IF(G$4=\"\",\"\",IF(OR($B176=\"X\", $B176=\"I\"),INDIRECT(ADDRESS(IF($B176=\"X\",12,13),MATCH(SP_PIANO!G$4,BASE!$B$2:$F$2,0)+1,,,\"BASE\")),IF($B176=\"U\",-INDIRECT(ADDRESS(4+MATCH(\"U\",CE_PIANO!$B$5:$B$206,0),COLUMN(SP_PIANO!G$4),,,\"CE_PIANO\")),IF(ISERROR(VLOOKUP($A176,Attivita_Passivita!$B$6:$Q$105,COLUMN(Attivita_Passivita!N$4)-1,FALSE)),0,VLOOKUP($A176,Attivita_Passivita!$B$6:$Q$105,COLUMN(Attivita_Passivita!N$4)-1,FALSE))))))","v":""},{"$f":"IF($A176=\"\",\"\",IF(H$4=\"\",\"\",IF(OR($B176=\"X\", $B176=\"I\"),INDIRECT(ADDRESS(IF($B176=\"X\",12,13),MATCH(SP_PIANO!H$4,BASE!$B$2:$F$2,0)+1,,,\"BASE\")),IF($B176=\"U\",-INDIRECT(ADDRESS(4+MATCH(\"U\",CE_PIANO!$B$5:$B$206,0),COLUMN(SP_PIANO!H$4),,,\"CE_PIANO\")),IF(ISERROR(VLOOKUP($A176,Attivita_Passivita!$B$6:$Q$105,COLUMN(Attivita_Passivita!O$4)-1,FALSE)),0,VLOOKUP($A176,Attivita_Passivita!$B$6:$Q$105,COLUMN(Attivita_Passivita!O$4)-1,FALSE))))))","v":""}]
[{"$f":"IF(SP_STORICO!A177=\"\",\"\",SP_STORICO!A177)","v":""},{"$f":"IF($A177=\"\",\"\",VLOOKUP(A177,SCHEMA_SP!$E$5:$F$54,2,FALSE))","v":""},{"$f":"IF(SP_STORICO!A177=\"\",\"\",SP_STORICO!B177)","v":""},{"$f":"IF(SP_STORICO!C177=\"\",\"\",SP_STORICO!C177)","v":""},{"$f":"IF(SP_STORICO!D177=\"\",\"\",SP_STORICO!D177)","v":""},{"$f":"IF($A177=\"\",\"\",IF(F$4=\"\",\"\",IF(OR($B177=\"X\", $B177=\"I\"),INDIRECT(ADDRESS(IF($B177=\"X\",12,13),MATCH(SP_PIANO!F$4,BASE!$B$2:$F$2,0)+1,,,\"BASE\")),IF($B177=\"U\",-INDIRECT(ADDRESS(4+MATCH(\"U\",CE_PIANO!$B$5:$B$206,0),COLUMN(SP_PIANO!F$4),,,\"CE_PIANO\")),IF(ISERROR(VLOOKUP($A177,Attivita_Passivita!$B$6:$Q$105,COLUMN(Attivita_Passivita!M$4)-1,FALSE)),0,VLOOKUP($A177,Attivita_Passivita!$B$6:$Q$105,COLUMN(Attivita_Passivita!M$4)-1,FALSE))))))","v":""},{"$f":"IF($A177=\"\",\"\",IF(G$4=\"\",\"\",IF(OR($B177=\"X\", $B177=\"I\"),INDIRECT(ADDRESS(IF($B177=\"X\",12,13),MATCH(SP_PIANO!G$4,BASE!$B$2:$F$2,0)+1,,,\"BASE\")),IF($B177=\"U\",-INDIRECT(ADDRESS(4+MATCH(\"U\",CE_PIANO!$B$5:$B$206,0),COLUMN(SP_PIANO!G$4),,,\"CE_PIANO\")),IF(ISERROR(VLOOKUP($A177,Attivita_Passivita!$B$6:$Q$105,COLUMN(Attivita_Passivita!N$4)-1,FALSE)),0,VLOOKUP($A177,Attivita_Passivita!$B$6:$Q$105,COLUMN(Attivita_Passivita!N$4)-1,FALSE))))))","v":""},{"$f":"IF($A177=\"\",\"\",IF(H$4=\"\",\"\",IF(OR($B177=\"X\", $B177=\"I\"),INDIRECT(ADDRESS(IF($B177=\"X\",12,13),MATCH(SP_PIANO!H$4,BASE!$B$2:$F$2,0)+1,,,\"BASE\")),IF($B177=\"U\",-INDIRECT(ADDRESS(4+MATCH(\"U\",CE_PIANO!$B$5:$B$206,0),COLUMN(SP_PIANO!H$4),,,\"CE_PIANO\")),IF(ISERROR(VLOOKUP($A177,Attivita_Passivita!$B$6:$Q$105,COLUMN(Attivita_Passivita!O$4)-1,FALSE)),0,VLOOKUP($A177,Attivita_Passivita!$B$6:$Q$105,COLUMN(Attivita_Passivita!O$4)-1,FALSE))))))","v":""}]
[{"$f":"IF(SP_STORICO!A178=\"\",\"\",SP_STORICO!A178)","v":""},{"$f":"IF($A178=\"\",\"\",VLOOKUP(A178,SCHEMA_SP!$E$5:$F$54,2,FALSE))","v":""},{"$f":"IF(SP_STORICO!A178=\"\",\"\",SP_STORICO!B178)","v":""},{"$f":"IF(SP_STORICO!C178=\"\",\"\",SP_STORICO!C178)","v":""},{"$f":"IF(SP_STORICO!D178=\"\",\"\",SP_STORICO!D178)","v":""},{"$f":"IF($A178=\"\",\"\",IF(F$4=\"\",\"\",IF(OR($B178=\"X\", $B178=\"I\"),INDIRECT(ADDRESS(IF($B178=\"X\",12,13),MATCH(SP_PIANO!F$4,BASE!$B$2:$F$2,0)+1,,,\"BASE\")),IF($B178=\"U\",-INDIRECT(ADDRESS(4+MATCH(\"U\",CE_PIANO!$B$5:$B$206,0),COLUMN(SP_PIANO!F$4),,,\"CE_PIANO\")),IF(ISERROR(VLOOKUP($A178,Attivita_Passivita!$B$6:$Q$105,COLUMN(Attivita_Passivita!M$4)-1,FALSE)),0,VLOOKUP($A178,Attivita_Passivita!$B$6:$Q$105,COLUMN(Attivita_Passivita!M$4)-1,FALSE))))))","v":""},{"$f":"IF($A178=\"\",\"\",IF(G$4=\"\",\"\",IF(OR($B178=\"X\", $B178=\"I\"),INDIRECT(ADDRESS(IF($B178=\"X\",12,13),MATCH(SP_PIANO!G$4,BASE!$B$2:$F$2,0)+1,,,\"BASE\")),IF($B178=\"U\",-INDIRECT(ADDRESS(4+MATCH(\"U\",CE_PIANO!$B$5:$B$206,0),COLUMN(SP_PIANO!G$4),,,\"CE_PIANO\")),IF(ISERROR(VLOOKUP($A178,Attivita_Passivita!$B$6:$Q$105,COLUMN(Attivita_Passivita!N$4)-1,FALSE)),0,VLOOKUP($A178,Attivita_Passivita!$B$6:$Q$105,COLUMN(Attivita_Passivita!N$4)-1,FALSE))))))","v":""},{"$f":"IF($A178=\"\",\"\",IF(H$4=\"\",\"\",IF(OR($B178=\"X\", $B178=\"I\"),INDIRECT(ADDRESS(IF($B178=\"X\",12,13),MATCH(SP_PIANO!H$4,BASE!$B$2:$F$2,0)+1,,,\"BASE\")),IF($B178=\"U\",-INDIRECT(ADDRESS(4+MATCH(\"U\",CE_PIANO!$B$5:$B$206,0),COLUMN(SP_PIANO!H$4),,,\"CE_PIANO\")),IF(ISERROR(VLOOKUP($A178,Attivita_Passivita!$B$6:$Q$105,COLUMN(Attivita_Passivita!O$4)-1,FALSE)),0,VLOOKUP($A178,Attivita_Passivita!$B$6:$Q$105,COLUMN(Attivita_Passivita!O$4)-1,FALSE))))))","v":""}]
[{"$f":"IF(SP_STORICO!A179=\"\",\"\",SP_STORICO!A179)","v":""},{"$f":"IF($A179=\"\",\"\",VLOOKUP(A179,SCHEMA_SP!$E$5:$F$54,2,FALSE))","v":""},{"$f":"IF(SP_STORICO!A179=\"\",\"\",SP_STORICO!B179)","v":""},{"$f":"IF(SP_STORICO!C179=\"\",\"\",SP_STORICO!C179)","v":""},{"$f":"IF(SP_STORICO!D179=\"\",\"\",SP_STORICO!D179)","v":""},{"$f":"IF($A179=\"\",\"\",IF(F$4=\"\",\"\",IF(OR($B179=\"X\", $B179=\"I\"),INDIRECT(ADDRESS(IF($B179=\"X\",12,13),MATCH(SP_PIANO!F$4,BASE!$B$2:$F$2,0)+1,,,\"BASE\")),IF($B179=\"U\",-INDIRECT(ADDRESS(4+MATCH(\"U\",CE_PIANO!$B$5:$B$206,0),COLUMN(SP_PIANO!F$4),,,\"CE_PIANO\")),IF(ISERROR(VLOOKUP($A179,Attivita_Passivita!$B$6:$Q$105,COLUMN(Attivita_Passivita!M$4)-1,FALSE)),0,VLOOKUP($A179,Attivita_Passivita!$B$6:$Q$105,COLUMN(Attivita_Passivita!M$4)-1,FALSE))))))","v":""},{"$f":"IF($A179=\"\",\"\",IF(G$4=\"\",\"\",IF(OR($B179=\"X\", $B179=\"I\"),INDIRECT(ADDRESS(IF($B179=\"X\",12,13),MATCH(SP_PIANO!G$4,BASE!$B$2:$F$2,0)+1,,,\"BASE\")),IF($B179=\"U\",-INDIRECT(ADDRESS(4+MATCH(\"U\",CE_PIANO!$B$5:$B$206,0),COLUMN(SP_PIANO!G$4),,,\"CE_PIANO\")),IF(ISERROR(VLOOKUP($A179,Attivita_Passivita!$B$6:$Q$105,COLUMN(Attivita_Passivita!N$4)-1,FALSE)),0,VLOOKUP($A179,Attivita_Passivita!$B$6:$Q$105,COLUMN(Attivita_Passivita!N$4)-1,FALSE))))))","v":""},{"$f":"IF($A179=\"\",\"\",IF(H$4=\"\",\"\",IF(OR($B179=\"X\", $B179=\"I\"),INDIRECT(ADDRESS(IF($B179=\"X\",12,13),MATCH(SP_PIANO!H$4,BASE!$B$2:$F$2,0)+1,,,\"BASE\")),IF($B179=\"U\",-INDIRECT(ADDRESS(4+MATCH(\"U\",CE_PIANO!$B$5:$B$206,0),COLUMN(SP_PIANO!H$4),,,\"CE_PIANO\")),IF(ISERROR(VLOOKUP($A179,Attivita_Passivita!$B$6:$Q$105,COLUMN(Attivita_Passivita!O$4)-1,FALSE)),0,VLOOKUP($A179,Attivita_Passivita!$B$6:$Q$105,COLUMN(Attivita_Passivita!O$4)-1,FALSE))))))","v":""}]
[{"$f":"IF(SP_STORICO!A180=\"\",\"\",SP_STORICO!A180)","v":""},{"$f":"IF($A180=\"\",\"\",VLOOKUP(A180,SCHEMA_SP!$E$5:$F$54,2,FALSE))","v":""},{"$f":"IF(SP_STORICO!A180=\"\",\"\",SP_STORICO!B180)","v":""},{"$f":"IF(SP_STORICO!C180=\"\",\"\",SP_STORICO!C180)","v":""},{"$f":"IF(SP_STORICO!D180=\"\",\"\",SP_STORICO!D180)","v":""},{"$f":"IF($A180=\"\",\"\",IF(F$4=\"\",\"\",IF(OR($B180=\"X\", $B180=\"I\"),INDIRECT(ADDRESS(IF($B180=\"X\",12,13),MATCH(SP_PIANO!F$4,BASE!$B$2:$F$2,0)+1,,,\"BASE\")),IF($B180=\"U\",-INDIRECT(ADDRESS(4+MATCH(\"U\",CE_PIANO!$B$5:$B$206,0),COLUMN(SP_PIANO!F$4),,,\"CE_PIANO\")),IF(ISERROR(VLOOKUP($A180,Attivita_Passivita!$B$6:$Q$105,COLUMN(Attivita_Passivita!M$4)-1,FALSE)),0,VLOOKUP($A180,Attivita_Passivita!$B$6:$Q$105,COLUMN(Attivita_Passivita!M$4)-1,FALSE))))))","v":""},{"$f":"IF($A180=\"\",\"\",IF(G$4=\"\",\"\",IF(OR($B180=\"X\", $B180=\"I\"),INDIRECT(ADDRESS(IF($B180=\"X\",12,13),MATCH(SP_PIANO!G$4,BASE!$B$2:$F$2,0)+1,,,\"BASE\")),IF($B180=\"U\",-INDIRECT(ADDRESS(4+MATCH(\"U\",CE_PIANO!$B$5:$B$206,0),COLUMN(SP_PIANO!G$4),,,\"CE_PIANO\")),IF(ISERROR(VLOOKUP($A180,Attivita_Passivita!$B$6:$Q$105,COLUMN(Attivita_Passivita!N$4)-1,FALSE)),0,VLOOKUP($A180,Attivita_Passivita!$B$6:$Q$105,COLUMN(Attivita_Passivita!N$4)-1,FALSE))))))","v":""},{"$f":"IF($A180=\"\",\"\",IF(H$4=\"\",\"\",IF(OR($B180=\"X\", $B180=\"I\"),INDIRECT(ADDRESS(IF($B180=\"X\",12,13),MATCH(SP_PIANO!H$4,BASE!$B$2:$F$2,0)+1,,,\"BASE\")),IF($B180=\"U\",-INDIRECT(ADDRESS(4+MATCH(\"U\",CE_PIANO!$B$5:$B$206,0),COLUMN(SP_PIANO!H$4),,,\"CE_PIANO\")),IF(ISERROR(VLOOKUP($A180,Attivita_Passivita!$B$6:$Q$105,COLUMN(Attivita_Passivita!O$4)-1,FALSE)),0,VLOOKUP($A180,Attivita_Passivita!$B$6:$Q$105,COLUMN(Attivita_Passivita!O$4)-1,FALSE))))))","v":""}]
[{"$f":"IF(SP_STORICO!A181=\"\",\"\",SP_STORICO!A181)","v":""},{"$f":"IF($A181=\"\",\"\",VLOOKUP(A181,SCHEMA_SP!$E$5:$F$54,2,FALSE))","v":""},{"$f":"IF(SP_STORICO!A181=\"\",\"\",SP_STORICO!B181)","v":""},{"$f":"IF(SP_STORICO!C181=\"\",\"\",SP_STORICO!C181)","v":""},{"$f":"IF(SP_STORICO!D181=\"\",\"\",SP_STORICO!D181)","v":""},{"$f":"IF($A181=\"\",\"\",IF(F$4=\"\",\"\",IF(OR($B181=\"X\", $B181=\"I\"),INDIRECT(ADDRESS(IF($B181=\"X\",12,13),MATCH(SP_PIANO!F$4,BASE!$B$2:$F$2,0)+1,,,\"BASE\")),IF($B181=\"U\",-INDIRECT(ADDRESS(4+MATCH(\"U\",CE_PIANO!$B$5:$B$206,0),COLUMN(SP_PIANO!F$4),,,\"CE_PIANO\")),IF(ISERROR(VLOOKUP($A181,Attivita_Passivita!$B$6:$Q$105,COLUMN(Attivita_Passivita!M$4)-1,FALSE)),0,VLOOKUP($A181,Attivita_Passivita!$B$6:$Q$105,COLUMN(Attivita_Passivita!M$4)-1,FALSE))))))","v":""},{"$f":"IF($A181=\"\",\"\",IF(G$4=\"\",\"\",IF(OR($B181=\"X\", $B181=\"I\"),INDIRECT(ADDRESS(IF($B181=\"X\",12,13),MATCH(SP_PIANO!G$4,BASE!$B$2:$F$2,0)+1,,,\"BASE\")),IF($B181=\"U\",-INDIRECT(ADDRESS(4+MATCH(\"U\",CE_PIANO!$B$5:$B$206,0),COLUMN(SP_PIANO!G$4),,,\"CE_PIANO\")),IF(ISERROR(VLOOKUP($A181,Attivita_Passivita!$B$6:$Q$105,COLUMN(Attivita_Passivita!N$4)-1,FALSE)),0,VLOOKUP($A181,Attivita_Passivita!$B$6:$Q$105,COLUMN(Attivita_Passivita!N$4)-1,FALSE))))))","v":""},{"$f":"IF($A181=\"\",\"\",IF(H$4=\"\",\"\",IF(OR($B181=\"X\", $B181=\"I\"),INDIRECT(ADDRESS(IF($B181=\"X\",12,13),MATCH(SP_PIANO!H$4,BASE!$B$2:$F$2,0)+1,,,\"BASE\")),IF($B181=\"U\",-INDIRECT(ADDRESS(4+MATCH(\"U\",CE_PIANO!$B$5:$B$206,0),COLUMN(SP_PIANO!H$4),,,\"CE_PIANO\")),IF(ISERROR(VLOOKUP($A181,Attivita_Passivita!$B$6:$Q$105,COLUMN(Attivita_Passivita!O$4)-1,FALSE)),0,VLOOKUP($A181,Attivita_Passivita!$B$6:$Q$105,COLUMN(Attivita_Passivita!O$4)-1,FALSE))))))","v":""}]
[{"$f":"IF(SP_STORICO!A182=\"\",\"\",SP_STORICO!A182)","v":""},{"$f":"IF($A182=\"\",\"\",VLOOKUP(A182,SCHEMA_SP!$E$5:$F$54,2,FALSE))","v":""},{"$f":"IF(SP_STORICO!A182=\"\",\"\",SP_STORICO!B182)","v":""},{"$f":"IF(SP_STORICO!C182=\"\",\"\",SP_STORICO!C182)","v":""},{"$f":"IF(SP_STORICO!D182=\"\",\"\",SP_STORICO!D182)","v":""},{"$f":"IF($A182=\"\",\"\",IF(F$4=\"\",\"\",IF(OR($B182=\"X\", $B182=\"I\"),INDIRECT(ADDRESS(IF($B182=\"X\",12,13),MATCH(SP_PIANO!F$4,BASE!$B$2:$F$2,0)+1,,,\"BASE\")),IF($B182=\"U\",-INDIRECT(ADDRESS(4+MATCH(\"U\",CE_PIANO!$B$5:$B$206,0),COLUMN(SP_PIANO!F$4),,,\"CE_PIANO\")),IF(ISERROR(VLOOKUP($A182,Attivita_Passivita!$B$6:$Q$105,COLUMN(Attivita_Passivita!M$4)-1,FALSE)),0,VLOOKUP($A182,Attivita_Passivita!$B$6:$Q$105,COLUMN(Attivita_Passivita!M$4)-1,FALSE))))))","v":""},{"$f":"IF($A182=\"\",\"\",IF(G$4=\"\",\"\",IF(OR($B182=\"X\", $B182=\"I\"),INDIRECT(ADDRESS(IF($B182=\"X\",12,13),MATCH(SP_PIANO!G$4,BASE!$B$2:$F$2,0)+1,,,\"BASE\")),IF($B182=\"U\",-INDIRECT(ADDRESS(4+MATCH(\"U\",CE_PIANO!$B$5:$B$206,0),COLUMN(SP_PIANO!G$4),,,\"CE_PIANO\")),IF(ISERROR(VLOOKUP($A182,Attivita_Passivita!$B$6:$Q$105,COLUMN(Attivita_Passivita!N$4)-1,FALSE)),0,VLOOKUP($A182,Attivita_Passivita!$B$6:$Q$105,COLUMN(Attivita_Passivita!N$4)-1,FALSE))))))","v":""},{"$f":"IF($A182=\"\",\"\",IF(H$4=\"\",\"\",IF(OR($B182=\"X\", $B182=\"I\"),INDIRECT(ADDRESS(IF($B182=\"X\",12,13),MATCH(SP_PIANO!H$4,BASE!$B$2:$F$2,0)+1,,,\"BASE\")),IF($B182=\"U\",-INDIRECT(ADDRESS(4+MATCH(\"U\",CE_PIANO!$B$5:$B$206,0),COLUMN(SP_PIANO!H$4),,,\"CE_PIANO\")),IF(ISERROR(VLOOKUP($A182,Attivita_Passivita!$B$6:$Q$105,COLUMN(Attivita_Passivita!O$4)-1,FALSE)),0,VLOOKUP($A182,Attivita_Passivita!$B$6:$Q$105,COLUMN(Attivita_Passivita!O$4)-1,FALSE))))))","v":""}]
[{"$f":"IF(SP_STORICO!A183=\"\",\"\",SP_STORICO!A183)","v":""},{"$f":"IF($A183=\"\",\"\",VLOOKUP(A183,SCHEMA_SP!$E$5:$F$54,2,FALSE))","v":""},{"$f":"IF(SP_STORICO!A183=\"\",\"\",SP_STORICO!B183)","v":""},{"$f":"IF(SP_STORICO!C183=\"\",\"\",SP_STORICO!C183)","v":""},{"$f":"IF(SP_STORICO!D183=\"\",\"\",SP_STORICO!D183)","v":""},{"$f":"IF($A183=\"\",\"\",IF(F$4=\"\",\"\",IF(OR($B183=\"X\", $B183=\"I\"),INDIRECT(ADDRESS(IF($B183=\"X\",12,13),MATCH(SP_PIANO!F$4,BASE!$B$2:$F$2,0)+1,,,\"BASE\")),IF($B183=\"U\",-INDIRECT(ADDRESS(4+MATCH(\"U\",CE_PIANO!$B$5:$B$206,0),COLUMN(SP_PIANO!F$4),,,\"CE_PIANO\")),IF(ISERROR(VLOOKUP($A183,Attivita_Passivita!$B$6:$Q$105,COLUMN(Attivita_Passivita!M$4)-1,FALSE)),0,VLOOKUP($A183,Attivita_Passivita!$B$6:$Q$105,COLUMN(Attivita_Passivita!M$4)-1,FALSE))))))","v":""},{"$f":"IF($A183=\"\",\"\",IF(G$4=\"\",\"\",IF(OR($B183=\"X\", $B183=\"I\"),INDIRECT(ADDRESS(IF($B183=\"X\",12,13),MATCH(SP_PIANO!G$4,BASE!$B$2:$F$2,0)+1,,,\"BASE\")),IF($B183=\"U\",-INDIRECT(ADDRESS(4+MATCH(\"U\",CE_PIANO!$B$5:$B$206,0),COLUMN(SP_PIANO!G$4),,,\"CE_PIANO\")),IF(ISERROR(VLOOKUP($A183,Attivita_Passivita!$B$6:$Q$105,COLUMN(Attivita_Passivita!N$4)-1,FALSE)),0,VLOOKUP($A183,Attivita_Passivita!$B$6:$Q$105,COLUMN(Attivita_Passivita!N$4)-1,FALSE))))))","v":""},{"$f":"IF($A183=\"\",\"\",IF(H$4=\"\",\"\",IF(OR($B183=\"X\", $B183=\"I\"),INDIRECT(ADDRESS(IF($B183=\"X\",12,13),MATCH(SP_PIANO!H$4,BASE!$B$2:$F$2,0)+1,,,\"BASE\")),IF($B183=\"U\",-INDIRECT(ADDRESS(4+MATCH(\"U\",CE_PIANO!$B$5:$B$206,0),COLUMN(SP_PIANO!H$4),,,\"CE_PIANO\")),IF(ISERROR(VLOOKUP($A183,Attivita_Passivita!$B$6:$Q$105,COLUMN(Attivita_Passivita!O$4)-1,FALSE)),0,VLOOKUP($A183,Attivita_Passivita!$B$6:$Q$105,COLUMN(Attivita_Passivita!O$4)-1,FALSE))))))","v":""}]
[{"$f":"IF(SP_STORICO!A184=\"\",\"\",SP_STORICO!A184)","v":""},{"$f":"IF($A184=\"\",\"\",VLOOKUP(A184,SCHEMA_SP!$E$5:$F$54,2,FALSE))","v":""},{"$f":"IF(SP_STORICO!A184=\"\",\"\",SP_STORICO!B184)","v":""},{"$f":"IF(SP_STORICO!C184=\"\",\"\",SP_STORICO!C184)","v":""},{"$f":"IF(SP_STORICO!D184=\"\",\"\",SP_STORICO!D184)","v":""},{"$f":"IF($A184=\"\",\"\",IF(F$4=\"\",\"\",IF(OR($B184=\"X\", $B184=\"I\"),INDIRECT(ADDRESS(IF($B184=\"X\",12,13),MATCH(SP_PIANO!F$4,BASE!$B$2:$F$2,0)+1,,,\"BASE\")),IF($B184=\"U\",-INDIRECT(ADDRESS(4+MATCH(\"U\",CE_PIANO!$B$5:$B$206,0),COLUMN(SP_PIANO!F$4),,,\"CE_PIANO\")),IF(ISERROR(VLOOKUP($A184,Attivita_Passivita!$B$6:$Q$105,COLUMN(Attivita_Passivita!M$4)-1,FALSE)),0,VLOOKUP($A184,Attivita_Passivita!$B$6:$Q$105,COLUMN(Attivita_Passivita!M$4)-1,FALSE))))))","v":""},{"$f":"IF($A184=\"\",\"\",IF(G$4=\"\",\"\",IF(OR($B184=\"X\", $B184=\"I\"),INDIRECT(ADDRESS(IF($B184=\"X\",12,13),MATCH(SP_PIANO!G$4,BASE!$B$2:$F$2,0)+1,,,\"BASE\")),IF($B184=\"U\",-INDIRECT(ADDRESS(4+MATCH(\"U\",CE_PIANO!$B$5:$B$206,0),COLUMN(SP_PIANO!G$4),,,\"CE_PIANO\")),IF(ISERROR(VLOOKUP($A184,Attivita_Passivita!$B$6:$Q$105,COLUMN(Attivita_Passivita!N$4)-1,FALSE)),0,VLOOKUP($A184,Attivita_Passivita!$B$6:$Q$105,COLUMN(Attivita_Passivita!N$4)-1,FALSE))))))","v":""},{"$f":"IF($A184=\"\",\"\",IF(H$4=\"\",\"\",IF(OR($B184=\"X\", $B184=\"I\"),INDIRECT(ADDRESS(IF($B184=\"X\",12,13),MATCH(SP_PIANO!H$4,BASE!$B$2:$F$2,0)+1,,,\"BASE\")),IF($B184=\"U\",-INDIRECT(ADDRESS(4+MATCH(\"U\",CE_PIANO!$B$5:$B$206,0),COLUMN(SP_PIANO!H$4),,,\"CE_PIANO\")),IF(ISERROR(VLOOKUP($A184,Attivita_Passivita!$B$6:$Q$105,COLUMN(Attivita_Passivita!O$4)-1,FALSE)),0,VLOOKUP($A184,Attivita_Passivita!$B$6:$Q$105,COLUMN(Attivita_Passivita!O$4)-1,FALSE))))))","v":""}]
[{"$f":"IF(SP_STORICO!A185=\"\",\"\",SP_STORICO!A185)","v":""},{"$f":"IF($A185=\"\",\"\",VLOOKUP(A185,SCHEMA_SP!$E$5:$F$54,2,FALSE))","v":""},{"$f":"IF(SP_STORICO!A185=\"\",\"\",SP_STORICO!B185)","v":""},{"$f":"IF(SP_STORICO!C185=\"\",\"\",SP_STORICO!C185)","v":""},{"$f":"IF(SP_STORICO!D185=\"\",\"\",SP_STORICO!D185)","v":""},{"$f":"IF($A185=\"\",\"\",IF(F$4=\"\",\"\",IF(OR($B185=\"X\", $B185=\"I\"),INDIRECT(ADDRESS(IF($B185=\"X\",12,13),MATCH(SP_PIANO!F$4,BASE!$B$2:$F$2,0)+1,,,\"BASE\")),IF($B185=\"U\",-INDIRECT(ADDRESS(4+MATCH(\"U\",CE_PIANO!$B$5:$B$206,0),COLUMN(SP_PIANO!F$4),,,\"CE_PIANO\")),IF(ISERROR(VLOOKUP($A185,Attivita_Passivita!$B$6:$Q$105,COLUMN(Attivita_Passivita!M$4)-1,FALSE)),0,VLOOKUP($A185,Attivita_Passivita!$B$6:$Q$105,COLUMN(Attivita_Passivita!M$4)-1,FALSE))))))","v":""},{"$f":"IF($A185=\"\",\"\",IF(G$4=\"\",\"\",IF(OR($B185=\"X\", $B185=\"I\"),INDIRECT(ADDRESS(IF($B185=\"X\",12,13),MATCH(SP_PIANO!G$4,BASE!$B$2:$F$2,0)+1,,,\"BASE\")),IF($B185=\"U\",-INDIRECT(ADDRESS(4+MATCH(\"U\",CE_PIANO!$B$5:$B$206,0),COLUMN(SP_PIANO!G$4),,,\"CE_PIANO\")),IF(ISERROR(VLOOKUP($A185,Attivita_Passivita!$B$6:$Q$105,COLUMN(Attivita_Passivita!N$4)-1,FALSE)),0,VLOOKUP($A185,Attivita_Passivita!$B$6:$Q$105,COLUMN(Attivita_Passivita!N$4)-1,FALSE))))))","v":""},{"$f":"IF($A185=\"\",\"\",IF(H$4=\"\",\"\",IF(OR($B185=\"X\", $B185=\"I\"),INDIRECT(ADDRESS(IF($B185=\"X\",12,13),MATCH(SP_PIANO!H$4,BASE!$B$2:$F$2,0)+1,,,\"BASE\")),IF($B185=\"U\",-INDIRECT(ADDRESS(4+MATCH(\"U\",CE_PIANO!$B$5:$B$206,0),COLUMN(SP_PIANO!H$4),,,\"CE_PIANO\")),IF(ISERROR(VLOOKUP($A185,Attivita_Passivita!$B$6:$Q$105,COLUMN(Attivita_Passivita!O$4)-1,FALSE)),0,VLOOKUP($A185,Attivita_Passivita!$B$6:$Q$105,COLUMN(Attivita_Passivita!O$4)-1,FALSE))))))","v":""}]
[{"$f":"IF(SP_STORICO!A186=\"\",\"\",SP_STORICO!A186)","v":""},{"$f":"IF($A186=\"\",\"\",VLOOKUP(A186,SCHEMA_SP!$E$5:$F$54,2,FALSE))","v":""},{"$f":"IF(SP_STORICO!A186=\"\",\"\",SP_STORICO!B186)","v":""},{"$f":"IF(SP_STORICO!C186=\"\",\"\",SP_STORICO!C186)","v":""},{"$f":"IF(SP_STORICO!D186=\"\",\"\",SP_STORICO!D186)","v":""},{"$f":"IF($A186=\"\",\"\",IF(F$4=\"\",\"\",IF(OR($B186=\"X\", $B186=\"I\"),INDIRECT(ADDRESS(IF($B186=\"X\",12,13),MATCH(SP_PIANO!F$4,BASE!$B$2:$F$2,0)+1,,,\"BASE\")),IF($B186=\"U\",-INDIRECT(ADDRESS(4+MATCH(\"U\",CE_PIANO!$B$5:$B$206,0),COLUMN(SP_PIANO!F$4),,,\"CE_PIANO\")),IF(ISERROR(VLOOKUP($A186,Attivita_Passivita!$B$6:$Q$105,COLUMN(Attivita_Passivita!M$4)-1,FALSE)),0,VLOOKUP($A186,Attivita_Passivita!$B$6:$Q$105,COLUMN(Attivita_Passivita!M$4)-1,FALSE))))))","v":""},{"$f":"IF($A186=\"\",\"\",IF(G$4=\"\",\"\",IF(OR($B186=\"X\", $B186=\"I\"),INDIRECT(ADDRESS(IF($B186=\"X\",12,13),MATCH(SP_PIANO!G$4,BASE!$B$2:$F$2,0)+1,,,\"BASE\")),IF($B186=\"U\",-INDIRECT(ADDRESS(4+MATCH(\"U\",CE_PIANO!$B$5:$B$206,0),COLUMN(SP_PIANO!G$4),,,\"CE_PIANO\")),IF(ISERROR(VLOOKUP($A186,Attivita_Passivita!$B$6:$Q$105,COLUMN(Attivita_Passivita!N$4)-1,FALSE)),0,VLOOKUP($A186,Attivita_Passivita!$B$6:$Q$105,COLUMN(Attivita_Passivita!N$4)-1,FALSE))))))","v":""},{"$f":"IF($A186=\"\",\"\",IF(H$4=\"\",\"\",IF(OR($B186=\"X\", $B186=\"I\"),INDIRECT(ADDRESS(IF($B186=\"X\",12,13),MATCH(SP_PIANO!H$4,BASE!$B$2:$F$2,0)+1,,,\"BASE\")),IF($B186=\"U\",-INDIRECT(ADDRESS(4+MATCH(\"U\",CE_PIANO!$B$5:$B$206,0),COLUMN(SP_PIANO!H$4),,,\"CE_PIANO\")),IF(ISERROR(VLOOKUP($A186,Attivita_Passivita!$B$6:$Q$105,COLUMN(Attivita_Passivita!O$4)-1,FALSE)),0,VLOOKUP($A186,Attivita_Passivita!$B$6:$Q$105,COLUMN(Attivita_Passivita!O$4)-1,FALSE))))))","v":""}]
[{"$f":"IF(SP_STORICO!A187=\"\",\"\",SP_STORICO!A187)","v":""},{"$f":"IF($A187=\"\",\"\",VLOOKUP(A187,SCHEMA_SP!$E$5:$F$54,2,FALSE))","v":""},{"$f":"IF(SP_STORICO!A187=\"\",\"\",SP_STORICO!B187)","v":""},{"$f":"IF(SP_STORICO!C187=\"\",\"\",SP_STORICO!C187)","v":""},{"$f":"IF(SP_STORICO!D187=\"\",\"\",SP_STORICO!D187)","v":""},{"$f":"IF($A187=\"\",\"\",IF(F$4=\"\",\"\",IF(OR($B187=\"X\", $B187=\"I\"),INDIRECT(ADDRESS(IF($B187=\"X\",12,13),MATCH(SP_PIANO!F$4,BASE!$B$2:$F$2,0)+1,,,\"BASE\")),IF($B187=\"U\",-INDIRECT(ADDRESS(4+MATCH(\"U\",CE_PIANO!$B$5:$B$206,0),COLUMN(SP_PIANO!F$4),,,\"CE_PIANO\")),IF(ISERROR(VLOOKUP($A187,Attivita_Passivita!$B$6:$Q$105,COLUMN(Attivita_Passivita!M$4)-1,FALSE)),0,VLOOKUP($A187,Attivita_Passivita!$B$6:$Q$105,COLUMN(Attivita_Passivita!M$4)-1,FALSE))))))","v":""},{"$f":"IF($A187=\"\",\"\",IF(G$4=\"\",\"\",IF(OR($B187=\"X\", $B187=\"I\"),INDIRECT(ADDRESS(IF($B187=\"X\",12,13),MATCH(SP_PIANO!G$4,BASE!$B$2:$F$2,0)+1,,,\"BASE\")),IF($B187=\"U\",-INDIRECT(ADDRESS(4+MATCH(\"U\",CE_PIANO!$B$5:$B$206,0),COLUMN(SP_PIANO!G$4),,,\"CE_PIANO\")),IF(ISERROR(VLOOKUP($A187,Attivita_Passivita!$B$6:$Q$105,COLUMN(Attivita_Passivita!N$4)-1,FALSE)),0,VLOOKUP($A187,Attivita_Passivita!$B$6:$Q$105,COLUMN(Attivita_Passivita!N$4)-1,FALSE))))))","v":""},{"$f":"IF($A187=\"\",\"\",IF(H$4=\"\",\"\",IF(OR($B187=\"X\", $B187=\"I\"),INDIRECT(ADDRESS(IF($B187=\"X\",12,13),MATCH(SP_PIANO!H$4,BASE!$B$2:$F$2,0)+1,,,\"BASE\")),IF($B187=\"U\",-INDIRECT(ADDRESS(4+MATCH(\"U\",CE_PIANO!$B$5:$B$206,0),COLUMN(SP_PIANO!H$4),,,\"CE_PIANO\")),IF(ISERROR(VLOOKUP($A187,Attivita_Passivita!$B$6:$Q$105,COLUMN(Attivita_Passivita!O$4)-1,FALSE)),0,VLOOKUP($A187,Attivita_Passivita!$B$6:$Q$105,COLUMN(Attivita_Passivita!O$4)-1,FALSE))))))","v":""}]
[{"$f":"IF(SP_STORICO!A188=\"\",\"\",SP_STORICO!A188)","v":""},{"$f":"IF($A188=\"\",\"\",VLOOKUP(A188,SCHEMA_SP!$E$5:$F$54,2,FALSE))","v":""},{"$f":"IF(SP_STORICO!A188=\"\",\"\",SP_STORICO!B188)","v":""},{"$f":"IF(SP_STORICO!C188=\"\",\"\",SP_STORICO!C188)","v":""},{"$f":"IF(SP_STORICO!D188=\"\",\"\",SP_STORICO!D188)","v":""},{"$f":"IF($A188=\"\",\"\",IF(F$4=\"\",\"\",IF(OR($B188=\"X\", $B188=\"I\"),INDIRECT(ADDRESS(IF($B188=\"X\",12,13),MATCH(SP_PIANO!F$4,BASE!$B$2:$F$2,0)+1,,,\"BASE\")),IF($B188=\"U\",-INDIRECT(ADDRESS(4+MATCH(\"U\",CE_PIANO!$B$5:$B$206,0),COLUMN(SP_PIANO!F$4),,,\"CE_PIANO\")),IF(ISERROR(VLOOKUP($A188,Attivita_Passivita!$B$6:$Q$105,COLUMN(Attivita_Passivita!M$4)-1,FALSE)),0,VLOOKUP($A188,Attivita_Passivita!$B$6:$Q$105,COLUMN(Attivita_Passivita!M$4)-1,FALSE))))))","v":""},{"$f":"IF($A188=\"\",\"\",IF(G$4=\"\",\"\",IF(OR($B188=\"X\", $B188=\"I\"),INDIRECT(ADDRESS(IF($B188=\"X\",12,13),MATCH(SP_PIANO!G$4,BASE!$B$2:$F$2,0)+1,,,\"BASE\")),IF($B188=\"U\",-INDIRECT(ADDRESS(4+MATCH(\"U\",CE_PIANO!$B$5:$B$206,0),COLUMN(SP_PIANO!G$4),,,\"CE_PIANO\")),IF(ISERROR(VLOOKUP($A188,Attivita_Passivita!$B$6:$Q$105,COLUMN(Attivita_Passivita!N$4)-1,FALSE)),0,VLOOKUP($A188,Attivita_Passivita!$B$6:$Q$105,COLUMN(Attivita_Passivita!N$4)-1,FALSE))))))","v":""},{"$f":"IF($A188=\"\",\"\",IF(H$4=\"\",\"\",IF(OR($B188=\"X\", $B188=\"I\"),INDIRECT(ADDRESS(IF($B188=\"X\",12,13),MATCH(SP_PIANO!H$4,BASE!$B$2:$F$2,0)+1,,,\"BASE\")),IF($B188=\"U\",-INDIRECT(ADDRESS(4+MATCH(\"U\",CE_PIANO!$B$5:$B$206,0),COLUMN(SP_PIANO!H$4),,,\"CE_PIANO\")),IF(ISERROR(VLOOKUP($A188,Attivita_Passivita!$B$6:$Q$105,COLUMN(Attivita_Passivita!O$4)-1,FALSE)),0,VLOOKUP($A188,Attivita_Passivita!$B$6:$Q$105,COLUMN(Attivita_Passivita!O$4)-1,FALSE))))))","v":""}]
[{"$f":"IF(SP_STORICO!A189=\"\",\"\",SP_STORICO!A189)","v":""},{"$f":"IF($A189=\"\",\"\",VLOOKUP(A189,SCHEMA_SP!$E$5:$F$54,2,FALSE))","v":""},{"$f":"IF(SP_STORICO!A189=\"\",\"\",SP_STORICO!B189)","v":""},{"$f":"IF(SP_STORICO!C189=\"\",\"\",SP_STORICO!C189)","v":""},{"$f":"IF(SP_STORICO!D189=\"\",\"\",SP_STORICO!D189)","v":""},{"$f":"IF($A189=\"\",\"\",IF(F$4=\"\",\"\",IF(OR($B189=\"X\", $B189=\"I\"),INDIRECT(ADDRESS(IF($B189=\"X\",12,13),MATCH(SP_PIANO!F$4,BASE!$B$2:$F$2,0)+1,,,\"BASE\")),IF($B189=\"U\",-INDIRECT(ADDRESS(4+MATCH(\"U\",CE_PIANO!$B$5:$B$206,0),COLUMN(SP_PIANO!F$4),,,\"CE_PIANO\")),IF(ISERROR(VLOOKUP($A189,Attivita_Passivita!$B$6:$Q$105,COLUMN(Attivita_Passivita!M$4)-1,FALSE)),0,VLOOKUP($A189,Attivita_Passivita!$B$6:$Q$105,COLUMN(Attivita_Passivita!M$4)-1,FALSE))))))","v":""},{"$f":"IF($A189=\"\",\"\",IF(G$4=\"\",\"\",IF(OR($B189=\"X\", $B189=\"I\"),INDIRECT(ADDRESS(IF($B189=\"X\",12,13),MATCH(SP_PIANO!G$4,BASE!$B$2:$F$2,0)+1,,,\"BASE\")),IF($B189=\"U\",-INDIRECT(ADDRESS(4+MATCH(\"U\",CE_PIANO!$B$5:$B$206,0),COLUMN(SP_PIANO!G$4),,,\"CE_PIANO\")),IF(ISERROR(VLOOKUP($A189,Attivita_Passivita!$B$6:$Q$105,COLUMN(Attivita_Passivita!N$4)-1,FALSE)),0,VLOOKUP($A189,Attivita_Passivita!$B$6:$Q$105,COLUMN(Attivita_Passivita!N$4)-1,FALSE))))))","v":""},{"$f":"IF($A189=\"\",\"\",IF(H$4=\"\",\"\",IF(OR($B189=\"X\", $B189=\"I\"),INDIRECT(ADDRESS(IF($B189=\"X\",12,13),MATCH(SP_PIANO!H$4,BASE!$B$2:$F$2,0)+1,,,\"BASE\")),IF($B189=\"U\",-INDIRECT(ADDRESS(4+MATCH(\"U\",CE_PIANO!$B$5:$B$206,0),COLUMN(SP_PIANO!H$4),,,\"CE_PIANO\")),IF(ISERROR(VLOOKUP($A189,Attivita_Passivita!$B$6:$Q$105,COLUMN(Attivita_Passivita!O$4)-1,FALSE)),0,VLOOKUP($A189,Attivita_Passivita!$B$6:$Q$105,COLUMN(Attivita_Passivita!O$4)-1,FALSE))))))","v":""}]
[{"$f":"IF(SP_STORICO!A190=\"\",\"\",SP_STORICO!A190)","v":""},{"$f":"IF($A190=\"\",\"\",VLOOKUP(A190,SCHEMA_SP!$E$5:$F$54,2,FALSE))","v":""},{"$f":"IF(SP_STORICO!A190=\"\",\"\",SP_STORICO!B190)","v":""},{"$f":"IF(SP_STORICO!C190=\"\",\"\",SP_STORICO!C190)","v":""},{"$f":"IF(SP_STORICO!D190=\"\",\"\",SP_STORICO!D190)","v":""},{"$f":"IF($A190=\"\",\"\",IF(F$4=\"\",\"\",IF(OR($B190=\"X\", $B190=\"I\"),INDIRECT(ADDRESS(IF($B190=\"X\",12,13),MATCH(SP_PIANO!F$4,BASE!$B$2:$F$2,0)+1,,,\"BASE\")),IF($B190=\"U\",-INDIRECT(ADDRESS(4+MATCH(\"U\",CE_PIANO!$B$5:$B$206,0),COLUMN(SP_PIANO!F$4),,,\"CE_PIANO\")),IF(ISERROR(VLOOKUP($A190,Attivita_Passivita!$B$6:$Q$105,COLUMN(Attivita_Passivita!M$4)-1,FALSE)),0,VLOOKUP($A190,Attivita_Passivita!$B$6:$Q$105,COLUMN(Attivita_Passivita!M$4)-1,FALSE))))))","v":""},{"$f":"IF($A190=\"\",\"\",IF(G$4=\"\",\"\",IF(OR($B190=\"X\", $B190=\"I\"),INDIRECT(ADDRESS(IF($B190=\"X\",12,13),MATCH(SP_PIANO!G$4,BASE!$B$2:$F$2,0)+1,,,\"BASE\")),IF($B190=\"U\",-INDIRECT(ADDRESS(4+MATCH(\"U\",CE_PIANO!$B$5:$B$206,0),COLUMN(SP_PIANO!G$4),,,\"CE_PIANO\")),IF(ISERROR(VLOOKUP($A190,Attivita_Passivita!$B$6:$Q$105,COLUMN(Attivita_Passivita!N$4)-1,FALSE)),0,VLOOKUP($A190,Attivita_Passivita!$B$6:$Q$105,COLUMN(Attivita_Passivita!N$4)-1,FALSE))))))","v":""},{"$f":"IF($A190=\"\",\"\",IF(H$4=\"\",\"\",IF(OR($B190=\"X\", $B190=\"I\"),INDIRECT(ADDRESS(IF($B190=\"X\",12,13),MATCH(SP_PIANO!H$4,BASE!$B$2:$F$2,0)+1,,,\"BASE\")),IF($B190=\"U\",-INDIRECT(ADDRESS(4+MATCH(\"U\",CE_PIANO!$B$5:$B$206,0),COLUMN(SP_PIANO!H$4),,,\"CE_PIANO\")),IF(ISERROR(VLOOKUP($A190,Attivita_Passivita!$B$6:$Q$105,COLUMN(Attivita_Passivita!O$4)-1,FALSE)),0,VLOOKUP($A190,Attivita_Passivita!$B$6:$Q$105,COLUMN(Attivita_Passivita!O$4)-1,FALSE))))))","v":""}]
[{"$f":"IF(SP_STORICO!A191=\"\",\"\",SP_STORICO!A191)","v":""},{"$f":"IF($A191=\"\",\"\",VLOOKUP(A191,SCHEMA_SP!$E$5:$F$54,2,FALSE))","v":""},{"$f":"IF(SP_STORICO!A191=\"\",\"\",SP_STORICO!B191)","v":""},{"$f":"IF(SP_STORICO!C191=\"\",\"\",SP_STORICO!C191)","v":""},{"$f":"IF(SP_STORICO!D191=\"\",\"\",SP_STORICO!D191)","v":""},{"$f":"IF($A191=\"\",\"\",IF(F$4=\"\",\"\",IF(OR($B191=\"X\", $B191=\"I\"),INDIRECT(ADDRESS(IF($B191=\"X\",12,13),MATCH(SP_PIANO!F$4,BASE!$B$2:$F$2,0)+1,,,\"BASE\")),IF($B191=\"U\",-INDIRECT(ADDRESS(4+MATCH(\"U\",CE_PIANO!$B$5:$B$206,0),COLUMN(SP_PIANO!F$4),,,\"CE_PIANO\")),IF(ISERROR(VLOOKUP($A191,Attivita_Passivita!$B$6:$Q$105,COLUMN(Attivita_Passivita!M$4)-1,FALSE)),0,VLOOKUP($A191,Attivita_Passivita!$B$6:$Q$105,COLUMN(Attivita_Passivita!M$4)-1,FALSE))))))","v":""},{"$f":"IF($A191=\"\",\"\",IF(G$4=\"\",\"\",IF(OR($B191=\"X\", $B191=\"I\"),INDIRECT(ADDRESS(IF($B191=\"X\",12,13),MATCH(SP_PIANO!G$4,BASE!$B$2:$F$2,0)+1,,,\"BASE\")),IF($B191=\"U\",-INDIRECT(ADDRESS(4+MATCH(\"U\",CE_PIANO!$B$5:$B$206,0),COLUMN(SP_PIANO!G$4),,,\"CE_PIANO\")),IF(ISERROR(VLOOKUP($A191,Attivita_Passivita!$B$6:$Q$105,COLUMN(Attivita_Passivita!N$4)-1,FALSE)),0,VLOOKUP($A191,Attivita_Passivita!$B$6:$Q$105,COLUMN(Attivita_Passivita!N$4)-1,FALSE))))))","v":""},{"$f":"IF($A191=\"\",\"\",IF(H$4=\"\",\"\",IF(OR($B191=\"X\", $B191=\"I\"),INDIRECT(ADDRESS(IF($B191=\"X\",12,13),MATCH(SP_PIANO!H$4,BASE!$B$2:$F$2,0)+1,,,\"BASE\")),IF($B191=\"U\",-INDIRECT(ADDRESS(4+MATCH(\"U\",CE_PIANO!$B$5:$B$206,0),COLUMN(SP_PIANO!H$4),,,\"CE_PIANO\")),IF(ISERROR(VLOOKUP($A191,Attivita_Passivita!$B$6:$Q$105,COLUMN(Attivita_Passivita!O$4)-1,FALSE)),0,VLOOKUP($A191,Attivita_Passivita!$B$6:$Q$105,COLUMN(Attivita_Passivita!O$4)-1,FALSE))))))","v":""}]
[{"$f":"IF(SP_STORICO!A192=\"\",\"\",SP_STORICO!A192)","v":""},{"$f":"IF($A192=\"\",\"\",VLOOKUP(A192,SCHEMA_SP!$E$5:$F$54,2,FALSE))","v":""},{"$f":"IF(SP_STORICO!A192=\"\",\"\",SP_STORICO!B192)","v":""},{"$f":"IF(SP_STORICO!C192=\"\",\"\",SP_STORICO!C192)","v":""},{"$f":"IF(SP_STORICO!D192=\"\",\"\",SP_STORICO!D192)","v":""},{"$f":"IF($A192=\"\",\"\",IF(F$4=\"\",\"\",IF(OR($B192=\"X\", $B192=\"I\"),INDIRECT(ADDRESS(IF($B192=\"X\",12,13),MATCH(SP_PIANO!F$4,BASE!$B$2:$F$2,0)+1,,,\"BASE\")),IF($B192=\"U\",-INDIRECT(ADDRESS(4+MATCH(\"U\",CE_PIANO!$B$5:$B$206,0),COLUMN(SP_PIANO!F$4),,,\"CE_PIANO\")),IF(ISERROR(VLOOKUP($A192,Attivita_Passivita!$B$6:$Q$105,COLUMN(Attivita_Passivita!M$4)-1,FALSE)),0,VLOOKUP($A192,Attivita_Passivita!$B$6:$Q$105,COLUMN(Attivita_Passivita!M$4)-1,FALSE))))))","v":""},{"$f":"IF($A192=\"\",\"\",IF(G$4=\"\",\"\",IF(OR($B192=\"X\", $B192=\"I\"),INDIRECT(ADDRESS(IF($B192=\"X\",12,13),MATCH(SP_PIANO!G$4,BASE!$B$2:$F$2,0)+1,,,\"BASE\")),IF($B192=\"U\",-INDIRECT(ADDRESS(4+MATCH(\"U\",CE_PIANO!$B$5:$B$206,0),COLUMN(SP_PIANO!G$4),,,\"CE_PIANO\")),IF(ISERROR(VLOOKUP($A192,Attivita_Passivita!$B$6:$Q$105,COLUMN(Attivita_Passivita!N$4)-1,FALSE)),0,VLOOKUP($A192,Attivita_Passivita!$B$6:$Q$105,COLUMN(Attivita_Passivita!N$4)-1,FALSE))))))","v":""},{"$f":"IF($A192=\"\",\"\",IF(H$4=\"\",\"\",IF(OR($B192=\"X\", $B192=\"I\"),INDIRECT(ADDRESS(IF($B192=\"X\",12,13),MATCH(SP_PIANO!H$4,BASE!$B$2:$F$2,0)+1,,,\"BASE\")),IF($B192=\"U\",-INDIRECT(ADDRESS(4+MATCH(\"U\",CE_PIANO!$B$5:$B$206,0),COLUMN(SP_PIANO!H$4),,,\"CE_PIANO\")),IF(ISERROR(VLOOKUP($A192,Attivita_Passivita!$B$6:$Q$105,COLUMN(Attivita_Passivita!O$4)-1,FALSE)),0,VLOOKUP($A192,Attivita_Passivita!$B$6:$Q$105,COLUMN(Attivita_Passivita!O$4)-1,FALSE))))))","v":""}]
[{"$f":"IF(SP_STORICO!A193=\"\",\"\",SP_STORICO!A193)","v":""},{"$f":"IF($A193=\"\",\"\",VLOOKUP(A193,SCHEMA_SP!$E$5:$F$54,2,FALSE))","v":""},{"$f":"IF(SP_STORICO!A193=\"\",\"\",SP_STORICO!B193)","v":""},{"$f":"IF(SP_STORICO!C193=\"\",\"\",SP_STORICO!C193)","v":""},{"$f":"IF(SP_STORICO!D193=\"\",\"\",SP_STORICO!D193)","v":""},{"$f":"IF($A193=\"\",\"\",IF(F$4=\"\",\"\",IF(OR($B193=\"X\", $B193=\"I\"),INDIRECT(ADDRESS(IF($B193=\"X\",12,13),MATCH(SP_PIANO!F$4,BASE!$B$2:$F$2,0)+1,,,\"BASE\")),IF($B193=\"U\",-INDIRECT(ADDRESS(4+MATCH(\"U\",CE_PIANO!$B$5:$B$206,0),COLUMN(SP_PIANO!F$4),,,\"CE_PIANO\")),IF(ISERROR(VLOOKUP($A193,Attivita_Passivita!$B$6:$Q$105,COLUMN(Attivita_Passivita!M$4)-1,FALSE)),0,VLOOKUP($A193,Attivita_Passivita!$B$6:$Q$105,COLUMN(Attivita_Passivita!M$4)-1,FALSE))))))","v":""},{"$f":"IF($A193=\"\",\"\",IF(G$4=\"\",\"\",IF(OR($B193=\"X\", $B193=\"I\"),INDIRECT(ADDRESS(IF($B193=\"X\",12,13),MATCH(SP_PIANO!G$4,BASE!$B$2:$F$2,0)+1,,,\"BASE\")),IF($B193=\"U\",-INDIRECT(ADDRESS(4+MATCH(\"U\",CE_PIANO!$B$5:$B$206,0),COLUMN(SP_PIANO!G$4),,,\"CE_PIANO\")),IF(ISERROR(VLOOKUP($A193,Attivita_Passivita!$B$6:$Q$105,COLUMN(Attivita_Passivita!N$4)-1,FALSE)),0,VLOOKUP($A193,Attivita_Passivita!$B$6:$Q$105,COLUMN(Attivita_Passivita!N$4)-1,FALSE))))))","v":""},{"$f":"IF($A193=\"\",\"\",IF(H$4=\"\",\"\",IF(OR($B193=\"X\", $B193=\"I\"),INDIRECT(ADDRESS(IF($B193=\"X\",12,13),MATCH(SP_PIANO!H$4,BASE!$B$2:$F$2,0)+1,,,\"BASE\")),IF($B193=\"U\",-INDIRECT(ADDRESS(4+MATCH(\"U\",CE_PIANO!$B$5:$B$206,0),COLUMN(SP_PIANO!H$4),,,\"CE_PIANO\")),IF(ISERROR(VLOOKUP($A193,Attivita_Passivita!$B$6:$Q$105,COLUMN(Attivita_Passivita!O$4)-1,FALSE)),0,VLOOKUP($A193,Attivita_Passivita!$B$6:$Q$105,COLUMN(Attivita_Passivita!O$4)-1,FALSE))))))","v":""}]
[{"$f":"IF(SP_STORICO!A194=\"\",\"\",SP_STORICO!A194)","v":""},{"$f":"IF($A194=\"\",\"\",VLOOKUP(A194,SCHEMA_SP!$E$5:$F$54,2,FALSE))","v":""},{"$f":"IF(SP_STORICO!A194=\"\",\"\",SP_STORICO!B194)","v":""},{"$f":"IF(SP_STORICO!C194=\"\",\"\",SP_STORICO!C194)","v":""},{"$f":"IF(SP_STORICO!D194=\"\",\"\",SP_STORICO!D194)","v":""},{"$f":"IF($A194=\"\",\"\",IF(F$4=\"\",\"\",IF(OR($B194=\"X\", $B194=\"I\"),INDIRECT(ADDRESS(IF($B194=\"X\",12,13),MATCH(SP_PIANO!F$4,BASE!$B$2:$F$2,0)+1,,,\"BASE\")),IF($B194=\"U\",-INDIRECT(ADDRESS(4+MATCH(\"U\",CE_PIANO!$B$5:$B$206,0),COLUMN(SP_PIANO!F$4),,,\"CE_PIANO\")),IF(ISERROR(VLOOKUP($A194,Attivita_Passivita!$B$6:$Q$105,COLUMN(Attivita_Passivita!M$4)-1,FALSE)),0,VLOOKUP($A194,Attivita_Passivita!$B$6:$Q$105,COLUMN(Attivita_Passivita!M$4)-1,FALSE))))))","v":""},{"$f":"IF($A194=\"\",\"\",IF(G$4=\"\",\"\",IF(OR($B194=\"X\", $B194=\"I\"),INDIRECT(ADDRESS(IF($B194=\"X\",12,13),MATCH(SP_PIANO!G$4,BASE!$B$2:$F$2,0)+1,,,\"BASE\")),IF($B194=\"U\",-INDIRECT(ADDRESS(4+MATCH(\"U\",CE_PIANO!$B$5:$B$206,0),COLUMN(SP_PIANO!G$4),,,\"CE_PIANO\")),IF(ISERROR(VLOOKUP($A194,Attivita_Passivita!$B$6:$Q$105,COLUMN(Attivita_Passivita!N$4)-1,FALSE)),0,VLOOKUP($A194,Attivita_Passivita!$B$6:$Q$105,COLUMN(Attivita_Passivita!N$4)-1,FALSE))))))","v":""},{"$f":"IF($A194=\"\",\"\",IF(H$4=\"\",\"\",IF(OR($B194=\"X\", $B194=\"I\"),INDIRECT(ADDRESS(IF($B194=\"X\",12,13),MATCH(SP_PIANO!H$4,BASE!$B$2:$F$2,0)+1,,,\"BASE\")),IF($B194=\"U\",-INDIRECT(ADDRESS(4+MATCH(\"U\",CE_PIANO!$B$5:$B$206,0),COLUMN(SP_PIANO!H$4),,,\"CE_PIANO\")),IF(ISERROR(VLOOKUP($A194,Attivita_Passivita!$B$6:$Q$105,COLUMN(Attivita_Passivita!O$4)-1,FALSE)),0,VLOOKUP($A194,Attivita_Passivita!$B$6:$Q$105,COLUMN(Attivita_Passivita!O$4)-1,FALSE))))))","v":""}]
[{"$f":"IF(SP_STORICO!A195=\"\",\"\",SP_STORICO!A195)","v":""},{"$f":"IF($A195=\"\",\"\",VLOOKUP(A195,SCHEMA_SP!$E$5:$F$54,2,FALSE))","v":""},{"$f":"IF(SP_STORICO!A195=\"\",\"\",SP_STORICO!B195)","v":""},{"$f":"IF(SP_STORICO!C195=\"\",\"\",SP_STORICO!C195)","v":""},{"$f":"IF(SP_STORICO!D195=\"\",\"\",SP_STORICO!D195)","v":""},{"$f":"IF($A195=\"\",\"\",IF(F$4=\"\",\"\",IF(OR($B195=\"X\", $B195=\"I\"),INDIRECT(ADDRESS(IF($B195=\"X\",12,13),MATCH(SP_PIANO!F$4,BASE!$B$2:$F$2,0)+1,,,\"BASE\")),IF($B195=\"U\",-INDIRECT(ADDRESS(4+MATCH(\"U\",CE_PIANO!$B$5:$B$206,0),COLUMN(SP_PIANO!F$4),,,\"CE_PIANO\")),IF(ISERROR(VLOOKUP($A195,Attivita_Passivita!$B$6:$Q$105,COLUMN(Attivita_Passivita!M$4)-1,FALSE)),0,VLOOKUP($A195,Attivita_Passivita!$B$6:$Q$105,COLUMN(Attivita_Passivita!M$4)-1,FALSE))))))","v":""},{"$f":"IF($A195=\"\",\"\",IF(G$4=\"\",\"\",IF(OR($B195=\"X\", $B195=\"I\"),INDIRECT(ADDRESS(IF($B195=\"X\",12,13),MATCH(SP_PIANO!G$4,BASE!$B$2:$F$2,0)+1,,,\"BASE\")),IF($B195=\"U\",-INDIRECT(ADDRESS(4+MATCH(\"U\",CE_PIANO!$B$5:$B$206,0),COLUMN(SP_PIANO!G$4),,,\"CE_PIANO\")),IF(ISERROR(VLOOKUP($A195,Attivita_Passivita!$B$6:$Q$105,COLUMN(Attivita_Passivita!N$4)-1,FALSE)),0,VLOOKUP($A195,Attivita_Passivita!$B$6:$Q$105,COLUMN(Attivita_Passivita!N$4)-1,FALSE))))))","v":""},{"$f":"IF($A195=\"\",\"\",IF(H$4=\"\",\"\",IF(OR($B195=\"X\", $B195=\"I\"),INDIRECT(ADDRESS(IF($B195=\"X\",12,13),MATCH(SP_PIANO!H$4,BASE!$B$2:$F$2,0)+1,,,\"BASE\")),IF($B195=\"U\",-INDIRECT(ADDRESS(4+MATCH(\"U\",CE_PIANO!$B$5:$B$206,0),COLUMN(SP_PIANO!H$4),,,\"CE_PIANO\")),IF(ISERROR(VLOOKUP($A195,Attivita_Passivita!$B$6:$Q$105,COLUMN(Attivita_Passivita!O$4)-1,FALSE)),0,VLOOKUP($A195,Attivita_Passivita!$B$6:$Q$105,COLUMN(Attivita_Passivita!O$4)-1,FALSE))))))","v":""}]
[{"$f":"IF(SP_STORICO!A196=\"\",\"\",SP_STORICO!A196)","v":""},{"$f":"IF($A196=\"\",\"\",VLOOKUP(A196,SCHEMA_SP!$E$5:$F$54,2,FALSE))","v":""},{"$f":"IF(SP_STORICO!A196=\"\",\"\",SP_STORICO!B196)","v":""},{"$f":"IF(SP_STORICO!C196=\"\",\"\",SP_STORICO!C196)","v":""},{"$f":"IF(SP_STORICO!D196=\"\",\"\",SP_STORICO!D196)","v":""},{"$f":"IF($A196=\"\",\"\",IF(F$4=\"\",\"\",IF(OR($B196=\"X\", $B196=\"I\"),INDIRECT(ADDRESS(IF($B196=\"X\",12,13),MATCH(SP_PIANO!F$4,BASE!$B$2:$F$2,0)+1,,,\"BASE\")),IF($B196=\"U\",-INDIRECT(ADDRESS(4+MATCH(\"U\",CE_PIANO!$B$5:$B$206,0),COLUMN(SP_PIANO!F$4),,,\"CE_PIANO\")),IF(ISERROR(VLOOKUP($A196,Attivita_Passivita!$B$6:$Q$105,COLUMN(Attivita_Passivita!M$4)-1,FALSE)),0,VLOOKUP($A196,Attivita_Passivita!$B$6:$Q$105,COLUMN(Attivita_Passivita!M$4)-1,FALSE))))))","v":""},{"$f":"IF($A196=\"\",\"\",IF(G$4=\"\",\"\",IF(OR($B196=\"X\", $B196=\"I\"),INDIRECT(ADDRESS(IF($B196=\"X\",12,13),MATCH(SP_PIANO!G$4,BASE!$B$2:$F$2,0)+1,,,\"BASE\")),IF($B196=\"U\",-INDIRECT(ADDRESS(4+MATCH(\"U\",CE_PIANO!$B$5:$B$206,0),COLUMN(SP_PIANO!G$4),,,\"CE_PIANO\")),IF(ISERROR(VLOOKUP($A196,Attivita_Passivita!$B$6:$Q$105,COLUMN(Attivita_Passivita!N$4)-1,FALSE)),0,VLOOKUP($A196,Attivita_Passivita!$B$6:$Q$105,COLUMN(Attivita_Passivita!N$4)-1,FALSE))))))","v":""},{"$f":"IF($A196=\"\",\"\",IF(H$4=\"\",\"\",IF(OR($B196=\"X\", $B196=\"I\"),INDIRECT(ADDRESS(IF($B196=\"X\",12,13),MATCH(SP_PIANO!H$4,BASE!$B$2:$F$2,0)+1,,,\"BASE\")),IF($B196=\"U\",-INDIRECT(ADDRESS(4+MATCH(\"U\",CE_PIANO!$B$5:$B$206,0),COLUMN(SP_PIANO!H$4),,,\"CE_PIANO\")),IF(ISERROR(VLOOKUP($A196,Attivita_Passivita!$B$6:$Q$105,COLUMN(Attivita_Passivita!O$4)-1,FALSE)),0,VLOOKUP($A196,Attivita_Passivita!$B$6:$Q$105,COLUMN(Attivita_Passivita!O$4)-1,FALSE))))))","v":""}]
[{"$f":"IF(SP_STORICO!A197=\"\",\"\",SP_STORICO!A197)","v":""},{"$f":"IF($A197=\"\",\"\",VLOOKUP(A197,SCHEMA_SP!$E$5:$F$54,2,FALSE))","v":""},{"$f":"IF(SP_STORICO!A197=\"\",\"\",SP_STORICO!B197)","v":""},{"$f":"IF(SP_STORICO!C197=\"\",\"\",SP_STORICO!C197)","v":""},{"$f":"IF(SP_STORICO!D197=\"\",\"\",SP_STORICO!D197)","v":""},{"$f":"IF($A197=\"\",\"\",IF(F$4=\"\",\"\",IF(OR($B197=\"X\", $B197=\"I\"),INDIRECT(ADDRESS(IF($B197=\"X\",12,13),MATCH(SP_PIANO!F$4,BASE!$B$2:$F$2,0)+1,,,\"BASE\")),IF($B197=\"U\",-INDIRECT(ADDRESS(4+MATCH(\"U\",CE_PIANO!$B$5:$B$206,0),COLUMN(SP_PIANO!F$4),,,\"CE_PIANO\")),IF(ISERROR(VLOOKUP($A197,Attivita_Passivita!$B$6:$Q$105,COLUMN(Attivita_Passivita!M$4)-1,FALSE)),0,VLOOKUP($A197,Attivita_Passivita!$B$6:$Q$105,COLUMN(Attivita_Passivita!M$4)-1,FALSE))))))","v":""},{"$f":"IF($A197=\"\",\"\",IF(G$4=\"\",\"\",IF(OR($B197=\"X\", $B197=\"I\"),INDIRECT(ADDRESS(IF($B197=\"X\",12,13),MATCH(SP_PIANO!G$4,BASE!$B$2:$F$2,0)+1,,,\"BASE\")),IF($B197=\"U\",-INDIRECT(ADDRESS(4+MATCH(\"U\",CE_PIANO!$B$5:$B$206,0),COLUMN(SP_PIANO!G$4),,,\"CE_PIANO\")),IF(ISERROR(VLOOKUP($A197,Attivita_Passivita!$B$6:$Q$105,COLUMN(Attivita_Passivita!N$4)-1,FALSE)),0,VLOOKUP($A197,Attivita_Passivita!$B$6:$Q$105,COLUMN(Attivita_Passivita!N$4)-1,FALSE))))))","v":""},{"$f":"IF($A197=\"\",\"\",IF(H$4=\"\",\"\",IF(OR($B197=\"X\", $B197=\"I\"),INDIRECT(ADDRESS(IF($B197=\"X\",12,13),MATCH(SP_PIANO!H$4,BASE!$B$2:$F$2,0)+1,,,\"BASE\")),IF($B197=\"U\",-INDIRECT(ADDRESS(4+MATCH(\"U\",CE_PIANO!$B$5:$B$206,0),COLUMN(SP_PIANO!H$4),,,\"CE_PIANO\")),IF(ISERROR(VLOOKUP($A197,Attivita_Passivita!$B$6:$Q$105,COLUMN(Attivita_Passivita!O$4)-1,FALSE)),0,VLOOKUP($A197,Attivita_Passivita!$B$6:$Q$105,COLUMN(Attivita_Passivita!O$4)-1,FALSE))))))","v":""}]
[{"$f":"IF(SP_STORICO!A198=\"\",\"\",SP_STORICO!A198)","v":""},{"$f":"IF($A198=\"\",\"\",VLOOKUP(A198,SCHEMA_SP!$E$5:$F$54,2,FALSE))","v":""},{"$f":"IF(SP_STORICO!A198=\"\",\"\",SP_STORICO!B198)","v":""},{"$f":"IF(SP_STORICO!C198=\"\",\"\",SP_STORICO!C198)","v":""},{"$f":"IF(SP_STORICO!D198=\"\",\"\",SP_STORICO!D198)","v":""},{"$f":"IF($A198=\"\",\"\",IF(F$4=\"\",\"\",IF(OR($B198=\"X\", $B198=\"I\"),INDIRECT(ADDRESS(IF($B198=\"X\",12,13),MATCH(SP_PIANO!F$4,BASE!$B$2:$F$2,0)+1,,,\"BASE\")),IF($B198=\"U\",-INDIRECT(ADDRESS(4+MATCH(\"U\",CE_PIANO!$B$5:$B$206,0),COLUMN(SP_PIANO!F$4),,,\"CE_PIANO\")),IF(ISERROR(VLOOKUP($A198,Attivita_Passivita!$B$6:$Q$105,COLUMN(Attivita_Passivita!M$4)-1,FALSE)),0,VLOOKUP($A198,Attivita_Passivita!$B$6:$Q$105,COLUMN(Attivita_Passivita!M$4)-1,FALSE))))))","v":""},{"$f":"IF($A198=\"\",\"\",IF(G$4=\"\",\"\",IF(OR($B198=\"X\", $B198=\"I\"),INDIRECT(ADDRESS(IF($B198=\"X\",12,13),MATCH(SP_PIANO!G$4,BASE!$B$2:$F$2,0)+1,,,\"BASE\")),IF($B198=\"U\",-INDIRECT(ADDRESS(4+MATCH(\"U\",CE_PIANO!$B$5:$B$206,0),COLUMN(SP_PIANO!G$4),,,\"CE_PIANO\")),IF(ISERROR(VLOOKUP($A198,Attivita_Passivita!$B$6:$Q$105,COLUMN(Attivita_Passivita!N$4)-1,FALSE)),0,VLOOKUP($A198,Attivita_Passivita!$B$6:$Q$105,COLUMN(Attivita_Passivita!N$4)-1,FALSE))))))","v":""},{"$f":"IF($A198=\"\",\"\",IF(H$4=\"\",\"\",IF(OR($B198=\"X\", $B198=\"I\"),INDIRECT(ADDRESS(IF($B198=\"X\",12,13),MATCH(SP_PIANO!H$4,BASE!$B$2:$F$2,0)+1,,,\"BASE\")),IF($B198=\"U\",-INDIRECT(ADDRESS(4+MATCH(\"U\",CE_PIANO!$B$5:$B$206,0),COLUMN(SP_PIANO!H$4),,,\"CE_PIANO\")),IF(ISERROR(VLOOKUP($A198,Attivita_Passivita!$B$6:$Q$105,COLUMN(Attivita_Passivita!O$4)-1,FALSE)),0,VLOOKUP($A198,Attivita_Passivita!$B$6:$Q$105,COLUMN(Attivita_Passivita!O$4)-1,FALSE))))))","v":""}]
[{"$f":"IF(SP_STORICO!A199=\"\",\"\",SP_STORICO!A199)","v":""},{"$f":"IF($A199=\"\",\"\",VLOOKUP(A199,SCHEMA_SP!$E$5:$F$54,2,FALSE))","v":""},{"$f":"IF(SP_STORICO!A199=\"\",\"\",SP_STORICO!B199)","v":""},{"$f":"IF(SP_STORICO!C199=\"\",\"\",SP_STORICO!C199)","v":""},{"$f":"IF(SP_STORICO!D199=\"\",\"\",SP_STORICO!D199)","v":""},{"$f":"IF($A199=\"\",\"\",IF(F$4=\"\",\"\",IF(OR($B199=\"X\", $B199=\"I\"),INDIRECT(ADDRESS(IF($B199=\"X\",12,13),MATCH(SP_PIANO!F$4,BASE!$B$2:$F$2,0)+1,,,\"BASE\")),IF($B199=\"U\",-INDIRECT(ADDRESS(4+MATCH(\"U\",CE_PIANO!$B$5:$B$206,0),COLUMN(SP_PIANO!F$4),,,\"CE_PIANO\")),IF(ISERROR(VLOOKUP($A199,Attivita_Passivita!$B$6:$Q$105,COLUMN(Attivita_Passivita!M$4)-1,FALSE)),0,VLOOKUP($A199,Attivita_Passivita!$B$6:$Q$105,COLUMN(Attivita_Passivita!M$4)-1,FALSE))))))","v":""},{"$f":"IF($A199=\"\",\"\",IF(G$4=\"\",\"\",IF(OR($B199=\"X\", $B199=\"I\"),INDIRECT(ADDRESS(IF($B199=\"X\",12,13),MATCH(SP_PIANO!G$4,BASE!$B$2:$F$2,0)+1,,,\"BASE\")),IF($B199=\"U\",-INDIRECT(ADDRESS(4+MATCH(\"U\",CE_PIANO!$B$5:$B$206,0),COLUMN(SP_PIANO!G$4),,,\"CE_PIANO\")),IF(ISERROR(VLOOKUP($A199,Attivita_Passivita!$B$6:$Q$105,COLUMN(Attivita_Passivita!N$4)-1,FALSE)),0,VLOOKUP($A199,Attivita_Passivita!$B$6:$Q$105,COLUMN(Attivita_Passivita!N$4)-1,FALSE))))))","v":""},{"$f":"IF($A199=\"\",\"\",IF(H$4=\"\",\"\",IF(OR($B199=\"X\", $B199=\"I\"),INDIRECT(ADDRESS(IF($B199=\"X\",12,13),MATCH(SP_PIANO!H$4,BASE!$B$2:$F$2,0)+1,,,\"BASE\")),IF($B199=\"U\",-INDIRECT(ADDRESS(4+MATCH(\"U\",CE_PIANO!$B$5:$B$206,0),COLUMN(SP_PIANO!H$4),,,\"CE_PIANO\")),IF(ISERROR(VLOOKUP($A199,Attivita_Passivita!$B$6:$Q$105,COLUMN(Attivita_Passivita!O$4)-1,FALSE)),0,VLOOKUP($A199,Attivita_Passivita!$B$6:$Q$105,COLUMN(Attivita_Passivita!O$4)-1,FALSE))))))","v":""}]
[{"$f":"IF(SP_STORICO!A200=\"\",\"\",SP_STORICO!A200)","v":""},{"$f":"IF($A200=\"\",\"\",VLOOKUP(A200,SCHEMA_SP!$E$5:$F$54,2,FALSE))","v":""},{"$f":"IF(SP_STORICO!A200=\"\",\"\",SP_STORICO!B200)","v":""},{"$f":"IF(SP_STORICO!C200=\"\",\"\",SP_STORICO!C200)","v":""},{"$f":"IF(SP_STORICO!D200=\"\",\"\",SP_STORICO!D200)","v":""},{"$f":"IF($A200=\"\",\"\",IF(F$4=\"\",\"\",IF(OR($B200=\"X\", $B200=\"I\"),INDIRECT(ADDRESS(IF($B200=\"X\",12,13),MATCH(SP_PIANO!F$4,BASE!$B$2:$F$2,0)+1,,,\"BASE\")),IF($B200=\"U\",-INDIRECT(ADDRESS(4+MATCH(\"U\",CE_PIANO!$B$5:$B$206,0),COLUMN(SP_PIANO!F$4),,,\"CE_PIANO\")),IF(ISERROR(VLOOKUP($A200,Attivita_Passivita!$B$6:$Q$105,COLUMN(Attivita_Passivita!M$4)-1,FALSE)),0,VLOOKUP($A200,Attivita_Passivita!$B$6:$Q$105,COLUMN(Attivita_Passivita!M$4)-1,FALSE))))))","v":""},{"$f":"IF($A200=\"\",\"\",IF(G$4=\"\",\"\",IF(OR($B200=\"X\", $B200=\"I\"),INDIRECT(ADDRESS(IF($B200=\"X\",12,13),MATCH(SP_PIANO!G$4,BASE!$B$2:$F$2,0)+1,,,\"BASE\")),IF($B200=\"U\",-INDIRECT(ADDRESS(4+MATCH(\"U\",CE_PIANO!$B$5:$B$206,0),COLUMN(SP_PIANO!G$4),,,\"CE_PIANO\")),IF(ISERROR(VLOOKUP($A200,Attivita_Passivita!$B$6:$Q$105,COLUMN(Attivita_Passivita!N$4)-1,FALSE)),0,VLOOKUP($A200,Attivita_Passivita!$B$6:$Q$105,COLUMN(Attivita_Passivita!N$4)-1,FALSE))))))","v":""},{"$f":"IF($A200=\"\",\"\",IF(H$4=\"\",\"\",IF(OR($B200=\"X\", $B200=\"I\"),INDIRECT(ADDRESS(IF($B200=\"X\",12,13),MATCH(SP_PIANO!H$4,BASE!$B$2:$F$2,0)+1,,,\"BASE\")),IF($B200=\"U\",-INDIRECT(ADDRESS(4+MATCH(\"U\",CE_PIANO!$B$5:$B$206,0),COLUMN(SP_PIANO!H$4),,,\"CE_PIANO\")),IF(ISERROR(VLOOKUP($A200,Attivita_Passivita!$B$6:$Q$105,COLUMN(Attivita_Passivita!O$4)-1,FALSE)),0,VLOOKUP($A200,Attivita_Passivita!$B$6:$Q$105,COLUMN(Attivita_Passivita!O$4)-1,FALSE))))))","v":""}]
[{"$f":"IF(SP_STORICO!A201=\"\",\"\",SP_STORICO!A201)","v":""},{"$f":"IF($A201=\"\",\"\",VLOOKUP(A201,SCHEMA_SP!$E$5:$F$54,2,FALSE))","v":""},{"$f":"IF(SP_STORICO!A201=\"\",\"\",SP_STORICO!B201)","v":""},{"$f":"IF(SP_STORICO!C201=\"\",\"\",SP_STORICO!C201)","v":""},{"$f":"IF(SP_STORICO!D201=\"\",\"\",SP_STORICO!D201)","v":""},{"$f":"IF($A201=\"\",\"\",IF(F$4=\"\",\"\",IF(OR($B201=\"X\", $B201=\"I\"),INDIRECT(ADDRESS(IF($B201=\"X\",12,13),MATCH(SP_PIANO!F$4,BASE!$B$2:$F$2,0)+1,,,\"BASE\")),IF($B201=\"U\",-INDIRECT(ADDRESS(4+MATCH(\"U\",CE_PIANO!$B$5:$B$206,0),COLUMN(SP_PIANO!F$4),,,\"CE_PIANO\")),IF(ISERROR(VLOOKUP($A201,Attivita_Passivita!$B$6:$Q$105,COLUMN(Attivita_Passivita!M$4)-1,FALSE)),0,VLOOKUP($A201,Attivita_Passivita!$B$6:$Q$105,COLUMN(Attivita_Passivita!M$4)-1,FALSE))))))","v":""},{"$f":"IF($A201=\"\",\"\",IF(G$4=\"\",\"\",IF(OR($B201=\"X\", $B201=\"I\"),INDIRECT(ADDRESS(IF($B201=\"X\",12,13),MATCH(SP_PIANO!G$4,BASE!$B$2:$F$2,0)+1,,,\"BASE\")),IF($B201=\"U\",-INDIRECT(ADDRESS(4+MATCH(\"U\",CE_PIANO!$B$5:$B$206,0),COLUMN(SP_PIANO!G$4),,,\"CE_PIANO\")),IF(ISERROR(VLOOKUP($A201,Attivita_Passivita!$B$6:$Q$105,COLUMN(Attivita_Passivita!N$4)-1,FALSE)),0,VLOOKUP($A201,Attivita_Passivita!$B$6:$Q$105,COLUMN(Attivita_Passivita!N$4)-1,FALSE))))))","v":""},{"$f":"IF($A201=\"\",\"\",IF(H$4=\"\",\"\",IF(OR($B201=\"X\", $B201=\"I\"),INDIRECT(ADDRESS(IF($B201=\"X\",12,13),MATCH(SP_PIANO!H$4,BASE!$B$2:$F$2,0)+1,,,\"BASE\")),IF($B201=\"U\",-INDIRECT(ADDRESS(4+MATCH(\"U\",CE_PIANO!$B$5:$B$206,0),COLUMN(SP_PIANO!H$4),,,\"CE_PIANO\")),IF(ISERROR(VLOOKUP($A201,Attivita_Passivita!$B$6:$Q$105,COLUMN(Attivita_Passivita!O$4)-1,FALSE)),0,VLOOKUP($A201,Attivita_Passivita!$B$6:$Q$105,COLUMN(Attivita_Passivita!O$4)-1,FALSE))))))","v":""}]
[{"$f":"IF(SP_STORICO!A202=\"\",\"\",SP_STORICO!A202)","v":""},{"$f":"IF($A202=\"\",\"\",VLOOKUP(A202,SCHEMA_SP!$E$5:$F$54,2,FALSE))","v":""},{"$f":"IF(SP_STORICO!A202=\"\",\"\",SP_STORICO!B202)","v":""},{"$f":"IF(SP_STORICO!C202=\"\",\"\",SP_STORICO!C202)","v":""},{"$f":"IF(SP_STORICO!D202=\"\",\"\",SP_STORICO!D202)","v":""},{"$f":"IF($A202=\"\",\"\",IF(F$4=\"\",\"\",IF(OR($B202=\"X\", $B202=\"I\"),INDIRECT(ADDRESS(IF($B202=\"X\",12,13),MATCH(SP_PIANO!F$4,BASE!$B$2:$F$2,0)+1,,,\"BASE\")),IF($B202=\"U\",-INDIRECT(ADDRESS(4+MATCH(\"U\",CE_PIANO!$B$5:$B$206,0),COLUMN(SP_PIANO!F$4),,,\"CE_PIANO\")),IF(ISERROR(VLOOKUP($A202,Attivita_Passivita!$B$6:$Q$105,COLUMN(Attivita_Passivita!M$4)-1,FALSE)),0,VLOOKUP($A202,Attivita_Passivita!$B$6:$Q$105,COLUMN(Attivita_Passivita!M$4)-1,FALSE))))))","v":""},{"$f":"IF($A202=\"\",\"\",IF(G$4=\"\",\"\",IF(OR($B202=\"X\", $B202=\"I\"),INDIRECT(ADDRESS(IF($B202=\"X\",12,13),MATCH(SP_PIANO!G$4,BASE!$B$2:$F$2,0)+1,,,\"BASE\")),IF($B202=\"U\",-INDIRECT(ADDRESS(4+MATCH(\"U\",CE_PIANO!$B$5:$B$206,0),COLUMN(SP_PIANO!G$4),,,\"CE_PIANO\")),IF(ISERROR(VLOOKUP($A202,Attivita_Passivita!$B$6:$Q$105,COLUMN(Attivita_Passivita!N$4)-1,FALSE)),0,VLOOKUP($A202,Attivita_Passivita!$B$6:$Q$105,COLUMN(Attivita_Passivita!N$4)-1,FALSE))))))","v":""},{"$f":"IF($A202=\"\",\"\",IF(H$4=\"\",\"\",IF(OR($B202=\"X\", $B202=\"I\"),INDIRECT(ADDRESS(IF($B202=\"X\",12,13),MATCH(SP_PIANO!H$4,BASE!$B$2:$F$2,0)+1,,,\"BASE\")),IF($B202=\"U\",-INDIRECT(ADDRESS(4+MATCH(\"U\",CE_PIANO!$B$5:$B$206,0),COLUMN(SP_PIANO!H$4),,,\"CE_PIANO\")),IF(ISERROR(VLOOKUP($A202,Attivita_Passivita!$B$6:$Q$105,COLUMN(Attivita_Passivita!O$4)-1,FALSE)),0,VLOOKUP($A202,Attivita_Passivita!$B$6:$Q$105,COLUMN(Attivita_Passivita!O$4)-1,FALSE))))))","v":""}]
[{"$f":"IF(SP_STORICO!A203=\"\",\"\",SP_STORICO!A203)","v":""},{"$f":"IF($A203=\"\",\"\",VLOOKUP(A203,SCHEMA_SP!$E$5:$F$54,2,FALSE))","v":""},{"$f":"IF(SP_STORICO!A203=\"\",\"\",SP_STORICO!B203)","v":""},{"$f":"IF(SP_STORICO!C203=\"\",\"\",SP_STORICO!C203)","v":""},{"$f":"IF(SP_STORICO!D203=\"\",\"\",SP_STORICO!D203)","v":""},{"$f":"IF($A203=\"\",\"\",IF(F$4=\"\",\"\",IF(OR($B203=\"X\", $B203=\"I\"),INDIRECT(ADDRESS(IF($B203=\"X\",12,13),MATCH(SP_PIANO!F$4,BASE!$B$2:$F$2,0)+1,,,\"BASE\")),IF($B203=\"U\",-INDIRECT(ADDRESS(4+MATCH(\"U\",CE_PIANO!$B$5:$B$206,0),COLUMN(SP_PIANO!F$4),,,\"CE_PIANO\")),IF(ISERROR(VLOOKUP($A203,Attivita_Passivita!$B$6:$Q$105,COLUMN(Attivita_Passivita!M$4)-1,FALSE)),0,VLOOKUP($A203,Attivita_Passivita!$B$6:$Q$105,COLUMN(Attivita_Passivita!M$4)-1,FALSE))))))","v":""},{"$f":"IF($A203=\"\",\"\",IF(G$4=\"\",\"\",IF(OR($B203=\"X\", $B203=\"I\"),INDIRECT(ADDRESS(IF($B203=\"X\",12,13),MATCH(SP_PIANO!G$4,BASE!$B$2:$F$2,0)+1,,,\"BASE\")),IF($B203=\"U\",-INDIRECT(ADDRESS(4+MATCH(\"U\",CE_PIANO!$B$5:$B$206,0),COLUMN(SP_PIANO!G$4),,,\"CE_PIANO\")),IF(ISERROR(VLOOKUP($A203,Attivita_Passivita!$B$6:$Q$105,COLUMN(Attivita_Passivita!N$4)-1,FALSE)),0,VLOOKUP($A203,Attivita_Passivita!$B$6:$Q$105,COLUMN(Attivita_Passivita!N$4)-1,FALSE))))))","v":""},{"$f":"IF($A203=\"\",\"\",IF(H$4=\"\",\"\",IF(OR($B203=\"X\", $B203=\"I\"),INDIRECT(ADDRESS(IF($B203=\"X\",12,13),MATCH(SP_PIANO!H$4,BASE!$B$2:$F$2,0)+1,,,\"BASE\")),IF($B203=\"U\",-INDIRECT(ADDRESS(4+MATCH(\"U\",CE_PIANO!$B$5:$B$206,0),COLUMN(SP_PIANO!H$4),,,\"CE_PIANO\")),IF(ISERROR(VLOOKUP($A203,Attivita_Passivita!$B$6:$Q$105,COLUMN(Attivita_Passivita!O$4)-1,FALSE)),0,VLOOKUP($A203,Attivita_Passivita!$B$6:$Q$105,COLUMN(Attivita_Passivita!O$4)-1,FALSE))))))","v":""}]
[{"$f":"IF(SP_STORICO!A204=\"\",\"\",SP_STORICO!A204)","v":""},{"$f":"IF($A204=\"\",\"\",VLOOKUP(A204,SCHEMA_SP!$E$5:$F$54,2,FALSE))","v":""},{"$f":"IF(SP_STORICO!A204=\"\",\"\",SP_STORICO!B204)","v":""},{"$f":"IF(SP_STORICO!C204=\"\",\"\",SP_STORICO!C204)","v":""},{"$f":"IF(SP_STORICO!D204=\"\",\"\",SP_STORICO!D204)","v":""},{"$f":"IF($A204=\"\",\"\",IF(F$4=\"\",\"\",IF(OR($B204=\"X\", $B204=\"I\"),INDIRECT(ADDRESS(IF($B204=\"X\",12,13),MATCH(SP_PIANO!F$4,BASE!$B$2:$F$2,0)+1,,,\"BASE\")),IF($B204=\"U\",-INDIRECT(ADDRESS(4+MATCH(\"U\",CE_PIANO!$B$5:$B$206,0),COLUMN(SP_PIANO!F$4),,,\"CE_PIANO\")),IF(ISERROR(VLOOKUP($A204,Attivita_Passivita!$B$6:$Q$105,COLUMN(Attivita_Passivita!M$4)-1,FALSE)),0,VLOOKUP($A204,Attivita_Passivita!$B$6:$Q$105,COLUMN(Attivita_Passivita!M$4)-1,FALSE))))))","v":""},{"$f":"IF($A204=\"\",\"\",IF(G$4=\"\",\"\",IF(OR($B204=\"X\", $B204=\"I\"),INDIRECT(ADDRESS(IF($B204=\"X\",12,13),MATCH(SP_PIANO!G$4,BASE!$B$2:$F$2,0)+1,,,\"BASE\")),IF($B204=\"U\",-INDIRECT(ADDRESS(4+MATCH(\"U\",CE_PIANO!$B$5:$B$206,0),COLUMN(SP_PIANO!G$4),,,\"CE_PIANO\")),IF(ISERROR(VLOOKUP($A204,Attivita_Passivita!$B$6:$Q$105,COLUMN(Attivita_Passivita!N$4)-1,FALSE)),0,VLOOKUP($A204,Attivita_Passivita!$B$6:$Q$105,COLUMN(Attivita_Passivita!N$4)-1,FALSE))))))","v":""},{"$f":"IF($A204=\"\",\"\",IF(H$4=\"\",\"\",IF(OR($B204=\"X\", $B204=\"I\"),INDIRECT(ADDRESS(IF($B204=\"X\",12,13),MATCH(SP_PIANO!H$4,BASE!$B$2:$F$2,0)+1,,,\"BASE\")),IF($B204=\"U\",-INDIRECT(ADDRESS(4+MATCH(\"U\",CE_PIANO!$B$5:$B$206,0),COLUMN(SP_PIANO!H$4),,,\"CE_PIANO\")),IF(ISERROR(VLOOKUP($A204,Attivita_Passivita!$B$6:$Q$105,COLUMN(Attivita_Passivita!O$4)-1,FALSE)),0,VLOOKUP($A204,Attivita_Passivita!$B$6:$Q$105,COLUMN(Attivita_Passivita!O$4)-1,FALSE))))))","v":""}]
[{"$f":"IF(SP_STORICO!A205=\"\",\"\",SP_STORICO!A205)","v":""},{"$f":"IF($A205=\"\",\"\",VLOOKUP(A205,SCHEMA_SP!$E$5:$F$54,2,FALSE))","v":""},{"$f":"IF(SP_STORICO!A205=\"\",\"\",SP_STORICO!B205)","v":""},{"$f":"IF(SP_STORICO!C205=\"\",\"\",SP_STORICO!C205)","v":""},{"$f":"IF(SP_STORICO!D205=\"\",\"\",SP_STORICO!D205)","v":""},{"$f":"IF($A205=\"\",\"\",IF(F$4=\"\",\"\",IF(OR($B205=\"X\", $B205=\"I\"),INDIRECT(ADDRESS(IF($B205=\"X\",12,13),MATCH(SP_PIANO!F$4,BASE!$B$2:$F$2,0)+1,,,\"BASE\")),IF($B205=\"U\",-INDIRECT(ADDRESS(4+MATCH(\"U\",CE_PIANO!$B$5:$B$206,0),COLUMN(SP_PIANO!F$4),,,\"CE_PIANO\")),IF(ISERROR(VLOOKUP($A205,Attivita_Passivita!$B$6:$Q$105,COLUMN(Attivita_Passivita!M$4)-1,FALSE)),0,VLOOKUP($A205,Attivita_Passivita!$B$6:$Q$105,COLUMN(Attivita_Passivita!M$4)-1,FALSE))))))","v":""},{"$f":"IF($A205=\"\",\"\",IF(G$4=\"\",\"\",IF(OR($B205=\"X\", $B205=\"I\"),INDIRECT(ADDRESS(IF($B205=\"X\",12,13),MATCH(SP_PIANO!G$4,BASE!$B$2:$F$2,0)+1,,,\"BASE\")),IF($B205=\"U\",-INDIRECT(ADDRESS(4+MATCH(\"U\",CE_PIANO!$B$5:$B$206,0),COLUMN(SP_PIANO!G$4),,,\"CE_PIANO\")),IF(ISERROR(VLOOKUP($A205,Attivita_Passivita!$B$6:$Q$105,COLUMN(Attivita_Passivita!N$4)-1,FALSE)),0,VLOOKUP($A205,Attivita_Passivita!$B$6:$Q$105,COLUMN(Attivita_Passivita!N$4)-1,FALSE))))))","v":""},{"$f":"IF($A205=\"\",\"\",IF(H$4=\"\",\"\",IF(OR($B205=\"X\", $B205=\"I\"),INDIRECT(ADDRESS(IF($B205=\"X\",12,13),MATCH(SP_PIANO!H$4,BASE!$B$2:$F$2,0)+1,,,\"BASE\")),IF($B205=\"U\",-INDIRECT(ADDRESS(4+MATCH(\"U\",CE_PIANO!$B$5:$B$206,0),COLUMN(SP_PIANO!H$4),,,\"CE_PIANO\")),IF(ISERROR(VLOOKUP($A205,Attivita_Passivita!$B$6:$Q$105,COLUMN(Attivita_Passivita!O$4)-1,FALSE)),0,VLOOKUP($A205,Attivita_Passivita!$B$6:$Q$105,COLUMN(Attivita_Passivita!O$4)-1,FALSE))))))","v":""}]
[{"$f":"IF(SP_STORICO!A206=\"\",\"\",SP_STORICO!A206)","v":""},{"$f":"IF($A206=\"\",\"\",VLOOKUP(A206,SCHEMA_SP!$E$5:$F$54,2,FALSE))","v":""},{"$f":"IF(SP_STORICO!A206=\"\",\"\",SP_STORICO!B206)","v":""},{"$f":"IF(SP_STORICO!C206=\"\",\"\",SP_STORICO!C206)","v":""},{"$f":"IF(SP_STORICO!D206=\"\",\"\",SP_STORICO!D206)","v":""},{"$f":"IF($A206=\"\",\"\",IF(F$4=\"\",\"\",IF(OR($B206=\"X\", $B206=\"I\"),INDIRECT(ADDRESS(IF($B206=\"X\",12,13),MATCH(SP_PIANO!F$4,BASE!$B$2:$F$2,0)+1,,,\"BASE\")),IF($B206=\"U\",-INDIRECT(ADDRESS(4+MATCH(\"U\",CE_PIANO!$B$5:$B$206,0),COLUMN(SP_PIANO!F$4),,,\"CE_PIANO\")),IF(ISERROR(VLOOKUP($A206,Attivita_Passivita!$B$6:$Q$105,COLUMN(Attivita_Passivita!M$4)-1,FALSE)),0,VLOOKUP($A206,Attivita_Passivita!$B$6:$Q$105,COLUMN(Attivita_Passivita!M$4)-1,FALSE))))))","v":""},{"$f":"IF($A206=\"\",\"\",IF(G$4=\"\",\"\",IF(OR($B206=\"X\", $B206=\"I\"),INDIRECT(ADDRESS(IF($B206=\"X\",12,13),MATCH(SP_PIANO!G$4,BASE!$B$2:$F$2,0)+1,,,\"BASE\")),IF($B206=\"U\",-INDIRECT(ADDRESS(4+MATCH(\"U\",CE_PIANO!$B$5:$B$206,0),COLUMN(SP_PIANO!G$4),,,\"CE_PIANO\")),IF(ISERROR(VLOOKUP($A206,Attivita_Passivita!$B$6:$Q$105,COLUMN(Attivita_Passivita!N$4)-1,FALSE)),0,VLOOKUP($A206,Attivita_Passivita!$B$6:$Q$105,COLUMN(Attivita_Passivita!N$4)-1,FALSE))))))","v":""},{"$f":"IF($A206=\"\",\"\",IF(H$4=\"\",\"\",IF(OR($B206=\"X\", $B206=\"I\"),INDIRECT(ADDRESS(IF($B206=\"X\",12,13),MATCH(SP_PIANO!H$4,BASE!$B$2:$F$2,0)+1,,,\"BASE\")),IF($B206=\"U\",-INDIRECT(ADDRESS(4+MATCH(\"U\",CE_PIANO!$B$5:$B$206,0),COLUMN(SP_PIANO!H$4),,,\"CE_PIANO\")),IF(ISERROR(VLOOKUP($A206,Attivita_Passivita!$B$6:$Q$105,COLUMN(Attivita_Passivita!O$4)-1,FALSE)),0,VLOOKUP($A206,Attivita_Passivita!$B$6:$Q$105,COLUMN(Attivita_Passivita!O$4)-1,FALSE))))))","v":""}]
[null,{"$f":"IF($A207=\"\",\"\",VLOOKUP(A207,SCHEMA_SP!$E$5:$F$54,2,FALSE))","v":""},null,null,null,{"$f":"IF($A207=\"\",\"\",IF(F$4=\"\",\"\",IF(OR($B207=\"X\", $B207=\"I\"),INDIRECT(ADDRESS(IF($B207=\"X\",12,13),MATCH(SP_PIANO!F$4,BASE!$B$2:$F$2,0)+1,,,\"BASE\")),IF($B207=\"U\",-INDIRECT(ADDRESS(4+MATCH(\"U\",CE_PIANO!$B$5:$B$206,0),COLUMN(SP_PIANO!F$4),,,\"CE_PIANO\")),IF(ISERROR(VLOOKUP($A207,Attivita_Passivita!$B$6:$Q$105,COLUMN(Attivita_Passivita!M$4)-1,FALSE)),0,VLOOKUP($A207,Attivita_Passivita!$B$6:$Q$105,COLUMN(Attivita_Passivita!M$4)-1,FALSE))))))","v":""},null,{"$f":"IF($A207=\"\",\"\",IF(H$4=\"\",\"\",IF(OR($B207=\"X\", $B207=\"I\"),INDIRECT(ADDRESS(IF($B207=\"X\",12,13),MATCH(SP_PIANO!H$4,BASE!$B$2:$F$2,0)+1,,,\"BASE\")),IF($B207=\"U\",-INDIRECT(ADDRESS(4+MATCH(\"U\",CE_PIANO!$B$5:$B$206,0),COLUMN(SP_PIANO!H$4),,,\"CE_PIANO\")),IF(ISERROR(VLOOKUP($A207,Attivita_Passivita!$B$6:$Q$105,COLUMN(Attivita_Passivita!M$4)-1,FALSE)),0,VLOOKUP($A207,Attivita_Passivita!$B$6:$Q$105,COLUMN(Attivita_Passivita!M$4)-1,FALSE))))))","v":""},null,{"$f":"IF($A207=\"\",\"\",IF(J$4=\"\",\"\",IF(OR($B207=\"X\", $B207=\"I\"),INDIRECT(ADDRESS(IF($B207=\"X\",12,13),MATCH(SP_PIANO!J$4,BASE!$B$2:$F$2,0)+1,,,\"BASE\")),IF($B207=\"U\",-INDIRECT(ADDRESS(4+MATCH(\"U\",CE_PIANO!$B$5:$B$206,0),COLUMN(SP_PIANO!J$4),,,\"CE_PIANO\")),IF(ISERROR(VLOOKUP($A207,Attivita_Passivita!$B$6:$Q$105,COLUMN(Attivita_Passivita!M$4)-1,FALSE)),0,VLOOKUP($A207,Attivita_Passivita!$B$6:$Q$105,COLUMN(Attivita_Passivita!M$4)-1,FALSE))))))","v":""},null,{"$f":"IF($A207=\"\",\"\",IF(L$4=\"\",\"\",IF(OR($B207=\"X\", $B207=\"I\"),INDIRECT(ADDRESS(IF($B207=\"X\",12,13),MATCH(SP_PIANO!L$4,BASE!$B$2:$F$2,0)+1,,,\"BASE\")),IF($B207=\"U\",-INDIRECT(ADDRESS(4+MATCH(\"U\",CE_PIANO!$B$5:$B$206,0),COLUMN(SP_PIANO!L$4),,,\"CE_PIANO\")),IF(ISERROR(VLOOKUP($A207,Attivita_Passivita!$B$6:$Q$105,COLUMN(Attivita_Passivita!M$4)-1,FALSE)),0,VLOOKUP($A207,Attivita_Passivita!$B$6:$Q$105,COLUMN(Attivita_Passivita!M$4)-1,FALSE))))))","v":""},null,{"$f":"IF($A207=\"\",\"\",IF(N$4=\"\",\"\",IF(OR($B207=\"X\", $B207=\"I\"),INDIRECT(ADDRESS(IF($B207=\"X\",12,13),MATCH(SP_PIANO!N$4,BASE!$B$2:$F$2,0)+1,,,\"BASE\")),IF($B207=\"U\",-INDIRECT(ADDRESS(4+MATCH(\"U\",CE_PIANO!$B$5:$B$206,0),COLUMN(SP_PIANO!N$4),,,\"CE_PIANO\")),IF(ISERROR(VLOOKUP($A207,Attivita_Passivita!$B$6:$Q$105,COLUMN(Attivita_Passivita!M$4)-1,FALSE)),0,VLOOKUP($A207,Attivita_Passivita!$B$6:$Q$105,COLUMN(Attivita_Passivita!M$4)-1,FALSE))))))","v":""},null,{"$f":"IF($A207=\"\",\"\",IF(P$4=\"\",\"\",IF(OR($B207=\"X\", $B207=\"I\"),INDIRECT(ADDRESS(IF($B207=\"X\",12,13),MATCH(SP_PIANO!P$4,BASE!$B$2:$F$2,0)+1,,,\"BASE\")),IF($B207=\"U\",-INDIRECT(ADDRESS(4+MATCH(\"U\",CE_PIANO!$B$5:$B$206,0),COLUMN(SP_PIANO!P$4),,,\"CE_PIANO\")),IF(ISERROR(VLOOKUP($A207,Attivita_Passivita!$B$6:$Q$105,COLUMN(Attivita_Passivita!M$4)-1,FALSE)),0,VLOOKUP($A207,Attivita_Passivita!$B$6:$Q$105,COLUMN(Attivita_Passivita!M$4)-1,FALSE))))))","v":""},null,{"$f":"IF($A207=\"\",\"\",IF(R$4=\"\",\"\",IF(OR($B207=\"X\", $B207=\"I\"),INDIRECT(ADDRESS(IF($B207=\"X\",12,13),MATCH(SP_PIANO!R$4,BASE!$B$2:$F$2,0)+1,,,\"BASE\")),IF($B207=\"U\",-INDIRECT(ADDRESS(4+MATCH(\"U\",CE_PIANO!$B$5:$B$206,0),COLUMN(SP_PIANO!R$4),,,\"CE_PIANO\")),IF(ISERROR(VLOOKUP($A207,Attivita_Passivita!$B$6:$Q$105,COLUMN(Attivita_Passivita!M$4)-1,FALSE)),0,VLOOKUP($A207,Attivita_Passivita!$B$6:$Q$105,COLUMN(Attivita_Passivita!M$4)-1,FALSE))))))","v":""},{"$f":"IF($A207=\"\",\"\",IF(S$4=\"\",\"\",IF(OR($B207=\"X\", $B207=\"I\"),INDIRECT(ADDRESS(IF($B207=\"X\",12,13),MATCH(SP_PIANO!S$4,BASE!$B$2:$F$2,0)+1,,,\"BASE\")),IF($B207=\"U\",-INDIRECT(ADDRESS(4+MATCH(\"U\",CE_PIANO!$B$5:$B$206,0),COLUMN(SP_PIANO!S$4),,,\"CE_PIANO\")),IF(ISERROR(VLOOKUP($A207,Attivita_Passivita!$B$6:$Q$105,COLUMN(Attivita_Passivita!M$4)-1,FALSE)),0,VLOOKUP($A207,Attivita_Passivita!$B$6:$Q$105,COLUMN(Attivita_Passivita!M$4)-1,FALSE))))))","v":""},{"$f":"IF($A207=\"\",\"\",IF(T$4=\"\",\"\",IF(OR($B207=\"X\", $B207=\"I\"),INDIRECT(ADDRESS(IF($B207=\"X\",12,13),MATCH(SP_PIANO!T$4,BASE!$B$2:$F$2,0)+1,,,\"BASE\")),IF($B207=\"U\",-INDIRECT(ADDRESS(4+MATCH(\"U\",CE_PIANO!$B$5:$B$206,0),COLUMN(SP_PIANO!T$4),,,\"CE_PIANO\")),IF(ISERROR(VLOOKUP($A207,Attivita_Passivita!$B$6:$Q$105,COLUMN(Attivita_Passivita!M$4)-1,FALSE)),0,VLOOKUP($A207,Attivita_Passivita!$B$6:$Q$105,COLUMN(Attivita_Passivita!M$4)-1,FALSE))))))","v":""},{"$f":"IF($A207=\"\",\"\",IF(U$4=\"\",\"\",IF(OR($B207=\"X\", $B207=\"I\"),INDIRECT(ADDRESS(IF($B207=\"X\",12,13),MATCH(SP_PIANO!U$4,BASE!$B$2:$F$2,0)+1,,,\"BASE\")),IF($B207=\"U\",-INDIRECT(ADDRESS(4+MATCH(\"U\",CE_PIANO!$B$5:$B$206,0),COLUMN(SP_PIANO!U$4),,,\"CE_PIANO\")),IF(ISERROR(VLOOKUP($A207,Attivita_Passivita!$B$6:$Q$105,COLUMN(Attivita_Passivita!M$4)-1,FALSE)),0,VLOOKUP($A207,Attivita_Passivita!$B$6:$Q$105,COLUMN(Attivita_Passivita!M$4)-1,FALSE))))))","v":""},{"$f":"IF($A207=\"\",\"\",IF(V$4=\"\",\"\",IF(OR($B207=\"X\", $B207=\"I\"),INDIRECT(ADDRESS(IF($B207=\"X\",12,13),MATCH(SP_PIANO!V$4,BASE!$B$2:$F$2,0)+1,,,\"BASE\")),IF($B207=\"U\",-INDIRECT(ADDRESS(4+MATCH(\"U\",CE_PIANO!$B$5:$B$206,0),COLUMN(SP_PIANO!V$4),,,\"CE_PIANO\")),IF(ISERROR(VLOOKUP($A207,Attivita_Passivita!$B$6:$Q$105,COLUMN(Attivita_Passivita!M$4)-1,FALSE)),0,VLOOKUP($A207,Attivita_Passivita!$B$6:$Q$105,COLUMN(Attivita_Passivita!M$4)-1,FALSE))))))","v":""},null,null,{"$f":"IF($A207=\"\",\"\",IF(Y$4=\"\",\"\",IF(OR($B207=\"X\", $B207=\"I\"),IF($B207=\"X\",1,0.98)*INDIRECT(ADDRESS(IF($B207=\"X\",12,13),MATCH(SP_PIANO!Y$4,BASE!$B$2:$F$2,0)+1,,,\"BASE\")),IF($B207=\"U\",-INDIRECT(ADDRESS(4+MATCH(\"U\",CE_PIANO!$B$5:$B$206,0),COLUMN(SP_PIANO!Y$4),,,\"CE_PIANO\")),IF(ISERROR(VLOOKUP($A207,Attivita_Passivita!$B$6:$Q$105,COLUMN(Attivita_Passivita!M$4)-1,FALSE)),0,VLOOKUP($A207,Attivita_Passivita!$B$6:$Q$105,COLUMN(Attivita_Passivita!M$4)-1,FALSE))))))","v":""},null,null,{"$f":"IF($A207=\"\",\"\",IF(AB$4=\"\",\"\",IF(OR($B207=\"X\", $B207=\"I\"),INDIRECT(ADDRESS(IF($B207=\"X\",12,13),MATCH(SP_PIANO!AB$4,BASE!$B$2:$F$2,0)+1,,,\"BASE\")),IF($B207=\"U\",-INDIRECT(ADDRESS(4+MATCH(\"U\",CE_PIANO!$B$5:$B$206,0),COLUMN(SP_PIANO!AB$4),,,\"CE_PIANO\")),IF(ISERROR(VLOOKUP($A207,Attivita_Passivita!$B$6:$Q$105,COLUMN(Attivita_Passivita!M$4)-1,FALSE)),0,VLOOKUP($A207,Attivita_Passivita!$B$6:$Q$105,COLUMN(Attivita_Passivita!M$4)-1,FALSE))))))","v":""},null,null,{"$f":"IF($A207=\"\",\"\",IF(AE$4=\"\",\"\",IF(OR($B207=\"X\", $B207=\"I\"),INDIRECT(ADDRESS(IF($B207=\"X\",12,13),MATCH(SP_PIANO!AE$4,BASE!$B$2:$F$2,0)+1,,,\"BASE\")),IF($B207=\"U\",-INDIRECT(ADDRESS(4+MATCH(\"U\",CE_PIANO!$B$5:$B$206,0),COLUMN(SP_PIANO!AE$4),,,\"CE_PIANO\")),IF(ISERROR(VLOOKUP($A207,Attivita_Passivita!$B$6:$Q$105,COLUMN(Attivita_Passivita!M$4)-1,FALSE)),0,VLOOKUP($A207,Attivita_Passivita!$B$6:$Q$105,COLUMN(Attivita_Passivita!M$4)-1,FALSE))))))","v":""},null,null,{"$f":"IF($A207=\"\",\"\",IF(AH$4=\"\",\"\",IF(OR($B207=\"X\", $B207=\"I\"),INDIRECT(ADDRESS(IF($B207=\"X\",12,13),MATCH(SP_PIANO!AH$4,BASE!$B$2:$F$2,0)+1,,,\"BASE\")),IF($B207=\"U\",-INDIRECT(ADDRESS(4+MATCH(\"U\",CE_PIANO!$B$5:$B$206,0),COLUMN(SP_PIANO!AH$4),,,\"CE_PIANO\")),IF(ISERROR(VLOOKUP($A207,Attivita_Passivita!$B$6:$Q$105,COLUMN(Attivita_Passivita!M$4)-1,FALSE)),0,VLOOKUP($A207,Attivita_Passivita!$B$6:$Q$105,COLUMN(Attivita_Passivita!M$4)-1,FALSE))))))","v":""},null,null,{"$f":"IF($A207=\"\",\"\",IF(AK$4=\"\",\"\",IF(OR($B207=\"X\", $B207=\"I\"),INDIRECT(ADDRESS(IF($B207=\"X\",12,13),MATCH(SP_PIANO!AK$4,BASE!$B$2:$F$2,0)+1,,,\"BASE\")),IF($B207=\"U\",-INDIRECT(ADDRESS(4+MATCH(\"U\",CE_PIANO!$B$5:$B$206,0),COLUMN(SP_PIANO!AK$4),,,\"CE_PIANO\")),IF(ISERROR(VLOOKUP($A207,Attivita_Passivita!$B$6:$Q$105,COLUMN(Attivita_Passivita!M$4)-1,FALSE)),0,VLOOKUP($A207,Attivita_Passivita!$B$6:$Q$105,COLUMN(Attivita_Passivita!M$4)-1,FALSE))))))","v":""},null,null,{"$f":"IF($A207=\"\",\"\",IF(AN$4=\"\",\"\",IF(OR($B207=\"X\", $B207=\"I\"),INDIRECT(ADDRESS(IF($B207=\"X\",12,13),MATCH(SP_PIANO!AN$4,BASE!$B$2:$F$2,0)+1,,,\"BASE\")),IF($B207=\"U\",-INDIRECT(ADDRESS(4+MATCH(\"U\",CE_PIANO!$B$5:$B$206,0),COLUMN(SP_PIANO!AN$4),,,\"CE_PIANO\")),IF(ISERROR(VLOOKUP($A207,Attivita_Passivita!$B$6:$Q$105,COLUMN(Attivita_Passivita!M$4)-1,FALSE)),0,VLOOKUP($A207,Attivita_Passivita!$B$6:$Q$105,COLUMN(Attivita_Passivita!M$4)-1,FALSE))))))","v":""},null,null,{"$f":"IF($A207=\"\",\"\",IF(AQ$4=\"\",\"\",IF(OR($B207=\"X\", $B207=\"I\"),INDIRECT(ADDRESS(IF($B207=\"X\",12,13),MATCH(SP_PIANO!AQ$4,BASE!$B$2:$F$2,0)+1,,,\"BASE\")),IF($B207=\"U\",-INDIRECT(ADDRESS(4+MATCH(\"U\",CE_PIANO!$B$5:$B$206,0),COLUMN(SP_PIANO!AQ$4),,,\"CE_PIANO\")),IF(ISERROR(VLOOKUP($A207,Attivita_Passivita!$B$6:$Q$105,COLUMN(Attivita_Passivita!M$4)-1,FALSE)),0,VLOOKUP($A207,Attivita_Passivita!$B$6:$Q$105,COLUMN(Attivita_Passivita!M$4)-1,FALSE))))))","v":""},{"$f":"IF($A207=\"\",\"\",IF(AR$4=\"\",\"\",IF(OR($B207=\"X\", $B207=\"I\"),INDIRECT(ADDRESS(IF($B207=\"X\",12,13),MATCH(SP_PIANO!AR$4,BASE!$B$2:$F$2,0)+1,,,\"BASE\")),IF($B207=\"U\",-INDIRECT(ADDRESS(4+MATCH(\"U\",CE_PIANO!$B$5:$B$206,0),COLUMN(SP_PIANO!AR$4),,,\"CE_PIANO\")),IF(ISERROR(VLOOKUP($A207,Attivita_Passivita!$B$6:$Q$105,COLUMN(Attivita_Passivita!M$4)-1,FALSE)),0,VLOOKUP($A207,Attivita_Passivita!$B$6:$Q$105,COLUMN(Attivita_Passivita!M$4)-1,FALSE))))))","v":""},{"$f":"IF($A207=\"\",\"\",IF(AS$4=\"\",\"\",IF(OR($B207=\"X\", $B207=\"I\"),INDIRECT(ADDRESS(IF($B207=\"X\",12,13),MATCH(SP_PIANO!AS$4,BASE!$B$2:$F$2,0)+1,,,\"BASE\")),IF($B207=\"U\",-INDIRECT(ADDRESS(4+MATCH(\"U\",CE_PIANO!$B$5:$B$206,0),COLUMN(SP_PIANO!AS$4),,,\"CE_PIANO\")),IF(ISERROR(VLOOKUP($A207,Attivita_Passivita!$B$6:$Q$105,COLUMN(Attivita_Passivita!M$4)-1,FALSE)),0,VLOOKUP($A207,Attivita_Passivita!$B$6:$Q$105,COLUMN(Attivita_Passivita!M$4)-1,FALSE))))))","v":""},null,null,{"$f":"IF($A207=\"\",\"\",IF(AV$4=\"\",\"\",IF(OR($B207=\"X\", $B207=\"I\"),INDIRECT(ADDRESS(IF($B207=\"X\",12,13),MATCH(SP_PIANO!AV$4,BASE!$B$2:$F$2,0)+1,,,\"BASE\")),IF($B207=\"U\",-INDIRECT(ADDRESS(4+MATCH(\"U\",CE_PIANO!$B$5:$B$206,0),COLUMN(SP_PIANO!AV$4),,,\"CE_PIANO\")),IF(ISERROR(VLOOKUP($A207,Attivita_Passivita!$B$6:$Q$105,COLUMN(Attivita_Passivita!M$4)-1,FALSE)),0,VLOOKUP($A207,Attivita_Passivita!$B$6:$Q$105,COLUMN(Attivita_Passivita!M$4)-1,FALSE))))))","v":""},null,null,{"$f":"IF($A207=\"\",\"\",IF(AY$4=\"\",\"\",IF(OR($B207=\"X\", $B207=\"I\"),INDIRECT(ADDRESS(IF($B207=\"X\",12,13),MATCH(SP_PIANO!AY$4,BASE!$B$2:$F$2,0)+1,,,\"BASE\")),IF($B207=\"U\",-INDIRECT(ADDRESS(4+MATCH(\"U\",CE_PIANO!$B$5:$B$206,0),COLUMN(SP_PIANO!AY$4),,,\"CE_PIANO\")),IF(ISERROR(VLOOKUP($A207,Attivita_Passivita!$B$6:$Q$105,COLUMN(Attivita_Passivita!M$4)-1,FALSE)),0,VLOOKUP($A207,Attivita_Passivita!$B$6:$Q$105,COLUMN(Attivita_Passivita!M$4)-1,FALSE))))))","v":""},null,null,{"$f":"IF($A207=\"\",\"\",IF(BB$4=\"\",\"\",IF(OR($B207=\"X\", $B207=\"I\"),INDIRECT(ADDRESS(IF($B207=\"X\",12,13),MATCH(SP_PIANO!BB$4,BASE!$B$2:$F$2,0)+1,,,\"BASE\")),IF($B207=\"U\",-INDIRECT(ADDRESS(4+MATCH(\"U\",CE_PIANO!$B$5:$B$206,0),COLUMN(SP_PIANO!BB$4),,,\"CE_PIANO\")),IF(ISERROR(VLOOKUP($A207,Attivita_Passivita!$B$6:$Q$105,COLUMN(Attivita_Passivita!M$4)-1,FALSE)),0,VLOOKUP($A207,Attivita_Passivita!$B$6:$Q$105,COLUMN(Attivita_Passivita!M$4)-1,FALSE))))))","v":""},null,null,{"$f":"IF($A207=\"\",\"\",IF(BE$4=\"\",\"\",IF(OR($B207=\"X\", $B207=\"I\"),INDIRECT(ADDRESS(IF($B207=\"X\",12,13),MATCH(SP_PIANO!BE$4,BASE!$B$2:$F$2,0)+1,,,\"BASE\")),IF($B207=\"U\",-INDIRECT(ADDRESS(4+MATCH(\"U\",CE_PIANO!$B$5:$B$206,0),COLUMN(SP_PIANO!BE$4),,,\"CE_PIANO\")),IF(ISERROR(VLOOKUP($A207,Attivita_Passivita!$B$6:$Q$105,COLUMN(Attivita_Passivita!M$4)-1,FALSE)),0,VLOOKUP($A207,Attivita_Passivita!$B$6:$Q$105,COLUMN(Attivita_Passivita!M$4)-1,FALSE))))))","v":""},null,null,{"$f":"IF($A207=\"\",\"\",IF(BH$4=\"\",\"\",IF(OR($B207=\"X\", $B207=\"I\"),INDIRECT(ADDRESS(IF($B207=\"X\",12,13),MATCH(SP_PIANO!BH$4,BASE!$B$2:$F$2,0)+1,,,\"BASE\")),IF($B207=\"U\",-INDIRECT(ADDRESS(4+MATCH(\"U\",CE_PIANO!$B$5:$B$206,0),COLUMN(SP_PIANO!BH$4),,,\"CE_PIANO\")),IF(ISERROR(VLOOKUP($A207,Attivita_Passivita!$B$6:$Q$105,COLUMN(Attivita_Passivita!M$4)-1,FALSE)),0,VLOOKUP($A207,Attivita_Passivita!$B$6:$Q$105,COLUMN(Attivita_Passivita!M$4)-1,FALSE))))))","v":""},null,null,{"$f":"IF($A207=\"\",\"\",IF(BK$4=\"\",\"\",IF($B207=\"X\",INDIRECT(ADDRESS(12,MATCH(SP_PIANO!BK$4,BASE!$B$2:$F$2,0)+1,,,\"BASE\")),IF($B207=\"U\",-INDIRECT(ADDRESS(4+MATCH(\"U\",CE_PIANO!$B$5:$B$206,0),COLUMN(SP_PIANO!BK$4),,,\"CE_PIANO\")),IF(ISERROR(VLOOKUP($A207,Attivita_Passivita!$B$6:$Q$105,COLUMN(Attivita_Passivita!M$4)-1,FALSE)),0,VLOOKUP($A207,Attivita_Passivita!$B$6:$Q$105,COLUMN(Attivita_Passivita!M$4)-1,FALSE))))))","v":""},null,null,{"$f":"IF($A207=\"\",\"\",IF(BN$4=\"\",\"\",IF($B207=\"X\",INDIRECT(ADDRESS(12,MATCH(SP_PIANO!BN$4,BASE!$B$2:$F$2,0)+1,,,\"BASE\")),IF($B207=\"U\",-INDIRECT(ADDRESS(4+MATCH(\"U\",CE_PIANO!$B$5:$B$206,0),COLUMN(SP_PIANO!BN$4),,,\"CE_PIANO\")),IF(ISERROR(VLOOKUP($A207,Attivita_Passivita!$B$6:$Q$105,COLUMN(Attivita_Passivita!M$4)-1,FALSE)),0,VLOOKUP($A207,Attivita_Passivita!$B$6:$Q$105,COLUMN(Attivita_Passivita!M$4)-1,FALSE))))))","v":""},null,null,{"$f":"IF($A207=\"\",\"\",IF(BQ$4=\"\",\"\",IF($B207=\"X\",INDIRECT(ADDRESS(12,MATCH(SP_PIANO!BQ$4,BASE!$B$2:$F$2,0)+1,,,\"BASE\")),IF($B207=\"U\",-INDIRECT(ADDRESS(4+MATCH(\"U\",CE_PIANO!$B$5:$B$206,0),COLUMN(SP_PIANO!BQ$4),,,\"CE_PIANO\")),IF(ISERROR(VLOOKUP($A207,Attivita_Passivita!$B$6:$Q$105,COLUMN(Attivita_Passivita!M$4)-1,FALSE)),0,VLOOKUP($A207,Attivita_Passivita!$B$6:$Q$105,COLUMN(Attivita_Passivita!M$4)-1,FALSE))))))","v":""},null,null,{"$f":"IF($A207=\"\",\"\",IF(BT$4=\"\",\"\",IF($B207=\"X\",INDIRECT(ADDRESS(12,MATCH(SP_PIANO!BT$4,BASE!$B$2:$F$2,0)+1,,,\"BASE\")),IF($B207=\"U\",-INDIRECT(ADDRESS(4+MATCH(\"U\",CE_PIANO!$B$5:$B$206,0),COLUMN(SP_PIANO!BT$4),,,\"CE_PIANO\")),IF(ISERROR(VLOOKUP($A207,Attivita_Passivita!$B$6:$Q$105,COLUMN(Attivita_Passivita!M$4)-1,FALSE)),0,VLOOKUP($A207,Attivita_Passivita!$B$6:$Q$105,COLUMN(Attivita_Passivita!M$4)-1,FALSE))))))","v":""},null,null,{"$f":"IF($A207=\"\",\"\",IF(BW$4=\"\",\"\",IF($B207=\"X\",INDIRECT(ADDRESS(12,MATCH(SP_PIANO!BW$4,BASE!$B$2:$F$2,0)+1,,,\"BASE\")),IF($B207=\"U\",-INDIRECT(ADDRESS(4+MATCH(\"U\",CE_PIANO!$B$5:$B$206,0),COLUMN(SP_PIANO!BW$4),,,\"CE_PIANO\")),IF(ISERROR(VLOOKUP($A207,Attivita_Passivita!$B$6:$Q$105,COLUMN(Attivita_Passivita!M$4)-1,FALSE)),0,VLOOKUP($A207,Attivita_Passivita!$B$6:$Q$105,COLUMN(Attivita_Passivita!M$4)-1,FALSE))))))","v":""},null,null,{"$f":"IF($A207=\"\",\"\",IF(BZ$4=\"\",\"\",IF($B207=\"X\",INDIRECT(ADDRESS(12,MATCH(SP_PIANO!CE$4,BASE!$B$2:$F$2,0)+1,,,\"BASE\")),IF($B207=\"U\",-INDIRECT(ADDRESS(4+MATCH(\"U\",CE_PIANO!$B$5:$B$206,0),COLUMN(SP_PIANO!CE$4),,,\"CE_PIANO\")),IF(ISERROR(VLOOKUP($A207,Attivita_Passivita!$B$6:$Q$105,COLUMN(Attivita_Passivita!M$4)-1,FALSE)),0,VLOOKUP($A207,Attivita_Passivita!$B$6:$Q$105,COLUMN(Attivita_Passivita!M$4)-1,FALSE))))))","v":""},null,null,{"$f":"IF($A207=\"\",\"\",IF(CC$4=\"\",\"\",IF(OR($B207=\"X\", $B207=\"U\"),0,IF(ISERROR(VLOOKUP($A207,Attivita_Passivita!$B$6:$Q$105,COLUMN(Attivita_Passivita!M$4)-1,FALSE)),0,VLOOKUP($A207,Attivita_Passivita!$B$6:$Q$105,COLUMN(Attivita_Passivita!M$4)-1,FALSE)))))","v":""},null,null,{"$f":"IF($A207=\"\",\"\",IF(CF$4=\"\",\"\",IF(OR($B207=\"X\", $B207=\"U\"),0,IF(ISERROR(VLOOKUP($A207,Attivita_Passivita!$B$6:$Q$105,COLUMN(Attivita_Passivita!M$4)-1,FALSE)),0,VLOOKUP($A207,Attivita_Passivita!$B$6:$Q$105,COLUMN(Attivita_Passivita!M$4)-1,FALSE)))))","v":""},null,null,{"$f":"IF($A207=\"\",\"\",IF(CI$4=\"\",\"\",IF(ISERROR(VLOOKUP($A207,Attivita_Passivita!$B$6:$Q$105,COLUMN(Attivita_Passivita!M$4)-1,FALSE)),0,VLOOKUP($A207,Attivita_Passivita!$B$6:$Q$105,COLUMN(Attivita_Passivita!M$4)-1,FALSE))))","v":""}]
[null,{"$f":"IF($A208=\"\",\"\",VLOOKUP(A208,SCHEMA_SP!$E$5:$F$54,2,FALSE))","v":""},null,null,null,{"$f":"IF($A208=\"\",\"\",IF(F$4=\"\",\"\",IF(OR($B208=\"X\", $B208=\"I\"),INDIRECT(ADDRESS(IF($B208=\"X\",12,13),MATCH(SP_PIANO!F$4,BASE!$B$2:$F$2,0)+1,,,\"BASE\")),IF($B208=\"U\",-INDIRECT(ADDRESS(4+MATCH(\"U\",CE_PIANO!$B$5:$B$206,0),COLUMN(SP_PIANO!F$4),,,\"CE_PIANO\")),IF(ISERROR(VLOOKUP($A208,Attivita_Passivita!$B$6:$Q$105,COLUMN(Attivita_Passivita!M$4)-1,FALSE)),0,VLOOKUP($A208,Attivita_Passivita!$B$6:$Q$105,COLUMN(Attivita_Passivita!M$4)-1,FALSE))))))","v":""},null,{"$f":"IF($A208=\"\",\"\",IF(H$4=\"\",\"\",IF(OR($B208=\"X\", $B208=\"I\"),INDIRECT(ADDRESS(IF($B208=\"X\",12,13),MATCH(SP_PIANO!H$4,BASE!$B$2:$F$2,0)+1,,,\"BASE\")),IF($B208=\"U\",-INDIRECT(ADDRESS(4+MATCH(\"U\",CE_PIANO!$B$5:$B$206,0),COLUMN(SP_PIANO!H$4),,,\"CE_PIANO\")),IF(ISERROR(VLOOKUP($A208,Attivita_Passivita!$B$6:$Q$105,COLUMN(Attivita_Passivita!M$4)-1,FALSE)),0,VLOOKUP($A208,Attivita_Passivita!$B$6:$Q$105,COLUMN(Attivita_Passivita!M$4)-1,FALSE))))))","v":""},null,{"$f":"IF($A208=\"\",\"\",IF(J$4=\"\",\"\",IF(OR($B208=\"X\", $B208=\"I\"),INDIRECT(ADDRESS(IF($B208=\"X\",12,13),MATCH(SP_PIANO!J$4,BASE!$B$2:$F$2,0)+1,,,\"BASE\")),IF($B208=\"U\",-INDIRECT(ADDRESS(4+MATCH(\"U\",CE_PIANO!$B$5:$B$206,0),COLUMN(SP_PIANO!J$4),,,\"CE_PIANO\")),IF(ISERROR(VLOOKUP($A208,Attivita_Passivita!$B$6:$Q$105,COLUMN(Attivita_Passivita!M$4)-1,FALSE)),0,VLOOKUP($A208,Attivita_Passivita!$B$6:$Q$105,COLUMN(Attivita_Passivita!M$4)-1,FALSE))))))","v":""},null,{"$f":"IF($A208=\"\",\"\",IF(L$4=\"\",\"\",IF(OR($B208=\"X\", $B208=\"I\"),INDIRECT(ADDRESS(IF($B208=\"X\",12,13),MATCH(SP_PIANO!L$4,BASE!$B$2:$F$2,0)+1,,,\"BASE\")),IF($B208=\"U\",-INDIRECT(ADDRESS(4+MATCH(\"U\",CE_PIANO!$B$5:$B$206,0),COLUMN(SP_PIANO!L$4),,,\"CE_PIANO\")),IF(ISERROR(VLOOKUP($A208,Attivita_Passivita!$B$6:$Q$105,COLUMN(Attivita_Passivita!M$4)-1,FALSE)),0,VLOOKUP($A208,Attivita_Passivita!$B$6:$Q$105,COLUMN(Attivita_Passivita!M$4)-1,FALSE))))))","v":""},null,{"$f":"IF($A208=\"\",\"\",IF(N$4=\"\",\"\",IF(OR($B208=\"X\", $B208=\"I\"),INDIRECT(ADDRESS(IF($B208=\"X\",12,13),MATCH(SP_PIANO!N$4,BASE!$B$2:$F$2,0)+1,,,\"BASE\")),IF($B208=\"U\",-INDIRECT(ADDRESS(4+MATCH(\"U\",CE_PIANO!$B$5:$B$206,0),COLUMN(SP_PIANO!N$4),,,\"CE_PIANO\")),IF(ISERROR(VLOOKUP($A208,Attivita_Passivita!$B$6:$Q$105,COLUMN(Attivita_Passivita!M$4)-1,FALSE)),0,VLOOKUP($A208,Attivita_Passivita!$B$6:$Q$105,COLUMN(Attivita_Passivita!M$4)-1,FALSE))))))","v":""},null,{"$f":"IF($A208=\"\",\"\",IF(P$4=\"\",\"\",IF(OR($B208=\"X\", $B208=\"I\"),INDIRECT(ADDRESS(IF($B208=\"X\",12,13),MATCH(SP_PIANO!P$4,BASE!$B$2:$F$2,0)+1,,,\"BASE\")),IF($B208=\"U\",-INDIRECT(ADDRESS(4+MATCH(\"U\",CE_PIANO!$B$5:$B$206,0),COLUMN(SP_PIANO!P$4),,,\"CE_PIANO\")),IF(ISERROR(VLOOKUP($A208,Attivita_Passivita!$B$6:$Q$105,COLUMN(Attivita_Passivita!M$4)-1,FALSE)),0,VLOOKUP($A208,Attivita_Passivita!$B$6:$Q$105,COLUMN(Attivita_Passivita!M$4)-1,FALSE))))))","v":""},null,{"$f":"IF($A208=\"\",\"\",IF(R$4=\"\",\"\",IF(OR($B208=\"X\", $B208=\"I\"),INDIRECT(ADDRESS(IF($B208=\"X\",12,13),MATCH(SP_PIANO!R$4,BASE!$B$2:$F$2,0)+1,,,\"BASE\")),IF($B208=\"U\",-INDIRECT(ADDRESS(4+MATCH(\"U\",CE_PIANO!$B$5:$B$206,0),COLUMN(SP_PIANO!R$4),,,\"CE_PIANO\")),IF(ISERROR(VLOOKUP($A208,Attivita_Passivita!$B$6:$Q$105,COLUMN(Attivita_Passivita!M$4)-1,FALSE)),0,VLOOKUP($A208,Attivita_Passivita!$B$6:$Q$105,COLUMN(Attivita_Passivita!M$4)-1,FALSE))))))","v":""},{"$f":"IF($A208=\"\",\"\",IF(S$4=\"\",\"\",IF(OR($B208=\"X\", $B208=\"I\"),INDIRECT(ADDRESS(IF($B208=\"X\",12,13),MATCH(SP_PIANO!S$4,BASE!$B$2:$F$2,0)+1,,,\"BASE\")),IF($B208=\"U\",-INDIRECT(ADDRESS(4+MATCH(\"U\",CE_PIANO!$B$5:$B$206,0),COLUMN(SP_PIANO!S$4),,,\"CE_PIANO\")),IF(ISERROR(VLOOKUP($A208,Attivita_Passivita!$B$6:$Q$105,COLUMN(Attivita_Passivita!M$4)-1,FALSE)),0,VLOOKUP($A208,Attivita_Passivita!$B$6:$Q$105,COLUMN(Attivita_Passivita!M$4)-1,FALSE))))))","v":""},{"$f":"IF($A208=\"\",\"\",IF(T$4=\"\",\"\",IF(OR($B208=\"X\", $B208=\"I\"),INDIRECT(ADDRESS(IF($B208=\"X\",12,13),MATCH(SP_PIANO!T$4,BASE!$B$2:$F$2,0)+1,,,\"BASE\")),IF($B208=\"U\",-INDIRECT(ADDRESS(4+MATCH(\"U\",CE_PIANO!$B$5:$B$206,0),COLUMN(SP_PIANO!T$4),,,\"CE_PIANO\")),IF(ISERROR(VLOOKUP($A208,Attivita_Passivita!$B$6:$Q$105,COLUMN(Attivita_Passivita!M$4)-1,FALSE)),0,VLOOKUP($A208,Attivita_Passivita!$B$6:$Q$105,COLUMN(Attivita_Passivita!M$4)-1,FALSE))))))","v":""},{"$f":"IF($A208=\"\",\"\",IF(U$4=\"\",\"\",IF(OR($B208=\"X\", $B208=\"I\"),INDIRECT(ADDRESS(IF($B208=\"X\",12,13),MATCH(SP_PIANO!U$4,BASE!$B$2:$F$2,0)+1,,,\"BASE\")),IF($B208=\"U\",-INDIRECT(ADDRESS(4+MATCH(\"U\",CE_PIANO!$B$5:$B$206,0),COLUMN(SP_PIANO!U$4),,,\"CE_PIANO\")),IF(ISERROR(VLOOKUP($A208,Attivita_Passivita!$B$6:$Q$105,COLUMN(Attivita_Passivita!M$4)-1,FALSE)),0,VLOOKUP($A208,Attivita_Passivita!$B$6:$Q$105,COLUMN(Attivita_Passivita!M$4)-1,FALSE))))))","v":""},{"$f":"IF($A208=\"\",\"\",IF(V$4=\"\",\"\",IF(OR($B208=\"X\", $B208=\"I\"),INDIRECT(ADDRESS(IF($B208=\"X\",12,13),MATCH(SP_PIANO!V$4,BASE!$B$2:$F$2,0)+1,,,\"BASE\")),IF($B208=\"U\",-INDIRECT(ADDRESS(4+MATCH(\"U\",CE_PIANO!$B$5:$B$206,0),COLUMN(SP_PIANO!V$4),,,\"CE_PIANO\")),IF(ISERROR(VLOOKUP($A208,Attivita_Passivita!$B$6:$Q$105,COLUMN(Attivita_Passivita!M$4)-1,FALSE)),0,VLOOKUP($A208,Attivita_Passivita!$B$6:$Q$105,COLUMN(Attivita_Passivita!M$4)-1,FALSE))))))","v":""},null,null,{"$f":"IF($A208=\"\",\"\",IF(Y$4=\"\",\"\",IF(OR($B208=\"X\", $B208=\"I\"),IF($B208=\"X\",1,0.98)*INDIRECT(ADDRESS(IF($B208=\"X\",12,13),MATCH(SP_PIANO!Y$4,BASE!$B$2:$F$2,0)+1,,,\"BASE\")),IF($B208=\"U\",-INDIRECT(ADDRESS(4+MATCH(\"U\",CE_PIANO!$B$5:$B$206,0),COLUMN(SP_PIANO!Y$4),,,\"CE_PIANO\")),IF(ISERROR(VLOOKUP($A208,Attivita_Passivita!$B$6:$Q$105,COLUMN(Attivita_Passivita!M$4)-1,FALSE)),0,VLOOKUP($A208,Attivita_Passivita!$B$6:$Q$105,COLUMN(Attivita_Passivita!M$4)-1,FALSE))))))","v":""},null,null,{"$f":"IF($A208=\"\",\"\",IF(AB$4=\"\",\"\",IF(OR($B208=\"X\", $B208=\"I\"),INDIRECT(ADDRESS(IF($B208=\"X\",12,13),MATCH(SP_PIANO!AB$4,BASE!$B$2:$F$2,0)+1,,,\"BASE\")),IF($B208=\"U\",-INDIRECT(ADDRESS(4+MATCH(\"U\",CE_PIANO!$B$5:$B$206,0),COLUMN(SP_PIANO!AB$4),,,\"CE_PIANO\")),IF(ISERROR(VLOOKUP($A208,Attivita_Passivita!$B$6:$Q$105,COLUMN(Attivita_Passivita!M$4)-1,FALSE)),0,VLOOKUP($A208,Attivita_Passivita!$B$6:$Q$105,COLUMN(Attivita_Passivita!M$4)-1,FALSE))))))","v":""},null,null,{"$f":"IF($A208=\"\",\"\",IF(AE$4=\"\",\"\",IF(OR($B208=\"X\", $B208=\"I\"),INDIRECT(ADDRESS(IF($B208=\"X\",12,13),MATCH(SP_PIANO!AE$4,BASE!$B$2:$F$2,0)+1,,,\"BASE\")),IF($B208=\"U\",-INDIRECT(ADDRESS(4+MATCH(\"U\",CE_PIANO!$B$5:$B$206,0),COLUMN(SP_PIANO!AE$4),,,\"CE_PIANO\")),IF(ISERROR(VLOOKUP($A208,Attivita_Passivita!$B$6:$Q$105,COLUMN(Attivita_Passivita!M$4)-1,FALSE)),0,VLOOKUP($A208,Attivita_Passivita!$B$6:$Q$105,COLUMN(Attivita_Passivita!M$4)-1,FALSE))))))","v":""},null,null,{"$f":"IF($A208=\"\",\"\",IF(AH$4=\"\",\"\",IF(OR($B208=\"X\", $B208=\"I\"),INDIRECT(ADDRESS(IF($B208=\"X\",12,13),MATCH(SP_PIANO!AH$4,BASE!$B$2:$F$2,0)+1,,,\"BASE\")),IF($B208=\"U\",-INDIRECT(ADDRESS(4+MATCH(\"U\",CE_PIANO!$B$5:$B$206,0),COLUMN(SP_PIANO!AH$4),,,\"CE_PIANO\")),IF(ISERROR(VLOOKUP($A208,Attivita_Passivita!$B$6:$Q$105,COLUMN(Attivita_Passivita!M$4)-1,FALSE)),0,VLOOKUP($A208,Attivita_Passivita!$B$6:$Q$105,COLUMN(Attivita_Passivita!M$4)-1,FALSE))))))","v":""},null,null,{"$f":"IF($A208=\"\",\"\",IF(AK$4=\"\",\"\",IF(OR($B208=\"X\", $B208=\"I\"),INDIRECT(ADDRESS(IF($B208=\"X\",12,13),MATCH(SP_PIANO!AK$4,BASE!$B$2:$F$2,0)+1,,,\"BASE\")),IF($B208=\"U\",-INDIRECT(ADDRESS(4+MATCH(\"U\",CE_PIANO!$B$5:$B$206,0),COLUMN(SP_PIANO!AK$4),,,\"CE_PIANO\")),IF(ISERROR(VLOOKUP($A208,Attivita_Passivita!$B$6:$Q$105,COLUMN(Attivita_Passivita!M$4)-1,FALSE)),0,VLOOKUP($A208,Attivita_Passivita!$B$6:$Q$105,COLUMN(Attivita_Passivita!M$4)-1,FALSE))))))","v":""},null,null,{"$f":"IF($A208=\"\",\"\",IF(AN$4=\"\",\"\",IF(OR($B208=\"X\", $B208=\"I\"),INDIRECT(ADDRESS(IF($B208=\"X\",12,13),MATCH(SP_PIANO!AN$4,BASE!$B$2:$F$2,0)+1,,,\"BASE\")),IF($B208=\"U\",-INDIRECT(ADDRESS(4+MATCH(\"U\",CE_PIANO!$B$5:$B$206,0),COLUMN(SP_PIANO!AN$4),,,\"CE_PIANO\")),IF(ISERROR(VLOOKUP($A208,Attivita_Passivita!$B$6:$Q$105,COLUMN(Attivita_Passivita!M$4)-1,FALSE)),0,VLOOKUP($A208,Attivita_Passivita!$B$6:$Q$105,COLUMN(Attivita_Passivita!M$4)-1,FALSE))))))","v":""},null,null,{"$f":"IF($A208=\"\",\"\",IF(AQ$4=\"\",\"\",IF(OR($B208=\"X\", $B208=\"I\"),INDIRECT(ADDRESS(IF($B208=\"X\",12,13),MATCH(SP_PIANO!AQ$4,BASE!$B$2:$F$2,0)+1,,,\"BASE\")),IF($B208=\"U\",-INDIRECT(ADDRESS(4+MATCH(\"U\",CE_PIANO!$B$5:$B$206,0),COLUMN(SP_PIANO!AQ$4),,,\"CE_PIANO\")),IF(ISERROR(VLOOKUP($A208,Attivita_Passivita!$B$6:$Q$105,COLUMN(Attivita_Passivita!M$4)-1,FALSE)),0,VLOOKUP($A208,Attivita_Passivita!$B$6:$Q$105,COLUMN(Attivita_Passivita!M$4)-1,FALSE))))))","v":""},{"$f":"IF($A208=\"\",\"\",IF(AR$4=\"\",\"\",IF(OR($B208=\"X\", $B208=\"I\"),INDIRECT(ADDRESS(IF($B208=\"X\",12,13),MATCH(SP_PIANO!AR$4,BASE!$B$2:$F$2,0)+1,,,\"BASE\")),IF($B208=\"U\",-INDIRECT(ADDRESS(4+MATCH(\"U\",CE_PIANO!$B$5:$B$206,0),COLUMN(SP_PIANO!AR$4),,,\"CE_PIANO\")),IF(ISERROR(VLOOKUP($A208,Attivita_Passivita!$B$6:$Q$105,COLUMN(Attivita_Passivita!M$4)-1,FALSE)),0,VLOOKUP($A208,Attivita_Passivita!$B$6:$Q$105,COLUMN(Attivita_Passivita!M$4)-1,FALSE))))))","v":""},{"$f":"IF($A208=\"\",\"\",IF(AS$4=\"\",\"\",IF(OR($B208=\"X\", $B208=\"I\"),INDIRECT(ADDRESS(IF($B208=\"X\",12,13),MATCH(SP_PIANO!AS$4,BASE!$B$2:$F$2,0)+1,,,\"BASE\")),IF($B208=\"U\",-INDIRECT(ADDRESS(4+MATCH(\"U\",CE_PIANO!$B$5:$B$206,0),COLUMN(SP_PIANO!AS$4),,,\"CE_PIANO\")),IF(ISERROR(VLOOKUP($A208,Attivita_Passivita!$B$6:$Q$105,COLUMN(Attivita_Passivita!M$4)-1,FALSE)),0,VLOOKUP($A208,Attivita_Passivita!$B$6:$Q$105,COLUMN(Attivita_Passivita!M$4)-1,FALSE))))))","v":""},null,null,{"$f":"IF($A208=\"\",\"\",IF(AV$4=\"\",\"\",IF(OR($B208=\"X\", $B208=\"I\"),INDIRECT(ADDRESS(IF($B208=\"X\",12,13),MATCH(SP_PIANO!AV$4,BASE!$B$2:$F$2,0)+1,,,\"BASE\")),IF($B208=\"U\",-INDIRECT(ADDRESS(4+MATCH(\"U\",CE_PIANO!$B$5:$B$206,0),COLUMN(SP_PIANO!AV$4),,,\"CE_PIANO\")),IF(ISERROR(VLOOKUP($A208,Attivita_Passivita!$B$6:$Q$105,COLUMN(Attivita_Passivita!M$4)-1,FALSE)),0,VLOOKUP($A208,Attivita_Passivita!$B$6:$Q$105,COLUMN(Attivita_Passivita!M$4)-1,FALSE))))))","v":""},null,null,{"$f":"IF($A208=\"\",\"\",IF(AY$4=\"\",\"\",IF(OR($B208=\"X\", $B208=\"I\"),INDIRECT(ADDRESS(IF($B208=\"X\",12,13),MATCH(SP_PIANO!AY$4,BASE!$B$2:$F$2,0)+1,,,\"BASE\")),IF($B208=\"U\",-INDIRECT(ADDRESS(4+MATCH(\"U\",CE_PIANO!$B$5:$B$206,0),COLUMN(SP_PIANO!AY$4),,,\"CE_PIANO\")),IF(ISERROR(VLOOKUP($A208,Attivita_Passivita!$B$6:$Q$105,COLUMN(Attivita_Passivita!M$4)-1,FALSE)),0,VLOOKUP($A208,Attivita_Passivita!$B$6:$Q$105,COLUMN(Attivita_Passivita!M$4)-1,FALSE))))))","v":""},null,null,{"$f":"IF($A208=\"\",\"\",IF(BB$4=\"\",\"\",IF(OR($B208=\"X\", $B208=\"I\"),INDIRECT(ADDRESS(IF($B208=\"X\",12,13),MATCH(SP_PIANO!BB$4,BASE!$B$2:$F$2,0)+1,,,\"BASE\")),IF($B208=\"U\",-INDIRECT(ADDRESS(4+MATCH(\"U\",CE_PIANO!$B$5:$B$206,0),COLUMN(SP_PIANO!BB$4),,,\"CE_PIANO\")),IF(ISERROR(VLOOKUP($A208,Attivita_Passivita!$B$6:$Q$105,COLUMN(Attivita_Passivita!M$4)-1,FALSE)),0,VLOOKUP($A208,Attivita_Passivita!$B$6:$Q$105,COLUMN(Attivita_Passivita!M$4)-1,FALSE))))))","v":""},null,null,{"$f":"IF($A208=\"\",\"\",IF(BE$4=\"\",\"\",IF(OR($B208=\"X\", $B208=\"I\"),INDIRECT(ADDRESS(IF($B208=\"X\",12,13),MATCH(SP_PIANO!BE$4,BASE!$B$2:$F$2,0)+1,,,\"BASE\")),IF($B208=\"U\",-INDIRECT(ADDRESS(4+MATCH(\"U\",CE_PIANO!$B$5:$B$206,0),COLUMN(SP_PIANO!BE$4),,,\"CE_PIANO\")),IF(ISERROR(VLOOKUP($A208,Attivita_Passivita!$B$6:$Q$105,COLUMN(Attivita_Passivita!M$4)-1,FALSE)),0,VLOOKUP($A208,Attivita_Passivita!$B$6:$Q$105,COLUMN(Attivita_Passivita!M$4)-1,FALSE))))))","v":""},null,null,{"$f":"IF($A208=\"\",\"\",IF(BH$4=\"\",\"\",IF(OR($B208=\"X\", $B208=\"I\"),INDIRECT(ADDRESS(IF($B208=\"X\",12,13),MATCH(SP_PIANO!BH$4,BASE!$B$2:$F$2,0)+1,,,\"BASE\")),IF($B208=\"U\",-INDIRECT(ADDRESS(4+MATCH(\"U\",CE_PIANO!$B$5:$B$206,0),COLUMN(SP_PIANO!BH$4),,,\"CE_PIANO\")),IF(ISERROR(VLOOKUP($A208,Attivita_Passivita!$B$6:$Q$105,COLUMN(Attivita_Passivita!M$4)-1,FALSE)),0,VLOOKUP($A208,Attivita_Passivita!$B$6:$Q$105,COLUMN(Attivita_Passivita!M$4)-1,FALSE))))))","v":""},null,null,{"$f":"IF($A208=\"\",\"\",IF(BK$4=\"\",\"\",IF($B208=\"X\",INDIRECT(ADDRESS(12,MATCH(SP_PIANO!BK$4,BASE!$B$2:$F$2,0)+1,,,\"BASE\")),IF($B208=\"U\",-INDIRECT(ADDRESS(4+MATCH(\"U\",CE_PIANO!$B$5:$B$206,0),COLUMN(SP_PIANO!BK$4),,,\"CE_PIANO\")),IF(ISERROR(VLOOKUP($A208,Attivita_Passivita!$B$6:$Q$105,COLUMN(Attivita_Passivita!M$4)-1,FALSE)),0,VLOOKUP($A208,Attivita_Passivita!$B$6:$Q$105,COLUMN(Attivita_Passivita!M$4)-1,FALSE))))))","v":""},null,null,{"$f":"IF($A208=\"\",\"\",IF(BN$4=\"\",\"\",IF($B208=\"X\",INDIRECT(ADDRESS(12,MATCH(SP_PIANO!BN$4,BASE!$B$2:$F$2,0)+1,,,\"BASE\")),IF($B208=\"U\",-INDIRECT(ADDRESS(4+MATCH(\"U\",CE_PIANO!$B$5:$B$206,0),COLUMN(SP_PIANO!BN$4),,,\"CE_PIANO\")),IF(ISERROR(VLOOKUP($A208,Attivita_Passivita!$B$6:$Q$105,COLUMN(Attivita_Passivita!M$4)-1,FALSE)),0,VLOOKUP($A208,Attivita_Passivita!$B$6:$Q$105,COLUMN(Attivita_Passivita!M$4)-1,FALSE))))))","v":""},null,null,{"$f":"IF($A208=\"\",\"\",IF(BQ$4=\"\",\"\",IF($B208=\"X\",INDIRECT(ADDRESS(12,MATCH(SP_PIANO!BQ$4,BASE!$B$2:$F$2,0)+1,,,\"BASE\")),IF($B208=\"U\",-INDIRECT(ADDRESS(4+MATCH(\"U\",CE_PIANO!$B$5:$B$206,0),COLUMN(SP_PIANO!BQ$4),,,\"CE_PIANO\")),IF(ISERROR(VLOOKUP($A208,Attivita_Passivita!$B$6:$Q$105,COLUMN(Attivita_Passivita!M$4)-1,FALSE)),0,VLOOKUP($A208,Attivita_Passivita!$B$6:$Q$105,COLUMN(Attivita_Passivita!M$4)-1,FALSE))))))","v":""},null,null,{"$f":"IF($A208=\"\",\"\",IF(BT$4=\"\",\"\",IF($B208=\"X\",INDIRECT(ADDRESS(12,MATCH(SP_PIANO!BT$4,BASE!$B$2:$F$2,0)+1,,,\"BASE\")),IF($B208=\"U\",-INDIRECT(ADDRESS(4+MATCH(\"U\",CE_PIANO!$B$5:$B$206,0),COLUMN(SP_PIANO!BT$4),,,\"CE_PIANO\")),IF(ISERROR(VLOOKUP($A208,Attivita_Passivita!$B$6:$Q$105,COLUMN(Attivita_Passivita!M$4)-1,FALSE)),0,VLOOKUP($A208,Attivita_Passivita!$B$6:$Q$105,COLUMN(Attivita_Passivita!M$4)-1,FALSE))))))","v":""},null,null,{"$f":"IF($A208=\"\",\"\",IF(BW$4=\"\",\"\",IF($B208=\"X\",INDIRECT(ADDRESS(12,MATCH(SP_PIANO!BW$4,BASE!$B$2:$F$2,0)+1,,,\"BASE\")),IF($B208=\"U\",-INDIRECT(ADDRESS(4+MATCH(\"U\",CE_PIANO!$B$5:$B$206,0),COLUMN(SP_PIANO!BW$4),,,\"CE_PIANO\")),IF(ISERROR(VLOOKUP($A208,Attivita_Passivita!$B$6:$Q$105,COLUMN(Attivita_Passivita!M$4)-1,FALSE)),0,VLOOKUP($A208,Attivita_Passivita!$B$6:$Q$105,COLUMN(Attivita_Passivita!M$4)-1,FALSE))))))","v":""},null,null,{"$f":"IF($A208=\"\",\"\",IF(BZ$4=\"\",\"\",IF($B208=\"X\",INDIRECT(ADDRESS(12,MATCH(SP_PIANO!CE$4,BASE!$B$2:$F$2,0)+1,,,\"BASE\")),IF($B208=\"U\",-INDIRECT(ADDRESS(4+MATCH(\"U\",CE_PIANO!$B$5:$B$206,0),COLUMN(SP_PIANO!CE$4),,,\"CE_PIANO\")),IF(ISERROR(VLOOKUP($A208,Attivita_Passivita!$B$6:$Q$105,COLUMN(Attivita_Passivita!M$4)-1,FALSE)),0,VLOOKUP($A208,Attivita_Passivita!$B$6:$Q$105,COLUMN(Attivita_Passivita!M$4)-1,FALSE))))))","v":""},null,null,{"$f":"IF($A208=\"\",\"\",IF(CC$4=\"\",\"\",IF(OR($B208=\"X\", $B208=\"U\"),0,IF(ISERROR(VLOOKUP($A208,Attivita_Passivita!$B$6:$Q$105,COLUMN(Attivita_Passivita!M$4)-1,FALSE)),0,VLOOKUP($A208,Attivita_Passivita!$B$6:$Q$105,COLUMN(Attivita_Passivita!M$4)-1,FALSE)))))","v":""},null,null,{"$f":"IF($A208=\"\",\"\",IF(CF$4=\"\",\"\",IF(OR($B208=\"X\", $B208=\"U\"),0,IF(ISERROR(VLOOKUP($A208,Attivita_Passivita!$B$6:$Q$105,COLUMN(Attivita_Passivita!M$4)-1,FALSE)),0,VLOOKUP($A208,Attivita_Passivita!$B$6:$Q$105,COLUMN(Attivita_Passivita!M$4)-1,FALSE)))))","v":""},null,null,{"$f":"IF($A208=\"\",\"\",IF(CI$4=\"\",\"\",IF(ISERROR(VLOOKUP($A208,Attivita_Passivita!$B$6:$Q$105,COLUMN(Attivita_Passivita!M$4)-1,FALSE)),0,VLOOKUP($A208,Attivita_Passivita!$B$6:$Q$105,COLUMN(Attivita_Passivita!M$4)-1,FALSE))))","v":""}]
[null,{"$f":"IF($A209=\"\",\"\",VLOOKUP(A209,SCHEMA_SP!$E$5:$F$54,2,FALSE))","v":""},null,null,null,{"$f":"IF($A209=\"\",\"\",IF(F$4=\"\",\"\",IF(OR($B209=\"X\", $B209=\"I\"),INDIRECT(ADDRESS(IF($B209=\"X\",12,13),MATCH(SP_PIANO!F$4,BASE!$B$2:$F$2,0)+1,,,\"BASE\")),IF($B209=\"U\",-INDIRECT(ADDRESS(4+MATCH(\"U\",CE_PIANO!$B$5:$B$206,0),COLUMN(SP_PIANO!F$4),,,\"CE_PIANO\")),IF(ISERROR(VLOOKUP($A209,Attivita_Passivita!$B$6:$Q$105,COLUMN(Attivita_Passivita!M$4)-1,FALSE)),0,VLOOKUP($A209,Attivita_Passivita!$B$6:$Q$105,COLUMN(Attivita_Passivita!M$4)-1,FALSE))))))","v":""},null,{"$f":"IF($A209=\"\",\"\",IF(H$4=\"\",\"\",IF(OR($B209=\"X\", $B209=\"I\"),INDIRECT(ADDRESS(IF($B209=\"X\",12,13),MATCH(SP_PIANO!H$4,BASE!$B$2:$F$2,0)+1,,,\"BASE\")),IF($B209=\"U\",-INDIRECT(ADDRESS(4+MATCH(\"U\",CE_PIANO!$B$5:$B$206,0),COLUMN(SP_PIANO!H$4),,,\"CE_PIANO\")),IF(ISERROR(VLOOKUP($A209,Attivita_Passivita!$B$6:$Q$105,COLUMN(Attivita_Passivita!M$4)-1,FALSE)),0,VLOOKUP($A209,Attivita_Passivita!$B$6:$Q$105,COLUMN(Attivita_Passivita!M$4)-1,FALSE))))))","v":""},null,{"$f":"IF($A209=\"\",\"\",IF(J$4=\"\",\"\",IF(OR($B209=\"X\", $B209=\"I\"),INDIRECT(ADDRESS(IF($B209=\"X\",12,13),MATCH(SP_PIANO!J$4,BASE!$B$2:$F$2,0)+1,,,\"BASE\")),IF($B209=\"U\",-INDIRECT(ADDRESS(4+MATCH(\"U\",CE_PIANO!$B$5:$B$206,0),COLUMN(SP_PIANO!J$4),,,\"CE_PIANO\")),IF(ISERROR(VLOOKUP($A209,Attivita_Passivita!$B$6:$Q$105,COLUMN(Attivita_Passivita!M$4)-1,FALSE)),0,VLOOKUP($A209,Attivita_Passivita!$B$6:$Q$105,COLUMN(Attivita_Passivita!M$4)-1,FALSE))))))","v":""},null,{"$f":"IF($A209=\"\",\"\",IF(L$4=\"\",\"\",IF(OR($B209=\"X\", $B209=\"I\"),INDIRECT(ADDRESS(IF($B209=\"X\",12,13),MATCH(SP_PIANO!L$4,BASE!$B$2:$F$2,0)+1,,,\"BASE\")),IF($B209=\"U\",-INDIRECT(ADDRESS(4+MATCH(\"U\",CE_PIANO!$B$5:$B$206,0),COLUMN(SP_PIANO!L$4),,,\"CE_PIANO\")),IF(ISERROR(VLOOKUP($A209,Attivita_Passivita!$B$6:$Q$105,COLUMN(Attivita_Passivita!M$4)-1,FALSE)),0,VLOOKUP($A209,Attivita_Passivita!$B$6:$Q$105,COLUMN(Attivita_Passivita!M$4)-1,FALSE))))))","v":""},null,{"$f":"IF($A209=\"\",\"\",IF(N$4=\"\",\"\",IF(OR($B209=\"X\", $B209=\"I\"),INDIRECT(ADDRESS(IF($B209=\"X\",12,13),MATCH(SP_PIANO!N$4,BASE!$B$2:$F$2,0)+1,,,\"BASE\")),IF($B209=\"U\",-INDIRECT(ADDRESS(4+MATCH(\"U\",CE_PIANO!$B$5:$B$206,0),COLUMN(SP_PIANO!N$4),,,\"CE_PIANO\")),IF(ISERROR(VLOOKUP($A209,Attivita_Passivita!$B$6:$Q$105,COLUMN(Attivita_Passivita!M$4)-1,FALSE)),0,VLOOKUP($A209,Attivita_Passivita!$B$6:$Q$105,COLUMN(Attivita_Passivita!M$4)-1,FALSE))))))","v":""},null,{"$f":"IF($A209=\"\",\"\",IF(P$4=\"\",\"\",IF(OR($B209=\"X\", $B209=\"I\"),INDIRECT(ADDRESS(IF($B209=\"X\",12,13),MATCH(SP_PIANO!P$4,BASE!$B$2:$F$2,0)+1,,,\"BASE\")),IF($B209=\"U\",-INDIRECT(ADDRESS(4+MATCH(\"U\",CE_PIANO!$B$5:$B$206,0),COLUMN(SP_PIANO!P$4),,,\"CE_PIANO\")),IF(ISERROR(VLOOKUP($A209,Attivita_Passivita!$B$6:$Q$105,COLUMN(Attivita_Passivita!M$4)-1,FALSE)),0,VLOOKUP($A209,Attivita_Passivita!$B$6:$Q$105,COLUMN(Attivita_Passivita!M$4)-1,FALSE))))))","v":""},null,{"$f":"IF($A209=\"\",\"\",IF(R$4=\"\",\"\",IF(OR($B209=\"X\", $B209=\"I\"),INDIRECT(ADDRESS(IF($B209=\"X\",12,13),MATCH(SP_PIANO!R$4,BASE!$B$2:$F$2,0)+1,,,\"BASE\")),IF($B209=\"U\",-INDIRECT(ADDRESS(4+MATCH(\"U\",CE_PIANO!$B$5:$B$206,0),COLUMN(SP_PIANO!R$4),,,\"CE_PIANO\")),IF(ISERROR(VLOOKUP($A209,Attivita_Passivita!$B$6:$Q$105,COLUMN(Attivita_Passivita!M$4)-1,FALSE)),0,VLOOKUP($A209,Attivita_Passivita!$B$6:$Q$105,COLUMN(Attivita_Passivita!M$4)-1,FALSE))))))","v":""},{"$f":"IF($A209=\"\",\"\",IF(S$4=\"\",\"\",IF(OR($B209=\"X\", $B209=\"I\"),INDIRECT(ADDRESS(IF($B209=\"X\",12,13),MATCH(SP_PIANO!S$4,BASE!$B$2:$F$2,0)+1,,,\"BASE\")),IF($B209=\"U\",-INDIRECT(ADDRESS(4+MATCH(\"U\",CE_PIANO!$B$5:$B$206,0),COLUMN(SP_PIANO!S$4),,,\"CE_PIANO\")),IF(ISERROR(VLOOKUP($A209,Attivita_Passivita!$B$6:$Q$105,COLUMN(Attivita_Passivita!M$4)-1,FALSE)),0,VLOOKUP($A209,Attivita_Passivita!$B$6:$Q$105,COLUMN(Attivita_Passivita!M$4)-1,FALSE))))))","v":""},{"$f":"IF($A209=\"\",\"\",IF(T$4=\"\",\"\",IF(OR($B209=\"X\", $B209=\"I\"),INDIRECT(ADDRESS(IF($B209=\"X\",12,13),MATCH(SP_PIANO!T$4,BASE!$B$2:$F$2,0)+1,,,\"BASE\")),IF($B209=\"U\",-INDIRECT(ADDRESS(4+MATCH(\"U\",CE_PIANO!$B$5:$B$206,0),COLUMN(SP_PIANO!T$4),,,\"CE_PIANO\")),IF(ISERROR(VLOOKUP($A209,Attivita_Passivita!$B$6:$Q$105,COLUMN(Attivita_Passivita!M$4)-1,FALSE)),0,VLOOKUP($A209,Attivita_Passivita!$B$6:$Q$105,COLUMN(Attivita_Passivita!M$4)-1,FALSE))))))","v":""},{"$f":"IF($A209=\"\",\"\",IF(U$4=\"\",\"\",IF(OR($B209=\"X\", $B209=\"I\"),INDIRECT(ADDRESS(IF($B209=\"X\",12,13),MATCH(SP_PIANO!U$4,BASE!$B$2:$F$2,0)+1,,,\"BASE\")),IF($B209=\"U\",-INDIRECT(ADDRESS(4+MATCH(\"U\",CE_PIANO!$B$5:$B$206,0),COLUMN(SP_PIANO!U$4),,,\"CE_PIANO\")),IF(ISERROR(VLOOKUP($A209,Attivita_Passivita!$B$6:$Q$105,COLUMN(Attivita_Passivita!M$4)-1,FALSE)),0,VLOOKUP($A209,Attivita_Passivita!$B$6:$Q$105,COLUMN(Attivita_Passivita!M$4)-1,FALSE))))))","v":""},{"$f":"IF($A209=\"\",\"\",IF(V$4=\"\",\"\",IF(OR($B209=\"X\", $B209=\"I\"),INDIRECT(ADDRESS(IF($B209=\"X\",12,13),MATCH(SP_PIANO!V$4,BASE!$B$2:$F$2,0)+1,,,\"BASE\")),IF($B209=\"U\",-INDIRECT(ADDRESS(4+MATCH(\"U\",CE_PIANO!$B$5:$B$206,0),COLUMN(SP_PIANO!V$4),,,\"CE_PIANO\")),IF(ISERROR(VLOOKUP($A209,Attivita_Passivita!$B$6:$Q$105,COLUMN(Attivita_Passivita!M$4)-1,FALSE)),0,VLOOKUP($A209,Attivita_Passivita!$B$6:$Q$105,COLUMN(Attivita_Passivita!M$4)-1,FALSE))))))","v":""},null,null,{"$f":"IF($A209=\"\",\"\",IF(Y$4=\"\",\"\",IF(OR($B209=\"X\", $B209=\"I\"),IF($B209=\"X\",1,0.98)*INDIRECT(ADDRESS(IF($B209=\"X\",12,13),MATCH(SP_PIANO!Y$4,BASE!$B$2:$F$2,0)+1,,,\"BASE\")),IF($B209=\"U\",-INDIRECT(ADDRESS(4+MATCH(\"U\",CE_PIANO!$B$5:$B$206,0),COLUMN(SP_PIANO!Y$4),,,\"CE_PIANO\")),IF(ISERROR(VLOOKUP($A209,Attivita_Passivita!$B$6:$Q$105,COLUMN(Attivita_Passivita!M$4)-1,FALSE)),0,VLOOKUP($A209,Attivita_Passivita!$B$6:$Q$105,COLUMN(Attivita_Passivita!M$4)-1,FALSE))))))","v":""},null,null,{"$f":"IF($A209=\"\",\"\",IF(AB$4=\"\",\"\",IF(OR($B209=\"X\", $B209=\"I\"),INDIRECT(ADDRESS(IF($B209=\"X\",12,13),MATCH(SP_PIANO!AB$4,BASE!$B$2:$F$2,0)+1,,,\"BASE\")),IF($B209=\"U\",-INDIRECT(ADDRESS(4+MATCH(\"U\",CE_PIANO!$B$5:$B$206,0),COLUMN(SP_PIANO!AB$4),,,\"CE_PIANO\")),IF(ISERROR(VLOOKUP($A209,Attivita_Passivita!$B$6:$Q$105,COLUMN(Attivita_Passivita!M$4)-1,FALSE)),0,VLOOKUP($A209,Attivita_Passivita!$B$6:$Q$105,COLUMN(Attivita_Passivita!M$4)-1,FALSE))))))","v":""},null,null,{"$f":"IF($A209=\"\",\"\",IF(AE$4=\"\",\"\",IF(OR($B209=\"X\", $B209=\"I\"),INDIRECT(ADDRESS(IF($B209=\"X\",12,13),MATCH(SP_PIANO!AE$4,BASE!$B$2:$F$2,0)+1,,,\"BASE\")),IF($B209=\"U\",-INDIRECT(ADDRESS(4+MATCH(\"U\",CE_PIANO!$B$5:$B$206,0),COLUMN(SP_PIANO!AE$4),,,\"CE_PIANO\")),IF(ISERROR(VLOOKUP($A209,Attivita_Passivita!$B$6:$Q$105,COLUMN(Attivita_Passivita!M$4)-1,FALSE)),0,VLOOKUP($A209,Attivita_Passivita!$B$6:$Q$105,COLUMN(Attivita_Passivita!M$4)-1,FALSE))))))","v":""},null,null,{"$f":"IF($A209=\"\",\"\",IF(AH$4=\"\",\"\",IF(OR($B209=\"X\", $B209=\"I\"),INDIRECT(ADDRESS(IF($B209=\"X\",12,13),MATCH(SP_PIANO!AH$4,BASE!$B$2:$F$2,0)+1,,,\"BASE\")),IF($B209=\"U\",-INDIRECT(ADDRESS(4+MATCH(\"U\",CE_PIANO!$B$5:$B$206,0),COLUMN(SP_PIANO!AH$4),,,\"CE_PIANO\")),IF(ISERROR(VLOOKUP($A209,Attivita_Passivita!$B$6:$Q$105,COLUMN(Attivita_Passivita!M$4)-1,FALSE)),0,VLOOKUP($A209,Attivita_Passivita!$B$6:$Q$105,COLUMN(Attivita_Passivita!M$4)-1,FALSE))))))","v":""},null,null,{"$f":"IF($A209=\"\",\"\",IF(AK$4=\"\",\"\",IF(OR($B209=\"X\", $B209=\"I\"),INDIRECT(ADDRESS(IF($B209=\"X\",12,13),MATCH(SP_PIANO!AK$4,BASE!$B$2:$F$2,0)+1,,,\"BASE\")),IF($B209=\"U\",-INDIRECT(ADDRESS(4+MATCH(\"U\",CE_PIANO!$B$5:$B$206,0),COLUMN(SP_PIANO!AK$4),,,\"CE_PIANO\")),IF(ISERROR(VLOOKUP($A209,Attivita_Passivita!$B$6:$Q$105,COLUMN(Attivita_Passivita!M$4)-1,FALSE)),0,VLOOKUP($A209,Attivita_Passivita!$B$6:$Q$105,COLUMN(Attivita_Passivita!M$4)-1,FALSE))))))","v":""},null,null,{"$f":"IF($A209=\"\",\"\",IF(AN$4=\"\",\"\",IF(OR($B209=\"X\", $B209=\"I\"),INDIRECT(ADDRESS(IF($B209=\"X\",12,13),MATCH(SP_PIANO!AN$4,BASE!$B$2:$F$2,0)+1,,,\"BASE\")),IF($B209=\"U\",-INDIRECT(ADDRESS(4+MATCH(\"U\",CE_PIANO!$B$5:$B$206,0),COLUMN(SP_PIANO!AN$4),,,\"CE_PIANO\")),IF(ISERROR(VLOOKUP($A209,Attivita_Passivita!$B$6:$Q$105,COLUMN(Attivita_Passivita!M$4)-1,FALSE)),0,VLOOKUP($A209,Attivita_Passivita!$B$6:$Q$105,COLUMN(Attivita_Passivita!M$4)-1,FALSE))))))","v":""},null,null,{"$f":"IF($A209=\"\",\"\",IF(AQ$4=\"\",\"\",IF(OR($B209=\"X\", $B209=\"I\"),INDIRECT(ADDRESS(IF($B209=\"X\",12,13),MATCH(SP_PIANO!AQ$4,BASE!$B$2:$F$2,0)+1,,,\"BASE\")),IF($B209=\"U\",-INDIRECT(ADDRESS(4+MATCH(\"U\",CE_PIANO!$B$5:$B$206,0),COLUMN(SP_PIANO!AQ$4),,,\"CE_PIANO\")),IF(ISERROR(VLOOKUP($A209,Attivita_Passivita!$B$6:$Q$105,COLUMN(Attivita_Passivita!M$4)-1,FALSE)),0,VLOOKUP($A209,Attivita_Passivita!$B$6:$Q$105,COLUMN(Attivita_Passivita!M$4)-1,FALSE))))))","v":""},{"$f":"IF($A209=\"\",\"\",IF(AR$4=\"\",\"\",IF(OR($B209=\"X\", $B209=\"I\"),INDIRECT(ADDRESS(IF($B209=\"X\",12,13),MATCH(SP_PIANO!AR$4,BASE!$B$2:$F$2,0)+1,,,\"BASE\")),IF($B209=\"U\",-INDIRECT(ADDRESS(4+MATCH(\"U\",CE_PIANO!$B$5:$B$206,0),COLUMN(SP_PIANO!AR$4),,,\"CE_PIANO\")),IF(ISERROR(VLOOKUP($A209,Attivita_Passivita!$B$6:$Q$105,COLUMN(Attivita_Passivita!M$4)-1,FALSE)),0,VLOOKUP($A209,Attivita_Passivita!$B$6:$Q$105,COLUMN(Attivita_Passivita!M$4)-1,FALSE))))))","v":""},{"$f":"IF($A209=\"\",\"\",IF(AS$4=\"\",\"\",IF(OR($B209=\"X\", $B209=\"I\"),INDIRECT(ADDRESS(IF($B209=\"X\",12,13),MATCH(SP_PIANO!AS$4,BASE!$B$2:$F$2,0)+1,,,\"BASE\")),IF($B209=\"U\",-INDIRECT(ADDRESS(4+MATCH(\"U\",CE_PIANO!$B$5:$B$206,0),COLUMN(SP_PIANO!AS$4),,,\"CE_PIANO\")),IF(ISERROR(VLOOKUP($A209,Attivita_Passivita!$B$6:$Q$105,COLUMN(Attivita_Passivita!M$4)-1,FALSE)),0,VLOOKUP($A209,Attivita_Passivita!$B$6:$Q$105,COLUMN(Attivita_Passivita!M$4)-1,FALSE))))))","v":""},null,null,{"$f":"IF($A209=\"\",\"\",IF(AV$4=\"\",\"\",IF(OR($B209=\"X\", $B209=\"I\"),INDIRECT(ADDRESS(IF($B209=\"X\",12,13),MATCH(SP_PIANO!AV$4,BASE!$B$2:$F$2,0)+1,,,\"BASE\")),IF($B209=\"U\",-INDIRECT(ADDRESS(4+MATCH(\"U\",CE_PIANO!$B$5:$B$206,0),COLUMN(SP_PIANO!AV$4),,,\"CE_PIANO\")),IF(ISERROR(VLOOKUP($A209,Attivita_Passivita!$B$6:$Q$105,COLUMN(Attivita_Passivita!M$4)-1,FALSE)),0,VLOOKUP($A209,Attivita_Passivita!$B$6:$Q$105,COLUMN(Attivita_Passivita!M$4)-1,FALSE))))))","v":""},null,null,{"$f":"IF($A209=\"\",\"\",IF(AY$4=\"\",\"\",IF(OR($B209=\"X\", $B209=\"I\"),INDIRECT(ADDRESS(IF($B209=\"X\",12,13),MATCH(SP_PIANO!AY$4,BASE!$B$2:$F$2,0)+1,,,\"BASE\")),IF($B209=\"U\",-INDIRECT(ADDRESS(4+MATCH(\"U\",CE_PIANO!$B$5:$B$206,0),COLUMN(SP_PIANO!AY$4),,,\"CE_PIANO\")),IF(ISERROR(VLOOKUP($A209,Attivita_Passivita!$B$6:$Q$105,COLUMN(Attivita_Passivita!M$4)-1,FALSE)),0,VLOOKUP($A209,Attivita_Passivita!$B$6:$Q$105,COLUMN(Attivita_Passivita!M$4)-1,FALSE))))))","v":""},null,null,{"$f":"IF($A209=\"\",\"\",IF(BB$4=\"\",\"\",IF(OR($B209=\"X\", $B209=\"I\"),INDIRECT(ADDRESS(IF($B209=\"X\",12,13),MATCH(SP_PIANO!BB$4,BASE!$B$2:$F$2,0)+1,,,\"BASE\")),IF($B209=\"U\",-INDIRECT(ADDRESS(4+MATCH(\"U\",CE_PIANO!$B$5:$B$206,0),COLUMN(SP_PIANO!BB$4),,,\"CE_PIANO\")),IF(ISERROR(VLOOKUP($A209,Attivita_Passivita!$B$6:$Q$105,COLUMN(Attivita_Passivita!M$4)-1,FALSE)),0,VLOOKUP($A209,Attivita_Passivita!$B$6:$Q$105,COLUMN(Attivita_Passivita!M$4)-1,FALSE))))))","v":""},null,null,{"$f":"IF($A209=\"\",\"\",IF(BE$4=\"\",\"\",IF(OR($B209=\"X\", $B209=\"I\"),INDIRECT(ADDRESS(IF($B209=\"X\",12,13),MATCH(SP_PIANO!BE$4,BASE!$B$2:$F$2,0)+1,,,\"BASE\")),IF($B209=\"U\",-INDIRECT(ADDRESS(4+MATCH(\"U\",CE_PIANO!$B$5:$B$206,0),COLUMN(SP_PIANO!BE$4),,,\"CE_PIANO\")),IF(ISERROR(VLOOKUP($A209,Attivita_Passivita!$B$6:$Q$105,COLUMN(Attivita_Passivita!M$4)-1,FALSE)),0,VLOOKUP($A209,Attivita_Passivita!$B$6:$Q$105,COLUMN(Attivita_Passivita!M$4)-1,FALSE))))))","v":""},null,null,{"$f":"IF($A209=\"\",\"\",IF(BH$4=\"\",\"\",IF(OR($B209=\"X\", $B209=\"I\"),INDIRECT(ADDRESS(IF($B209=\"X\",12,13),MATCH(SP_PIANO!BH$4,BASE!$B$2:$F$2,0)+1,,,\"BASE\")),IF($B209=\"U\",-INDIRECT(ADDRESS(4+MATCH(\"U\",CE_PIANO!$B$5:$B$206,0),COLUMN(SP_PIANO!BH$4),,,\"CE_PIANO\")),IF(ISERROR(VLOOKUP($A209,Attivita_Passivita!$B$6:$Q$105,COLUMN(Attivita_Passivita!M$4)-1,FALSE)),0,VLOOKUP($A209,Attivita_Passivita!$B$6:$Q$105,COLUMN(Attivita_Passivita!M$4)-1,FALSE))))))","v":""},null,null,{"$f":"IF($A209=\"\",\"\",IF(BK$4=\"\",\"\",IF($B209=\"X\",INDIRECT(ADDRESS(12,MATCH(SP_PIANO!BK$4,BASE!$B$2:$F$2,0)+1,,,\"BASE\")),IF($B209=\"U\",-INDIRECT(ADDRESS(4+MATCH(\"U\",CE_PIANO!$B$5:$B$206,0),COLUMN(SP_PIANO!BK$4),,,\"CE_PIANO\")),IF(ISERROR(VLOOKUP($A209,Attivita_Passivita!$B$6:$Q$105,COLUMN(Attivita_Passivita!M$4)-1,FALSE)),0,VLOOKUP($A209,Attivita_Passivita!$B$6:$Q$105,COLUMN(Attivita_Passivita!M$4)-1,FALSE))))))","v":""},null,null,{"$f":"IF($A209=\"\",\"\",IF(BN$4=\"\",\"\",IF($B209=\"X\",INDIRECT(ADDRESS(12,MATCH(SP_PIANO!BN$4,BASE!$B$2:$F$2,0)+1,,,\"BASE\")),IF($B209=\"U\",-INDIRECT(ADDRESS(4+MATCH(\"U\",CE_PIANO!$B$5:$B$206,0),COLUMN(SP_PIANO!BN$4),,,\"CE_PIANO\")),IF(ISERROR(VLOOKUP($A209,Attivita_Passivita!$B$6:$Q$105,COLUMN(Attivita_Passivita!M$4)-1,FALSE)),0,VLOOKUP($A209,Attivita_Passivita!$B$6:$Q$105,COLUMN(Attivita_Passivita!M$4)-1,FALSE))))))","v":""},null,null,{"$f":"IF($A209=\"\",\"\",IF(BQ$4=\"\",\"\",IF($B209=\"X\",INDIRECT(ADDRESS(12,MATCH(SP_PIANO!BQ$4,BASE!$B$2:$F$2,0)+1,,,\"BASE\")),IF($B209=\"U\",-INDIRECT(ADDRESS(4+MATCH(\"U\",CE_PIANO!$B$5:$B$206,0),COLUMN(SP_PIANO!BQ$4),,,\"CE_PIANO\")),IF(ISERROR(VLOOKUP($A209,Attivita_Passivita!$B$6:$Q$105,COLUMN(Attivita_Passivita!M$4)-1,FALSE)),0,VLOOKUP($A209,Attivita_Passivita!$B$6:$Q$105,COLUMN(Attivita_Passivita!M$4)-1,FALSE))))))","v":""},null,null,{"$f":"IF($A209=\"\",\"\",IF(BT$4=\"\",\"\",IF($B209=\"X\",INDIRECT(ADDRESS(12,MATCH(SP_PIANO!BT$4,BASE!$B$2:$F$2,0)+1,,,\"BASE\")),IF($B209=\"U\",-INDIRECT(ADDRESS(4+MATCH(\"U\",CE_PIANO!$B$5:$B$206,0),COLUMN(SP_PIANO!BT$4),,,\"CE_PIANO\")),IF(ISERROR(VLOOKUP($A209,Attivita_Passivita!$B$6:$Q$105,COLUMN(Attivita_Passivita!M$4)-1,FALSE)),0,VLOOKUP($A209,Attivita_Passivita!$B$6:$Q$105,COLUMN(Attivita_Passivita!M$4)-1,FALSE))))))","v":""},null,null,{"$f":"IF($A209=\"\",\"\",IF(BW$4=\"\",\"\",IF($B209=\"X\",INDIRECT(ADDRESS(12,MATCH(SP_PIANO!BW$4,BASE!$B$2:$F$2,0)+1,,,\"BASE\")),IF($B209=\"U\",-INDIRECT(ADDRESS(4+MATCH(\"U\",CE_PIANO!$B$5:$B$206,0),COLUMN(SP_PIANO!BW$4),,,\"CE_PIANO\")),IF(ISERROR(VLOOKUP($A209,Attivita_Passivita!$B$6:$Q$105,COLUMN(Attivita_Passivita!M$4)-1,FALSE)),0,VLOOKUP($A209,Attivita_Passivita!$B$6:$Q$105,COLUMN(Attivita_Passivita!M$4)-1,FALSE))))))","v":""},null,null,{"$f":"IF($A209=\"\",\"\",IF(BZ$4=\"\",\"\",IF($B209=\"X\",INDIRECT(ADDRESS(12,MATCH(SP_PIANO!CE$4,BASE!$B$2:$F$2,0)+1,,,\"BASE\")),IF($B209=\"U\",-INDIRECT(ADDRESS(4+MATCH(\"U\",CE_PIANO!$B$5:$B$206,0),COLUMN(SP_PIANO!CE$4),,,\"CE_PIANO\")),IF(ISERROR(VLOOKUP($A209,Attivita_Passivita!$B$6:$Q$105,COLUMN(Attivita_Passivita!M$4)-1,FALSE)),0,VLOOKUP($A209,Attivita_Passivita!$B$6:$Q$105,COLUMN(Attivita_Passivita!M$4)-1,FALSE))))))","v":""},null,null,{"$f":"IF($A209=\"\",\"\",IF(CC$4=\"\",\"\",IF(OR($B209=\"X\", $B209=\"U\"),0,IF(ISERROR(VLOOKUP($A209,Attivita_Passivita!$B$6:$Q$105,COLUMN(Attivita_Passivita!M$4)-1,FALSE)),0,VLOOKUP($A209,Attivita_Passivita!$B$6:$Q$105,COLUMN(Attivita_Passivita!M$4)-1,FALSE)))))","v":""},null,null,{"$f":"IF($A209=\"\",\"\",IF(CF$4=\"\",\"\",IF(OR($B209=\"X\", $B209=\"U\"),0,IF(ISERROR(VLOOKUP($A209,Attivita_Passivita!$B$6:$Q$105,COLUMN(Attivita_Passivita!M$4)-1,FALSE)),0,VLOOKUP($A209,Attivita_Passivita!$B$6:$Q$105,COLUMN(Attivita_Passivita!M$4)-1,FALSE)))))","v":""},null,null,{"$f":"IF($A209=\"\",\"\",IF(CI$4=\"\",\"\",IF(ISERROR(VLOOKUP($A209,Attivita_Passivita!$B$6:$Q$105,COLUMN(Attivita_Passivita!M$4)-1,FALSE)),0,VLOOKUP($A209,Attivita_Passivita!$B$6:$Q$105,COLUMN(Attivita_Passivita!M$4)-1,FALSE))))","v":""}]
[null,{"$f":"IF($A210=\"\",\"\",VLOOKUP(A210,SCHEMA_SP!$E$5:$F$54,2,FALSE))","v":""},null,null,null,{"$f":"IF($A210=\"\",\"\",IF(F$4=\"\",\"\",IF(OR($B210=\"X\", $B210=\"I\"),INDIRECT(ADDRESS(IF($B210=\"X\",12,13),MATCH(SP_PIANO!F$4,BASE!$B$2:$F$2,0)+1,,,\"BASE\")),IF($B210=\"U\",-INDIRECT(ADDRESS(4+MATCH(\"U\",CE_PIANO!$B$5:$B$206,0),COLUMN(SP_PIANO!F$4),,,\"CE_PIANO\")),IF(ISERROR(VLOOKUP($A210,Attivita_Passivita!$B$6:$Q$105,COLUMN(Attivita_Passivita!M$4)-1,FALSE)),0,VLOOKUP($A210,Attivita_Passivita!$B$6:$Q$105,COLUMN(Attivita_Passivita!M$4)-1,FALSE))))))","v":""},null,{"$f":"IF($A210=\"\",\"\",IF(H$4=\"\",\"\",IF(OR($B210=\"X\", $B210=\"I\"),INDIRECT(ADDRESS(IF($B210=\"X\",12,13),MATCH(SP_PIANO!H$4,BASE!$B$2:$F$2,0)+1,,,\"BASE\")),IF($B210=\"U\",-INDIRECT(ADDRESS(4+MATCH(\"U\",CE_PIANO!$B$5:$B$206,0),COLUMN(SP_PIANO!H$4),,,\"CE_PIANO\")),IF(ISERROR(VLOOKUP($A210,Attivita_Passivita!$B$6:$Q$105,COLUMN(Attivita_Passivita!M$4)-1,FALSE)),0,VLOOKUP($A210,Attivita_Passivita!$B$6:$Q$105,COLUMN(Attivita_Passivita!M$4)-1,FALSE))))))","v":""},null,{"$f":"IF($A210=\"\",\"\",IF(J$4=\"\",\"\",IF(OR($B210=\"X\", $B210=\"I\"),INDIRECT(ADDRESS(IF($B210=\"X\",12,13),MATCH(SP_PIANO!J$4,BASE!$B$2:$F$2,0)+1,,,\"BASE\")),IF($B210=\"U\",-INDIRECT(ADDRESS(4+MATCH(\"U\",CE_PIANO!$B$5:$B$206,0),COLUMN(SP_PIANO!J$4),,,\"CE_PIANO\")),IF(ISERROR(VLOOKUP($A210,Attivita_Passivita!$B$6:$Q$105,COLUMN(Attivita_Passivita!M$4)-1,FALSE)),0,VLOOKUP($A210,Attivita_Passivita!$B$6:$Q$105,COLUMN(Attivita_Passivita!M$4)-1,FALSE))))))","v":""},null,{"$f":"IF($A210=\"\",\"\",IF(L$4=\"\",\"\",IF(OR($B210=\"X\", $B210=\"I\"),INDIRECT(ADDRESS(IF($B210=\"X\",12,13),MATCH(SP_PIANO!L$4,BASE!$B$2:$F$2,0)+1,,,\"BASE\")),IF($B210=\"U\",-INDIRECT(ADDRESS(4+MATCH(\"U\",CE_PIANO!$B$5:$B$206,0),COLUMN(SP_PIANO!L$4),,,\"CE_PIANO\")),IF(ISERROR(VLOOKUP($A210,Attivita_Passivita!$B$6:$Q$105,COLUMN(Attivita_Passivita!M$4)-1,FALSE)),0,VLOOKUP($A210,Attivita_Passivita!$B$6:$Q$105,COLUMN(Attivita_Passivita!M$4)-1,FALSE))))))","v":""},null,{"$f":"IF($A210=\"\",\"\",IF(N$4=\"\",\"\",IF(OR($B210=\"X\", $B210=\"I\"),INDIRECT(ADDRESS(IF($B210=\"X\",12,13),MATCH(SP_PIANO!N$4,BASE!$B$2:$F$2,0)+1,,,\"BASE\")),IF($B210=\"U\",-INDIRECT(ADDRESS(4+MATCH(\"U\",CE_PIANO!$B$5:$B$206,0),COLUMN(SP_PIANO!N$4),,,\"CE_PIANO\")),IF(ISERROR(VLOOKUP($A210,Attivita_Passivita!$B$6:$Q$105,COLUMN(Attivita_Passivita!M$4)-1,FALSE)),0,VLOOKUP($A210,Attivita_Passivita!$B$6:$Q$105,COLUMN(Attivita_Passivita!M$4)-1,FALSE))))))","v":""},null,{"$f":"IF($A210=\"\",\"\",IF(P$4=\"\",\"\",IF(OR($B210=\"X\", $B210=\"I\"),INDIRECT(ADDRESS(IF($B210=\"X\",12,13),MATCH(SP_PIANO!P$4,BASE!$B$2:$F$2,0)+1,,,\"BASE\")),IF($B210=\"U\",-INDIRECT(ADDRESS(4+MATCH(\"U\",CE_PIANO!$B$5:$B$206,0),COLUMN(SP_PIANO!P$4),,,\"CE_PIANO\")),IF(ISERROR(VLOOKUP($A210,Attivita_Passivita!$B$6:$Q$105,COLUMN(Attivita_Passivita!M$4)-1,FALSE)),0,VLOOKUP($A210,Attivita_Passivita!$B$6:$Q$105,COLUMN(Attivita_Passivita!M$4)-1,FALSE))))))","v":""},null,{"$f":"IF($A210=\"\",\"\",IF(R$4=\"\",\"\",IF(OR($B210=\"X\", $B210=\"I\"),INDIRECT(ADDRESS(IF($B210=\"X\",12,13),MATCH(SP_PIANO!R$4,BASE!$B$2:$F$2,0)+1,,,\"BASE\")),IF($B210=\"U\",-INDIRECT(ADDRESS(4+MATCH(\"U\",CE_PIANO!$B$5:$B$206,0),COLUMN(SP_PIANO!R$4),,,\"CE_PIANO\")),IF(ISERROR(VLOOKUP($A210,Attivita_Passivita!$B$6:$Q$105,COLUMN(Attivita_Passivita!M$4)-1,FALSE)),0,VLOOKUP($A210,Attivita_Passivita!$B$6:$Q$105,COLUMN(Attivita_Passivita!M$4)-1,FALSE))))))","v":""},{"$f":"IF($A210=\"\",\"\",IF(S$4=\"\",\"\",IF(OR($B210=\"X\", $B210=\"I\"),INDIRECT(ADDRESS(IF($B210=\"X\",12,13),MATCH(SP_PIANO!S$4,BASE!$B$2:$F$2,0)+1,,,\"BASE\")),IF($B210=\"U\",-INDIRECT(ADDRESS(4+MATCH(\"U\",CE_PIANO!$B$5:$B$206,0),COLUMN(SP_PIANO!S$4),,,\"CE_PIANO\")),IF(ISERROR(VLOOKUP($A210,Attivita_Passivita!$B$6:$Q$105,COLUMN(Attivita_Passivita!M$4)-1,FALSE)),0,VLOOKUP($A210,Attivita_Passivita!$B$6:$Q$105,COLUMN(Attivita_Passivita!M$4)-1,FALSE))))))","v":""},{"$f":"IF($A210=\"\",\"\",IF(T$4=\"\",\"\",IF(OR($B210=\"X\", $B210=\"I\"),INDIRECT(ADDRESS(IF($B210=\"X\",12,13),MATCH(SP_PIANO!T$4,BASE!$B$2:$F$2,0)+1,,,\"BASE\")),IF($B210=\"U\",-INDIRECT(ADDRESS(4+MATCH(\"U\",CE_PIANO!$B$5:$B$206,0),COLUMN(SP_PIANO!T$4),,,\"CE_PIANO\")),IF(ISERROR(VLOOKUP($A210,Attivita_Passivita!$B$6:$Q$105,COLUMN(Attivita_Passivita!M$4)-1,FALSE)),0,VLOOKUP($A210,Attivita_Passivita!$B$6:$Q$105,COLUMN(Attivita_Passivita!M$4)-1,FALSE))))))","v":""},{"$f":"IF($A210=\"\",\"\",IF(U$4=\"\",\"\",IF(OR($B210=\"X\", $B210=\"I\"),INDIRECT(ADDRESS(IF($B210=\"X\",12,13),MATCH(SP_PIANO!U$4,BASE!$B$2:$F$2,0)+1,,,\"BASE\")),IF($B210=\"U\",-INDIRECT(ADDRESS(4+MATCH(\"U\",CE_PIANO!$B$5:$B$206,0),COLUMN(SP_PIANO!U$4),,,\"CE_PIANO\")),IF(ISERROR(VLOOKUP($A210,Attivita_Passivita!$B$6:$Q$105,COLUMN(Attivita_Passivita!M$4)-1,FALSE)),0,VLOOKUP($A210,Attivita_Passivita!$B$6:$Q$105,COLUMN(Attivita_Passivita!M$4)-1,FALSE))))))","v":""},{"$f":"IF($A210=\"\",\"\",IF(V$4=\"\",\"\",IF(OR($B210=\"X\", $B210=\"I\"),INDIRECT(ADDRESS(IF($B210=\"X\",12,13),MATCH(SP_PIANO!V$4,BASE!$B$2:$F$2,0)+1,,,\"BASE\")),IF($B210=\"U\",-INDIRECT(ADDRESS(4+MATCH(\"U\",CE_PIANO!$B$5:$B$206,0),COLUMN(SP_PIANO!V$4),,,\"CE_PIANO\")),IF(ISERROR(VLOOKUP($A210,Attivita_Passivita!$B$6:$Q$105,COLUMN(Attivita_Passivita!M$4)-1,FALSE)),0,VLOOKUP($A210,Attivita_Passivita!$B$6:$Q$105,COLUMN(Attivita_Passivita!M$4)-1,FALSE))))))","v":""},null,null,{"$f":"IF($A210=\"\",\"\",IF(Y$4=\"\",\"\",IF(OR($B210=\"X\", $B210=\"I\"),IF($B210=\"X\",1,0.98)*INDIRECT(ADDRESS(IF($B210=\"X\",12,13),MATCH(SP_PIANO!Y$4,BASE!$B$2:$F$2,0)+1,,,\"BASE\")),IF($B210=\"U\",-INDIRECT(ADDRESS(4+MATCH(\"U\",CE_PIANO!$B$5:$B$206,0),COLUMN(SP_PIANO!Y$4),,,\"CE_PIANO\")),IF(ISERROR(VLOOKUP($A210,Attivita_Passivita!$B$6:$Q$105,COLUMN(Attivita_Passivita!M$4)-1,FALSE)),0,VLOOKUP($A210,Attivita_Passivita!$B$6:$Q$105,COLUMN(Attivita_Passivita!M$4)-1,FALSE))))))","v":""},null,null,{"$f":"IF($A210=\"\",\"\",IF(AB$4=\"\",\"\",IF(OR($B210=\"X\", $B210=\"I\"),INDIRECT(ADDRESS(IF($B210=\"X\",12,13),MATCH(SP_PIANO!AB$4,BASE!$B$2:$F$2,0)+1,,,\"BASE\")),IF($B210=\"U\",-INDIRECT(ADDRESS(4+MATCH(\"U\",CE_PIANO!$B$5:$B$206,0),COLUMN(SP_PIANO!AB$4),,,\"CE_PIANO\")),IF(ISERROR(VLOOKUP($A210,Attivita_Passivita!$B$6:$Q$105,COLUMN(Attivita_Passivita!M$4)-1,FALSE)),0,VLOOKUP($A210,Attivita_Passivita!$B$6:$Q$105,COLUMN(Attivita_Passivita!M$4)-1,FALSE))))))","v":""},null,null,{"$f":"IF($A210=\"\",\"\",IF(AE$4=\"\",\"\",IF(OR($B210=\"X\", $B210=\"I\"),INDIRECT(ADDRESS(IF($B210=\"X\",12,13),MATCH(SP_PIANO!AE$4,BASE!$B$2:$F$2,0)+1,,,\"BASE\")),IF($B210=\"U\",-INDIRECT(ADDRESS(4+MATCH(\"U\",CE_PIANO!$B$5:$B$206,0),COLUMN(SP_PIANO!AE$4),,,\"CE_PIANO\")),IF(ISERROR(VLOOKUP($A210,Attivita_Passivita!$B$6:$Q$105,COLUMN(Attivita_Passivita!M$4)-1,FALSE)),0,VLOOKUP($A210,Attivita_Passivita!$B$6:$Q$105,COLUMN(Attivita_Passivita!M$4)-1,FALSE))))))","v":""},null,null,{"$f":"IF($A210=\"\",\"\",IF(AH$4=\"\",\"\",IF(OR($B210=\"X\", $B210=\"I\"),INDIRECT(ADDRESS(IF($B210=\"X\",12,13),MATCH(SP_PIANO!AH$4,BASE!$B$2:$F$2,0)+1,,,\"BASE\")),IF($B210=\"U\",-INDIRECT(ADDRESS(4+MATCH(\"U\",CE_PIANO!$B$5:$B$206,0),COLUMN(SP_PIANO!AH$4),,,\"CE_PIANO\")),IF(ISERROR(VLOOKUP($A210,Attivita_Passivita!$B$6:$Q$105,COLUMN(Attivita_Passivita!M$4)-1,FALSE)),0,VLOOKUP($A210,Attivita_Passivita!$B$6:$Q$105,COLUMN(Attivita_Passivita!M$4)-1,FALSE))))))","v":""},null,null,{"$f":"IF($A210=\"\",\"\",IF(AK$4=\"\",\"\",IF(OR($B210=\"X\", $B210=\"I\"),INDIRECT(ADDRESS(IF($B210=\"X\",12,13),MATCH(SP_PIANO!AK$4,BASE!$B$2:$F$2,0)+1,,,\"BASE\")),IF($B210=\"U\",-INDIRECT(ADDRESS(4+MATCH(\"U\",CE_PIANO!$B$5:$B$206,0),COLUMN(SP_PIANO!AK$4),,,\"CE_PIANO\")),IF(ISERROR(VLOOKUP($A210,Attivita_Passivita!$B$6:$Q$105,COLUMN(Attivita_Passivita!M$4)-1,FALSE)),0,VLOOKUP($A210,Attivita_Passivita!$B$6:$Q$105,COLUMN(Attivita_Passivita!M$4)-1,FALSE))))))","v":""},null,null,{"$f":"IF($A210=\"\",\"\",IF(AN$4=\"\",\"\",IF(OR($B210=\"X\", $B210=\"I\"),INDIRECT(ADDRESS(IF($B210=\"X\",12,13),MATCH(SP_PIANO!AN$4,BASE!$B$2:$F$2,0)+1,,,\"BASE\")),IF($B210=\"U\",-INDIRECT(ADDRESS(4+MATCH(\"U\",CE_PIANO!$B$5:$B$206,0),COLUMN(SP_PIANO!AN$4),,,\"CE_PIANO\")),IF(ISERROR(VLOOKUP($A210,Attivita_Passivita!$B$6:$Q$105,COLUMN(Attivita_Passivita!M$4)-1,FALSE)),0,VLOOKUP($A210,Attivita_Passivita!$B$6:$Q$105,COLUMN(Attivita_Passivita!M$4)-1,FALSE))))))","v":""},null,null,{"$f":"IF($A210=\"\",\"\",IF(AQ$4=\"\",\"\",IF(OR($B210=\"X\", $B210=\"I\"),INDIRECT(ADDRESS(IF($B210=\"X\",12,13),MATCH(SP_PIANO!AQ$4,BASE!$B$2:$F$2,0)+1,,,\"BASE\")),IF($B210=\"U\",-INDIRECT(ADDRESS(4+MATCH(\"U\",CE_PIANO!$B$5:$B$206,0),COLUMN(SP_PIANO!AQ$4),,,\"CE_PIANO\")),IF(ISERROR(VLOOKUP($A210,Attivita_Passivita!$B$6:$Q$105,COLUMN(Attivita_Passivita!M$4)-1,FALSE)),0,VLOOKUP($A210,Attivita_Passivita!$B$6:$Q$105,COLUMN(Attivita_Passivita!M$4)-1,FALSE))))))","v":""},{"$f":"IF($A210=\"\",\"\",IF(AR$4=\"\",\"\",IF(OR($B210=\"X\", $B210=\"I\"),INDIRECT(ADDRESS(IF($B210=\"X\",12,13),MATCH(SP_PIANO!AR$4,BASE!$B$2:$F$2,0)+1,,,\"BASE\")),IF($B210=\"U\",-INDIRECT(ADDRESS(4+MATCH(\"U\",CE_PIANO!$B$5:$B$206,0),COLUMN(SP_PIANO!AR$4),,,\"CE_PIANO\")),IF(ISERROR(VLOOKUP($A210,Attivita_Passivita!$B$6:$Q$105,COLUMN(Attivita_Passivita!M$4)-1,FALSE)),0,VLOOKUP($A210,Attivita_Passivita!$B$6:$Q$105,COLUMN(Attivita_Passivita!M$4)-1,FALSE))))))","v":""},{"$f":"IF($A210=\"\",\"\",IF(AS$4=\"\",\"\",IF(OR($B210=\"X\", $B210=\"I\"),INDIRECT(ADDRESS(IF($B210=\"X\",12,13),MATCH(SP_PIANO!AS$4,BASE!$B$2:$F$2,0)+1,,,\"BASE\")),IF($B210=\"U\",-INDIRECT(ADDRESS(4+MATCH(\"U\",CE_PIANO!$B$5:$B$206,0),COLUMN(SP_PIANO!AS$4),,,\"CE_PIANO\")),IF(ISERROR(VLOOKUP($A210,Attivita_Passivita!$B$6:$Q$105,COLUMN(Attivita_Passivita!M$4)-1,FALSE)),0,VLOOKUP($A210,Attivita_Passivita!$B$6:$Q$105,COLUMN(Attivita_Passivita!M$4)-1,FALSE))))))","v":""},null,null,{"$f":"IF($A210=\"\",\"\",IF(AV$4=\"\",\"\",IF(OR($B210=\"X\", $B210=\"I\"),INDIRECT(ADDRESS(IF($B210=\"X\",12,13),MATCH(SP_PIANO!AV$4,BASE!$B$2:$F$2,0)+1,,,\"BASE\")),IF($B210=\"U\",-INDIRECT(ADDRESS(4+MATCH(\"U\",CE_PIANO!$B$5:$B$206,0),COLUMN(SP_PIANO!AV$4),,,\"CE_PIANO\")),IF(ISERROR(VLOOKUP($A210,Attivita_Passivita!$B$6:$Q$105,COLUMN(Attivita_Passivita!M$4)-1,FALSE)),0,VLOOKUP($A210,Attivita_Passivita!$B$6:$Q$105,COLUMN(Attivita_Passivita!M$4)-1,FALSE))))))","v":""},null,null,{"$f":"IF($A210=\"\",\"\",IF(AY$4=\"\",\"\",IF(OR($B210=\"X\", $B210=\"I\"),INDIRECT(ADDRESS(IF($B210=\"X\",12,13),MATCH(SP_PIANO!AY$4,BASE!$B$2:$F$2,0)+1,,,\"BASE\")),IF($B210=\"U\",-INDIRECT(ADDRESS(4+MATCH(\"U\",CE_PIANO!$B$5:$B$206,0),COLUMN(SP_PIANO!AY$4),,,\"CE_PIANO\")),IF(ISERROR(VLOOKUP($A210,Attivita_Passivita!$B$6:$Q$105,COLUMN(Attivita_Passivita!M$4)-1,FALSE)),0,VLOOKUP($A210,Attivita_Passivita!$B$6:$Q$105,COLUMN(Attivita_Passivita!M$4)-1,FALSE))))))","v":""},null,null,{"$f":"IF($A210=\"\",\"\",IF(BB$4=\"\",\"\",IF(OR($B210=\"X\", $B210=\"I\"),INDIRECT(ADDRESS(IF($B210=\"X\",12,13),MATCH(SP_PIANO!BB$4,BASE!$B$2:$F$2,0)+1,,,\"BASE\")),IF($B210=\"U\",-INDIRECT(ADDRESS(4+MATCH(\"U\",CE_PIANO!$B$5:$B$206,0),COLUMN(SP_PIANO!BB$4),,,\"CE_PIANO\")),IF(ISERROR(VLOOKUP($A210,Attivita_Passivita!$B$6:$Q$105,COLUMN(Attivita_Passivita!M$4)-1,FALSE)),0,VLOOKUP($A210,Attivita_Passivita!$B$6:$Q$105,COLUMN(Attivita_Passivita!M$4)-1,FALSE))))))","v":""},null,null,{"$f":"IF($A210=\"\",\"\",IF(BE$4=\"\",\"\",IF(OR($B210=\"X\", $B210=\"I\"),INDIRECT(ADDRESS(IF($B210=\"X\",12,13),MATCH(SP_PIANO!BE$4,BASE!$B$2:$F$2,0)+1,,,\"BASE\")),IF($B210=\"U\",-INDIRECT(ADDRESS(4+MATCH(\"U\",CE_PIANO!$B$5:$B$206,0),COLUMN(SP_PIANO!BE$4),,,\"CE_PIANO\")),IF(ISERROR(VLOOKUP($A210,Attivita_Passivita!$B$6:$Q$105,COLUMN(Attivita_Passivita!M$4)-1,FALSE)),0,VLOOKUP($A210,Attivita_Passivita!$B$6:$Q$105,COLUMN(Attivita_Passivita!M$4)-1,FALSE))))))","v":""},null,null,{"$f":"IF($A210=\"\",\"\",IF(BH$4=\"\",\"\",IF(OR($B210=\"X\", $B210=\"I\"),INDIRECT(ADDRESS(IF($B210=\"X\",12,13),MATCH(SP_PIANO!BH$4,BASE!$B$2:$F$2,0)+1,,,\"BASE\")),IF($B210=\"U\",-INDIRECT(ADDRESS(4+MATCH(\"U\",CE_PIANO!$B$5:$B$206,0),COLUMN(SP_PIANO!BH$4),,,\"CE_PIANO\")),IF(ISERROR(VLOOKUP($A210,Attivita_Passivita!$B$6:$Q$105,COLUMN(Attivita_Passivita!M$4)-1,FALSE)),0,VLOOKUP($A210,Attivita_Passivita!$B$6:$Q$105,COLUMN(Attivita_Passivita!M$4)-1,FALSE))))))","v":""},null,null,{"$f":"IF($A210=\"\",\"\",IF(BK$4=\"\",\"\",IF($B210=\"X\",INDIRECT(ADDRESS(12,MATCH(SP_PIANO!BK$4,BASE!$B$2:$F$2,0)+1,,,\"BASE\")),IF($B210=\"U\",-INDIRECT(ADDRESS(4+MATCH(\"U\",CE_PIANO!$B$5:$B$206,0),COLUMN(SP_PIANO!BK$4),,,\"CE_PIANO\")),IF(ISERROR(VLOOKUP($A210,Attivita_Passivita!$B$6:$Q$105,COLUMN(Attivita_Passivita!M$4)-1,FALSE)),0,VLOOKUP($A210,Attivita_Passivita!$B$6:$Q$105,COLUMN(Attivita_Passivita!M$4)-1,FALSE))))))","v":""},null,null,{"$f":"IF($A210=\"\",\"\",IF(BN$4=\"\",\"\",IF($B210=\"X\",INDIRECT(ADDRESS(12,MATCH(SP_PIANO!BN$4,BASE!$B$2:$F$2,0)+1,,,\"BASE\")),IF($B210=\"U\",-INDIRECT(ADDRESS(4+MATCH(\"U\",CE_PIANO!$B$5:$B$206,0),COLUMN(SP_PIANO!BN$4),,,\"CE_PIANO\")),IF(ISERROR(VLOOKUP($A210,Attivita_Passivita!$B$6:$Q$105,COLUMN(Attivita_Passivita!M$4)-1,FALSE)),0,VLOOKUP($A210,Attivita_Passivita!$B$6:$Q$105,COLUMN(Attivita_Passivita!M$4)-1,FALSE))))))","v":""},null,null,{"$f":"IF($A210=\"\",\"\",IF(BQ$4=\"\",\"\",IF($B210=\"X\",INDIRECT(ADDRESS(12,MATCH(SP_PIANO!BQ$4,BASE!$B$2:$F$2,0)+1,,,\"BASE\")),IF($B210=\"U\",-INDIRECT(ADDRESS(4+MATCH(\"U\",CE_PIANO!$B$5:$B$206,0),COLUMN(SP_PIANO!BQ$4),,,\"CE_PIANO\")),IF(ISERROR(VLOOKUP($A210,Attivita_Passivita!$B$6:$Q$105,COLUMN(Attivita_Passivita!M$4)-1,FALSE)),0,VLOOKUP($A210,Attivita_Passivita!$B$6:$Q$105,COLUMN(Attivita_Passivita!M$4)-1,FALSE))))))","v":""},null,null,{"$f":"IF($A210=\"\",\"\",IF(BT$4=\"\",\"\",IF($B210=\"X\",INDIRECT(ADDRESS(12,MATCH(SP_PIANO!BT$4,BASE!$B$2:$F$2,0)+1,,,\"BASE\")),IF($B210=\"U\",-INDIRECT(ADDRESS(4+MATCH(\"U\",CE_PIANO!$B$5:$B$206,0),COLUMN(SP_PIANO!BT$4),,,\"CE_PIANO\")),IF(ISERROR(VLOOKUP($A210,Attivita_Passivita!$B$6:$Q$105,COLUMN(Attivita_Passivita!M$4)-1,FALSE)),0,VLOOKUP($A210,Attivita_Passivita!$B$6:$Q$105,COLUMN(Attivita_Passivita!M$4)-1,FALSE))))))","v":""},null,null,{"$f":"IF($A210=\"\",\"\",IF(BW$4=\"\",\"\",IF($B210=\"X\",INDIRECT(ADDRESS(12,MATCH(SP_PIANO!BW$4,BASE!$B$2:$F$2,0)+1,,,\"BASE\")),IF($B210=\"U\",-INDIRECT(ADDRESS(4+MATCH(\"U\",CE_PIANO!$B$5:$B$206,0),COLUMN(SP_PIANO!BW$4),,,\"CE_PIANO\")),IF(ISERROR(VLOOKUP($A210,Attivita_Passivita!$B$6:$Q$105,COLUMN(Attivita_Passivita!M$4)-1,FALSE)),0,VLOOKUP($A210,Attivita_Passivita!$B$6:$Q$105,COLUMN(Attivita_Passivita!M$4)-1,FALSE))))))","v":""},null,null,{"$f":"IF($A210=\"\",\"\",IF(BZ$4=\"\",\"\",IF($B210=\"X\",INDIRECT(ADDRESS(12,MATCH(SP_PIANO!CE$4,BASE!$B$2:$F$2,0)+1,,,\"BASE\")),IF($B210=\"U\",-INDIRECT(ADDRESS(4+MATCH(\"U\",CE_PIANO!$B$5:$B$206,0),COLUMN(SP_PIANO!CE$4),,,\"CE_PIANO\")),IF(ISERROR(VLOOKUP($A210,Attivita_Passivita!$B$6:$Q$105,COLUMN(Attivita_Passivita!M$4)-1,FALSE)),0,VLOOKUP($A210,Attivita_Passivita!$B$6:$Q$105,COLUMN(Attivita_Passivita!M$4)-1,FALSE))))))","v":""},null,null,{"$f":"IF($A210=\"\",\"\",IF(CC$4=\"\",\"\",IF(OR($B210=\"X\", $B210=\"U\"),0,IF(ISERROR(VLOOKUP($A210,Attivita_Passivita!$B$6:$Q$105,COLUMN(Attivita_Passivita!M$4)-1,FALSE)),0,VLOOKUP($A210,Attivita_Passivita!$B$6:$Q$105,COLUMN(Attivita_Passivita!M$4)-1,FALSE)))))","v":""},null,null,{"$f":"IF($A210=\"\",\"\",IF(CF$4=\"\",\"\",IF(OR($B210=\"X\", $B210=\"U\"),0,IF(ISERROR(VLOOKUP($A210,Attivita_Passivita!$B$6:$Q$105,COLUMN(Attivita_Passivita!M$4)-1,FALSE)),0,VLOOKUP($A210,Attivita_Passivita!$B$6:$Q$105,COLUMN(Attivita_Passivita!M$4)-1,FALSE)))))","v":""},null,null,{"$f":"IF($A210=\"\",\"\",IF(CI$4=\"\",\"\",IF(ISERROR(VLOOKUP($A210,Attivita_Passivita!$B$6:$Q$105,COLUMN(Attivita_Passivita!M$4)-1,FALSE)),0,VLOOKUP($A210,Attivita_Passivita!$B$6:$Q$105,COLUMN(Attivita_Passivita!M$4)-1,FALSE))))","v":""}]
[null,{"$f":"IF($A211=\"\",\"\",VLOOKUP(A211,SCHEMA_SP!$E$5:$F$54,2,FALSE))","v":""}]
[null,{"$f":"IF($A212=\"\",\"\",VLOOKUP(A212,SCHEMA_SP!$E$5:$F$54,2,FALSE))","v":""}]
[null,{"$f":"IF($A213=\"\",\"\",VLOOKUP(A213,SCHEMA_SP!$E$5:$F$54,2,FALSE))","v":""}]
[null,{"$f":"IF($A214=\"\",\"\",VLOOKUP(A214,SCHEMA_SP!$E$5:$F$54,2,FALSE))","v":""}]
[null,{"$f":"IF($A215=\"\",\"\",VLOOKUP(A215,SCHEMA_SP!$E$5:$F$54,2,FALSE))","v":""}]
[null,{"$f":"IF($A216=\"\",\"\",VLOOKUP(A216,SCHEMA_SP!$E$5:$F$54,2,FALSE))","v":""}]
[null,{"$f":"IF($A217=\"\",\"\",VLOOKUP(A217,SCHEMA_SP!$E$5:$F$54,2,FALSE))","v":""}]
[null,{"$f":"IF($A218=\"\",\"\",VLOOKUP(A218,SCHEMA_SP!$E$5:$F$54,2,FALSE))","v":""}]
[null,{"$f":"IF($A219=\"\",\"\",VLOOKUP(A219,SCHEMA_SP!$E$5:$F$54,2,FALSE))","v":""}]
[null,{"$f":"IF($A220=\"\",\"\",VLOOKUP(A220,SCHEMA_SP!$E$5:$F$54,2,FALSE))","v":""}]
[null,{"$f":"IF($A221=\"\",\"\",VLOOKUP(A221,SCHEMA_SP!$E$5:$F$54,2,FALSE))","v":""}]
[null,{"$f":"IF($A222=\"\",\"\",VLOOKUP(A222,SCHEMA_SP!$E$5:$F$54,2,FALSE))","v":""}]
[null,{"$f":"IF($A223=\"\",\"\",VLOOKUP(A223,SCHEMA_SP!$E$5:$F$54,2,FALSE))","v":""}]
[null,{"$f":"IF($A224=\"\",\"\",VLOOKUP(A224,SCHEMA_SP!$E$5:$F$54,2,FALSE))","v":""}]
[null,{"$f":"IF($A225=\"\",\"\",VLOOKUP(A225,SCHEMA_SP!$E$5:$F$54,2,FALSE))","v":""}]
[null,{"$f":"IF($A226=\"\",\"\",VLOOKUP(A226,SCHEMA_SP!$E$5:$F$54,2,FALSE))","v":""}]
[null,{"$f":"IF($A227=\"\",\"\",VLOOKUP(A227,SCHEMA_SP!$E$5:$F$54,2,FALSE))","v":""}]
[null,{"$f":"IF($A228=\"\",\"\",VLOOKUP(A228,SCHEMA_SP!$E$5:$F$54,2,FALSE))","v":""}]
[null,{"$f":"IF($A229=\"\",\"\",VLOOKUP(A229,SCHEMA_SP!$E$5:$F$54,2,FALSE))","v":""}]
[null,{"$f":"IF($A230=\"\",\"\",VLOOKUP(A230,SCHEMA_SP!$E$5:$F$54,2,FALSE))","v":""}]
[null,{"$f":"IF($A231=\"\",\"\",VLOOKUP(A231,SCHEMA_SP!$E$5:$F$54,2,FALSE))","v":""}]
[null,{"$f":"IF($A232=\"\",\"\",VLOOKUP(A232,SCHEMA_SP!$E$5:$F$54,2,FALSE))","v":""}]
[null,{"$f":"IF($A233=\"\",\"\",VLOOKUP(A233,SCHEMA_SP!$E$5:$F$54,2,FALSE))","v":""}]
[null,{"$f":"IF($A234=\"\",\"\",VLOOKUP(A234,SCHEMA_SP!$E$5:$F$54,2,FALSE))","v":""}]
[null,{"$f":"IF($A235=\"\",\"\",VLOOKUP(A235,SCHEMA_SP!$E$5:$F$54,2,FALSE))","v":""}]
[null,{"$f":"IF($A236=\"\",\"\",VLOOKUP(A236,SCHEMA_SP!$E$5:$F$54,2,FALSE))","v":""}]
[null,{"$f":"IF($A237=\"\",\"\",VLOOKUP(A237,SCHEMA_SP!$E$5:$F$54,2,FALSE))","v":""}]
[null,{"$f":"IF($A238=\"\",\"\",VLOOKUP(A238,SCHEMA_SP!$E$5:$F$54,2,FALSE))","v":""}]
[null,{"$f":"IF($A239=\"\",\"\",VLOOKUP(A239,SCHEMA_SP!$E$5:$F$54,2,FALSE))","v":""}]
[null,{"$f":"IF($A240=\"\",\"\",VLOOKUP(A240,SCHEMA_SP!$E$5:$F$54,2,FALSE))","v":""}]
[null,{"$f":"IF($A241=\"\",\"\",VLOOKUP(A241,SCHEMA_SP!$E$5:$F$54,2,FALSE))","v":""}]
[null,{"$f":"IF($A242=\"\",\"\",VLOOKUP(A242,SCHEMA_SP!$E$5:$F$54,2,FALSE))","v":""}]
[null,{"$f":"IF($A243=\"\",\"\",VLOOKUP(A243,SCHEMA_SP!$E$5:$F$54,2,FALSE))","v":""}]
[null,{"$f":"IF($A244=\"\",\"\",VLOOKUP(A244,SCHEMA_SP!$E$5:$F$54,2,FALSE))","v":""}]
[null,{"$f":"IF($A245=\"\",\"\",VLOOKUP(A245,SCHEMA_SP!$E$5:$F$54,2,FALSE))","v":""}]
[null,{"$f":"IF($A246=\"\",\"\",VLOOKUP(A246,SCHEMA_SP!$E$5:$F$54,2,FALSE))","v":""}]
[null,{"$f":"IF($A247=\"\",\"\",VLOOKUP(A247,SCHEMA_SP!$E$5:$F$54,2,FALSE))","v":""}]
[null,{"$f":"IF($A248=\"\",\"\",VLOOKUP(A248,SCHEMA_SP!$E$5:$F$54,2,FALSE))","v":""}]
[null,{"$f":"IF($A249=\"\",\"\",VLOOKUP(A249,SCHEMA_SP!$E$5:$F$54,2,FALSE))","v":""}]
[null,{"$f":"IF($A250=\"\",\"\",VLOOKUP(A250,SCHEMA_SP!$E$5:$F$54,2,FALSE))","v":""}]
[null,{"$f":"IF($A251=\"\",\"\",VLOOKUP(A251,SCHEMA_SP!$E$5:$F$54,2,FALSE))","v":""}]
[null,{"$f":"IF($A252=\"\",\"\",VLOOKUP(A252,SCHEMA_SP!$E$5:$F$54,2,FALSE))","v":""}]
[null,{"$f":"IF($A253=\"\",\"\",VLOOKUP(A253,SCHEMA_SP!$E$5:$F$54,2,FALSE))","v":""}]
[null,{"$f":"IF($A254=\"\",\"\",VLOOKUP(A254,SCHEMA_SP!$E$5:$F$54,2,FALSE))","v":""}]
[null,{"$f":"IF($A255=\"\",\"\",VLOOKUP(A255,SCHEMA_SP!$E$5:$F$54,2,FALSE))","v":""}]
[null,{"$f":"IF($A256=\"\",\"\",VLOOKUP(A256,SCHEMA_SP!$E$5:$F$54,2,FALSE))","v":""}]
[null,{"$f":"IF($A257=\"\",\"\",VLOOKUP(A257,SCHEMA_SP!$E$5:$F$54,2,FALSE))","v":""}]
[null,{"$f":"IF($A258=\"\",\"\",VLOOKUP(A258,SCHEMA_SP!$E$5:$F$54,2,FALSE))","v":""}]
[null,{"$f":"IF($A259=\"\",\"\",VLOOKUP(A259,SCHEMA_SP!$E$5:$F$54,2,FALSE))","v":""}]
[null,{"$f":"IF($A260=\"\",\"\",VLOOKUP(A260,SCHEMA_SP!$E$5:$F$54,2,FALSE))","v":""}]
[null,{"$f":"IF($A261=\"\",\"\",VLOOKUP(A261,SCHEMA_SP!$E$5:$F$54,2,FALSE))","v":""}]

{"sheet":"BASE","index":13,"n_rows":15,"n_cols":6,"rows_kept":15,"cut":false,"hidden":false,"merged":[]}
["CALCOLO QUADRATURA",2,3,4,5,6]
[null,{"$f":"Attivita_Passivita!G4","v":2005},{"$f":"Attivita_Passivita!H4","v":2006},{"$f":"Attivita_Passivita!I4","v":2007},{"$f":"Attivita_Passivita!J4","v":""},{"$f":"Attivita_Passivita!K4","v":""}]
["Attività",{"$f":"SUMIF(SP_PIANO!$B$5:$B$206,\"A\",OFFSET(INDIRECT(ADDRESS(5,MATCH(B$2,SP_PIANO!$A$4:$EF$4),,,\"SP_PIANO\")),0,0,200,1))","v":20515},{"$f":"SUMIF(SP_PIANO!$B$5:$B$206,\"A\",OFFSET(INDIRECT(ADDRESS(5,MATCH(C$2,SP_PIANO!$A$4:$EF$4),,,\"SP_PIANO\")),0,0,200,1))","v":22415},{"$f":"SUMIF(SP_PIANO!$B$5:$B$206,\"A\",OFFSET(INDIRECT(ADDRESS(5,MATCH(D$2,SP_PIANO!$A$4:$EF$4),,,\"SP_PIANO\")),0,0,200,1))","v":24215},{"$f":"SUMIF(SP_PIANO!$B$5:$B$206,\"A\",OFFSET(INDIRECT(ADDRESS(5,MATCH(E$2,SP_PIANO!$A$4:$EF$4),,,\"SP_PIANO\")),0,0,200,1))","v":0},{"$f":"SUMIF(SP_PIANO!$B$5:$B$206,\"A\",OFFSET(INDIRECT(ADDRESS(5,MATCH(F$2,SP_PIANO!$A$4:$EF$4),,,\"SP_PIANO\")),0,0,200,1))","v":0}]
["Passività",{"$f":"SUMIF(SP_PIANO!$B$5:$B$206,\"P\",OFFSET(INDIRECT(ADDRESS(5,MATCH(B$2,SP_PIANO!$A$4:$EF$4),,,\"SP_PIANO\")),0,0,200,1))","v":-21750},{"$f":"SUMIF(SP_PIANO!$B$5:$B$206,\"P\",OFFSET(INDIRECT(ADDRESS(5,MATCH(C$2,SP_PIANO!$A$4:$EF$4),,,\"SP_PIANO\")),0,0,200,1))","v":-35000},{"$f":"SUMIF(SP_PIANO!$B$5:$B$206,\"P\",OFFSET(INDIRECT(ADDRESS(5,MATCH(D$2,SP_PIANO!$A$4:$EF$4),,,\"SP_PIANO\")),0,0,200,1))","v":-36550},{"$f":"SUMIF(SP_PIANO!$B$5:$B$206,\"P\",OFFSET(INDIRECT(ADDRESS(5,MATCH(E$2,SP_PIANO!$A$4:$EF$4),,,\"SP_PIANO\")),0,0,200,1))","v":0},{"$f":"SUMIF(SP_PIANO!$B$5:$B$206,\"P\",OFFSET(INDIRECT(ADDRESS(5,MATCH(F$2,SP_PIANO!$A$4:$EF$4),,,\"SP_PIANO\")),0,0,200,1))","v":0}]
["Costi",{"$f":"SUMIF(CE_PIANO!$B$5:$B$206,\"C\",OFFSET(INDIRECT(ADDRESS(5,MATCH(B$2,CE_PIANO!$A$4:$DU$4),,,\"CE_PIANO\")),0,0,200,1))","v":-12232},{"$f":"SUMIF(CE_PIANO!$B$5:$B$206,\"C\",OFFSET(INDIRECT(ADDRESS(5,MATCH(C$2,CE_PIANO!$A$4:$DU$4),,,\"CE_PIANO\")),0,0,200,1))","v":-14015.25},{"$f":"SUMIF(CE_PIANO!$B$5:$B$206,\"C\",OFFSET(INDIRECT(ADDRESS(5,MATCH(D$2,CE_PIANO!$A$4:$DU$4),,,\"CE_PIANO\")),0,0,200,1))","v":-15035.1},{"$f":"SUMIF(CE_PIANO!$B$5:$B$206,\"C\",OFFSET(INDIRECT(ADDRESS(5,MATCH(E$2,CE_PIANO!$A$4:$DU$4),,,\"CE_PIANO\")),0,0,200,1))","v":0},{"$f":"SUMIF(CE_PIANO!$B$5:$B$206,\"C\",OFFSET(INDIRECT(ADDRESS(5,MATCH(F$2,CE_PIANO!$A$4:$DU$4),,,\"CE_PIANO\")),0,0,200,1))","v":0}]
["Ricavi",{"$f":"SUMIF(CE_PIANO!$B$5:$B$206,\"R\",OFFSET(INDIRECT(ADDRESS(5,MATCH(B$2,CE_PIANO!$A$4:$DU$4),,,\"CE_PIANO\")),0,0,200,1))","v":17582},{"$f":"SUMIF(CE_PIANO!$B$5:$B$206,\"R\",OFFSET(INDIRECT(ADDRESS(5,MATCH(C$2,CE_PIANO!$A$4:$DU$4),,,\"CE_PIANO\")),0,0,200,1))","v":19495},{"$f":"SUMIF(CE_PIANO!$B$5:$B$206,\"R\",OFFSET(INDIRECT(ADDRESS(5,MATCH(D$2,CE_PIANO!$A$4:$DU$4),,,\"CE_PIANO\")),0,0,200,1))","v":20450},{"$f":"SUMIF(CE_PIANO!$B$5:$B$206,\"R\",OFFSET(INDIRECT(ADDRESS(5,MATCH(E$2,CE_PIANO!$A$4:$DU$4),,,\"CE_PIANO\")),0,0,200,1))","v":0},{"$f":"SUMIF(CE_PIANO!$B$5:$B$206,\"R\",OFFSET(INDIRECT(ADDRESS(5,MATCH(F$2,CE_PIANO!$A$4:$DU$4),,,\"CE_PIANO\")),0,0,200,1))","v":0}]
[]
["Banca esercizio precedente",{"$f":"IF(B2=\"\",0,SUMIF(SP_PIANO!$B$5:$B$206,\"X\",OFFSET(INDIRECT(ADDRESS(5,MATCH(B$2-1,SP_PIANO!$A$4:$EF$4),,,\"SP_PIANO\")),0,0,200,1))*-1)","v":0},{"$f":"IF(C2=\"\",0,SUMIF(SP_PIANO!$B$5:$B$206,\"X\",OFFSET(INDIRECT(ADDRESS(5,MATCH(C$2-1,SP_PIANO!$A$4:$EF$4),,,\"SP_PIANO\")),0,0,200,1))*-1)","v":-6749.625},{"$f":"IF(D2=\"\",0,SUMIF(SP_PIANO!$B$5:$B$206,\"X\",OFFSET(INDIRECT(ADDRESS(5,MATCH(D$2-1,SP_PIANO!$A$4:$EF$4),,,\"SP_PIANO\")),0,0,200,1))*-1)","v":-18685.109375},{"$f":"IF(E2=\"\",0,SUMIF(SP_PIANO!$B$5:$B$206,\"X\",OFFSET(INDIRECT(ADDRESS(5,MATCH(E$2-1,SP_PIANO!$A$4:$EF$4),,,\"SP_PIANO\")),0,0,200,1))*-1)","v":0},{"$f":"IF(F2=\"\",0,SUMIF(SP_PIANO!$B$5:$B$206,\"X\",OFFSET(INDIRECT(ADDRESS(5,MATCH(F$2-1,SP_PIANO!$A$4:$EF$4),,,\"SP_PIANO\")),0,0,200,1))*-1)","v":0}]
[]
["Delta",{"$f":"-B4-B3+(B6+B5)","v":6585},{"$f":"-C4-C3+(C6+C5)","v":18064.75},{"$f":"-D4-D3+(D6+D5)","v":17749.9},{"$f":"-E4-E3+(E6+E5)","v":0},{"$f":"-F4-F3+(F6+F5)","v":0}]
["Interessi",{"$f":"(B10-B8)/2*IF(B10-B8>0,Ricavi_Costi!G109,Ricavi_Costi!G108)","v":164.625},{"$f":"(C10-C8)/2*IF(C10-C8>0,Ricavi_Costi!H109,Ricavi_Costi!H108)","v":620.359375},{"$f":"(D10-D8)/2*IF(D10-D8>0,Ricavi_Costi!I109,Ricavi_Costi!I108)","v":910.8752343750001},{"$f":"(E10+E8)/2*IF(E10+E8>0,Ricavi_Costi!J109,Ricavi_Costi!J108)","v":0},{"$f":"(F10+F8)/2*IF(F10+F8>0,Ricavi_Costi!K109,Ricavi_Costi!K108)","v":0}]
["Totale",{"$f":"B10+B11","v":6749.625},{"$f":"C10+C11","v":18685.109375},{"$f":"D10+D11","v":18660.775234375},{"$f":"E10+E11","v":0},{"$f":"F10+F11","v":0}]
["Tasse",{"$f":"IF(B15<0,0,-B15*Ricavi_Costi!G107)","v":-2205.85},{"$f":"IF(C15<0,0,-C15*Ricavi_Costi!H107)","v":-2440.0437500000003},{"$f":"IF(D15<0,0,-D15*Ricavi_Costi!I107)","v":-2530.3100937500003},{"$f":"IF(E15<0,0,-E15*Ricavi_Costi!J107)","v":0},{"$f":"IF(F15<0,0,-F15*Ricavi_Costi!K107)","v":0}]
[]
["Imponibile",{"$f":"B6+B5+SUMIF(CE_PIANO!$B$5:$B$206,\"X\",OFFSET(INDIRECT(ADDRESS(5,MATCH(B$2,CE_PIANO!$A$4:$DU$4),,,\"CE_PIANO\")),0,0,200,1))","v":5514.625},{"$f":"C6+C5+SUMIF(CE_PIANO!$B$5:$B$206,\"X\",OFFSET(INDIRECT(ADDRESS(5,MATCH(C$2,CE_PIANO!$A$4:$DU$4),,,\"CE_PIANO\")),0,0,200,1))","v":6100.109375},{"$f":"D6+D5+SUMIF(CE_PIANO!$B$5:$B$206,\"X\",OFFSET(INDIRECT(ADDRESS(5,MATCH(D$2,CE_PIANO!$A$4:$DU$4),,,\"CE_PIANO\")),0,0,200,1))","v":6325.7752343749999},{"$f":"E6+E5+SUMIF(CE_PIANO!$B$5:$B$206,\"X\",OFFSET(INDIRECT(ADDRESS(5,MATCH(E$2,CE_PIANO!$A$4:$DU$4),,,\"CE_PIANO\")),0,0,200,1))","v":0},{"$f":"F6+F5+SUMIF(CE_PIANO!$B$5:$B$206,\"X\",OFFSET(INDIRECT(ADDRESS(5,MATCH(F$2,CE_PIANO!$A$4:$DU$4),,,\"CE_PIANO\")),0,0,200,1))","v":0}]

{"sheet":"INDICI","index":14,"n_rows":8,"n_cols":11,"rows_kept":8,"cut":false,"hidden":false,"merged":[[3,1,3,5],[3,6,3,10]]}
[{"$f":"MENU!$C$5&\" - DEFINIZIONE INDICI DI BILANCIO\"","v":"XYZ SpA - DEFINIZIONE INDICI DI BILANCIO"}]
[]
[]
[null,"NUMERATORE",null,null,null,null,"DENOMINATORE"]
["NOME INDICE","TIPO 1","NUMERATORE 1","SEGNO","TIPO  2","NUMERATORE 2","TIPO  1","DENOMINATORE 1","SEGNO2","TIPO 2","DENOMINATORE 2"]
["ROI","ECO","039999_REDDITO OPERATIVO",null,null,null,"PAT","049999_CAPITALE INVESTITO"]
["ROE","ECO","069999_UTILE NETTO",null,null,null,null,null,"-","PAT","110199_PATRIMONIO NETTO"]
["INDICE DI SOLIDITA'","PAT","110399_DEBITI FINANZIARI A MEDIO","+","PAT","110299_DEBITI FINANZIARI A BREVE","PAT","110199_PATRIMONIO NETTO"]

{"sheet":"INDICI_Valori","index":15,"n_rows":25,"n_cols":11,"rows_kept":25,"cut":false,"hidden":false,"merged":[]}
[{"$f":"MENU!$C$5&\" - INDICI DI BILANCIO\"","v":"XYZ SpA - INDICI DI BILANCIO"}]
[]
[]
[null,{"$f":"IF(B5=\"\",\"\",IF(INDIRECT(ADDRESS(3,2+MATCH(B5,CE_PIANO!$C$4:$BV$4,0),,,\"CE_PIANO\"))=\"\",\"\",INDIRECT(ADDRESS(3,2+MATCH(B5,CE_PIANO!$C$4:$BV$4,0),,,\"CE_PIANO\"))))","v":"STORICO"},{"$f":"IF(C5=\"\",\"\",IF(INDIRECT(ADDRESS(3,2+MATCH(C5,CE_PIANO!$C$4:$BV$4,0),,,\"CE_PIANO\"))=\"\",\"\",INDIRECT(ADDRESS(3,2+MATCH(C5,CE_PIANO!$C$4:$BV$4,0),,,\"CE_PIANO\"))))","v":""},{"$f":"IF(D5=\"\",\"\",IF(INDIRECT(ADDRESS(3,2+MATCH(D5,CE_PIANO!$C$4:$BV$4,0),,,\"CE_PIANO\"))=\"\",\"\",INDIRECT(ADDRESS(3,2+MATCH(D5,CE_PIANO!$C$4:$BV$4,0),,,\"CE_PIANO\"))))","v":"PIANO"},{"$f":"IF(E5=\"\",\"\",IF(INDIRECT(ADDRESS(3,2+MATCH(E5,CE_PIANO!$C$4:$BV$4,0),,,\"CE_PIANO\"))=\"\",\"\",INDIRECT(ADDRESS(3,2+MATCH(E5,CE_PIANO!$C$4:$BV$4,0),,,\"CE_PIANO\"))))","v":""},{"$f":"IF(F5=\"\",\"\",IF(INDIRECT(ADDRESS(3,2+MATCH(F5,CE_PIANO!$C$4:$BV$4,0),,,\"CE_PIANO\"))=\"\",\"\",INDIRECT(ADDRESS(3,2+MATCH(F5,CE_PIANO!$C$4:$BV$4,0),,,\"CE_PIANO\"))))","v":""},{"$f":"IF(G5=\"\",\"\",IF(INDIRECT(ADDRESS(3,2+MATCH(G5,CE_PIANO!$C$4:$BV$4,0),,,\"CE_PIANO\"))=\"\",\"\",INDIRECT(ADDRESS(3,2+MATCH(G5,CE_PIANO!$C$4:$BV$4,0),,,\"CE_PIANO\"))))","v":""},{"$f":"IF(H5=\"\",\"\",IF(INDIRECT(ADDRESS(3,2+MATCH(H5,CE_PIANO!$C$4:$BV$4,0),,,\"CE_PIANO\"))=\"\",\"\",INDIRECT(ADDRESS(3,2+MATCH(H5,CE_PIANO!$C$4:$BV$4,0),,,\"CE_PIANO\"))))","v":""},{"$f":"IF(I5=\"\",\"\",IF(INDIRECT(ADDRESS(3,2+MATCH(I5,CE_PIANO!$C$4:$BV$4,0),,,\"CE_PIANO\"))=\"\",\"\",INDIRECT(ADDRESS(3,2+MATCH(I5,CE_PIANO!$C$4:$BV$4,0),,,\"CE_PIANO\"))))","v":""},{"$f":"IF(J5=\"\",\"\",IF(INDIRECT(ADDRESS(3,2+MATCH(J5,CE_PIANO!$C$4:$BV$4,0),,,\"CE_PIANO\"))=\"\",\"\",INDIRECT(ADDRESS(3,2+MATCH(J5,CE_PIANO!$C$4:$BV$4,0),,,\"CE_PIANO\"))))","v":""},{"$f":"IF(K5=\"\",\"\",IF(INDIRECT(ADDRESS(3,2+MATCH(K5,CE_PIANO!$C$4:$BV$4,0),,,\"CE_PIANO\"))=\"\",\"\",INDIRECT(ADDRESS(3,2+MATCH(K5,CE_PIANO!$C$4:$BV$4,0),,,\"CE_PIANO\"))))","v":""}]
[null,{"$f":"MENU!C9","v":2003},{"$f":"IF(B5=\"\",\"\",IF(B5+1-$B$5>(MENU!$C$7+MENU!$C$11)-1,\"\",B5+1))","v":2004},{"$f":"IF(C5=\"\",\"\",IF(C5+1-$B$5>(MENU!$C$7+MENU!$C$11)-1,\"\",C5+1))","v":2005},{"$f":"IF(D5=\"\",\"\",IF(D5+1-$B$5>(MENU!$C$7+MENU!$C$11)-1,\"\",D5+1))","v":2006},{"$f":"IF(E5=\"\",\"\",IF(E5+1-$B$5>(MENU!$C$7+MENU!$C$11)-1,\"\",E5+1))","v":2007},{"$f":"IF(F5=\"\",\"\",IF(F5+1-$B$5>(MENU!$C$7+MENU!$C$11)-1,\"\",F5+1))","v":""},{"$f":"IF(G5=\"\",\"\",IF(G5+1-$B$5>(MENU!$C$7+MENU!$C$11)-1,\"\",G5+1))","v":""},{"$f":"IF(H5=\"\",\"\",IF(H5+1-$B$5>(MENU!$C$7+MENU!$C$11)-1,\"\",H5+1))","v":""},{"$f":"IF(I5=\"\",\"\",IF(I5+1-$B$5>(MENU!$C$7+MENU!$C$11)-1,\"\",I5+1))","v":""},{"$f":"IF(J5=\"\",\"\",IF(J5+1-$B$5>(MENU!$C$7+MENU!$C$11)-1,\"\",J5+1))","v":""}]
[{"$f":"IF(INDICI!A6=\"\",\"\",INDICI!A6)","v":"ROI"},0,0,0.34278408276784372,0.94724451094419182,0.74910788903386649]
[{"$f":"IF(INDICI!A7=\"\",\"\",INDICI!A7)","v":"ROE"},0,0,0.1420473516205914,8.3082231568334344E-2,5.7204560554243299E-2]
[{"$f":"IF(INDICI!A8=\"\",\"\",INDICI!A8)","v":"INDICE DI SOLIDITA'"},0,0,-0.23085375779388059,-0.78444402195862517,-0.74727192858681735]
[{"$f":"IF(INDICI!A9=\"\",\"\",INDICI!A9)","v":""}]
[{"$f":"IF(INDICI!A10=\"\",\"\",INDICI!A10)","v":""}]
[{"$f":"IF(INDICI!A11=\"\",\"\",INDICI!A11)","v":""}]
[{"$f":"IF(INDICI!A12=\"\",\"\",INDICI!A12)","v":""}]
[{"$f":"IF(INDICI!A13=\"\",\"\",INDICI!A13)","v":""}]
[{"$f":"IF(INDICI!A14=\"\",\"\",INDICI!A14)","v":""}]
[{"$f":"IF(INDICI!A15=\"\",\"\",INDICI!A15)","v":""}]
[{"$f":"IF(INDICI!A16=\"\",\"\",INDICI!A16)","v":""}]
[{"$f":"IF(INDICI!A17=\"\",\"\",INDICI!A17)","v":""}]
[{"$f":"IF(INDICI!A18=\"\",\"\",INDICI!A18)","v":""}]
[{"$f":"IF(INDICI!A19=\"\",\"\",INDICI!A19)","v":""}]
[{"$f":"IF(INDICI!A20=\"\",\"\",INDICI!A20)","v":""}]
[{"$f":"IF(INDICI!A21=\"\",\"\",INDICI!A21)","v":""}]
[{"$f":"IF(INDICI!A22=\"\",\"\",INDICI!A22)","v":""}]
[{"$f":"IF(INDICI!A23=\"\",\"\",INDICI!A23)","v":""}]
[{"$f":"IF(INDICI!A24=\"\",\"\",INDICI!A24)","v":""}]
[{"$f":"IF(INDICI!A25=\"\",\"\",INDICI!A25)","v":""}]