{"text_format":"1","workbook":"xlsx","n_sheets":2,"sheets":["Foglio inserimento dati","Valutazione"],"not_rendered":{"charts":1,"images":1,"macros":1,"external_links":0,"defined_names":1,"comments":0,"pivot_tables":0},"unopened":[],"bounds":{"document_bytes":16777216,"sheet_cells":100000,"rows_first":2000,"rows_last":500,"rows_between":2000,"halvings":0,"cell_chars":16384,"cell_head_chars":4096},"cells_cut":0,"cells_raw":0,"read":"whole","date_system":"1900"}

{"sheet":"Foglio inserimento dati","index":0,"n_rows":89,"n_cols":15,"rows_kept":89,"cut":false,"hidden":false,"merged":[]}
[]
[null,"STEP PROCEDURALI"]
[null,null," "]
[null,"Indicare dati di anagrafica"]
[]
[null,"Scegliere il periodo di competenza (mese, trim, ..)"]
[]
[null,"Inserire flussi di cassa in uscita"]
[]
[null,"Inserire flussi di cassa in entrata"]
[]
[null,"Inserire tasso di interesse"]
[]
[]
[null,null,"Trimestre"]
[]
[null,null,0,{"$f":"C17+1","v":1},{"$f":"D17+1","v":2},3,{"$f":"F17+1","v":4},5,6,7,8,9,10,11,12]
[null,"USCITE DI CASSA"]
[]
[null,"Esborso iniziale",-100000]
[null,"Voce uscita finanziaria 2",null,-2000,-500,-3000,-1000,-1000,-1000,-1000,-1000,-1000,-1000,-1000,-1000]
[null,"Voce uscita finanziaria 3",null,-2000,-500,-3000,-1000,-1000,-1000,-1000,-1000,-1000,-1000,-1000,-1000]
[null,"Voce uscita finanziaria 4",null,-2000,-500,-3000,-1000,-1000,-1000,-1000,-1000,-1000,-1000,-1000,-1000]
[null,"Voce uscita finanziaria 5",null,-2000,-500,-3000,-1000,-1000,-1000,-1000,-1000,-1000,-1000,-1000,-1000]
[null,"Voce uscita finanziaria 6",null,-2000,-500,-3000,-1000,-1000,-1000,-1000,-1000,-1000,-1000,-1000,-1000]
[null,"Voce uscita finanziaria 7",null,-2000,-500,-3000,-1000,-1000,-1000,-1000,-1000,-1000,-1000,-1000,-1000]
[null,"Voce uscita finanziaria 8",null,-2000,-500,-3000,-1000,-1000,-1000,-1000,-1000,-1000,-1000,-1000,-1000]
[null,"Voce uscita finanziaria 9",null,-2000,-500,-3000,-1000,-1000,-1000,-1000,-1000,-1000,-1000,-1000,-1000]
[null,"Voce uscita finanziaria 10",null,-2000,-500,-3000,-1000,-1000,-1000,-1000,-1000,-1000,-1000,-1000,-1000]
[null,"Voce uscita finanziaria 11",null,-2000,-500,-3000,-1000,-1000,-1000,-1000,-1000,-1000,-1000,-1000,-1000]
[null,"Voce uscita finanziaria 12",null,-2000]
[null,"Voce uscita finanziaria 13",null,-2000]
[null,"Voce uscita finanziaria 14",null,-2000]
[null,"Voce uscita finanziaria 15",null,-2000]
[null,"Voce uscita finanziaria 16",null,-2000]
[null,"Voce uscita finanziaria 17",null,-2000]
[null,"Voce uscita finanziaria 18",null,-2000]
[null,"Voce uscita finanziaria 19",null,-2000]
[null,"Voce uscita finanziaria 20",null,-2000]
[null,"Voce uscita finanziaria 21",null,-2000]
[null,"Voce uscita finanziaria 22",null,-2000]
[null,"Voce uscita finanziaria 23",null,-2000]
[null,"Voce uscita finanziaria 24",null,-2000]
[null,"Voce uscita finanziaria 25",null,-2000]
[]
[null,"Totale uscite finanziarie",{"$f":"SUM(C20:C44)","v":-100000},-48000,-5000,-30000,-10000,-10000,-10000,-10000,-10000,-10000,-10000,-10000,-10000]
[]
[null,"ENTRATE DI CASSA",{"$f":"C17","v":0},{"$f":"D17","v":1},2,3,4,5,6,7,8,9,10,11,12]
[]
[null,"Voce entrata finanziaria 1",null,1200,1200,2000,1200,1200,1200,1200,2000,2000,2000,2000,2000]
[null,"Voce entrata finanziaria 2",null,1200,1200,2000,1200,1200,1200,1200,2000,2000,2000,2000,2000]
[null,"Voce entrata finanziaria 3",null,1200,1200,2000,1200,1200,1200,1200,2000,2000,2000,2000,2000]
[null,"Voce entrata finanziaria 4",null,1200,1200,2000,1200,1200,1200,1200,2000,2000,2000,2000,2000]
[null,"Voce entrata finanziaria 5",null,1200,1200,2000,1200,1200,1200,1200,2000,2000,2000,2000,2000]
[null,"Voce entrata finanziaria 6",null,1200,1200,2000,1200,1200,1200,1200,2000,2000,2000,2000,2000]
[null,"Voce entrata finanziaria 7",null,1200,1200,2000,1200,1200,1200,1200,2000,2000,2000,2000,2000]
[null,"Voce entrata finanziaria 8",null,1200,1200,2000,1200,1200,1200,1200,2000,2000,2000,2000,2000]
[null,"Voce entrata finanziaria 9",null,1200,1200,2000,1200,1200,1200,1200,2000,2000,2000,2000,2000]
[null,"Voce entrata finanziaria 10",null,1200,1200,2000,1200,1200,1200,1200,2000,2000,2000,2000,2000]
[null,"Voce entrata finanziaria 11",null,1200,1200,2000,1200,1200,1200,1200,2000,2000,2000,2000,2000]
[null,"Voce entrata finanziaria 12",null,1200,1200,2000,1200,1200,1200,1200,2000,2000,2000,2000,2000]
[null,"Voce entrata finanziaria 13",null,1200,1200,2000,1200,1200,1200,1200,2000,2000,2000,2000,2000]
[null,"Voce entrata finanziaria 14",null,1200,1200,2000,1200,1200,1200,1200,2000,2000,2000,2000,2000]
[null,"Voce entrata finanziaria 15",null,1200,1200,2000,1200,1200,1200,1200,2000,2000,2000,2000,2000]
[null,"Voce entrata finanziaria 16",null,1200,1200,2000,1200,1200,1200,1200,2000,2000,2000,2000,2000]
[null,"Voce entrata finanziaria 17",null,1200,1200,2000,1200,1200,1200,1200,2000,2000,2000,2000,2000]
[null,"Voce entrata finanziaria 18",null,1200,1200,2000,1200,1200,1200,1200,2000,2000,2000,2000,2000]
[null,"Voce entrata finanziaria 19",null,1200,1200,2000,1200,1200,1200,1200,2000,2000,2000,2000,2000]
[null,"Voce entrata finanziaria 20",null,1200,1200,2000,1200,1200,1200,1200,2000,2000,2000,2000,2000]
[null,"Voce entrata finanziaria 21",null,1200,1200,2000,1200,1200,1200,1200,2000,2000,2000,2000,2000]
[null,"Voce entrata finanziaria 22",null,1200,1200,2000,1200,1200,1200,1200,2000,2000,2000,2000,2000]
[null,"Voce entrata finanziaria 23",null,1200,1200,2000,1200,1200,1200,1200,2000,2000,2000,2000,2000]
[null,"Voce entrata finanziaria 24",null,1200,1200,2000,1200,1200,1200,1200,2000,2000,2000,2000,2000]
[null,"Voce entrata finanziaria 25",null,1200,1200,2000,1200,1200,1200,1200,2000,2000,2000,2000,2000]
[]
[null,"Totale entrate finanziarie",{"$f":"SUM(C50:C74)","v":0},30000,30000,50000,30000,30000,30000,30000,50000,50000,50000,50000,50000]
[]
[]
[null,"TASSO DI INTERESSE ANNUO",0.12]
[]
[null,"Anagrafica","Pluto"]
[]
[null,null,"Mese"]
[null,null,"Trimestre"]
[null,null,"Anno"]
[]
[null,null,{"$f":"Valutazione!D16","v":-100000},{"$f":"Valutazione!E16","v":-18000},{"$f":"Valutazione!F16","v":25000},{"$f":"Valutazione!G16","v":20000},{"$f":"Valutazione!H16","v":20000},{"$f":"Valutazione!I16","v":20000},{"$f":"Valutazione!J16","v":20000},{"$f":"Valutazione!K16","v":20000},{"$f":"Valutazione!L16","v":40000},{"$f":"Valutazione!M16","v":40000},{"$f":"Valutazione!N16","v":40000},{"$f":"Valutazione!O16","v":40000},{"$f":"Valutazione!P16","v":40000}]
[null,null,null,{"$f":"IF($C$87+$D$87>0,\"sì\",\"no\")","v":"no"},{"$f":"IF($C$87+$D$87+$E$87>0,\"sì\",\"no\")","v":"no"},{"$f":"IF($C$87+$D$87+$E$87+$F$87>0,\"sì\",\"no\")","v":"no"},{"$f":"IF($C$87+$D$87+$E$87+$F$87+$G$87>0,\"sì\",\"no\")","v":"no"},{"$f":"IF($C$87+$D$87+$E$87+$F$87+$G$87+$H$87>0,\"sì\",\"no\")","v":"no"},{"$f":"IF($C$87+$D$87+$E$87+$F$87+$G$87+$H$87+$I$87>0,\"sì\",\"no\")","v":"no"},{"$f":"IF($C$87+$D$87+$E$87+$F$87+$G$87+$H$87+$I$87+$J$87>0,\"sì\",\"no\")","v":"sì"},{"$f":"IF($C$87+$D$87+$E$87+$F$87+$G$87+$H$87+$I$87+$J$87+$K$87>0,\"sì\",\"no\")","v":"sì"},{"$f":"IF($C$87+$D$87+$E$87+$F$87+$G$87+$H$87+$I$87+$J$87+$K$87+$L$87>0,\"sì\",\"no\")","v":"sì"},{"$f":"IF($C$87+$D$87+$E$87+$F$87+$G$87+$H$87+$I$87+$J$87+$K$87+$L$87+$M$87>0,\"sì\",\"no\")","v":"sì"},{"$f":"IF($C$87+$D$87+$E$87+$F$87+$G$87+$H$87+$I$87+$J$87+$K$87+$L$87+$M$87+$N$87>0,\"sì\",\"no\")","v":"sì"},{"$f":"IF($C$87+$D$87+$E$87+$F$87+$G$87+$H$87+$I$87+$J$87+$K$87+$L$87+$M$87+$N$87+$O$87>0,\"sì\",\"no\")","v":"sì"}]
[null,"Flusso di cassa progressivo",{"$f":"C87","v":-100000},{"$f":"D87+C89","v":-118000},{"$f":"E87+D89","v":-93000},-73000,-53000,-33000,-13000,7000,47000,87000,127000,167000,207000]

{"sheet":"Valutazione","index":1,"n_rows":29,"n_cols":16,"rows_kept":29,"cut":false,"hidden":false,"merged":[]}
[]
[]
[null,null,null,{"$f":"'Foglio inserimento dati'!C81","v":"Pluto"}]
[]
[]
[null,null,null,{"$f":"'Foglio inserimento dati'!C17","v":0},{"$f":"'Foglio inserimento dati'!D17","v":1},{"$f":"'Foglio inserimento dati'!E17","v":2},{"$f":"'Foglio inserimento dati'!F17","v":3},{"$f":"'Foglio inserimento dati'!G17","v":4},{"$f":"'Foglio inserimento dati'!H17","v":5},{"$f":"'Foglio inserimento dati'!I17","v":6},{"$f":"'Foglio inserimento dati'!J17","v":7},{"$f":"'Foglio inserimento dati'!K17","v":8},{"$f":"'Foglio inserimento dati'!L17","v":9},{"$f":"'Foglio inserimento dati'!M17","v":10},{"$f":"'Foglio inserimento dati'!N17","v":11},{"$f":"'Foglio inserimento dati'!O17","v":12}]
[]
[null,null,null,{"$f":"IF('Foglio inserimento dati'!$C$15='Foglio inserimento dati'!$C$83,'Foglio inserimento dati'!$C$83&\" \"&'Foglio inserimento dati'!C17,IF('Foglio inserimento dati'!$C$15='Foglio inserimento dati'!$C$84,'Foglio inserimento dati'!$C$84&\" \"&'Foglio inserimento dati'!C17,('Foglio inserimento dati'!$C$85&\" \"&'Foglio inserimento dati'!C17)))","v":"Trimestre 0"},{"$f":"IF('Foglio inserimento dati'!$C$15='Foglio inserimento dati'!$C$83,'Foglio inserimento dati'!$C$83&\" \"&'Foglio inserimento dati'!D17,IF('Foglio inserimento dati'!$C$15='Foglio inserimento dati'!$C$84,'Foglio inserimento dati'!$C$84&\" \"&'Foglio inserimento dati'!D17,('Foglio inserimento dati'!$C$85&\" \"&'Foglio inserimento dati'!D17)))","v":"Trimestre 1"},{"$f":"IF('Foglio inserimento dati'!$C$15='Foglio inserimento dati'!$C$83,'Foglio inserimento dati'!$C$83&\" \"&'Foglio inserimento dati'!E17,IF('Foglio inserimento dati'!$C$15='Foglio inserimento dati'!$C$84,'Foglio inserimento dati'!$C$84&\" \"&'Foglio inserimento dati'!E17,('Foglio inserimento dati'!$C$85&\" \"&'Foglio inserimento dati'!E17)))","v":"Trimestre 2"},{"$f":"IF('Foglio inserimento dati'!$C$15='Foglio inserimento dati'!$C$83,'Foglio inserimento dati'!$C$83&\" \"&'Foglio inserimento dati'!F17,IF('Foglio inserimento dati'!$C$15='Foglio inserimento dati'!$C$84,'Foglio inserimento dati'!$C$84&\" \"&'Foglio inserimento dati'!F17,('Foglio inserimento dati'!$C$85&\" \"&'Foglio inserimento dati'!F17)))","v":"Trimestre 3"},{"$f":"IF('Foglio inserimento dati'!$C$15='Foglio inserimento dati'!$C$83,'Foglio inserimento dati'!$C$83&\" \"&'Foglio inserimento dati'!G17,IF('Foglio inserimento dati'!$C$15='Foglio inserimento dati'!$C$84,'Foglio inserimento dati'!$C$84&\" \"&'Foglio inserimento dati'!G17,('Foglio inserimento dati'!$C$85&\" \"&'Foglio inserimento dati'!G17)))","v":"Trimestre 4"},{"$f":"IF('Foglio inserimento dati'!$C$15='Foglio inserimento dati'!$C$83,'Foglio inserimento dati'!$C$83&\" \"&'Foglio inserimento dati'!H17,IF('Foglio inserimento dati'!$C$15='Foglio inserimento dati'!$C$84,'Foglio inserimento dati'!$C$84&\" \"&'Foglio inserimento dati'!H17,('Foglio inserimento dati'!$C$85&\" \"&'Foglio inserimento dati'!H17)))","v":"Trimestre 5"},{"$f":"IF('Foglio inserimento dati'!$C$15='Foglio inserimento dati'!$C$83,'Foglio inserimento dati'!$C$83&\" \"&'Foglio inserimento dati'!I17,IF('Foglio inserimento dati'!$C$15='Foglio inserimento dati'!$C$84,'Foglio inserimento dati'!$C$84&\" \"&'Foglio inserimento dati'!I17,('Foglio inserimento dati'!$C$85&\" \"&'Foglio inserimento dati'!I17)))","v":"Trimestre 6"},{"$f":"IF('Foglio inserimento dati'!$C$15='Foglio inserimento dati'!$C$83,'Foglio inserimento dati'!$C$83&\" \"&'Foglio inserimento dati'!J17,IF('Foglio inserimento dati'!$C$15='Foglio inserimento dati'!$C$84,'Foglio inserimento dati'!$C$84&\" \"&'Foglio inserimento dati'!J17,('Foglio inserimento dati'!$C$85&\" \"&'Foglio inserimento dati'!J17)))","v":"Trimestre 7"},{"$f":"IF('Foglio inserimento dati'!$C$15='Foglio inserimento dati'!$C$83,'Foglio inserimento dati'!$C$83&\" \"&'Foglio inserimento dati'!K17,IF('Foglio inserimento dati'!$C$15='Foglio inserimento dati'!$C$84,'Foglio inserimento dati'!$C$84&\" \"&'Foglio inserimento dati'!K17,('Foglio inserimento dati'!$C$85&\" \"&'Foglio inserimento dati'!K17)))","v":"Trimestre 8"},{"$f":"IF('Foglio inserimento dati'!$C$15='Foglio inserimento dati'!$C$83,'Foglio inserimento dati'!$C$83&\" \"&'Foglio inserimento dati'!L17,IF('Foglio inserimento dati'!$C$15='Foglio inserimento dati'!$C$84,'Foglio inserimento dati'!$C$84&\" \"&'Foglio inserimento dati'!L17,('Foglio inserimento dati'!$C$85&\" \"&'Foglio inserimento dati'!L17)))","v":"Trimestre 9"},{"$f":"IF('Foglio inserimento dati'!$C$15='Foglio inserimento dati'!$C$83,'Foglio inserimento dati'!$C$83&\" \"&'Foglio inserimento dati'!M17,IF('Foglio inserimento dati'!$C$15='Foglio inserimento dati'!$C$84,'Foglio inserimento dati'!$C$84&\" \"&'Foglio inserimento dati'!M17,('Foglio inserimento dati'!$C$85&\" \"&'Foglio inserimento dati'!M17)))","v":"Trimestre 10"},{"$f":"IF('Foglio inserimento dati'!$C$15='Foglio inserimento dati'!$C$83,'Foglio inserimento dati'!$C$83&\" \"&'Foglio inserimento dati'!N17,IF('Foglio inserimento dati'!$C$15='Foglio inserimento dati'!$C$84,'Foglio inserimento dati'!$C$84&\" \"&'Foglio inserimento dati'!N17,('Foglio inserimento dati'!$C$85&\" \"&'Foglio inserimento dati'!N17)))","v":"Trimestre 11"},{"$f":"IF('Foglio inserimento dati'!$C$15='Foglio inserimento dati'!$C$83,'Foglio inserimento dati'!$C$83&\" \"&'Foglio inserimento dati'!O17,IF('Foglio inserimento dati'!$C$15='Foglio inserimento dati'!$C$84,'Foglio inserimento dati'!$C$84&\" \"&'Foglio inserimento dati'!O17,('Foglio inserimento dati'!$C$85&\" \"&'Foglio inserimento dati'!O17)))","v":"Trimestre 12"}]
[]
[]
[]
[null,{"$f":"'Foglio inserimento dati'!B46","v":"Totale uscite finanziarie"},null,{"$f":"'Foglio inserimento dati'!C46","v":-100000},{"$f":"'Foglio inserimento dati'!D46","v":-48000},{"$f":"'Foglio inserimento dati'!E46","v":-5000},{"$f":"'Foglio inserimento dati'!F46","v":-30000},{"$f":"'Foglio inserimento dati'!G46","v":-10000},{"$f":"'Foglio inserimento dati'!H46","v":-10000},{"$f":"'Foglio inserimento dati'!I46","v":-10000},{"$f":"'Foglio inserimento dati'!J46","v":-10000},{"$f":"'Foglio inserimento dati'!K46","v":-10000},{"$f":"'Foglio inserimento dati'!L46","v":-10000},{"$f":"'Foglio inserimento dati'!M46","v":-10000},{"$f":"'Foglio inserimento dati'!N46","v":-10000},{"$f":"'Foglio inserimento dati'!O46","v":-10000}]
[]
[null,{"$f":"'Foglio inserimento dati'!B76","v":"Totale entrate finanziarie"},null,{"$f":"'Foglio inserimento dati'!C76","v":0},{"$f":"'Foglio inserimento dati'!D76","v":30000},{"$f":"'Foglio inserimento dati'!E76","v":30000},{"$f":"'Foglio inserimento dati'!F76","v":50000},{"$f":"'Foglio inserimento dati'!G76","v":30000},{"$f":"'Foglio inserimento dati'!H76","v":30000},{"$f":"'Foglio inserimento dati'!I76","v":30000},{"$f":"'Foglio inserimento dati'!J76","v":30000},{"$f":"'Foglio inserimento dati'!K76","v":50000},{"$f":"'Foglio inserimento dati'!L76","v":50000},{"$f":"'Foglio inserimento dati'!M76","v":50000},{"$f":"'Foglio inserimento dati'!N76","v":50000},{"$f":"'Foglio inserimento dati'!O76","v":50000}]
[]
[null,"Flussi di cassa",null,{"$f":"D12+D14","v":-100000},-18000,25000,20000,20000,20000,20000,20000,40000,40000,40000,40000,40000]
[]
[null,"Flussi di cassa attualizzati",null,{"$f":"D16*(1+$D$20)^-D6","v":-100000},-17475.728155339806,23564.897728343858,18302.833187063192,17769.740958313781,17252.175687683281,16749.685133673091,16261.830226867076,31576.36937255743,30656.669293745079,29763.756595869007,28896.851063950493,28055.195207718931]
[]
[null,{"$f":"\"Tasso di interesse (\"&'Foglio inserimento dati'!C15&\")\"","v":"Tasso di interesse (Trimestre)"},null,{"$f":"IF('Foglio inserimento dati'!$C$15='Foglio inserimento dati'!$C$83,'Foglio inserimento dati'!$C$79/12,IF('Foglio inserimento dati'!$C$15='Foglio inserimento dati'!$C$84,('Foglio inserimento dati'!$C$79/12*3),IF('Foglio inserimento dati'!$C$15='Foglio inserimento dati'!$C$85,'Foglio inserimento dati'!$C$79)))","v":0.03}]
[]
[]
[]
[]
[null,"VAN",null,{"$f":"SUM(D18:P18)","v":141374.2763004454}]
[]
[null,"TIR",{"$f":"'Foglio inserimento dati'!C15","v":"Trimestre"},{"$f":"IRR(D16:P16)","v":0.15684362905255989}]
[]
[null,"PAY BACK PERIOD",{"$f":"'Foglio inserimento dati'!C15","v":"Trimestre"},{"$f":"MATCH(\"sì\",'Foglio inserimento dati'!$C$88:$O$88,0)-1","v":7}]